{"text_format":"1","workbook":"xlsx","n_sheets":13,"sheets":["Form","Responses","Summaries","Risk Rating","Staff Knowledge","Specific Measures","Emergency Readiness","Isolation Capacity","Stakeholder Coordination","Logistics Coordination","Risk Communication","Public Health","LUTs"],"not_rendered":{"charts":0,"images":1,"macros":1,"external_links":0,"defined_names":0,"comments":0,"pivot_tables":0},"unopened":[],"bounds":{"document_bytes":16777216,"sheet_cells":100000,"rows_first":2000,"rows_last":500,"rows_between":2000,"halvings":0,"cell_chars":16384,"cell_head_chars":4096},"cells_cut":0,"cells_raw":0,"read":"whole","date_system":"1900"}

{"sheet":"Form","index":0,"n_rows":137,"n_cols":16,"rows_kept":137,"cut":false,"hidden":false,"merged":[[134,1,136,2],[134,3,135,3],[99,3,100,4],[89,3,90,4],[77,3,78,4],[125,3,125,4],[126,3,126,4],[120,3,121,4],[50,3,51,4],[36,3,37,4],[105,3,105,4],[115,3,115,4],[116,3,116,4],[109,3,110,4],[45,3,45,4],[46,3,46,4],[72,3,72,4],[73,3,73,4],[84,3,84,4],[85,3,85,4],[93,3,93,4],[94,3,94,4],[104,3,104,4],[32,3,32,4],[33,3,33,4],[27,3,28,4],[16,3,17,4],[0,0,0,7],[2,3,2,4]]}
["COVID-19 Risk Assessment Tool for Sport"]
[]
[null,null,null,"This tool includes all factors from the general WHO risk assessment and mitigation checklist for mass gatherings as well as additional factors relating to sporting events and training, to enable organizers to determine a more accurate overall risk score. This tool has been adapted specifically for return to training planning in the Canadian context and should be discussed with your CMO or SMAC members.\n\nIn order to accurately provide answers to the following risk assessment and mitigation checklist, those responsible must be knowledgeable on the current COVID-19 outbreak. They should reference the daily provincial, local and global COVID-19 situation reports provided by WHO, Public Health Agency of Canada (PHAC) and provincial health authorities.\n\nIt must be ensured that this risk assessment is conducted with input from local public health authorities and training facility landlord, and that the necessary personnel with expertise in risk assessment, epidemiology, and infectious disease control measures are included from the initial stages of planning."]
[null,null,null,null,null,null,null,null,null,null,null,null,null,null,null,"Form Options"]
[]
[null,null,null,"Sport Organization Name:","NSO",null,null,null,null,null,null,null,null,null,null,"Yes"]
[1,null,null,"Is this survey being completed on behalf of Olympic or Paralympic sport? \nPlease select the appropriate Multi-sport Organization:",null,null,null,null,null,null,null,null,null,{"$f":"INDEX(P14:P15,A7)","v":"Canadian Olympic Committee"},null,"No"]
[5,null,null,"Name of the CSI / CSC with whom you are most closely affiliated:",null,null,null,null,null,null,null,null,null,{"$f":"INDEX(P17:P23,A8)","v":"CSI-Ontario"}]
[null,null,null,"Name of the city in which the training activities will occur:","City",null,null,null,null,null,null,null,null,null,null,"Yes / Completed"]
[null,null,null,"Name of person completing this NSO Risk Assessment and title:","Name",null,null,null,null,null,null,null,null,null,null,"Maybe / In Progress"]
[null,null,null,"Name of NSO communications liaison:","Name",null,null,null,null,null,null,null,null,null,null,"No / Not Considered"]
[null,null,null,"Name of the Medical/IST Lead:","Name"]
[null,null,null,"NSO Contact Email:","youremail@website.com"]
[null,null,null,null,null,null,null,null,null,null,null,null,null,null,null,"Canadian Olympic Committee"]
[null,null,null,null,null,null,null,null,null,null,null,null,null,null,null,"Canadian Paralympic Committee"]
[]
[null,null,null,"Risk Assessment",null,null,null,null,null,null,null,null,null,null,null,"CSI-Pacific"]
[{"$f":"SUM(B19:B24)","v":2},null,null,null,null,null,null,null,null,null,null,null,null,null,null,"CSI-Calgary"]
[2,{"$f":"IF(A19=1,1,0)","v":0},null,"Will the training be held in a region that has documented active local transmission of COVID-19 (community spread) in the last 14 days?",null,null,null,null,null,null,null,null,null,{"$f":"INDEX($P$6:$P$7,A19)","v":"No"},null,"CSC-Saskatchewan"]
[2,{"$f":"IF(A20=1,1,0)","v":0},null,"Will the training be held in venues/facilities with access by multiple groups?",null,null,null,null,null,null,null,null,null,{"$f":"INDEX($P$6:$P$7,A20)","v":"No"},null,"CSC-Manitoba"]
[2,0,null,"Will the group include team members relocating from areas outside the training location that have documented active local transmission of COVID-19 (community spread)?",null,null,null,null,null,null,null,null,null,"No",null,"CSI-Ontario"]
[1,1,null,"Will the group include participants (athletes or coaches) at higher risk of severe COVID-19 disease (e.g., people over 65 years of age or people with underlying health conditions)?",null,null,null,null,null,null,null,null,null,"Yes",null,"INS-Quebec"]
[2,0,null,"Is the training considered at higher risk of spread for COVID-19 (eg, contact sport, indirect contact through training equipment eg balls, landing pits etc)?",null,null,null,null,null,null,null,null,null,"No",null,"CSC-Atlantic"]
[1,1,null,"Will the training be held indoors?",null,null,null,null,null,null,null,null,null,"Yes"]
[]
[]
[]
[null,null,null,"Mitigation Strategies - Staff Knowledge"]
[]
[1,null,null,"Have the relevant staff been informed about the latest available guidance on the COVID-19 outbreak (e.g., official web resources available from PHAC, BCCDC, WHO, CDC, ECDC, UN, local public health authorities)? And are the staff committed to following the available guidance?",null,null,null,null,null,null,null,null,null,{"$f":"INDEX($P$9:$P$11,A30)","v":"Yes / Completed"}]
[1,null,null,"Are organizers aware of global and local daily situation reports as provided by local, provincial, national and international public health authorities?",null,null,null,null,null,null,null,null,null,{"$f":"INDEX($P$9:$P$11,A31)","v":"Yes / Completed"}]
[1,null,null,"Do the responsible staff understand the risks and transmission routes of COVID-19, the steps that training attendees can take to limit spread, the recognized best-practices (including respiratory etiquette, hand hygiene, physical distancing, etc.), and the travel restrictions from different regions that may affect the team gathering to train?",null,null,null,null,null,null,null,null,null,"Yes / Completed"]
[null,null,null,"What specific plans will you implement to enhance the understanding, amongst your staff (including venue support staff), of the current COVID-19 situation? ? Consider that your plans may need to be adapted for different needs of men, women, gender diverse staff, staff with disabilities and staff who are at high risk, or who are living with people who are at high risk, of severe COVID-19. Also, consider that your plans may need to take into consideration the mental health and wellbeing needs of staff. "]
[null,null,null,"Please enter your planning notes here."]
[]
[]
[null,null,null,"Mitigation Strategies - Specific Measures"]
[]
[1,null,null,"Will there be daily health checks of athletes/staff?",null,null,null,null,null,null,null,null,null,"Yes / Completed"]
[1,null,null,"Will the athletes be separated from other groups, to limit transmission? Are teams in self contained groups including commuting to and from training?",null,null,null,null,null,null,null,null,null,"Yes / Completed"]
[1,null,null,"Are there measures in place to limit the sharing of equipment, water bottles, towels, etc.?",null,null,null,null,null,null,null,null,null,"Yes / Completed"]
[1,null,null,"Will athletes have closed containers to allow for the safe disposal or storing of all hygienic materials (e.g. tissues, towels, etc.)?",null,null,null,null,null,null,null,null,null,"Yes / Completed"]
[1,null,null,"Will the facility have designated equipment, lockers and stalls for each athlete?",null,null,null,null,null,null,null,null,null,"Yes / Completed"]
[1,null,null,"Do common areas and facility equipment allow for physical distancing between athletes (minimum of 2 metres)?",null,null,null,null,null,null,null,null,null,"Yes / Completed"]
[1,null,null,"Will pre-integration health checks with team physicians (in-person or virtual) be performed on all Athletes and Staff to ensure no recent illnesses, and underlying co-morbidities, medications, allergies, etc. are documented?",null,null,null,null,null,null,null,null,null,"Yes / Completed"]
[null,null,null,"What specific measures will you take to reduce the risk for athletes and staff? Be sure to be venue-specific.                                                                 Consider that your plans may need to be adapted for different needs of men, women, girls and boys, and gender diverse athletes and staff, athletes and staff with disabilities and athletes and staff who are at high risk, or who are living with people who are at high risk, of severe COVID-19. Also, consider that your plans may need to take into consideration the mental health and wellbeing needs of athletes and staff."]
[null,null,null,"Please enter your planning notes here."]
[]
[]
[]
[null,null,null,"Mitigation Strategies - Emergency Preparedness and Response Plans"]
[]
[1,null,null,"Has a contingency medical response plan for COVID-19 been developed for the team?",null,null,null,null,null,null,null,null,null,"Yes / Completed"]
[1,null,null,"Does the contingency medical response plan include information about how team members access the healthcare system virtually or in person (e.g. Team Doc, CMO, GP, Chief Therapist)?",null,null,null,null,null,null,null,null,null,"Yes / Completed"]
[1,null,null,"Is there an Emergency COVID-19 Outbreak Response Coordinator with defined roles and responsibilities, coordinating the health preparedness and response planning for any cases or contact?",null,null,null,null,null,null,null,null,null,"Yes / Completed"]
[1,null,null,"Has the medical lead liaised with or requested support from local public health authorities? ",null,null,null,null,null,null,null,null,null,"Yes / Completed"]
[1,null,null,"Have the organizers and facility managers acquired the Personal Protective Equipment (e.g. masks, gloves, gowns) to help reduce the risk of transmission of COVID-19?",null,null,null,null,null,null,null,null,null,"Yes / Completed"]
[1,null,null,"Have the organizers and facility managers acquired hand sanitizer and alcohol rubs/gels, tissues, frequently replaced soap canisters and closed bins for safe disposal of hygienic materials (e.g. tissues, towels, sanitary products) in washrooms and changing rooms?",null,null,null,null,null,null,null,null,null,"Yes / Completed"]
[1,null,null,"Have the organizers and facility managers acquired hand sanitizers and alcohol rubs for all training room entrances and throughout the venue?",null,null,null,null,null,null,null,null,null,"Yes / Completed"]
[1,null,null,"Is there a procedure for athletes/staff to clearly identify whom to contact, and how to do so, if they or other participants feel unwell or show signs of an acute respiratory infection in the DTE?",null,null,null,null,null,null,null,null,null,"Yes / Completed"]
[1,null,null,"Is there a protocol regarding whom medical staff should contact to report suspected cases, and request testing and epidemiological investigations, if someone is feeling unwell or showing signs of respiratory infection?",null,null,null,null,null,null,null,null,null,"Yes / Completed"]
[1,null,null,"Are first-aid services or other medical services in place and equipped to support patients with respiratory symptoms?",null,null,null,null,null,null,null,null,null,"Yes / Completed"]
[1,null,null,"Are there isolation rooms available on site until patients are dealt with appropriately?",null,null,null,null,null,null,null,null,null,"Yes / Completed"]
[1,null,null,"Are there any designated medical facilities that manage patients with COVID-19 infection in the region? Are contact numbers and procedures clearly visible?",null,null,null,null,null,null,null,null,null,"Yes / Completed"]
[1,null,null,"Are there transportation services with trained medical professionals available to transport critically ill patients with severe acute respiratory infections to a hospital if necessary?",null,null,null,null,null,null,null,null,null,"Yes / Completed"]
[1,null,null,"Has a cleaning schedule been developed to ensure the venue and equipment is clean and hygienic – wiping surfaces and any equipment regularly with disinfectant is strongly recommended before, during (between athletes) and between each training group? ",null,null,null,null,null,null,null,null,null,"Yes / Completed"]
[1,null,null,"Are there established screening measures, including temperature checks and morning monitoring in place for participants before arriving at the DTE and on-site medical facilities (first-aid points)? (Please specify in Comments what these screening measures include)",null,null,null,null,null,null,null,null,null,"Yes / Completed"]
[1,null,null,"Is the province, in which your training facility is located, conducting COVID-19 laboratory diagnostic tests for asymptomatic screening?",null,null,null,null,null,null,null,null,null,"Yes / Completed"]
[1,null,null,"Does the local community have a regional public health emergency preparedness and response plan that can cope with the influx of athletes and address severe respiratory diseases, including COVID-19?",null,null,null,null,null,null,null,null,null,"Yes / Completed"]
[1,null,null,"Is there a preliminary agreement with the local health facility on protocols to handover care for any serious COVID-19 cases connected with the training resumption that require hospitalization? ",null,null,null,null,null,null,null,null,null,"Yes / Completed"]
[1,null,null,"Does the medical response plan for the DTE include resources and protocols for managing all public health interventions that would be necessary, and for supporting the regional public health authorities if participants are infected and become unwell.",null,null,null,null,null,null,null,null,null,"Yes / Completed"]
[1,null,null,"Does the medical response plan include protocols to notify all participants of possible exposure to COVID-19 if staff are made aware of any suspected or confirmed cases that attended training?",null,null,null,null,null,null,null,null,null,"Yes / Completed"]
[null,null,null,"What specific strategies are you preparing in order to respond effectively to emergencies?                                                                                                Please include any additional screening measures you will implement and the type of diagnostic tests (if any) that are being utilized to screen asymptomatic individuals."]
[null,null,null,"Please enter your planning notes here."]
[]
[]
[]
[null,null,null,"Mitigation Strategies - Isolation Capacity"]
[]
[1,null,null,"Are isolation arrangements in place in the event of a public health emergency, such as a cluster of suspected and confirmed cases of COVID-19 within the team?",null,null,null,null,null,null,null,null,null,"Yes / Completed"]
[1,null,null,"Do these isolation arrangements include family and teammates?",null,null,null,null,null,null,null,null,null,"Yes / Completed"]
[1,null,null,"Do these arrangements include funding for isolation accommodations?",null,null,null,null,null,null,null,null,null,"Yes / Completed"]
[1,null,null,"Do these isolation arrangements include sufficient equipment (e.g. personal protective equipment, sanitation supplies etc.)?",null,null,null,null,null,null,null,null,null,"Yes / Completed"]
[1,null,null,"Do these arrangements include training of extra staff if needed?",null,null,null,null,null,null,null,null,null,"Yes / Completed"]
[null,null,null,"What specific arrangements are in place to isolate athletes or staff if required?                                                                                                                Consider that your isolation arrangements may need to be adapted for different needs of men, women, girls and boys and gender diverse athletes and staff, athletes and staff with disabilities, and athletes and staff who are at high risk of severe COVID-19, as well as the living arrangements and caregiving responsibilities of athletes and staff. Also, consider that your isolation strategies may need to take into consideration the mental health and wellbeing needs of athletes and staff."]
[null,null,null,"Please enter your planning notes here."]
[]
[]
[]
[null,null,null,"Mitigation Strategies - Stakeholder & Partner Coordination"]
[]
[1,null,null,"Is there an established mechanism for collaboration and coordination with the local public health and recreation / parks sectors in the instance that any new COVID-19 cases arise?",null,null,null,null,null,null,null,null,null,"Yes / Completed"]
[1,null,null,"Are there agreed, clear, and easily understood processes in place for reporting to external multi-sectoral stakeholders (e.g., CPC, COC, OTP, NF, etc.) and disseminating risk communication messages (Media)?",null,null,null,null,null,null,null,null,null,"Yes / Completed"]
[null,null,null,"What specific plans are you making to enhance communication and collaboration with your partner organizations?"]
[null,null,null,"Please enter your planning notes here."]
[]
[]
[]
[]
[null,null,null,"Mitigation Strategies - Logistical Coordination"]
[]
[1,null,null,"Is there a decision-making authority/body and an agreed procedure to modify, restrict, postpone, or cancel the return to training related to the evolving COVID-19 outbreak?",null,null,null,null,null,null,null,null,null,{"$f":"INDEX($P$9:$P$11,A102)","v":"Yes / Completed"}]
[1,null,null,"Are there arrangements to activate a strategic health operations team if there are suspected COVID-19 cases in connection with the training center or institute?",null,null,null,null,null,null,null,null,null,"Yes / Completed"]
[1,null,null,"Have coaches and staff undergone training and exercises on personal safety procedures and emergency mitigation measures (including those specifically listed in this checklist)?",null,null,null,null,null,null,null,null,null,"Yes / Completed"]
[null,null,null,"What specific policies and procedures will improve the coordination of logistics between agencies?"]
[null,null,null,"Please enter your planning notes here."]
[]
[]
[]
[null,null,null,"Mitigation Strategies - Risk Communication"]
[]
[1,null,null,"Is there a risk mitigation communication strategy in regard to COVID-19?",null,null,null,null,null,null,null,null,null,"Yes / Completed"]
[1,null,null,"Is there a designated person(s) to lead media activities and tasked with managing all external communications with national and international government officials, the general public, and the media?",null,null,null,null,null,null,null,null,null,"Yes / Completed"]
[1,null,null,"Is there a process for monitoring of national and international media and social media established for rumours to be able to counter them early?",null,null,null,null,null,null,null,null,null,"Yes / Completed"]
[1,null,null,"Has coordination been set up with major official media channels and social media sites so that messaging can be coordinated with, and assisted by, the platforms to provide targeted messaging if needed (including messaging to counter fake news and rumours, and proactive messaging about the status of the team training, including changes)? ",null,null,null,null,null,null,null,null,null,"Yes / Completed"]
[null,null,null,"What specific action will be taken to communicate the risks associated with training during the COVID-19 pandemic? What processes will limit the impact of misinformation from other sources?"]
[null,null,null,"Please enter your planning notes here."]
[]
[]
[]
[null,null,null,"Mitigation Strategies - Awareness of COVID-19 Public Health Information"]
[]
[1,null,null,"Has public health advice on clinical features of COVID-19, preventive measures, especially respiratory etiquette, hand hygiene practices, and physical distancing, been shared with all staff, athletes, and personnel of all relevant facilities?",null,null,null,null,null,null,null,null,null,"Yes / Completed"]
[1,null,null,"Has information on the at-risk populations been provided to all athletes, and others, so they may make an informed decision on their attendance, based on their personal risks?",null,null,null,null,null,null,null,null,null,"Yes / Completed"]
[1,null,null,"Has public advice included information on the meaning of the following measures: quarantine, self-isolation and self-monitoring?",null,null,null,null,null,null,null,null,null,"Yes / Completed"]
[null,null,null,"What specific steps will you take to keep athletes and staff fully apprised of current public health information regarding COVID-19?                                    Effective communication is essential for success of these steps. Therefore, current public health information will be accessible to all Canadians, and address diverse communication needs, including languages and accessible formats."]
[null,null,null,"Please enter your planning notes here."]
[]
[]
[]
[]
[]
[]
[]
[null,"Overall Risk Rating:",null,"Very Low"]
[]
[null,null,null,"Overall risk of transmission and further spread of COVID-19 in relation to gathering for training is considered very low."]

{"sheet":"Responses","index":1,"n_rows":1,"n_cols":72,"rows_kept":1,"cut":false,"hidden":true,"merged":[]}
["Timestamp","Sport Organization Name","Name of person completing this NSO Risk Assessment:","Name of NSO communications liaison:","Will the training be held in a region that has documented active local transmission of COVID-19 (community spread) in the last 14 days?","Will the training be held in venues/facilities with access by multiple groups?","Will the group include team members relocating from areas outside the training location that have documented active local transmission of COVID-19 (community spread)?","Will the group include participants (athletes or coaches) at higher risk of severe COVID-19 disease (e.g., people over 65 years of age or people with underlying health conditions)?","Is the training considered at higher risk of spread for COVID-19 (eg, contact sport, indirect contact through training equipment eg balls, landing pits etc)?","Will the training be held indoors?","Have the relevant  staff been informed about the latest available guidance on the COVID-19 outbreak  (official web resources available from BCCDC, WHO, CDC, ECDC, UN, local public health authorities)? And are the staff committed to following the available guidance?","Are organizers aware of global and local daily situation reports as provided by local, provincial, national and international public health authorities?","Do the  responsible staff understand the risks and transmission routes of COVID-19, the steps that training attendees can take to limit spread, the recognized best-practices (including respiratory etiquette, hand hygiene, physical distancing, etc.), and the travel restrictions from different regions that may affect the team gathering to train?","Will there be daily health checks of athletes/staff?","Will the athletes be separated from other groups, to limit transmission? Are teams in self-contained groups?","Are there measures in place to limit the sharing of equipment, water bottles, towels, etc.?","Will athletes have closed containers to allow for the safe disposal or storing of all hygienic materials (e.g. tissues, towels, etc.)?","Will the facility have designated equipment, lockers and stalls for each athlete?","Do common areas provided allow for physical distancing between athletes (minimum of 2 metres)?","Have pre-travel health checks been performed on all athletes to ensure no recent illnesses, and underlying co-morbidities, medications, allergies, etc. are documented?","Has a contingency medical response plan for COVID-19 been developed for team?","Does the contingency medical response plan include information about how team members access the healthcare system virtually or in person (e.g. Team Doc, CMO, GP, Chief Therapist)?","Is there an Emergency COVID-19 Outbreak Response Coordinator with defined roles and responsibilities, coordinating the health preparedness and response planning for any cases or contact?","Has the medical lead liaised with or requested support from local public health authorities? ","Have the organizers and facility managers acquired the Personal Protective Equipment (e.g. masks, gloves, gowns) to help reduce the risk of transmission of COVID-19?","Have the organizers and facility managers acquired hand sanitizer and alcohol rubs/gels, tissues, frequently replaced soap canisters and closed bins for safe disposal of hygienic materials (e.g. tissues, towels, sanitary products) in washrooms and changing rooms?","Have the organizers and facility managers acquired hand sanitizers and alcohol rubs for all training room entrances and throughout the venue?","Is there a procedure for athletes / staff to clearly identify whom to contact, and how to do so, if they or other participants feel unwell or shows signs of an acute respiratory infection in the DTE?","Is there a protocol on whom medical should contact to report suspected cases, and request testing and epidemiological investigations, if someone is feeling unwell or showing signs of respiratory infection?","Are first-aid services or other medical services in place and equipped to support patients with respiratory symptoms?","Are there isolation rooms available onsite until patients are dealt with appropriately?","Are there any designated medical facilities that manage patients with COVID-19 infection in the region? Are contact numbers and procedures clearly visible?","Are there transportation services with trained medical professionals available to transport critically ill patients with severe acute respiratory infections to a hospital if necessary?","Has a cleaning schedule been developed to ensure the venue and equipment is clean and hygienic – wiping surfaces and any equipment regularly with disinfectant is strongly recommended (before, during ( between athletes) and between each training group)? ","Are there established screening measures, including temperature checks and morning monitoring in place for participants before arriving at the DTE and on-site medical facilities (first-aid points)? (Please specify in Comments what these screening measures include)","If the addition of screening measures is in progress or completed, please specify what these measures include.","Is the province, in which your training facility is located, conducting COVID-19 laboratory diagnostic tests for asymptomatic screening?"," If the province is conducting diagnostic tests for asymptomatic screening, please specify the type of COVID-19 diagnostic test used. (e.g. Nasal swabs vs serology)","Does the local community have a regional public health emergency preparedness and response plan that can cope with the influx of athletes and address severe respiratory diseases, including COVID-19?","Is there a preliminary agreement with the local health facility on protocols to handover care for any serious COVID-19 cases connected with the training resumption that require hospitalization? ","Does the medical response plan for the DTE include resources and protocols for managing all public health interventions that would be necessary, and for supporting the regional public health authorities if participants are infected and become unwell.","Does the medical response plan include protocols to notify all participants of possible exposure to COVID-19 if staff are made aware of any suspected or confirmed cases that attended training?","Are isolation arrangements in place in the event of a public health emergency, such as a cluster of suspected and confirmed cases of COVID-19 within the team?","Do these isolation arrangements include family and team mates?","Do these arrangements include funding for isolation accommodations?","Do these isolation arrangements include sufficient equipment (e.g. personal protective equipment, sanitation supplies etc.)?","Do these arrangements include training of extra staff if needed?","Is there an established mechanism for collaboration and coordination with the local public health and recreation / parks sectors in the instance that any new COVID-19 cases arise?","Are there agreed, clear and easily understood processes in place for reporting to external multi-sectoral stakeholders (eg CPC, COC, OTP, NF etc ) and disseminating risk communication messages (Media)?","Is there a decision-making authority/body and an agreed procedure to modify, restrict, postpone, or cancel the return to training related to the evolving COVID-19 outbreak?","Are there arrangements to activate a strategic health operations team if there are suspected COVID-19 cases in connection with the training center or institute?","Have coaches and staff undergone training and exercises on personal safety procedures and emergency mitigation measures (including those specifically listed in this checklist)?","Is there a risk mitigation communication strategy in regard to COVID-19?","Is there a designated person(s) to lead media activities and tasked with managing all external communications with national and international government officials, the general public, and the media?","Is there a process for monitoring of national and international media and social media established for rumours to be able to counter them early?","If there is a process to limit misinformation, please explain what protocols are in place for counter-messaging.","Has coordination been set up with major official media channels and social media sites so that messaging can be coordinated with, and assisted by, the platforms to provide targeted messaging if needed (including messaging to counter fake news and rumours, and proactive messaging about the status of the team training, including changes)? ","Has public health advice on clinical features of COVID-19, preventive measures, especially respiratory etiquette, hand hygiene practices, and physical distancing, been shared with all staff, athletes, and personnel of all relevant facilities?","Has information on the at-risk populations been provided to all athletes, and others, so they may make an informed decision on their attendance, based on their personal risks?","Has public advice included information on the meaning of the following measures: quarantine, self-isolation and self-monitoring?","Email Address","Name of the CSI / CSC with whom you are most closely affiliated.","Name of the city in which the training activities will occur.","Is this survey being completed on behalf of Olympic or Paralympic sport? Please select the appropriate Multi-sport Organization.","What specific plans will you implement to enhance the understanding, amongst your staff (including venue support staff), of the current COVID-19 situation?","What specific measures will you take to reduce the risk for athletes and staff? Be sure to be venue-specific.","What specific strategies are you preparing in order to respond effectively to emergencies? Please include any additional screening measures you will implement and the type of diagnostic tests (if any) that are being utilized to screen asymptomatic individuals.","What specific arrangements are in place to isolate athletes or staff if required?","What specific plans are you making to enhance communication and collaboration with your partner organizations?","What specific policies and procedures will improve the coordination of logistics between agencies?","What specific action will be taken to communicate the risks associated with training during the COVID-19 pandemic? What processes will limit the impact of misinformation from other sources?","What specific steps will you take to keep athletes and staff fully apprised of current public health information regarding COVID-19?"]

{"sheet":"Summaries","index":2,"n_rows":118,"n_cols":10,"rows_kept":118,"cut":false,"hidden":true,"merged":[]}
[{"$f":"IF(ISBLANK(Responses!A1), \"\", Responses!A1)","v":"Timestamp"},{"$f":"IF(ISBLANK(Responses!B1), \"\", Responses!B1)","v":"Sport Organization Name"},{"$f":"IF(ISBLANK(Responses!BI1), \"\", Responses!BI1)","v":"Email Address"},"MSO Contact","CSI/CSC Contact","Response Sent",{"$f":"IF(ISBLANK('Risk Rating'!K1), \"\", 'Risk Rating'!K1)","v":"Risk Rating"},"Mitigation Score","Overall Risk","Descriptor"]
[{"$f":"IF(ISBLANK(Responses!A2), \"\", Responses!A2)","v":""},{"$f":"IF(ISBLANK(Responses!B2), \"\", Responses!B2)","v":""},{"$f":"IF(ISBLANK(Responses!BI2), \"\", Responses!BI2)","v":""},null,null,false,{"$f":"IF(ISBLANK('Risk Rating'!K2), \"\", 'Risk Rating'!K2)","v":0},{"$f":"('Staff Knowledge'!G2+'Specific Measures'!K2+'Emergency Readiness'!Z2+'Isolation Capacity'!I2+'Stakeholder Coordination'!F2+'Logistics Coordination'!G2+'Risk Communication'!I2+'Public Health'!G2)/LUTs!$B$1","v":{"$error":"#N/A"}},{"$f":"IF(OR(G2>5,AND(G2=5,H2<0.51),AND(G2=4,H2<0.26)),\"Very High\",IF(OR(AND(G2=5,H2>0.5),AND(G2=4,H2<0.51)),\"High\",IF(OR(AND(G2=4,H2>0.5),AND(G2=3,H2<0.76),AND(G2=2,H2<0.26)),\"Moderate\",IF(OR(AND(G2=3,H2>0.75),AND(G2=2,H2>0.25),AND(G2=1,H2<0.51)),\"Low\",\"Very Low\"))))","v":{"$error":"#N/A"}},{"$f":"VLOOKUP(I2,LUTs!A$13:D$17,2)","v":{"$error":"#N/A"}}]
[{"$f":"IF(ISBLANK(Responses!A3), \"\", Responses!A3)","v":""},{"$f":"IF(ISBLANK(Responses!B3), \"\", Responses!B3)","v":""},{"$f":"IF(ISBLANK(Responses!BI3), \"\", Responses!BI3)","v":""},null,null,false,{"$f":"IF(ISBLANK('Risk Rating'!K3), \"\", 'Risk Rating'!K3)","v":0},{"$f":"('Staff Knowledge'!G3+'Specific Measures'!K3+'Emergency Readiness'!Z3+'Isolation Capacity'!I3+'Stakeholder Coordination'!F3+'Logistics Coordination'!G3+'Risk Communication'!I3+'Public Health'!G3)/LUTs!$B$1","v":{"$error":"#N/A"}},{"$error":"#N/A"},{"$f":"VLOOKUP(I3,LUTs!A$13:D$17,2)","v":{"$error":"#N/A"}}]
[{"$f":"IF(ISBLANK(Responses!A4), \"\", Responses!A4)","v":""},{"$f":"IF(ISBLANK(Responses!B4), \"\", Responses!B4)","v":""},{"$f":"IF(ISBLANK(Responses!BI4), \"\", Responses!BI4)","v":""},null,null,false,{"$f":"IF(ISBLANK('Risk Rating'!K4), \"\", 'Risk Rating'!K4)","v":0},{"$f":"('Staff Knowledge'!G4+'Specific Measures'!K4+'Emergency Readiness'!Z4+'Isolation Capacity'!I4+'Stakeholder Coordination'!F4+'Logistics Coordination'!G4+'Risk Communication'!I4+'Public Health'!G4)/LUTs!$B$1","v":{"$error":"#N/A"}},{"$error":"#N/A"},{"$f":"VLOOKUP(I4,LUTs!A$13:D$17,2)","v":{"$error":"#N/A"}}]
[{"$f":"IF(ISBLANK(Responses!A5), \"\", Responses!A5)","v":""},{"$f":"IF(ISBLANK(Responses!B5), \"\", Responses!B5)","v":""},{"$f":"IF(ISBLANK(Responses!BI5), \"\", Responses!BI5)","v":""},null,null,false,{"$f":"IF(ISBLANK('Risk Rating'!K5), \"\", 'Risk Rating'!K5)","v":0},{"$f":"('Staff Knowledge'!G5+'Specific Measures'!K5+'Emergency Readiness'!Z5+'Isolation Capacity'!I5+'Stakeholder Coordination'!F5+'Logistics Coordination'!G5+'Risk Communication'!I5+'Public Health'!G5)/LUTs!$B$1","v":{"$error":"#N/A"}},{"$error":"#N/A"},{"$f":"VLOOKUP(I5,LUTs!A$13:D$17,2)","v":{"$error":"#N/A"}}]
[{"$f":"IF(ISBLANK(Responses!A6), \"\", Responses!A6)","v":""},{"$f":"IF(ISBLANK(Responses!B6), \"\", Responses!B6)","v":""},{"$f":"IF(ISBLANK(Responses!BI6), \"\", Responses!BI6)","v":""},null,null,false,{"$f":"IF(ISBLANK('Risk Rating'!K6), \"\", 'Risk Rating'!K6)","v":0},{"$f":"('Staff Knowledge'!G6+'Specific Measures'!K6+'Emergency Readiness'!Z6+'Isolation Capacity'!I6+'Stakeholder Coordination'!F6+'Logistics Coordination'!G6+'Risk Communication'!I6+'Public Health'!G6)/LUTs!$B$1","v":{"$error":"#N/A"}},{"$error":"#N/A"},{"$f":"VLOOKUP(I6,LUTs!A$13:D$17,2)","v":{"$error":"#N/A"}}]
[{"$f":"IF(ISBLANK(Responses!A7), \"\", Responses!A7)","v":""},{"$f":"IF(ISBLANK(Responses!B7), \"\", Responses!B7)","v":""},{"$f":"IF(ISBLANK(Responses!BI7), \"\", Responses!BI7)","v":""},null,null,false,{"$f":"IF(ISBLANK('Risk Rating'!K7), \"\", 'Risk Rating'!K7)","v":0},{"$f":"('Staff Knowledge'!G7+'Specific Measures'!K7+'Emergency Readiness'!Z7+'Isolation Capacity'!I7+'Stakeholder Coordination'!F7+'Logistics Coordination'!G7+'Risk Communication'!I7+'Public Health'!G7)/LUTs!$B$1","v":{"$error":"#N/A"}},{"$error":"#N/A"},{"$f":"VLOOKUP(I7,LUTs!A$13:D$17,2)","v":{"$error":"#N/A"}}]
[{"$f":"IF(ISBLANK(Responses!A8), \"\", Responses!A8)","v":""},{"$f":"IF(ISBLANK(Responses!B8), \"\", Responses!B8)","v":""},{"$f":"IF(ISBLANK(Responses!BI8), \"\", Responses!BI8)","v":""},null,null,false,{"$f":"IF(ISBLANK('Risk Rating'!K8), \"\", 'Risk Rating'!K8)","v":0},{"$f":"('Staff Knowledge'!G8+'Specific Measures'!K8+'Emergency Readiness'!Z8+'Isolation Capacity'!I8+'Stakeholder Coordination'!F8+'Logistics Coordination'!G8+'Risk Communication'!I8+'Public Health'!G8)/LUTs!$B$1","v":{"$error":"#N/A"}},{"$error":"#N/A"},{"$f":"VLOOKUP(I8,LUTs!A$13:D$17,2)","v":{"$error":"#N/A"}}]
[{"$f":"IF(ISBLANK(Responses!A9), \"\", Responses!A9)","v":""},{"$f":"IF(ISBLANK(Responses!B9), \"\", Responses!B9)","v":""},{"$f":"IF(ISBLANK(Responses!BI9), \"\", Responses!BI9)","v":""},null,null,false,{"$f":"IF(ISBLANK('Risk Rating'!K9), \"\", 'Risk Rating'!K9)","v":0},{"$f":"('Staff Knowledge'!G9+'Specific Measures'!K9+'Emergency Readiness'!Z9+'Isolation Capacity'!I9+'Stakeholder Coordination'!F9+'Logistics Coordination'!G9+'Risk Communication'!I9+'Public Health'!G9)/LUTs!$B$1","v":{"$error":"#N/A"}},{"$error":"#N/A"},{"$f":"VLOOKUP(I9,LUTs!A$13:D$17,2)","v":{"$error":"#N/A"}}]
[{"$f":"IF(ISBLANK(Responses!A10), \"\", Responses!A10)","v":""},{"$f":"IF(ISBLANK(Responses!B10), \"\", Responses!B10)","v":""},{"$f":"IF(ISBLANK(Responses!BI10), \"\", Responses!BI10)","v":""},null,null,false,{"$f":"IF(ISBLANK('Risk Rating'!K10), \"\", 'Risk Rating'!K10)","v":0},{"$f":"('Staff Knowledge'!G10+'Specific Measures'!K10+'Emergency Readiness'!Z10+'Isolation Capacity'!I10+'Stakeholder Coordination'!F10+'Logistics Coordination'!G10+'Risk Communication'!I10+'Public Health'!G10)/LUTs!$B$1","v":{"$error":"#N/A"}},{"$error":"#N/A"},{"$f":"VLOOKUP(I10,LUTs!A$13:D$17,2)","v":{"$error":"#N/A"}}]
[{"$f":"IF(ISBLANK(Responses!A11), \"\", Responses!A11)","v":""},{"$f":"IF(ISBLANK(Responses!B11), \"\", Responses!B11)","v":""},{"$f":"IF(ISBLANK(Responses!BI11), \"\", Responses!BI11)","v":""},null,null,false,{"$f":"IF(ISBLANK('Risk Rating'!K11), \"\", 'Risk Rating'!K11)","v":0},{"$f":"('Staff Knowledge'!G11+'Specific Measures'!K11+'Emergency Readiness'!Z11+'Isolation Capacity'!I11+'Stakeholder Coordination'!F11+'Logistics Coordination'!G11+'Risk Communication'!I11+'Public Health'!G11)/LUTs!$B$1","v":{"$error":"#N/A"}},{"$error":"#N/A"},{"$f":"VLOOKUP(I11,LUTs!A$13:D$17,2)","v":{"$error":"#N/A"}}]
[{"$f":"IF(ISBLANK(Responses!A12), \"\", Responses!A12)","v":""},{"$f":"IF(ISBLANK(Responses!B12), \"\", Responses!B12)","v":""},{"$f":"IF(ISBLANK(Responses!BI12), \"\", Responses!BI12)","v":""},null,null,false,{"$f":"IF(ISBLANK('Risk Rating'!K12), \"\", 'Risk Rating'!K12)","v":0},{"$f":"('Staff Knowledge'!G12+'Specific Measures'!K12+'Emergency Readiness'!Z12+'Isolation Capacity'!I12+'Stakeholder Coordination'!F12+'Logistics Coordination'!G12+'Risk Communication'!I12+'Public Health'!G12)/LUTs!$B$1","v":{"$error":"#N/A"}},{"$error":"#N/A"},{"$f":"VLOOKUP(I12,LUTs!A$13:D$17,2)","v":{"$error":"#N/A"}}]
[{"$f":"IF(ISBLANK(Responses!A13), \"\", Responses!A13)","v":""},{"$f":"IF(ISBLANK(Responses!B13), \"\", Responses!B13)","v":""},{"$f":"IF(ISBLANK(Responses!BI13), \"\", Responses!BI13)","v":""},null,null,false,{"$f":"IF(ISBLANK('Risk Rating'!K13), \"\", 'Risk Rating'!K13)","v":0},{"$f":"('Staff Knowledge'!G13+'Specific Measures'!K13+'Emergency Readiness'!Z13+'Isolation Capacity'!I13+'Stakeholder Coordination'!F13+'Logistics Coordination'!G13+'Risk Communication'!I13+'Public Health'!G13)/LUTs!$B$1","v":{"$error":"#N/A"}},{"$error":"#N/A"},{"$f":"VLOOKUP(I13,LUTs!A$13:D$17,2)","v":{"$error":"#N/A"}}]
[{"$f":"IF(ISBLANK(Responses!A14), \"\", Responses!A14)","v":""},{"$f":"IF(ISBLANK(Responses!B14), \"\", Responses!B14)","v":""},{"$f":"IF(ISBLANK(Responses!BI14), \"\", Responses!BI14)","v":""},null,null,false,{"$f":"IF(ISBLANK('Risk Rating'!K14), \"\", 'Risk Rating'!K14)","v":0},{"$f":"('Staff Knowledge'!G14+'Specific Measures'!K14+'Emergency Readiness'!Z14+'Isolation Capacity'!I14+'Stakeholder Coordination'!F14+'Logistics Coordination'!G14+'Risk Communication'!I14+'Public Health'!G14)/LUTs!$B$1","v":{"$error":"#N/A"}},{"$error":"#N/A"},{"$f":"VLOOKUP(I14,LUTs!A$13:D$17,2)","v":{"$error":"#N/A"}}]
[{"$f":"IF(ISBLANK(Responses!A15), \"\", Responses!A15)","v":""},{"$f":"IF(ISBLANK(Responses!B15), \"\", Responses!B15)","v":""},{"$f":"IF(ISBLANK(Responses!BI15), \"\", Responses!BI15)","v":""},null,null,false,{"$f":"IF(ISBLANK('Risk Rating'!K15), \"\", 'Risk Rating'!K15)","v":0},{"$f":"('Staff Knowledge'!G15+'Specific Measures'!K15+'Emergency Readiness'!Z15+'Isolation Capacity'!I15+'Stakeholder Coordination'!F15+'Logistics Coordination'!G15+'Risk Communication'!I15+'Public Health'!G15)/LUTs!$B$1","v":{"$error":"#N/A"}},{"$error":"#N/A"},{"$f":"VLOOKUP(I15,LUTs!A$13:D$17,2)","v":{"$error":"#N/A"}}]
[{"$f":"IF(ISBLANK(Responses!A16), \"\", Responses!A16)","v":""},{"$f":"IF(ISBLANK(Responses!B16), \"\", Responses!B16)","v":""},{"$f":"IF(ISBLANK(Responses!BI16), \"\", Responses!BI16)","v":""},null,null,false,{"$f":"IF(ISBLANK('Risk Rating'!K16), \"\", 'Risk Rating'!K16)","v":0},{"$f":"('Staff Knowledge'!G16+'Specific Measures'!K16+'Emergency Readiness'!Z16+'Isolation Capacity'!I16+'Stakeholder Coordination'!F16+'Logistics Coordination'!G16+'Risk Communication'!I16+'Public Health'!G16)/LUTs!$B$1","v":{"$error":"#N/A"}},{"$error":"#N/A"},{"$f":"VLOOKUP(I16,LUTs!A$13:D$17,2)","v":{"$error":"#N/A"}}]
[{"$f":"IF(ISBLANK(Responses!A17), \"\", Responses!A17)","v":""},{"$f":"IF(ISBLANK(Responses!B17), \"\", Responses!B17)","v":""},{"$f":"IF(ISBLANK(Responses!BI17), \"\", Responses!BI17)","v":""},null,null,false,{"$f":"IF(ISBLANK('Risk Rating'!K17), \"\", 'Risk Rating'!K17)","v":0},{"$f":"('Staff Knowledge'!G17+'Specific Measures'!K17+'Emergency Readiness'!Z17+'Isolation Capacity'!I17+'Stakeholder Coordination'!F17+'Logistics Coordination'!G17+'Risk Communication'!I17+'Public Health'!G17)/LUTs!$B$1","v":{"$error":"#N/A"}},{"$error":"#N/A"},{"$f":"VLOOKUP(I17,LUTs!A$13:D$17,2)","v":{"$error":"#N/A"}}]
[{"$f":"IF(ISBLANK(Responses!A18), \"\", Responses!A18)","v":""},{"$f":"IF(ISBLANK(Responses!B18), \"\", Responses!B18)","v":""},{"$f":"IF(ISBLANK(Responses!BI18), \"\", Responses!BI18)","v":""},null,null,false,{"$f":"IF(ISBLANK('Risk Rating'!K18), \"\", 'Risk Rating'!K18)","v":0},{"$f":"('Staff Knowledge'!G18+'Specific Measures'!K18+'Emergency Readiness'!Z18+'Isolation Capacity'!I18+'Stakeholder Coordination'!F18+'Logistics Coordination'!G18+'Risk Communication'!I18+'Public Health'!G18)/LUTs!$B$1","v":{"$error":"#N/A"}},{"$error":"#N/A"},{"$f":"VLOOKUP(I18,LUTs!A$13:D$17,2)","v":{"$error":"#N/A"}}]
[{"$f":"IF(ISBLANK(Responses!A19), \"\", Responses!A19)","v":""},{"$f":"IF(ISBLANK(Responses!B19), \"\", Responses!B19)","v":""},{"$f":"IF(ISBLANK(Responses!BI19), \"\", Responses!BI19)","v":""},null,null,false,{"$f":"IF(ISBLANK('Risk Rating'!K19), \"\", 'Risk Rating'!K19)","v":0},{"$f":"('Staff Knowledge'!G19+'Specific Measures'!K19+'Emergency Readiness'!Z19+'Isolation Capacity'!I19+'Stakeholder Coordination'!F19+'Logistics Coordination'!G19+'Risk Communication'!I19+'Public Health'!G19)/LUTs!$B$1","v":{"$error":"#N/A"}},{"$error":"#N/A"},{"$f":"VLOOKUP(I19,LUTs!A$13:D$17,2)","v":{"$error":"#N/A"}}]
[{"$f":"IF(ISBLANK(Responses!A20), \"\", Responses!A20)","v":""},{"$f":"IF(ISBLANK(Responses!B20), \"\", Responses!B20)","v":""},{"$f":"IF(ISBLANK(Responses!BI20), \"\", Responses!BI20)","v":""},null,null,false,{"$f":"IF(ISBLANK('Risk Rating'!K20), \"\", 'Risk Rating'!K20)","v":0},{"$f":"('Staff Knowledge'!G20+'Specific Measures'!K20+'Emergency Readiness'!Z20+'Isolation Capacity'!I20+'Stakeholder Coordination'!F20+'Logistics Coordination'!G20+'Risk Communication'!I20+'Public Health'!G20)/LUTs!$B$1","v":{"$error":"#N/A"}},{"$error":"#N/A"},{"$f":"VLOOKUP(I20,LUTs!A$13:D$17,2)","v":{"$error":"#N/A"}}]
[{"$f":"IF(ISBLANK(Responses!A21), \"\", Responses!A21)","v":""},{"$f":"IF(ISBLANK(Responses!B21), \"\", Responses!B21)","v":""},{"$f":"IF(ISBLANK(Responses!BI21), \"\", Responses!BI21)","v":""},null,null,false,{"$f":"IF(ISBLANK('Risk Rating'!K21), \"\", 'Risk Rating'!K21)","v":0},{"$f":"('Staff Knowledge'!G21+'Specific Measures'!K21+'Emergency Readiness'!Z21+'Isolation Capacity'!I21+'Stakeholder Coordination'!F21+'Logistics Coordination'!G21+'Risk Communication'!I21+'Public Health'!G21)/LUTs!$B$1","v":{"$error":"#N/A"}},{"$error":"#N/A"},{"$f":"VLOOKUP(I21,LUTs!A$13:D$17,2)","v":{"$error":"#N/A"}}]
[{"$f":"IF(ISBLANK(Responses!A22), \"\", Responses!A22)","v":""},{"$f":"IF(ISBLANK(Responses!B22), \"\", Responses!B22)","v":""},{"$f":"IF(ISBLANK(Responses!BI22), \"\", Responses!BI22)","v":""},null,null,false,{"$f":"IF(ISBLANK('Risk Rating'!K22), \"\", 'Risk Rating'!K22)","v":0},{"$f":"('Staff Knowledge'!G22+'Specific Measures'!K22+'Emergency Readiness'!Z22+'Isolation Capacity'!I22+'Stakeholder Coordination'!F22+'Logistics Coordination'!G22+'Risk Communication'!I22+'Public Health'!G22)/LUTs!$B$1","v":{"$error":"#N/A"}},{"$error":"#N/A"},{"$f":"VLOOKUP(I22,LUTs!A$13:D$17,2)","v":{"$error":"#N/A"}}]
[{"$f":"IF(ISBLANK(Responses!A23), \"\", Responses!A23)","v":""},{"$f":"IF(ISBLANK(Responses!B23), \"\", Responses!B23)","v":""},{"$f":"IF(ISBLANK(Responses!BI23), \"\", Responses!BI23)","v":""},null,null,false,{"$f":"IF(ISBLANK('Risk Rating'!K23), \"\", 'Risk Rating'!K23)","v":0},{"$f":"('Staff Knowledge'!G23+'Specific Measures'!K23+'Emergency Readiness'!Z23+'Isolation Capacity'!I23+'Stakeholder Coordination'!F23+'Logistics Coordination'!G23+'Risk Communication'!I23+'Public Health'!G23)/LUTs!$B$1","v":{"$error":"#N/A"}},{"$error":"#N/A"},{"$f":"VLOOKUP(I23,LUTs!A$13:D$17,2)","v":{"$error":"#N/A"}}]
[{"$f":"IF(ISBLANK(Responses!A24), \"\", Responses!A24)","v":""},{"$f":"IF(ISBLANK(Responses!B24), \"\", Responses!B24)","v":""},{"$f":"IF(ISBLANK(Responses!BI24), \"\", Responses!BI24)","v":""},null,null,false,{"$f":"IF(ISBLANK('Risk Rating'!K24), \"\", 'Risk Rating'!K24)","v":0},{"$f":"('Staff Knowledge'!G24+'Specific Measures'!K24+'Emergency Readiness'!Z24+'Isolation Capacity'!I24+'Stakeholder Coordination'!F24+'Logistics Coordination'!G24+'Risk Communication'!I24+'Public Health'!G24)/LUTs!$B$1","v":{"$error":"#N/A"}},{"$error":"#N/A"},{"$f":"VLOOKUP(I24,LUTs!A$13:D$17,2)","v":{"$error":"#N/A"}}]
[{"$f":"IF(ISBLANK(Responses!A25), \"\", Responses!A25)","v":""},{"$f":"IF(ISBLANK(Responses!B25), \"\", Responses!B25)","v":""},{"$f":"IF(ISBLANK(Responses!BI25), \"\", Responses!BI25)","v":""},null,null,false,{"$f":"IF(ISBLANK('Risk Rating'!K25), \"\", 'Risk Rating'!K25)","v":0},{"$f":"('Staff Knowledge'!G25+'Specific Measures'!K25+'Emergency Readiness'!Z25+'Isolation Capacity'!I25+'Stakeholder Coordination'!F25+'Logistics Coordination'!G25+'Risk Communication'!I25+'Public Health'!G25)/LUTs!$B$1","v":{"$error":"#N/A"}},{"$error":"#N/A"},{"$f":"VLOOKUP(I25,LUTs!A$13:D$17,2)","v":{"$error":"#N/A"}}]
[{"$f":"IF(ISBLANK(Responses!A26), \"\", Responses!A26)","v":""},{"$f":"IF(ISBLANK(Responses!B26), \"\", Responses!B26)","v":""},{"$f":"IF(ISBLANK(Responses!BI26), \"\", Responses!BI26)","v":""},null,null,false,{"$f":"IF(ISBLANK('Risk Rating'!K26), \"\", 'Risk Rating'!K26)","v":0},{"$f":"('Staff Knowledge'!G26+'Specific Measures'!K26+'Emergency Readiness'!Z26+'Isolation Capacity'!I26+'Stakeholder Coordination'!F26+'Logistics Coordination'!G26+'Risk Communication'!I26+'Public Health'!G26)/LUTs!$B$1","v":{"$error":"#N/A"}},{"$error":"#N/A"},{"$f":"VLOOKUP(I26,LUTs!A$13:D$17,2)","v":{"$error":"#N/A"}}]
[{"$f":"IF(ISBLANK(Responses!A27), \"\", Responses!A27)","v":""},{"$f":"IF(ISBLANK(Responses!B27), \"\", Responses!B27)","v":""},{"$f":"IF(ISBLANK(Responses!BI27), \"\", Responses!BI27)","v":""},null,null,false,{"$f":"IF(ISBLANK('Risk Rating'!K27), \"\", 'Risk Rating'!K27)","v":0},{"$f":"('Staff Knowledge'!G27+'Specific Measures'!K27+'Emergency Readiness'!Z27+'Isolation Capacity'!I27+'Stakeholder Coordination'!F27+'Logistics Coordination'!G27+'Risk Communication'!I27+'Public Health'!G27)/LUTs!$B$1","v":{"$error":"#N/A"}},{"$error":"#N/A"},{"$f":"VLOOKUP(I27,LUTs!A$13:D$17,2)","v":{"$error":"#N/A"}}]
[{"$f":"IF(ISBLANK(Responses!A28), \"\", Responses!A28)","v":""},{"$f":"IF(ISBLANK(Responses!B28), \"\", Responses!B28)","v":""},{"$f":"IF(ISBLANK(Responses!BI28), \"\", Responses!BI28)","v":""},null,null,false,{"$f":"IF(ISBLANK('Risk Rating'!K28), \"\", 'Risk Rating'!K28)","v":0},{"$f":"('Staff Knowledge'!G28+'Specific Measures'!K28+'Emergency Readiness'!Z28+'Isolation Capacity'!I28+'Stakeholder Coordination'!F28+'Logistics Coordination'!G28+'Risk Communication'!I28+'Public Health'!G28)/LUTs!$B$1","v":{"$error":"#N/A"}},{"$error":"#N/A"},{"$f":"VLOOKUP(I28,LUTs!A$13:D$17,2)","v":{"$error":"#N/A"}}]
[{"$f":"IF(ISBLANK(Responses!A29), \"\", Responses!A29)","v":""},{"$f":"IF(ISBLANK(Responses!B29), \"\", Responses!B29)","v":""},{"$f":"IF(ISBLANK(Responses!BI29), \"\", Responses!BI29)","v":""},null,null,false,{"$f":"IF(ISBLANK('Risk Rating'!K29), \"\", 'Risk Rating'!K29)","v":0},{"$f":"('Staff Knowledge'!G29+'Specific Measures'!K29+'Emergency Readiness'!Z29+'Isolation Capacity'!I29+'Stakeholder Coordination'!F29+'Logistics Coordination'!G29+'Risk Communication'!I29+'Public Health'!G29)/LUTs!$B$1","v":{"$error":"#N/A"}},{"$error":"#N/A"},{"$f":"VLOOKUP(I29,LUTs!A$13:D$17,2)","v":{"$error":"#N/A"}}]
[{"$f":"IF(ISBLANK(Responses!A30), \"\", Responses!A30)","v":""},{"$f":"IF(ISBLANK(Responses!B30), \"\", Responses!B30)","v":""},{"$f":"IF(ISBLANK(Responses!BI30), \"\", Responses!BI30)","v":""},null,null,false,{"$f":"IF(ISBLANK('Risk Rating'!K30), \"\", 'Risk Rating'!K30)","v":0},{"$f":"('Staff Knowledge'!G30+'Specific Measures'!K30+'Emergency Readiness'!Z30+'Isolation Capacity'!I30+'Stakeholder Coordination'!F30+'Logistics Coordination'!G30+'Risk Communication'!I30+'Public Health'!G30)/LUTs!$B$1","v":{"$error":"#N/A"}},{"$error":"#N/A"},{"$f":"VLOOKUP(I30,LUTs!A$13:D$17,2)","v":{"$error":"#N/A"}}]
[{"$f":"IF(ISBLANK(Responses!A31), \"\", Responses!A31)","v":""},{"$f":"IF(ISBLANK(Responses!B31), \"\", Responses!B31)","v":""},{"$f":"IF(ISBLANK(Responses!BI31), \"\", Responses!BI31)","v":""},null,null,false,{"$f":"IF(ISBLANK('Risk Rating'!K31), \"\", 'Risk Rating'!K31)","v":0},{"$f":"('Staff Knowledge'!G31+'Specific Measures'!K31+'Emergency Readiness'!Z31+'Isolation Capacity'!I31+'Stakeholder Coordination'!F31+'Logistics Coordination'!G31+'Risk Communication'!I31+'Public Health'!G31)/LUTs!$B$1","v":{"$error":"#N/A"}},{"$error":"#N/A"},{"$f":"VLOOKUP(I31,LUTs!A$13:D$17,2)","v":{"$error":"#N/A"}}]
[{"$f":"IF(ISBLANK(Responses!A32), \"\", Responses!A32)","v":""},{"$f":"IF(ISBLANK(Responses!B32), \"\", Responses!B32)","v":""},{"$f":"IF(ISBLANK(Responses!BI32), \"\", Responses!BI32)","v":""},null,null,false,{"$f":"IF(ISBLANK('Risk Rating'!K32), \"\", 'Risk Rating'!K32)","v":0},{"$f":"('Staff Knowledge'!G32+'Specific Measures'!K32+'Emergency Readiness'!Z32+'Isolation Capacity'!I32+'Stakeholder Coordination'!F32+'Logistics Coordination'!G32+'Risk Communication'!I32+'Public Health'!G32)/LUTs!$B$1","v":{"$error":"#N/A"}},{"$error":"#N/A"},{"$f":"VLOOKUP(I32,LUTs!A$13:D$17,2)","v":{"$error":"#N/A"}}]
[{"$f":"IF(ISBLANK(Responses!A33), \"\", Responses!A33)","v":""},{"$f":"IF(ISBLANK(Responses!B33), \"\", Responses!B33)","v":""},{"$f":"IF(ISBLANK(Responses!BI33), \"\", Responses!BI33)","v":""},null,null,false,{"$f":"IF(ISBLANK('Risk Rating'!K33), \"\", 'Risk Rating'!K33)","v":0},{"$f":"('Staff Knowledge'!G33+'Specific Measures'!K33+'Emergency Readiness'!Z33+'Isolation Capacity'!I33+'Stakeholder Coordination'!F33+'Logistics Coordination'!G33+'Risk Communication'!I33+'Public Health'!G33)/LUTs!$B$1","v":{"$error":"#N/A"}},{"$error":"#N/A"},{"$f":"VLOOKUP(I33,LUTs!A$13:D$17,2)","v":{"$error":"#N/A"}}]
[{"$f":"IF(ISBLANK(Responses!A34), \"\", Responses!A34)","v":""},{"$f":"IF(ISBLANK(Responses!B34), \"\", Responses!B34)","v":""},{"$f":"IF(ISBLANK(Responses!BI34), \"\", Responses!BI34)","v":""},null,null,false,{"$f":"IF(ISBLANK('Risk Rating'!K34), \"\", 'Risk Rating'!K34)","v":0},{"$f":"('Staff Knowledge'!G34+'Specific Measures'!K34+'Emergency Readiness'!Z34+'Isolation Capacity'!I34+'Stakeholder Coordination'!F34+'Logistics Coordination'!G34+'Risk Communication'!I34+'Public Health'!G34)/LUTs!$B$1","v":{"$error":"#N/A"}},{"$error":"#N/A"},{"$f":"VLOOKUP(I34,LUTs!A$13:D$17,2)","v":{"$error":"#N/A"}}]
[{"$f":"IF(ISBLANK(Responses!A35), \"\", Responses!A35)","v":""},{"$f":"IF(ISBLANK(Responses!B35), \"\", Responses!B35)","v":""},{"$f":"IF(ISBLANK(Responses!BI35), \"\", Responses!BI35)","v":""},null,null,false,{"$f":"IF(ISBLANK('Risk Rating'!K35), \"\", 'Risk Rating'!K35)","v":0},{"$f":"('Staff Knowledge'!G35+'Specific Measures'!K35+'Emergency Readiness'!Z35+'Isolation Capacity'!I35+'Stakeholder Coordination'!F35+'Logistics Coordination'!G35+'Risk Communication'!I35+'Public Health'!G35)/LUTs!$B$1","v":{"$error":"#N/A"}},{"$error":"#N/A"},{"$f":"VLOOKUP(I35,LUTs!A$13:D$17,2)","v":{"$error":"#N/A"}}]
[{"$f":"IF(ISBLANK(Responses!A36), \"\", Responses!A36)","v":""},{"$f":"IF(ISBLANK(Responses!B36), \"\", Responses!B36)","v":""},{"$f":"IF(ISBLANK(Responses!BI36), \"\", Responses!BI36)","v":""},null,null,false,{"$f":"IF(ISBLANK('Risk Rating'!K36), \"\", 'Risk Rating'!K36)","v":0},{"$f":"('Staff Knowledge'!G36+'Specific Measures'!K36+'Emergency Readiness'!Z36+'Isolation Capacity'!I36+'Stakeholder Coordination'!F36+'Logistics Coordination'!G36+'Risk Communication'!I36+'Public Health'!G36)/LUTs!$B$1","v":{"$error":"#N/A"}},{"$error":"#N/A"},{"$f":"VLOOKUP(I36,LUTs!A$13:D$17,2)","v":{"$error":"#N/A"}}]
[{"$f":"IF(ISBLANK(Responses!A37), \"\", Responses!A37)","v":""},{"$f":"IF(ISBLANK(Responses!B37), \"\", Responses!B37)","v":""},{"$f":"IF(ISBLANK(Responses!BI37), \"\", Responses!BI37)","v":""},null,null,false,{"$f":"IF(ISBLANK('Risk Rating'!K37), \"\", 'Risk Rating'!K37)","v":0},{"$f":"('Staff Knowledge'!G37+'Specific Measures'!K37+'Emergency Readiness'!Z37+'Isolation Capacity'!I37+'Stakeholder Coordination'!F37+'Logistics Coordination'!G37+'Risk Communication'!I37+'Public Health'!G37)/LUTs!$B$1","v":{"$error":"#N/A"}},{"$error":"#N/A"},{"$f":"VLOOKUP(I37,LUTs!A$13:D$17,2)","v":{"$error":"#N/A"}}]
[{"$f":"IF(ISBLANK(Responses!A38), \"\", Responses!A38)","v":""},{"$f":"IF(ISBLANK(Responses!B38), \"\", Responses!B38)","v":""},{"$f":"IF(ISBLANK(Responses!BI38), \"\", Responses!BI38)","v":""},null,null,false,{"$f":"IF(ISBLANK('Risk Rating'!K38), \"\", 'Risk Rating'!K38)","v":0},{"$f":"('Staff Knowledge'!G38+'Specific Measures'!K38+'Emergency Readiness'!Z38+'Isolation Capacity'!I38+'Stakeholder Coordination'!F38+'Logistics Coordination'!G38+'Risk Communication'!I38+'Public Health'!G38)/LUTs!$B$1","v":{"$error":"#N/A"}},{"$error":"#N/A"},{"$f":"VLOOKUP(I38,LUTs!A$13:D$17,2)","v":{"$error":"#N/A"}}]
[{"$f":"IF(ISBLANK(Responses!A39), \"\", Responses!A39)","v":""},{"$f":"IF(ISBLANK(Responses!B39), \"\", Responses!B39)","v":""},{"$f":"IF(ISBLANK(Responses!BI39), \"\", Responses!BI39)","v":""},null,null,false,{"$f":"IF(ISBLANK('Risk Rating'!K39), \"\", 'Risk Rating'!K39)","v":0},{"$f":"('Staff Knowledge'!G39+'Specific Measures'!K39+'Emergency Readiness'!Z39+'Isolation Capacity'!I39+'Stakeholder Coordination'!F39+'Logistics Coordination'!G39+'Risk Communication'!I39+'Public Health'!G39)/LUTs!$B$1","v":{"$error":"#N/A"}},{"$error":"#N/A"},{"$f":"VLOOKUP(I39,LUTs!A$13:D$17,2)","v":{"$error":"#N/A"}}]
[{"$f":"IF(ISBLANK(Responses!A40), \"\", Responses!A40)","v":""},{"$f":"IF(ISBLANK(Responses!B40), \"\", Responses!B40)","v":""},{"$f":"IF(ISBLANK(Responses!BI40), \"\", Responses!BI40)","v":""},null,null,false,{"$f":"IF(ISBLANK('Risk Rating'!K40), \"\", 'Risk Rating'!K40)","v":0},{"$f":"('Staff Knowledge'!G40+'Specific Measures'!K40+'Emergency Readiness'!Z40+'Isolation Capacity'!I40+'Stakeholder Coordination'!F40+'Logistics Coordination'!G40+'Risk Communication'!I40+'Public Health'!G40)/LUTs!$B$1","v":{"$error":"#N/A"}},{"$error":"#N/A"},{"$f":"VLOOKUP(I40,LUTs!A$13:D$17,2)","v":{"$error":"#N/A"}}]
[{"$f":"IF(ISBLANK(Responses!A41), \"\", Responses!A41)","v":""},{"$f":"IF(ISBLANK(Responses!B41), \"\", Responses!B41)","v":""},{"$f":"IF(ISBLANK(Responses!BI41), \"\", Responses!BI41)","v":""},null,null,false,{"$f":"IF(ISBLANK('Risk Rating'!K41), \"\", 'Risk Rating'!K41)","v":0},{"$f":"('Staff Knowledge'!G41+'Specific Measures'!K41+'Emergency Readiness'!Z41+'Isolation Capacity'!I41+'Stakeholder Coordination'!F41+'Logistics Coordination'!G41+'Risk Communication'!I41+'Public Health'!G41)/LUTs!$B$1","v":{"$error":"#N/A"}},{"$error":"#N/A"},{"$f":"VLOOKUP(I41,LUTs!A$13:D$17,2)","v":{"$error":"#N/A"}}]
[{"$f":"IF(ISBLANK(Responses!A42), \"\", Responses!A42)","v":""},{"$f":"IF(ISBLANK(Responses!B42), \"\", Responses!B42)","v":""},{"$f":"IF(ISBLANK(Responses!BI42), \"\", Responses!BI42)","v":""},null,null,false,{"$f":"IF(ISBLANK('Risk Rating'!K42), \"\", 'Risk Rating'!K42)","v":0},{"$f":"('Staff Knowledge'!G42+'Specific Measures'!K42+'Emergency Readiness'!Z42+'Isolation Capacity'!I42+'Stakeholder Coordination'!F42+'Logistics Coordination'!G42+'Risk Communication'!I42+'Public Health'!G42)/LUTs!$B$1","v":{"$error":"#N/A"}},{"$error":"#N/A"},{"$f":"VLOOKUP(I42,LUTs!A$13:D$17,2)","v":{"$error":"#N/A"}}]
[{"$f":"IF(ISBLANK(Responses!A43), \"\", Responses!A43)","v":""},{"$f":"IF(ISBLANK(Responses!B43), \"\", Responses!B43)","v":""},{"$f":"IF(ISBLANK(Responses!BI43), \"\", Responses!BI43)","v":""},null,null,false,{"$f":"IF(ISBLANK('Risk Rating'!K43), \"\", 'Risk Rating'!K43)","v":0},{"$f":"('Staff Knowledge'!G43+'Specific Measures'!K43+'Emergency Readiness'!Z43+'Isolation Capacity'!I43+'Stakeholder Coordination'!F43+'Logistics Coordination'!G43+'Risk Communication'!I43+'Public Health'!G43)/LUTs!$B$1","v":{"$error":"#N/A"}},{"$error":"#N/A"},{"$f":"VLOOKUP(I43,LUTs!A$13:D$17,2)","v":{"$error":"#N/A"}}]
[{"$f":"IF(ISBLANK(Responses!A44), \"\", Responses!A44)","v":""},{"$f":"IF(ISBLANK(Responses!B44), \"\", Responses!B44)","v":""},{"$f":"IF(ISBLANK(Responses!BI44), \"\", Responses!BI44)","v":""},null,null,false,{"$f":"IF(ISBLANK('Risk Rating'!K44), \"\", 'Risk Rating'!K44)","v":0},{"$f":"('Staff Knowledge'!G44+'Specific Measures'!K44+'Emergency Readiness'!Z44+'Isolation Capacity'!I44+'Stakeholder Coordination'!F44+'Logistics Coordination'!G44+'Risk Communication'!I44+'Public Health'!G44)/LUTs!$B$1","v":{"$error":"#N/A"}},{"$error":"#N/A"},{"$f":"VLOOKUP(I44,LUTs!A$13:D$17,2)","v":{"$error":"#N/A"}}]
[{"$f":"IF(ISBLANK(Responses!A45), \"\", Responses!A45)","v":""},{"$f":"IF(ISBLANK(Responses!B45), \"\", Responses!B45)","v":""},{"$f":"IF(ISBLANK(Responses!BI45), \"\", Responses!BI45)","v":""},null,null,false,{"$f":"IF(ISBLANK('Risk Rating'!K45), \"\", 'Risk Rating'!K45)","v":0},{"$f":"('Staff Knowledge'!G45+'Specific Measures'!K45+'Emergency Readiness'!Z45+'Isolation Capacity'!I45+'Stakeholder Coordination'!F45+'Logistics Coordination'!G45+'Risk Communication'!I45+'Public Health'!G45)/LUTs!$B$1","v":{"$error":"#N/A"}},{"$error":"#N/A"},{"$f":"VLOOKUP(I45,LUTs!A$13:D$17,2)","v":{"$error":"#N/A"}}]
[{"$f":"IF(ISBLANK(Responses!A46), \"\", Responses!A46)","v":""},{"$f":"IF(ISBLANK(Responses!B46), \"\", Responses!B46)","v":""},{"$f":"IF(ISBLANK(Responses!BI46), \"\", Responses!BI46)","v":""},null,null,false,{"$f":"IF(ISBLANK('Risk Rating'!K46), \"\", 'Risk Rating'!K46)","v":0},{"$f":"('Staff Knowledge'!G46+'Specific Measures'!K46+'Emergency Readiness'!Z46+'Isolation Capacity'!I46+'Stakeholder Coordination'!F46+'Logistics Coordination'!G46+'Risk Communication'!I46+'Public Health'!G46)/LUTs!$B$1","v":{"$error":"#N/A"}},{"$error":"#N/A"},{"$f":"VLOOKUP(I46,LUTs!A$13:D$17,2)","v":{"$error":"#N/A"}}]
[{"$f":"IF(ISBLANK(Responses!A47), \"\", Responses!A47)","v":""},{"$f":"IF(ISBLANK(Responses!B47), \"\", Responses!B47)","v":""},{"$f":"IF(ISBLANK(Responses!BI47), \"\", Responses!BI47)","v":""},null,null,false,{"$f":"IF(ISBLANK('Risk Rating'!K47), \"\", 'Risk Rating'!K47)","v":0},{"$f":"('Staff Knowledge'!G47+'Specific Measures'!K47+'Emergency Readiness'!Z47+'Isolation Capacity'!I47+'Stakeholder Coordination'!F47+'Logistics Coordination'!G47+'Risk Communication'!I47+'Public Health'!G47)/LUTs!$B$1","v":{"$error":"#N/A"}},{"$error":"#N/A"},{"$f":"VLOOKUP(I47,LUTs!A$13:D$17,2)","v":{"$error":"#N/A"}}]
[{"$f":"IF(ISBLANK(Responses!A48), \"\", Responses!A48)","v":""},{"$f":"IF(ISBLANK(Responses!B48), \"\", Responses!B48)","v":""},{"$f":"IF(ISBLANK(Responses!BI48), \"\", Responses!BI48)","v":""},null,null,false,{"$f":"IF(ISBLANK('Risk Rating'!K48), \"\", 'Risk Rating'!K48)","v":0},{"$f":"('Staff Knowledge'!G48+'Specific Measures'!K48+'Emergency Readiness'!Z48+'Isolation Capacity'!I48+'Stakeholder Coordination'!F48+'Logistics Coordination'!G48+'Risk Communication'!I48+'Public Health'!G48)/LUTs!$B$1","v":{"$error":"#N/A"}},{"$error":"#N/A"},{"$f":"VLOOKUP(I48,LUTs!A$13:D$17,2)","v":{"$error":"#N/A"}}]
[{"$f":"IF(ISBLANK(Responses!A49), \"\", Responses!A49)","v":""},{"$f":"IF(ISBLANK(Responses!B49), \"\", Responses!B49)","v":""},{"$f":"IF(ISBLANK(Responses!BI49), \"\", Responses!BI49)","v":""},null,null,false,{"$f":"IF(ISBLANK('Risk Rating'!K49), \"\", 'Risk Rating'!K49)","v":0},{"$f":"('Staff Knowledge'!G49+'Specific Measures'!K49+'Emergency Readiness'!Z49+'Isolation Capacity'!I49+'Stakeholder Coordination'!F49+'Logistics Coordination'!G49+'Risk Communication'!I49+'Public Health'!G49)/LUTs!$B$1","v":{"$error":"#N/A"}},{"$error":"#N/A"},{"$f":"VLOOKUP(I49,LUTs!A$13:D$17,2)","v":{"$error":"#N/A"}}]
[{"$f":"IF(ISBLANK(Responses!A50), \"\", Responses!A50)","v":""},{"$f":"IF(ISBLANK(Responses!B50), \"\", Responses!B50)","v":""},{"$f":"IF(ISBLANK(Responses!BI50), \"\", Responses!BI50)","v":""},null,null,false,{"$f":"IF(ISBLANK('Risk Rating'!K50), \"\", 'Risk Rating'!K50)","v":0},{"$f":"('Staff Knowledge'!G50+'Specific Measures'!K50+'Emergency Readiness'!Z50+'Isolation Capacity'!I50+'Stakeholder Coordination'!F50+'Logistics Coordination'!G50+'Risk Communication'!I50+'Public Health'!G50)/LUTs!$B$1","v":{"$error":"#N/A"}},{"$error":"#N/A"},{"$f":"VLOOKUP(I50,LUTs!A$13:D$17,2)","v":{"$error":"#N/A"}}]
[{"$f":"IF(ISBLANK(Responses!A51), \"\", Responses!A51)","v":""},{"$f":"IF(ISBLANK(Responses!B51), \"\", Responses!B51)","v":""},{"$f":"IF(ISBLANK(Responses!BI51), \"\", Responses!BI51)","v":""},null,null,false,{"$f":"IF(ISBLANK('Risk Rating'!K51), \"\", 'Risk Rating'!K51)","v":0},{"$f":"('Staff Knowledge'!G51+'Specific Measures'!K51+'Emergency Readiness'!Z51+'Isolation Capacity'!I51+'Stakeholder Coordination'!F51+'Logistics Coordination'!G51+'Risk Communication'!I51+'Public Health'!G51)/LUTs!$B$1","v":{"$error":"#N/A"}},{"$error":"#N/A"},{"$f":"VLOOKUP(I51,LUTs!A$13:D$17,2)","v":{"$error":"#N/A"}}]
[{"$f":"IF(ISBLANK(Responses!A52), \"\", Responses!A52)","v":""},{"$f":"IF(ISBLANK(Responses!B52), \"\", Responses!B52)","v":""},{"$f":"IF(ISBLANK(Responses!BI52), \"\", Responses!BI52)","v":""},null,null,false,{"$f":"IF(ISBLANK('Risk Rating'!K52), \"\", 'Risk Rating'!K52)","v":0},{"$f":"('Staff Knowledge'!G52+'Specific Measures'!K52+'Emergency Readiness'!Z52+'Isolation Capacity'!I52+'Stakeholder Coordination'!F52+'Logistics Coordination'!G52+'Risk Communication'!I52+'Public Health'!G52)/LUTs!$B$1","v":{"$error":"#N/A"}},{"$error":"#N/A"},{"$f":"VLOOKUP(I52,LUTs!A$13:D$17,2)","v":{"$error":"#N/A"}}]
[{"$f":"IF(ISBLANK(Responses!A53), \"\", Responses!A53)","v":""},{"$f":"IF(ISBLANK(Responses!B53), \"\", Responses!B53)","v":""},{"$f":"IF(ISBLANK(Responses!BI53), \"\", Responses!BI53)","v":""},null,null,false,{"$f":"IF(ISBLANK('Risk Rating'!K53), \"\", 'Risk Rating'!K53)","v":0},{"$f":"('Staff Knowledge'!G53+'Specific Measures'!K53+'Emergency Readiness'!Z53+'Isolation Capacity'!I53+'Stakeholder Coordination'!F53+'Logistics Coordination'!G53+'Risk Communication'!I53+'Public Health'!G53)/LUTs!$B$1","v":{"$error":"#N/A"}},{"$error":"#N/A"},{"$f":"VLOOKUP(I53,LUTs!A$13:D$17,2)","v":{"$error":"#N/A"}}]
[{"$f":"IF(ISBLANK(Responses!A54), \"\", Responses!A54)","v":""},{"$f":"IF(ISBLANK(Responses!B54), \"\", Responses!B54)","v":""},{"$f":"IF(ISBLANK(Responses!BI54), \"\", Responses!BI54)","v":""},null,null,false,{"$f":"IF(ISBLANK('Risk Rating'!K54), \"\", 'Risk Rating'!K54)","v":0},{"$f":"('Staff Knowledge'!G54+'Specific Measures'!K54+'Emergency Readiness'!Z54+'Isolation Capacity'!I54+'Stakeholder Coordination'!F54+'Logistics Coordination'!G54+'Risk Communication'!I54+'Public Health'!G54)/LUTs!$B$1","v":{"$error":"#N/A"}},{"$error":"#N/A"},{"$f":"VLOOKUP(I54,LUTs!A$13:D$17,2)","v":{"$error":"#N/A"}}]
[{"$f":"IF(ISBLANK(Responses!A55), \"\", Responses!A55)","v":""},{"$f":"IF(ISBLANK(Responses!B55), \"\", Responses!B55)","v":""},{"$f":"IF(ISBLANK(Responses!BI55), \"\", Responses!BI55)","v":""},null,null,false,{"$f":"IF(ISBLANK('Risk Rating'!K55), \"\", 'Risk Rating'!K55)","v":0},{"$f":"('Staff Knowledge'!G55+'Specific Measures'!K55+'Emergency Readiness'!Z55+'Isolation Capacity'!I55+'Stakeholder Coordination'!F55+'Logistics Coordination'!G55+'Risk Communication'!I55+'Public Health'!G55)/LUTs!$B$1","v":{"$error":"#N/A"}},{"$error":"#N/A"},{"$f":"VLOOKUP(I55,LUTs!A$13:D$17,2)","v":{"$error":"#N/A"}}]
[{"$f":"IF(ISBLANK(Responses!A56), \"\", Responses!A56)","v":""},{"$f":"IF(ISBLANK(Responses!B56), \"\", Responses!B56)","v":""},{"$f":"IF(ISBLANK(Responses!BI56), \"\", Responses!BI56)","v":""},null,null,false,{"$f":"IF(ISBLANK('Risk Rating'!K56), \"\", 'Risk Rating'!K56)","v":0},{"$f":"('Staff Knowledge'!G56+'Specific Measures'!K56+'Emergency Readiness'!Z56+'Isolation Capacity'!I56+'Stakeholder Coordination'!F56+'Logistics Coordination'!G56+'Risk Communication'!I56+'Public Health'!G56)/LUTs!$B$1","v":{"$error":"#N/A"}},{"$error":"#N/A"},{"$f":"VLOOKUP(I56,LUTs!A$13:D$17,2)","v":{"$error":"#N/A"}}]
[{"$f":"IF(ISBLANK(Responses!A57), \"\", Responses!A57)","v":""},{"$f":"IF(ISBLANK(Responses!B57), \"\", Responses!B57)","v":""},{"$f":"IF(ISBLANK(Responses!BI57), \"\", Responses!BI57)","v":""},null,null,false,{"$f":"IF(ISBLANK('Risk Rating'!K57), \"\", 'Risk Rating'!K57)","v":0},{"$f":"('Staff Knowledge'!G57+'Specific Measures'!K57+'Emergency Readiness'!Z57+'Isolation Capacity'!I57+'Stakeholder Coordination'!F57+'Logistics Coordination'!G57+'Risk Communication'!I57+'Public Health'!G57)/LUTs!$B$1","v":{"$error":"#N/A"}},{"$error":"#N/A"},{"$f":"VLOOKUP(I57,LUTs!A$13:D$17,2)","v":{"$error":"#N/A"}}]
[{"$f":"IF(ISBLANK(Responses!A58), \"\", Responses!A58)","v":""},{"$f":"IF(ISBLANK(Responses!B58), \"\", Responses!B58)","v":""},{"$f":"IF(ISBLANK(Responses!BI58), \"\", Responses!BI58)","v":""},null,null,false,{"$f":"IF(ISBLANK('Risk Rating'!K58), \"\", 'Risk Rating'!K58)","v":0},{"$f":"('Staff Knowledge'!G58+'Specific Measures'!K58+'Emergency Readiness'!Z58+'Isolation Capacity'!I58+'Stakeholder Coordination'!F58+'Logistics Coordination'!G58+'Risk Communication'!I58+'Public Health'!G58)/LUTs!$B$1","v":{"$error":"#N/A"}},{"$error":"#N/A"},{"$f":"VLOOKUP(I58,LUTs!A$13:D$17,2)","v":{"$error":"#N/A"}}]
[{"$f":"IF(ISBLANK(Responses!A59), \"\", Responses!A59)","v":""},{"$f":"IF(ISBLANK(Responses!B59), \"\", Responses!B59)","v":""},{"$f":"IF(ISBLANK(Responses!BI59), \"\", Responses!BI59)","v":""},null,null,false,{"$f":"IF(ISBLANK('Risk Rating'!K59), \"\", 'Risk Rating'!K59)","v":0},{"$f":"('Staff Knowledge'!G59+'Specific Measures'!K59+'Emergency Readiness'!Z59+'Isolation Capacity'!I59+'Stakeholder Coordination'!F59+'Logistics Coordination'!G59+'Risk Communication'!I59+'Public Health'!G59)/LUTs!$B$1","v":{"$error":"#N/A"}},{"$error":"#N/A"},{"$f":"VLOOKUP(I59,LUTs!A$13:D$17,2)","v":{"$error":"#N/A"}}]
[{"$f":"IF(ISBLANK(Responses!A60), \"\", Responses!A60)","v":""},{"$f":"IF(ISBLANK(Responses!B60), \"\", Responses!B60)","v":""},{"$f":"IF(ISBLANK(Responses!BI60), \"\", Responses!BI60)","v":""},null,null,false,{"$f":"IF(ISBLANK('Risk Rating'!K60), \"\", 'Risk Rating'!K60)","v":0},{"$f":"('Staff Knowledge'!G60+'Specific Measures'!K60+'Emergency Readiness'!Z60+'Isolation Capacity'!I60+'Stakeholder Coordination'!F60+'Logistics Coordination'!G60+'Risk Communication'!I60+'Public Health'!G60)/LUTs!$B$1","v":{"$error":"#N/A"}},{"$error":"#N/A"},{"$f":"VLOOKUP(I60,LUTs!A$13:D$17,2)","v":{"$error":"#N/A"}}]
[{"$f":"IF(ISBLANK(Responses!A61), \"\", Responses!A61)","v":""},{"$f":"IF(ISBLANK(Responses!B61), \"\", Responses!B61)","v":""},{"$f":"IF(ISBLANK(Responses!BI61), \"\", Responses!BI61)","v":""},null,null,false,{"$f":"IF(ISBLANK('Risk Rating'!K61), \"\", 'Risk Rating'!K61)","v":0},{"$f":"('Staff Knowledge'!G61+'Specific Measures'!K61+'Emergency Readiness'!Z61+'Isolation Capacity'!I61+'Stakeholder Coordination'!F61+'Logistics Coordination'!G61+'Risk Communication'!I61+'Public Health'!G61)/LUTs!$B$1","v":{"$error":"#N/A"}},{"$error":"#N/A"},{"$f":"VLOOKUP(I61,LUTs!A$13:D$17,2)","v":{"$error":"#N/A"}}]
[{"$f":"IF(ISBLANK(Responses!A62), \"\", Responses!A62)","v":""},{"$f":"IF(ISBLANK(Responses!B62), \"\", Responses!B62)","v":""},{"$f":"IF(ISBLANK(Responses!BI62), \"\", Responses!BI62)","v":""},null,null,false,{"$f":"IF(ISBLANK('Risk Rating'!K62), \"\", 'Risk Rating'!K62)","v":0},{"$f":"('Staff Knowledge'!G62+'Specific Measures'!K62+'Emergency Readiness'!Z62+'Isolation Capacity'!I62+'Stakeholder Coordination'!F62+'Logistics Coordination'!G62+'Risk Communication'!I62+'Public Health'!G62)/LUTs!$B$1","v":{"$error":"#N/A"}},{"$error":"#N/A"},{"$f":"VLOOKUP(I62,LUTs!A$13:D$17,2)","v":{"$error":"#N/A"}}]
[{"$f":"IF(ISBLANK(Responses!A63), \"\", Responses!A63)","v":""},{"$f":"IF(ISBLANK(Responses!B63), \"\", Responses!B63)","v":""},{"$f":"IF(ISBLANK(Responses!BI63), \"\", Responses!BI63)","v":""},null,null,false,{"$f":"IF(ISBLANK('Risk Rating'!K63), \"\", 'Risk Rating'!K63)","v":0},{"$f":"('Staff Knowledge'!G63+'Specific Measures'!K63+'Emergency Readiness'!Z63+'Isolation Capacity'!I63+'Stakeholder Coordination'!F63+'Logistics Coordination'!G63+'Risk Communication'!I63+'Public Health'!G63)/LUTs!$B$1","v":{"$error":"#N/A"}},{"$error":"#N/A"},{"$f":"VLOOKUP(I63,LUTs!A$13:D$17,2)","v":{"$error":"#N/A"}}]
[{"$f":"IF(ISBLANK(Responses!A64), \"\", Responses!A64)","v":""},{"$f":"IF(ISBLANK(Responses!B64), \"\", Responses!B64)","v":""},{"$f":"IF(ISBLANK(Responses!BI64), \"\", Responses!BI64)","v":""},null,null,false,{"$f":"IF(ISBLANK('Risk Rating'!K64), \"\", 'Risk Rating'!K64)","v":0},{"$f":"('Staff Knowledge'!G64+'Specific Measures'!K64+'Emergency Readiness'!Z64+'Isolation Capacity'!I64+'Stakeholder Coordination'!F64+'Logistics Coordination'!G64+'Risk Communication'!I64+'Public Health'!G64)/LUTs!$B$1","v":{"$error":"#N/A"}},{"$error":"#N/A"},{"$f":"VLOOKUP(I64,LUTs!A$13:D$17,2)","v":{"$error":"#N/A"}}]
[{"$f":"IF(ISBLANK(Responses!A65), \"\", Responses!A65)","v":""},{"$f":"IF(ISBLANK(Responses!B65), \"\", Responses!B65)","v":""},{"$f":"IF(ISBLANK(Responses!BI65), \"\", Responses!BI65)","v":""},null,null,false,{"$f":"IF(ISBLANK('Risk Rating'!K65), \"\", 'Risk Rating'!K65)","v":0},{"$f":"('Staff Knowledge'!G65+'Specific Measures'!K65+'Emergency Readiness'!Z65+'Isolation Capacity'!I65+'Stakeholder Coordination'!F65+'Logistics Coordination'!G65+'Risk Communication'!I65+'Public Health'!G65)/LUTs!$B$1","v":{"$error":"#N/A"}},{"$error":"#N/A"},{"$f":"VLOOKUP(I65,LUTs!A$13:D$17,2)","v":{"$error":"#N/A"}}]
[{"$f":"IF(ISBLANK(Responses!A66), \"\", Responses!A66)","v":""},{"$f":"IF(ISBLANK(Responses!B66), \"\", Responses!B66)","v":""},{"$f":"IF(ISBLANK(Responses!BI66), \"\", Responses!BI66)","v":""},null,null,false,{"$f":"IF(ISBLANK('Risk Rating'!K66), \"\", 'Risk Rating'!K66)","v":0},{"$f":"('Staff Knowledge'!G66+'Specific Measures'!K66+'Emergency Readiness'!Z66+'Isolation Capacity'!I66+'Stakeholder Coordination'!F66+'Logistics Coordination'!G66+'Risk Communication'!I66+'Public Health'!G66)/LUTs!$B$1","v":{"$error":"#N/A"}},{"$error":"#N/A"},{"$f":"VLOOKUP(I66,LUTs!A$13:D$17,2)","v":{"$error":"#N/A"}}]
[{"$f":"IF(ISBLANK(Responses!A67), \"\", Responses!A67)","v":""},{"$f":"IF(ISBLANK(Responses!B67), \"\", Responses!B67)","v":""},{"$f":"IF(ISBLANK(Responses!BI67), \"\", Responses!BI67)","v":""},null,null,false,{"$f":"IF(ISBLANK('Risk Rating'!K67), \"\", 'Risk Rating'!K67)","v":0},{"$f":"('Staff Knowledge'!G67+'Specific Measures'!K67+'Emergency Readiness'!Z67+'Isolation Capacity'!I67+'Stakeholder Coordination'!F67+'Logistics Coordination'!G67+'Risk Communication'!I67+'Public Health'!G67)/LUTs!$B$1","v":{"$error":"#N/A"}},{"$error":"#N/A"},{"$f":"VLOOKUP(I67,LUTs!A$13:D$17,2)","v":{"$error":"#N/A"}}]
[{"$f":"IF(ISBLANK(Responses!A68), \"\", Responses!A68)","v":""},{"$f":"IF(ISBLANK(Responses!B68), \"\", Responses!B68)","v":""},{"$f":"IF(ISBLANK(Responses!BI68), \"\", Responses!BI68)","v":""},null,null,false,{"$f":"IF(ISBLANK('Risk Rating'!K68), \"\", 'Risk Rating'!K68)","v":0},{"$f":"('Staff Knowledge'!G68+'Specific Measures'!K68+'Emergency Readiness'!Z68+'Isolation Capacity'!I68+'Stakeholder Coordination'!F68+'Logistics Coordination'!G68+'Risk Communication'!I68+'Public Health'!G68)/LUTs!$B$1","v":{"$error":"#N/A"}},{"$error":"#N/A"},{"$f":"VLOOKUP(I68,LUTs!A$13:D$17,2)","v":{"$error":"#N/A"}}]
[{"$f":"IF(ISBLANK(Responses!A69), \"\", Responses!A69)","v":""},{"$f":"IF(ISBLANK(Responses!B69), \"\", Responses!B69)","v":""},{"$f":"IF(ISBLANK(Responses!BI69), \"\", Responses!BI69)","v":""},null,null,false,{"$f":"IF(ISBLANK('Risk Rating'!K69), \"\", 'Risk Rating'!K69)","v":0},{"$f":"('Staff Knowledge'!G69+'Specific Measures'!K69+'Emergency Readiness'!Z69+'Isolation Capacity'!I69+'Stakeholder Coordination'!F69+'Logistics Coordination'!G69+'Risk Communication'!I69+'Public Health'!G69)/LUTs!$B$1","v":{"$error":"#N/A"}},{"$error":"#N/A"},{"$f":"VLOOKUP(I69,LUTs!A$13:D$17,2)","v":{"$error":"#N/A"}}]
[{"$f":"IF(ISBLANK(Responses!A70), \"\", Responses!A70)","v":""},{"$f":"IF(ISBLANK(Responses!B70), \"\", Responses!B70)","v":""},{"$f":"IF(ISBLANK(Responses!BI70), \"\", Responses!BI70)","v":""},null,null,false,{"$f":"IF(ISBLANK('Risk Rating'!K70), \"\", 'Risk Rating'!K70)","v":0},{"$f":"('Staff Knowledge'!G70+'Specific Measures'!K70+'Emergency Readiness'!Z70+'Isolation Capacity'!I70+'Stakeholder Coordination'!F70+'Logistics Coordination'!G70+'Risk Communication'!I70+'Public Health'!G70)/LUTs!$B$1","v":{"$error":"#N/A"}},{"$error":"#N/A"},{"$f":"VLOOKUP(I70,LUTs!A$13:D$17,2)","v":{"$error":"#N/A"}}]
[{"$f":"IF(ISBLANK(Responses!A71), \"\", Responses!A71)","v":""},{"$f":"IF(ISBLANK(Responses!B71), \"\", Responses!B71)","v":""},{"$f":"IF(ISBLANK(Responses!BI71), \"\", Responses!BI71)","v":""},null,null,false,{"$f":"IF(ISBLANK('Risk Rating'!K71), \"\", 'Risk Rating'!K71)","v":0},{"$f":"('Staff Knowledge'!G71+'Specific Measures'!K71+'Emergency Readiness'!Z71+'Isolation Capacity'!I71+'Stakeholder Coordination'!F71+'Logistics Coordination'!G71+'Risk Communication'!I71+'Public Health'!G71)/LUTs!$B$1","v":{"$error":"#N/A"}},{"$error":"#N/A"},{"$f":"VLOOKUP(I71,LUTs!A$13:D$17,2)","v":{"$error":"#N/A"}}]
[{"$f":"IF(ISBLANK(Responses!A72), \"\", Responses!A72)","v":""},{"$f":"IF(ISBLANK(Responses!B72), \"\", Responses!B72)","v":""},{"$f":"IF(ISBLANK(Responses!BI72), \"\", Responses!BI72)","v":""},null,null,false,{"$f":"IF(ISBLANK('Risk Rating'!K72), \"\", 'Risk Rating'!K72)","v":0},{"$f":"('Staff Knowledge'!G72+'Specific Measures'!K72+'Emergency Readiness'!Z72+'Isolation Capacity'!I72+'Stakeholder Coordination'!F72+'Logistics Coordination'!G72+'Risk Communication'!I72+'Public Health'!G72)/LUTs!$B$1","v":{"$error":"#N/A"}},{"$error":"#N/A"},{"$f":"VLOOKUP(I72,LUTs!A$13:D$17,2)","v":{"$error":"#N/A"}}]
[{"$f":"IF(ISBLANK(Responses!A73), \"\", Responses!A73)","v":""},{"$f":"IF(ISBLANK(Responses!B73), \"\", Responses!B73)","v":""},{"$f":"IF(ISBLANK(Responses!BI73), \"\", Responses!BI73)","v":""},null,null,false,{"$f":"IF(ISBLANK('Risk Rating'!K73), \"\", 'Risk Rating'!K73)","v":0},{"$f":"('Staff Knowledge'!G73+'Specific Measures'!K73+'Emergency Readiness'!Z73+'Isolation Capacity'!I73+'Stakeholder Coordination'!F73+'Logistics Coordination'!G73+'Risk Communication'!I73+'Public Health'!G73)/LUTs!$B$1","v":{"$error":"#N/A"}},{"$error":"#N/A"},{"$f":"VLOOKUP(I73,LUTs!A$13:D$17,2)","v":{"$error":"#N/A"}}]
[{"$f":"IF(ISBLANK(Responses!A74), \"\", Responses!A74)","v":""},{"$f":"IF(ISBLANK(Responses!B74), \"\", Responses!B74)","v":""},{"$f":"IF(ISBLANK(Responses!BI74), \"\", Responses!BI74)","v":""},null,null,false,{"$f":"IF(ISBLANK('Risk Rating'!K74), \"\", 'Risk Rating'!K74)","v":0},{"$f":"('Staff Knowledge'!G74+'Specific Measures'!K74+'Emergency Readiness'!Z74+'Isolation Capacity'!I74+'Stakeholder Coordination'!F74+'Logistics Coordination'!G74+'Risk Communication'!I74+'Public Health'!G74)/LUTs!$B$1","v":{"$error":"#N/A"}},{"$error":"#N/A"},{"$f":"VLOOKUP(I74,LUTs!A$13:D$17,2)","v":{"$error":"#N/A"}}]
[{"$f":"IF(ISBLANK(Responses!A75), \"\", Responses!A75)","v":""},{"$f":"IF(ISBLANK(Responses!B75), \"\", Responses!B75)","v":""},{"$f":"IF(ISBLANK(Responses!BI75), \"\", Responses!BI75)","v":""},null,null,false,{"$f":"IF(ISBLANK('Risk Rating'!K75), \"\", 'Risk Rating'!K75)","v":0},{"$f":"('Staff Knowledge'!G75+'Specific Measures'!K75+'Emergency Readiness'!Z75+'Isolation Capacity'!I75+'Stakeholder Coordination'!F75+'Logistics Coordination'!G75+'Risk Communication'!I75+'Public Health'!G75)/LUTs!$B$1","v":{"$error":"#N/A"}},{"$error":"#N/A"},{"$f":"VLOOKUP(I75,LUTs!A$13:D$17,2)","v":{"$error":"#N/A"}}]
[{"$f":"IF(ISBLANK(Responses!A76), \"\", Responses!A76)","v":""},{"$f":"IF(ISBLANK(Responses!B76), \"\", Responses!B76)","v":""},{"$f":"IF(ISBLANK(Responses!BI76), \"\", Responses!BI76)","v":""},null,null,false,{"$f":"IF(ISBLANK('Risk Rating'!K76), \"\", 'Risk Rating'!K76)","v":0},{"$f":"('Staff Knowledge'!G76+'Specific Measures'!K76+'Emergency Readiness'!Z76+'Isolation Capacity'!I76+'Stakeholder Coordination'!F76+'Logistics Coordination'!G76+'Risk Communication'!I76+'Public Health'!G76)/LUTs!$B$1","v":{"$error":"#N/A"}},{"$error":"#N/A"},{"$f":"VLOOKUP(I76,LUTs!A$13:D$17,2)","v":{"$error":"#N/A"}}]
[{"$f":"IF(ISBLANK(Responses!A77), \"\", Responses!A77)","v":""},{"$f":"IF(ISBLANK(Responses!B77), \"\", Responses!B77)","v":""},{"$f":"IF(ISBLANK(Responses!BI77), \"\", Responses!BI77)","v":""},null,null,false,{"$f":"IF(ISBLANK('Risk Rating'!K77), \"\", 'Risk Rating'!K77)","v":0},{"$f":"('Staff Knowledge'!G77+'Specific Measures'!K77+'Emergency Readiness'!Z77+'Isolation Capacity'!I77+'Stakeholder Coordination'!F77+'Logistics Coordination'!G77+'Risk Communication'!I77+'Public Health'!G77)/LUTs!$B$1","v":{"$error":"#N/A"}},{"$error":"#N/A"},{"$f":"VLOOKUP(I77,LUTs!A$13:D$17,2)","v":{"$error":"#N/A"}}]
[{"$f":"IF(ISBLANK(Responses!A78), \"\", Responses!A78)","v":""},{"$f":"IF(ISBLANK(Responses!B78), \"\", Responses!B78)","v":""},{"$f":"IF(ISBLANK(Responses!BI78), \"\", Responses!BI78)","v":""},null,null,false,{"$f":"IF(ISBLANK('Risk Rating'!K78), \"\", 'Risk Rating'!K78)","v":0},{"$f":"('Staff Knowledge'!G78+'Specific Measures'!K78+'Emergency Readiness'!Z78+'Isolation Capacity'!I78+'Stakeholder Coordination'!F78+'Logistics Coordination'!G78+'Risk Communication'!I78+'Public Health'!G78)/LUTs!$B$1","v":{"$error":"#N/A"}},{"$error":"#N/A"},{"$f":"VLOOKUP(I78,LUTs!A$13:D$17,2)","v":{"$error":"#N/A"}}]
[{"$f":"IF(ISBLANK(Responses!A79), \"\", Responses!A79)","v":""},{"$f":"IF(ISBLANK(Responses!B79), \"\", Responses!B79)","v":""},{"$f":"IF(ISBLANK(Responses!BI79), \"\", Responses!BI79)","v":""},null,null,false,{"$f":"IF(ISBLANK('Risk Rating'!K79), \"\", 'Risk Rating'!K79)","v":0},{"$f":"('Staff Knowledge'!G79+'Specific Measures'!K79+'Emergency Readiness'!Z79+'Isolation Capacity'!I79+'Stakeholder Coordination'!F79+'Logistics Coordination'!G79+'Risk Communication'!I79+'Public Health'!G79)/LUTs!$B$1","v":{"$error":"#N/A"}},{"$error":"#N/A"},{"$f":"VLOOKUP(I79,LUTs!A$13:D$17,2)","v":{"$error":"#N/A"}}]
[{"$f":"IF(ISBLANK(Responses!A80), \"\", Responses!A80)","v":""},{"$f":"IF(ISBLANK(Responses!B80), \"\", Responses!B80)","v":""},{"$f":"IF(ISBLANK(Responses!BI80), \"\", Responses!BI80)","v":""},null,null,false,{"$f":"IF(ISBLANK('Risk Rating'!K80), \"\", 'Risk Rating'!K80)","v":0},{"$f":"('Staff Knowledge'!G80+'Specific Measures'!K80+'Emergency Readiness'!Z80+'Isolation Capacity'!I80+'Stakeholder Coordination'!F80+'Logistics Coordination'!G80+'Risk Communication'!I80+'Public Health'!G80)/LUTs!$B$1","v":{"$error":"#N/A"}},{"$error":"#N/A"},{"$f":"VLOOKUP(I80,LUTs!A$13:D$17,2)","v":{"$error":"#N/A"}}]
[{"$f":"IF(ISBLANK(Responses!A81), \"\", Responses!A81)","v":""},{"$f":"IF(ISBLANK(Responses!B81), \"\", Responses!B81)","v":""},{"$f":"IF(ISBLANK(Responses!BI81), \"\", Responses!BI81)","v":""},null,null,false,{"$f":"IF(ISBLANK('Risk Rating'!K81), \"\", 'Risk Rating'!K81)","v":0},{"$f":"('Staff Knowledge'!G81+'Specific Measures'!K81+'Emergency Readiness'!Z81+'Isolation Capacity'!I81+'Stakeholder Coordination'!F81+'Logistics Coordination'!G81+'Risk Communication'!I81+'Public Health'!G81)/LUTs!$B$1","v":{"$error":"#N/A"}},{"$error":"#N/A"},{"$f":"VLOOKUP(I81,LUTs!A$13:D$17,2)","v":{"$error":"#N/A"}}]
[{"$f":"IF(ISBLANK(Responses!A82), \"\", Responses!A82)","v":""},{"$f":"IF(ISBLANK(Responses!B82), \"\", Responses!B82)","v":""},{"$f":"IF(ISBLANK(Responses!BI82), \"\", Responses!BI82)","v":""},null,null,false,{"$f":"IF(ISBLANK('Risk Rating'!K82), \"\", 'Risk Rating'!K82)","v":0},{"$f":"('Staff Knowledge'!G82+'Specific Measures'!K82+'Emergency Readiness'!Z82+'Isolation Capacity'!I82+'Stakeholder Coordination'!F82+'Logistics Coordination'!G82+'Risk Communication'!I82+'Public Health'!G82)/LUTs!$B$1","v":{"$error":"#N/A"}},{"$error":"#N/A"},{"$f":"VLOOKUP(I82,LUTs!A$13:D$17,2)","v":{"$error":"#N/A"}}]
[{"$f":"IF(ISBLANK(Responses!A83), \"\", Responses!A83)","v":""},{"$f":"IF(ISBLANK(Responses!B83), \"\", Responses!B83)","v":""},{"$f":"IF(ISBLANK(Responses!BI83), \"\", Responses!BI83)","v":""},null,null,false,{"$f":"IF(ISBLANK('Risk Rating'!K83), \"\", 'Risk Rating'!K83)","v":0},{"$f":"('Staff Knowledge'!G83+'Specific Measures'!K83+'Emergency Readiness'!Z83+'Isolation Capacity'!I83+'Stakeholder Coordination'!F83+'Logistics Coordination'!G83+'Risk Communication'!I83+'Public Health'!G83)/LUTs!$B$1","v":{"$error":"#N/A"}},{"$error":"#N/A"},{"$f":"VLOOKUP(I83,LUTs!A$13:D$17,2)","v":{"$error":"#N/A"}}]
[{"$f":"IF(ISBLANK(Responses!A84), \"\", Responses!A84)","v":""},{"$f":"IF(ISBLANK(Responses!B84), \"\", Responses!B84)","v":""},{"$f":"IF(ISBLANK(Responses!BI84), \"\", Responses!BI84)","v":""},null,null,false,{"$f":"IF(ISBLANK('Risk Rating'!K84), \"\", 'Risk Rating'!K84)","v":0},{"$f":"('Staff Knowledge'!G84+'Specific Measures'!K84+'Emergency Readiness'!Z84+'Isolation Capacity'!I84+'Stakeholder Coordination'!F84+'Logistics Coordination'!G84+'Risk Communication'!I84+'Public Health'!G84)/LUTs!$B$1","v":{"$error":"#N/A"}},{"$error":"#N/A"},{"$f":"VLOOKUP(I84,LUTs!A$13:D$17,2)","v":{"$error":"#N/A"}}]
[{"$f":"IF(ISBLANK(Responses!A85), \"\", Responses!A85)","v":""},{"$f":"IF(ISBLANK(Responses!B85), \"\", Responses!B85)","v":""},{"$f":"IF(ISBLANK(Responses!BI85), \"\", Responses!BI85)","v":""},null,null,false,{"$f":"IF(ISBLANK('Risk Rating'!K85), \"\", 'Risk Rating'!K85)","v":0},{"$f":"('Staff Knowledge'!G85+'Specific Measures'!K85+'Emergency Readiness'!Z85+'Isolation Capacity'!I85+'Stakeholder Coordination'!F85+'Logistics Coordination'!G85+'Risk Communication'!I85+'Public Health'!G85)/LUTs!$B$1","v":{"$error":"#N/A"}},{"$error":"#N/A"},{"$f":"VLOOKUP(I85,LUTs!A$13:D$17,2)","v":{"$error":"#N/A"}}]
[{"$f":"IF(ISBLANK(Responses!A86), \"\", Responses!A86)","v":""},{"$f":"IF(ISBLANK(Responses!B86), \"\", Responses!B86)","v":""},{"$f":"IF(ISBLANK(Responses!BI86), \"\", Responses!BI86)","v":""},null,null,false,{"$f":"IF(ISBLANK('Risk Rating'!K86), \"\", 'Risk Rating'!K86)","v":0},{"$f":"('Staff Knowledge'!G86+'Specific Measures'!K86+'Emergency Readiness'!Z86+'Isolation Capacity'!I86+'Stakeholder Coordination'!F86+'Logistics Coordination'!G86+'Risk Communication'!I86+'Public Health'!G86)/LUTs!$B$1","v":{"$error":"#N/A"}},{"$error":"#N/A"},{"$f":"VLOOKUP(I86,LUTs!A$13:D$17,2)","v":{"$error":"#N/A"}}]
[{"$f":"IF(ISBLANK(Responses!A87), \"\", Responses!A87)","v":""},{"$f":"IF(ISBLANK(Responses!B87), \"\", Responses!B87)","v":""},{"$f":"IF(ISBLANK(Responses!BI87), \"\", Responses!BI87)","v":""},null,null,false,{"$f":"IF(ISBLANK('Risk Rating'!K87), \"\", 'Risk Rating'!K87)","v":0},{"$f":"('Staff Knowledge'!G87+'Specific Measures'!K87+'Emergency Readiness'!Z87+'Isolation Capacity'!I87+'Stakeholder Coordination'!F87+'Logistics Coordination'!G87+'Risk Communication'!I87+'Public Health'!G87)/LUTs!$B$1","v":{"$error":"#N/A"}},{"$error":"#N/A"},{"$f":"VLOOKUP(I87,LUTs!A$13:D$17,2)","v":{"$error":"#N/A"}}]
[{"$f":"IF(ISBLANK(Responses!A88), \"\", Responses!A88)","v":""},{"$f":"IF(ISBLANK(Responses!B88), \"\", Responses!B88)","v":""},{"$f":"IF(ISBLANK(Responses!BI88), \"\", Responses!BI88)","v":""},null,null,false,{"$f":"IF(ISBLANK('Risk Rating'!K88), \"\", 'Risk Rating'!K88)","v":0},{"$f":"('Staff Knowledge'!G88+'Specific Measures'!K88+'Emergency Readiness'!Z88+'Isolation Capacity'!I88+'Stakeholder Coordination'!F88+'Logistics Coordination'!G88+'Risk Communication'!I88+'Public Health'!G88)/LUTs!$B$1","v":{"$error":"#N/A"}},{"$error":"#N/A"},{"$f":"VLOOKUP(I88,LUTs!A$13:D$17,2)","v":{"$error":"#N/A"}}]
[{"$f":"IF(ISBLANK(Responses!A89), \"\", Responses!A89)","v":""},{"$f":"IF(ISBLANK(Responses!B89), \"\", Responses!B89)","v":""},{"$f":"IF(ISBLANK(Responses!BI89), \"\", Responses!BI89)","v":""},null,null,false,{"$f":"IF(ISBLANK('Risk Rating'!K89), \"\", 'Risk Rating'!K89)","v":0},{"$f":"('Staff Knowledge'!G89+'Specific Measures'!K89+'Emergency Readiness'!Z89+'Isolation Capacity'!I89+'Stakeholder Coordination'!F89+'Logistics Coordination'!G89+'Risk Communication'!I89+'Public Health'!G89)/LUTs!$B$1","v":{"$error":"#N/A"}},{"$error":"#N/A"},{"$f":"VLOOKUP(I89,LUTs!A$13:D$17,2)","v":{"$error":"#N/A"}}]
[{"$f":"IF(ISBLANK(Responses!A90), \"\", Responses!A90)","v":""},{"$f":"IF(ISBLANK(Responses!B90), \"\", Responses!B90)","v":""},{"$f":"IF(ISBLANK(Responses!BI90), \"\", Responses!BI90)","v":""},null,null,false,{"$f":"IF(ISBLANK('Risk Rating'!K90), \"\", 'Risk Rating'!K90)","v":0},{"$f":"('Staff Knowledge'!G90+'Specific Measures'!K90+'Emergency Readiness'!Z90+'Isolation Capacity'!I90+'Stakeholder Coordination'!F90+'Logistics Coordination'!G90+'Risk Communication'!I90+'Public Health'!G90)/LUTs!$B$1","v":{"$error":"#N/A"}},{"$error":"#N/A"},{"$f":"VLOOKUP(I90,LUTs!A$13:D$17,2)","v":{"$error":"#N/A"}}]
[{"$f":"IF(ISBLANK(Responses!A91), \"\", Responses!A91)","v":""},{"$f":"IF(ISBLANK(Responses!B91), \"\", Responses!B91)","v":""},{"$f":"IF(ISBLANK(Responses!BI91), \"\", Responses!BI91)","v":""},null,null,false,{"$f":"IF(ISBLANK('Risk Rating'!K91), \"\", 'Risk Rating'!K91)","v":0},{"$f":"('Staff Knowledge'!G91+'Specific Measures'!K91+'Emergency Readiness'!Z91+'Isolation Capacity'!I91+'Stakeholder Coordination'!F91+'Logistics Coordination'!G91+'Risk Communication'!I91+'Public Health'!G91)/LUTs!$B$1","v":{"$error":"#N/A"}},{"$error":"#N/A"},{"$f":"VLOOKUP(I91,LUTs!A$13:D$17,2)","v":{"$error":"#N/A"}}]
[{"$f":"IF(ISBLANK(Responses!A92), \"\", Responses!A92)","v":""},{"$f":"IF(ISBLANK(Responses!B92), \"\", Responses!B92)","v":""},{"$f":"IF(ISBLANK(Responses!BI92), \"\", Responses!BI92)","v":""},null,null,false,{"$f":"IF(ISBLANK('Risk Rating'!K92), \"\", 'Risk Rating'!K92)","v":0},{"$f":"('Staff Knowledge'!G92+'Specific Measures'!K92+'Emergency Readiness'!Z92+'Isolation Capacity'!I92+'Stakeholder Coordination'!F92+'Logistics Coordination'!G92+'Risk Communication'!I92+'Public Health'!G92)/LUTs!$B$1","v":{"$error":"#N/A"}},{"$error":"#N/A"},{"$f":"VLOOKUP(I92,LUTs!A$13:D$17,2)","v":{"$error":"#N/A"}}]
[{"$f":"IF(ISBLANK(Responses!A93), \"\", Responses!A93)","v":""},{"$f":"IF(ISBLANK(Responses!B93), \"\", Responses!B93)","v":""},{"$f":"IF(ISBLANK(Responses!BI93), \"\", Responses!BI93)","v":""},null,null,false,{"$f":"IF(ISBLANK('Risk Rating'!K93), \"\", 'Risk Rating'!K93)","v":0},{"$f":"('Staff Knowledge'!G93+'Specific Measures'!K93+'Emergency Readiness'!Z93+'Isolation Capacity'!I93+'Stakeholder Coordination'!F93+'Logistics Coordination'!G93+'Risk Communication'!I93+'Public Health'!G93)/LUTs!$B$1","v":{"$error":"#N/A"}},{"$error":"#N/A"},{"$f":"VLOOKUP(I93,LUTs!A$13:D$17,2)","v":{"$error":"#N/A"}}]
[{"$f":"IF(ISBLANK(Responses!A94), \"\", Responses!A94)","v":""},{"$f":"IF(ISBLANK(Responses!B94), \"\", Responses!B94)","v":""},{"$f":"IF(ISBLANK(Responses!BI94), \"\", Responses!BI94)","v":""},null,null,false,{"$f":"IF(ISBLANK('Risk Rating'!K94), \"\", 'Risk Rating'!K94)","v":0},{"$f":"('Staff Knowledge'!G94+'Specific Measures'!K94+'Emergency Readiness'!Z94+'Isolation Capacity'!I94+'Stakeholder Coordination'!F94+'Logistics Coordination'!G94+'Risk Communication'!I94+'Public Health'!G94)/LUTs!$B$1","v":{"$error":"#N/A"}},{"$error":"#N/A"},{"$f":"VLOOKUP(I94,LUTs!A$13:D$17,2)","v":{"$error":"#N/A"}}]
[{"$f":"IF(ISBLANK(Responses!A95), \"\", Responses!A95)","v":""},{"$f":"IF(ISBLANK(Responses!B95), \"\", Responses!B95)","v":""},{"$f":"IF(ISBLANK(Responses!BI95), \"\", Responses!BI95)","v":""},null,null,false,{"$f":"IF(ISBLANK('Risk Rating'!K95), \"\", 'Risk Rating'!K95)","v":0},{"$f":"('Staff Knowledge'!G95+'Specific Measures'!K95+'Emergency Readiness'!Z95+'Isolation Capacity'!I95+'Stakeholder Coordination'!F95+'Logistics Coordination'!G95+'Risk Communication'!I95+'Public Health'!G95)/LUTs!$B$1","v":{"$error":"#N/A"}},{"$error":"#N/A"},{"$f":"VLOOKUP(I95,LUTs!A$13:D$17,2)","v":{"$error":"#N/A"}}]
[{"$f":"IF(ISBLANK(Responses!A96), \"\", Responses!A96)","v":""},{"$f":"IF(ISBLANK(Responses!B96), \"\", Responses!B96)","v":""},{"$f":"IF(ISBLANK(Responses!BI96), \"\", Responses!BI96)","v":""},null,null,false,{"$f":"IF(ISBLANK('Risk Rating'!K96), \"\", 'Risk Rating'!K96)","v":0},{"$f":"('Staff Knowledge'!G96+'Specific Measures'!K96+'Emergency Readiness'!Z96+'Isolation Capacity'!I96+'Stakeholder Coordination'!F96+'Logistics Coordination'!G96+'Risk Communication'!I96+'Public Health'!G96)/LUTs!$B$1","v":{"$error":"#N/A"}},{"$error":"#N/A"},{"$f":"VLOOKUP(I96,LUTs!A$13:D$17,2)","v":{"$error":"#N/A"}}]
[{"$f":"IF(ISBLANK(Responses!A97), \"\", Responses!A97)","v":""},{"$f":"IF(ISBLANK(Responses!B97), \"\", Responses!B97)","v":""},{"$f":"IF(ISBLANK(Responses!BI97), \"\", Responses!BI97)","v":""},null,null,false,{"$f":"IF(ISBLANK('Risk Rating'!K97), \"\", 'Risk Rating'!K97)","v":0},{"$f":"('Staff Knowledge'!G97+'Specific Measures'!K97+'Emergency Readiness'!Z97+'Isolation Capacity'!I97+'Stakeholder Coordination'!F97+'Logistics Coordination'!G97+'Risk Communication'!I97+'Public Health'!G97)/LUTs!$B$1","v":{"$error":"#N/A"}},{"$error":"#N/A"},{"$f":"VLOOKUP(I97,LUTs!A$13:D$17,2)","v":{"$error":"#N/A"}}]
[{"$f":"IF(ISBLANK(Responses!A98), \"\", Responses!A98)","v":""},{"$f":"IF(ISBLANK(Responses!B98), \"\", Responses!B98)","v":""},{"$f":"IF(ISBLANK(Responses!BI98), \"\", Responses!BI98)","v":""},null,null,false,{"$f":"IF(ISBLANK('Risk Rating'!K98), \"\", 'Risk Rating'!K98)","v":0},{"$f":"('Staff Knowledge'!G98+'Specific Measures'!K98+'Emergency Readiness'!Z98+'Isolation Capacity'!I98+'Stakeholder Coordination'!F98+'Logistics Coordination'!G98+'Risk Communication'!I98+'Public Health'!G98)/LUTs!$B$1","v":{"$error":"#N/A"}},{"$error":"#N/A"},{"$f":"VLOOKUP(I98,LUTs!A$13:D$17,2)","v":{"$error":"#N/A"}}]
[{"$f":"IF(ISBLANK(Responses!A99), \"\", Responses!A99)","v":""},{"$f":"IF(ISBLANK(Responses!B99), \"\", Responses!B99)","v":""},{"$f":"IF(ISBLANK(Responses!BI99), \"\", Responses!BI99)","v":""},null,null,false,{"$f":"IF(ISBLANK('Risk Rating'!K99), \"\", 'Risk Rating'!K99)","v":0},{"$f":"('Staff Knowledge'!G99+'Specific Measures'!K99+'Emergency Readiness'!Z99+'Isolation Capacity'!I99+'Stakeholder Coordination'!F99+'Logistics Coordination'!G99+'Risk Communication'!I99+'Public Health'!G99)/LUTs!$B$1","v":{"$error":"#N/A"}},{"$error":"#N/A"},{"$f":"VLOOKUP(I99,LUTs!A$13:D$17,2)","v":{"$error":"#N/A"}}]
[{"$f":"IF(ISBLANK(Responses!A100), \"\", Responses!A100)","v":""},{"$f":"IF(ISBLANK(Responses!B100), \"\", Responses!B100)","v":""},{"$f":"IF(ISBLANK(Responses!BI100), \"\", Responses!BI100)","v":""},null,null,false,{"$f":"IF(ISBLANK('Risk Rating'!K100), \"\", 'Risk Rating'!K100)","v":0},{"$f":"('Staff Knowledge'!G100+'Specific Measures'!K100+'Emergency Readiness'!Z100+'Isolation Capacity'!I100+'Stakeholder Coordination'!F100+'Logistics Coordination'!G100+'Risk Communication'!I100+'Public Health'!G100)/LUTs!$B$1","v":{"$error":"#N/A"}},{"$error":"#N/A"},{"$f":"VLOOKUP(I100,LUTs!A$13:D$17,2)","v":{"$error":"#N/A"}}]
[{"$f":"IF(ISBLANK(Responses!A101), \"\", Responses!A101)","v":""},{"$f":"IF(ISBLANK(Responses!B101), \"\", Responses!B101)","v":""},{"$f":"IF(ISBLANK(Responses!BI101), \"\", Responses!BI101)","v":""},null,null,false,{"$f":"IF(ISBLANK('Risk Rating'!K101), \"\", 'Risk Rating'!K101)","v":0},{"$f":"('Staff Knowledge'!G101+'Specific Measures'!K101+'Emergency Readiness'!Z101+'Isolation Capacity'!I101+'Stakeholder Coordination'!F101+'Logistics Coordination'!G101+'Risk Communication'!I101+'Public Health'!G101)/LUTs!$B$1","v":{"$error":"#N/A"}},{"$error":"#N/A"},{"$f":"VLOOKUP(I101,LUTs!A$13:D$17,2)","v":{"$error":"#N/A"}}]
[{"$f":"IF(ISBLANK(Responses!A102), \"\", Responses!A102)","v":""},{"$f":"IF(ISBLANK(Responses!B102), \"\", Responses!B102)","v":""},{"$f":"IF(ISBLANK(Responses!BI102), \"\", Responses!BI102)","v":""},null,null,false,{"$f":"IF(ISBLANK('Risk Rating'!K102), \"\", 'Risk Rating'!K102)","v":0},{"$f":"('Staff Knowledge'!G102+'Specific Measures'!K102+'Emergency Readiness'!Z102+'Isolation Capacity'!I102+'Stakeholder Coordination'!F102+'Logistics Coordination'!G102+'Risk Communication'!I102+'Public Health'!G102)/LUTs!$B$1","v":{"$error":"#N/A"}},{"$error":"#N/A"},{"$f":"VLOOKUP(I102,LUTs!A$13:D$17,2)","v":{"$error":"#N/A"}}]
[{"$f":"IF(ISBLANK(Responses!A103), \"\", Responses!A103)","v":""},{"$f":"IF(ISBLANK(Responses!B103), \"\", Responses!B103)","v":""},{"$f":"IF(ISBLANK(Responses!BI103), \"\", Responses!BI103)","v":""},null,null,false,{"$f":"IF(ISBLANK('Risk Rating'!K103), \"\", 'Risk Rating'!K103)","v":0},{"$f":"('Staff Knowledge'!G103+'Specific Measures'!K103+'Emergency Readiness'!Z103+'Isolation Capacity'!I103+'Stakeholder Coordination'!F103+'Logistics Coordination'!G103+'Risk Communication'!I103+'Public Health'!G103)/LUTs!$B$1","v":{"$error":"#N/A"}},{"$error":"#N/A"},{"$f":"VLOOKUP(I103,LUTs!A$13:D$17,2)","v":{"$error":"#N/A"}}]
[{"$f":"IF(ISBLANK(Responses!A104), \"\", Responses!A104)","v":""},{"$f":"IF(ISBLANK(Responses!B104), \"\", Responses!B104)","v":""},{"$f":"IF(ISBLANK(Responses!BI104), \"\", Responses!BI104)","v":""},null,null,false,{"$f":"IF(ISBLANK('Risk Rating'!K104), \"\", 'Risk Rating'!K104)","v":0},{"$f":"('Staff Knowledge'!G104+'Specific Measures'!K104+'Emergency Readiness'!Z104+'Isolation Capacity'!I104+'Stakeholder Coordination'!F104+'Logistics Coordination'!G104+'Risk Communication'!I104+'Public Health'!G104)/LUTs!$B$1","v":{"$error":"#N/A"}},{"$error":"#N/A"},{"$f":"VLOOKUP(I104,LUTs!A$13:D$17,2)","v":{"$error":"#N/A"}}]
[{"$f":"IF(ISBLANK(Responses!A105), \"\", Responses!A105)","v":""},{"$f":"IF(ISBLANK(Responses!B105), \"\", Responses!B105)","v":""},{"$f":"IF(ISBLANK(Responses!BI105), \"\", Responses!BI105)","v":""},null,null,false,{"$f":"IF(ISBLANK('Risk Rating'!K105), \"\", 'Risk Rating'!K105)","v":0},{"$f":"('Staff Knowledge'!G105+'Specific Measures'!K105+'Emergency Readiness'!Z105+'Isolation Capacity'!I105+'Stakeholder Coordination'!F105+'Logistics Coordination'!G105+'Risk Communication'!I105+'Public Health'!G105)/LUTs!$B$1","v":{"$error":"#N/A"}},{"$error":"#N/A"},{"$f":"VLOOKUP(I105,LUTs!A$13:D$17,2)","v":{"$error":"#N/A"}}]
[{"$f":"IF(ISBLANK(Responses!A106), \"\", Responses!A106)","v":""},{"$f":"IF(ISBLANK(Responses!B106), \"\", Responses!B106)","v":""},{"$f":"IF(ISBLANK(Responses!BI106), \"\", Responses!BI106)","v":""},null,null,false,{"$f":"IF(ISBLANK('Risk Rating'!K106), \"\", 'Risk Rating'!K106)","v":""},{"$f":"('Staff Knowledge'!G106+'Specific Measures'!K106+'Emergency Readiness'!Z106+'Isolation Capacity'!I106+'Stakeholder Coordination'!F106+'Logistics Coordination'!G106+'Risk Communication'!I106+'Public Health'!G106)/LUTs!$B$1","v":{"$error":"#N/A"}},{"$error":"#N/A"},{"$f":"VLOOKUP(I106,LUTs!A$13:D$17,2)","v":{"$error":"#N/A"}}]
[{"$f":"IF(ISBLANK(Responses!A107), \"\", Responses!A107)","v":""},{"$f":"IF(ISBLANK(Responses!B107), \"\", Responses!B107)","v":""},{"$f":"IF(ISBLANK(Responses!BI107), \"\", Responses!BI107)","v":""},null,null,false,{"$f":"IF(ISBLANK('Risk Rating'!K107), \"\", 'Risk Rating'!K107)","v":""},{"$f":"('Staff Knowledge'!G107+'Specific Measures'!K107+'Emergency Readiness'!Z107+'Isolation Capacity'!I107+'Stakeholder Coordination'!F107+'Logistics Coordination'!G107+'Risk Communication'!I107+'Public Health'!G107)/LUTs!$B$1","v":{"$error":"#N/A"}},{"$error":"#N/A"},{"$f":"VLOOKUP(I107,LUTs!A$13:D$17,2)","v":{"$error":"#N/A"}}]
[{"$f":"IF(ISBLANK(Responses!A108), \"\", Responses!A108)","v":""},{"$f":"IF(ISBLANK(Responses!B108), \"\", Responses!B108)","v":""},{"$f":"IF(ISBLANK(Responses!BI108), \"\", Responses!BI108)","v":""},null,null,false,{"$f":"IF(ISBLANK('Risk Rating'!K108), \"\", 'Risk Rating'!K108)","v":""},{"$f":"('Staff Knowledge'!G108+'Specific Measures'!K108+'Emergency Readiness'!Z108+'Isolation Capacity'!I108+'Stakeholder Coordination'!F108+'Logistics Coordination'!G108+'Risk Communication'!I108+'Public Health'!G108)/LUTs!$B$1","v":{"$error":"#N/A"}},{"$error":"#N/A"},{"$f":"VLOOKUP(I108,LUTs!A$13:D$17,2)","v":{"$error":"#N/A"}}]
[{"$f":"IF(ISBLANK(Responses!A109), \"\", Responses!A109)","v":""},{"$f":"IF(ISBLANK(Responses!B109), \"\", Responses!B109)","v":""},{"$f":"IF(ISBLANK(Responses!BI109), \"\", Responses!BI109)","v":""},null,null,false,{"$f":"IF(ISBLANK('Risk Rating'!K109), \"\", 'Risk Rating'!K109)","v":""},{"$f":"('Staff Knowledge'!G109+'Specific Measures'!K109+'Emergency Readiness'!Z109+'Isolation Capacity'!I109+'Stakeholder Coordination'!F109+'Logistics Coordination'!G109+'Risk Communication'!I109+'Public Health'!G109)/LUTs!$B$1","v":{"$error":"#N/A"}},{"$error":"#N/A"},{"$f":"VLOOKUP(I109,LUTs!A$13:D$17,2)","v":{"$error":"#N/A"}}]
[{"$f":"IF(ISBLANK(Responses!A110), \"\", Responses!A110)","v":""},{"$f":"IF(ISBLANK(Responses!B110), \"\", Responses!B110)","v":""},{"$f":"IF(ISBLANK(Responses!BI110), \"\", Responses!BI110)","v":""},null,null,false,{"$f":"IF(ISBLANK('Risk Rating'!K110), \"\", 'Risk Rating'!K110)","v":""},{"$f":"('Staff Knowledge'!G110+'Specific Measures'!K110+'Emergency Readiness'!Z110+'Isolation Capacity'!I110+'Stakeholder Coordination'!F110+'Logistics Coordination'!G110+'Risk Communication'!I110+'Public Health'!G110)/LUTs!$B$1","v":0},"Very High",{"$f":"VLOOKUP(I110,LUTs!A$13:D$17,2)","v":"Overall risk of transmission and further spread of COVID-19 in relation to the resumption of group training is considered very high."}]
[{"$f":"IF(ISBLANK(Responses!A111), \"\", Responses!A111)","v":""},{"$f":"IF(ISBLANK(Responses!B111), \"\", Responses!B111)","v":""},{"$f":"IF(ISBLANK(Responses!BI111), \"\", Responses!BI111)","v":""},null,null,false]
[{"$f":"IF(ISBLANK(Responses!A112), \"\", Responses!A112)","v":""},{"$f":"IF(ISBLANK(Responses!B112), \"\", Responses!B112)","v":""},{"$f":"IF(ISBLANK(Responses!BI112), \"\", Responses!BI112)","v":""},null,null,false]
[{"$f":"IF(ISBLANK(Responses!A113), \"\", Responses!A113)","v":""},{"$f":"IF(ISBLANK(Responses!B113), \"\", Responses!B113)","v":""},{"$f":"IF(ISBLANK(Responses!BI113), \"\", Responses!BI113)","v":""},null,null,false]
[{"$f":"IF(ISBLANK(Responses!A114), \"\", Responses!A114)","v":""},{"$f":"IF(ISBLANK(Responses!B114), \"\", Responses!B114)","v":""},{"$f":"IF(ISBLANK(Responses!BI114), \"\", Responses!BI114)","v":""},null,null,false]
[{"$f":"IF(ISBLANK(Responses!A115), \"\", Responses!A115)","v":""},{"$f":"IF(ISBLANK(Responses!B115), \"\", Responses!B115)","v":""},{"$f":"IF(ISBLANK(Responses!BI115), \"\", Responses!BI115)","v":""}]
[{"$f":"IF(ISBLANK(Responses!A116), \"\", Responses!A116)","v":""},{"$f":"IF(ISBLANK(Responses!B116), \"\", Responses!B116)","v":""},{"$f":"IF(ISBLANK(Responses!BI116), \"\", Responses!BI116)","v":""}]
[{"$f":"IF(ISBLANK(Responses!A117), \"\", Responses!A117)","v":""},{"$f":"IF(ISBLANK(Responses!B117), \"\", Responses!B117)","v":""},{"$f":"IF(ISBLANK(Responses!BI117), \"\", Responses!BI117)","v":""}]
[{"$f":"IF(ISBLANK(Responses!A118), \"\", Responses!A118)","v":""},{"$f":"IF(ISBLANK(Responses!B118), \"\", Responses!B118)","v":""},{"$f":"IF(ISBLANK(Responses!BI118), \"\", Responses!BI118)","v":""}]

{"sheet":"Risk Rating","index":3,"n_rows":118,"n_cols":11,"rows_kept":118,"cut":false,"hidden":true,"merged":[]}
[{"$f":"IF(ISBLANK(Responses!A1), \"\", Responses!A1)","v":"Timestamp"},{"$f":"IF(ISBLANK(Responses!B1), \"\", Responses!B1)","v":"Sport Organization Name"},{"$f":"IF(ISBLANK(Responses!C1), \"\", Responses!C1)","v":"Name of person completing this NSO Risk Assessment:"},{"$f":"IF(ISBLANK(Responses!D1), \"\", Responses!D1)","v":"Name of NSO communications liaison:"},{"$f":"IF(ISBLANK(Responses!E1), \"\", Responses!E1)","v":"Will the training be held in a region that has documented active local transmission of COVID-19 (community spread) in the last 14 days?"},{"$f":"IF(ISBLANK(Responses!F1), \"\", Responses!F1)","v":"Will the training be held in venues/facilities with access by multiple groups?"},{"$f":"IF(ISBLANK(Responses!G1), \"\", Responses!G1)","v":"Will the group include team members relocating from areas outside the training location that have documented active local transmission of COVID-19 (community spread)?"},{"$f":"IF(ISBLANK(Responses!H1), \"\", Responses!H1)","v":"Will the group include participants (athletes or coaches) at higher risk of severe COVID-19 disease (e.g., people over 65 years of age or people with underlying health conditions)?"},{"$f":"IF(ISBLANK(Responses!I1), \"\", Responses!I1)","v":"Is the training considered at higher risk of spread for COVID-19 (eg, contact sport, indirect contact through training equipment eg balls, landing pits etc)?"},{"$f":"IF(ISBLANK(Responses!J1), \"\", Responses!J1)","v":"Will the training be held indoors?"},"Risk Rating"]
[{"$f":"IF(ISBLANK(Responses!A2), \"\", Responses!A2)","v":""},{"$f":"IF(ISBLANK(Responses!B2), \"\", Responses!B2)","v":""},{"$f":"IF(ISBLANK(Responses!C2), \"\", Responses!C2)","v":""},{"$f":"IF(ISBLANK(Responses!D2), \"\", Responses!D2)","v":""},{"$f":"IF(ISBLANK(Responses!E2), \"\", Responses!E2)","v":""},{"$f":"IF(ISBLANK(Responses!F2), \"\", Responses!F2)","v":""},{"$f":"IF(ISBLANK(Responses!G2), \"\", Responses!G2)","v":""},{"$f":"IF(ISBLANK(Responses!H2), \"\", Responses!H2)","v":""},{"$f":"IF(ISBLANK(Responses!I2), \"\", Responses!I2)","v":""},{"$f":"IF(ISBLANK(Responses!J2), \"\", Responses!J2)","v":""},{"$f":"COUNTIFS(E2:J2,\"Yes\")","v":0}]
[{"$f":"IF(ISBLANK(Responses!A3), \"\", Responses!A3)","v":""},{"$f":"IF(ISBLANK(Responses!B3), \"\", Responses!B3)","v":""},{"$f":"IF(ISBLANK(Responses!C3), \"\", Responses!C3)","v":""},{"$f":"IF(ISBLANK(Responses!D3), \"\", Responses!D3)","v":""},{"$f":"IF(ISBLANK(Responses!E3), \"\", Responses!E3)","v":""},{"$f":"IF(ISBLANK(Responses!F3), \"\", Responses!F3)","v":""},{"$f":"IF(ISBLANK(Responses!G3), \"\", Responses!G3)","v":""},{"$f":"IF(ISBLANK(Responses!H3), \"\", Responses!H3)","v":""},{"$f":"IF(ISBLANK(Responses!I3), \"\", Responses!I3)","v":""},{"$f":"IF(ISBLANK(Responses!J3), \"\", Responses!J3)","v":""},0]
[{"$f":"IF(ISBLANK(Responses!A4), \"\", Responses!A4)","v":""},{"$f":"IF(ISBLANK(Responses!B4), \"\", Responses!B4)","v":""},{"$f":"IF(ISBLANK(Responses!C4), \"\", Responses!C4)","v":""},{"$f":"IF(ISBLANK(Responses!D4), \"\", Responses!D4)","v":""},{"$f":"IF(ISBLANK(Responses!E4), \"\", Responses!E4)","v":""},{"$f":"IF(ISBLANK(Responses!F4), \"\", Responses!F4)","v":""},{"$f":"IF(ISBLANK(Responses!G4), \"\", Responses!G4)","v":""},{"$f":"IF(ISBLANK(Responses!H4), \"\", Responses!H4)","v":""},{"$f":"IF(ISBLANK(Responses!I4), \"\", Responses!I4)","v":""},{"$f":"IF(ISBLANK(Responses!J4), \"\", Responses!J4)","v":""},0]
[{"$f":"IF(ISBLANK(Responses!A5), \"\", Responses!A5)","v":""},{"$f":"IF(ISBLANK(Responses!B5), \"\", Responses!B5)","v":""},{"$f":"IF(ISBLANK(Responses!C5), \"\", Responses!C5)","v":""},{"$f":"IF(ISBLANK(Responses!D5), \"\", Responses!D5)","v":""},{"$f":"IF(ISBLANK(Responses!E5), \"\", Responses!E5)","v":""},{"$f":"IF(ISBLANK(Responses!F5), \"\", Responses!F5)","v":""},{"$f":"IF(ISBLANK(Responses!G5), \"\", Responses!G5)","v":""},{"$f":"IF(ISBLANK(Responses!H5), \"\", Responses!H5)","v":""},{"$f":"IF(ISBLANK(Responses!I5), \"\", Responses!I5)","v":""},{"$f":"IF(ISBLANK(Responses!J5), \"\", Responses!J5)","v":""},0]
[{"$f":"IF(ISBLANK(Responses!A6), \"\", Responses!A6)","v":""},{"$f":"IF(ISBLANK(Responses!B6), \"\", Responses!B6)","v":""},{"$f":"IF(ISBLANK(Responses!C6), \"\", Responses!C6)","v":""},{"$f":"IF(ISBLANK(Responses!D6), \"\", Responses!D6)","v":""},{"$f":"IF(ISBLANK(Responses!E6), \"\", Responses!E6)","v":""},{"$f":"IF(ISBLANK(Responses!F6), \"\", Responses!F6)","v":""},{"$f":"IF(ISBLANK(Responses!G6), \"\", Responses!G6)","v":""},{"$f":"IF(ISBLANK(Responses!H6), \"\", Responses!H6)","v":""},{"$f":"IF(ISBLANK(Responses!I6), \"\", Responses!I6)","v":""},{"$f":"IF(ISBLANK(Responses!J6), \"\", Responses!J6)","v":""},0]
[{"$f":"IF(ISBLANK(Responses!A7), \"\", Responses!A7)","v":""},{"$f":"IF(ISBLANK(Responses!B7), \"\", Responses!B7)","v":""},{"$f":"IF(ISBLANK(Responses!C7), \"\", Responses!C7)","v":""},{"$f":"IF(ISBLANK(Responses!D7), \"\", Responses!D7)","v":""},{"$f":"IF(ISBLANK(Responses!E7), \"\", Responses!E7)","v":""},{"$f":"IF(ISBLANK(Responses!F7), \"\", Responses!F7)","v":""},{"$f":"IF(ISBLANK(Responses!G7), \"\", Responses!G7)","v":""},{"$f":"IF(ISBLANK(Responses!H7), \"\", Responses!H7)","v":""},{"$f":"IF(ISBLANK(Responses!I7), \"\", Responses!I7)","v":""},{"$f":"IF(ISBLANK(Responses!J7), \"\", Responses!J7)","v":""},0]
[{"$f":"IF(ISBLANK(Responses!A8), \"\", Responses!A8)","v":""},{"$f":"IF(ISBLANK(Responses!B8), \"\", Responses!B8)","v":""},{"$f":"IF(ISBLANK(Responses!C8), \"\", Responses!C8)","v":""},{"$f":"IF(ISBLANK(Responses!D8), \"\", Responses!D8)","v":""},{"$f":"IF(ISBLANK(Responses!E8), \"\", Responses!E8)","v":""},{"$f":"IF(ISBLANK(Responses!F8), \"\", Responses!F8)","v":""},{"$f":"IF(ISBLANK(Responses!G8), \"\", Responses!G8)","v":""},{"$f":"IF(ISBLANK(Responses!H8), \"\", Responses!H8)","v":""},{"$f":"IF(ISBLANK(Responses!I8), \"\", Responses!I8)","v":""},{"$f":"IF(ISBLANK(Responses!J8), \"\", Responses!J8)","v":""},0]
[{"$f":"IF(ISBLANK(Responses!A9), \"\", Responses!A9)","v":""},{"$f":"IF(ISBLANK(Responses!B9), \"\", Responses!B9)","v":""},{"$f":"IF(ISBLANK(Responses!C9), \"\", Responses!C9)","v":""},{"$f":"IF(ISBLANK(Responses!D9), \"\", Responses!D9)","v":""},{"$f":"IF(ISBLANK(Responses!E9), \"\", Responses!E9)","v":""},{"$f":"IF(ISBLANK(Responses!F9), \"\", Responses!F9)","v":""},{"$f":"IF(ISBLANK(Responses!G9), \"\", Responses!G9)","v":""},{"$f":"IF(ISBLANK(Responses!H9), \"\", Responses!H9)","v":""},{"$f":"IF(ISBLANK(Responses!I9), \"\", Responses!I9)","v":""},{"$f":"IF(ISBLANK(Responses!J9), \"\", Responses!J9)","v":""},0]
[{"$f":"IF(ISBLANK(Responses!A10), \"\", Responses!A10)","v":""},{"$f":"IF(ISBLANK(Responses!B10), \"\", Responses!B10)","v":""},{"$f":"IF(ISBLANK(Responses!C10), \"\", Responses!C10)","v":""},{"$f":"IF(ISBLANK(Responses!D10), \"\", Responses!D10)","v":""},{"$f":"IF(ISBLANK(Responses!E10), \"\", Responses!E10)","v":""},{"$f":"IF(ISBLANK(Responses!F10), \"\", Responses!F10)","v":""},{"$f":"IF(ISBLANK(Responses!G10), \"\", Responses!G10)","v":""},{"$f":"IF(ISBLANK(Responses!H10), \"\", Responses!H10)","v":""},{"$f":"IF(ISBLANK(Responses!I10), \"\", Responses!I10)","v":""},{"$f":"IF(ISBLANK(Responses!J10), \"\", Responses!J10)","v":""},0]
[{"$f":"IF(ISBLANK(Responses!A11), \"\", Responses!A11)","v":""},{"$f":"IF(ISBLANK(Responses!B11), \"\", Responses!B11)","v":""},{"$f":"IF(ISBLANK(Responses!C11), \"\", Responses!C11)","v":""},{"$f":"IF(ISBLANK(Responses!D11), \"\", Responses!D11)","v":""},{"$f":"IF(ISBLANK(Responses!E11), \"\", Responses!E11)","v":""},{"$f":"IF(ISBLANK(Responses!F11), \"\", Responses!F11)","v":""},{"$f":"IF(ISBLANK(Responses!G11), \"\", Responses!G11)","v":""},{"$f":"IF(ISBLANK(Responses!H11), \"\", Responses!H11)","v":""},{"$f":"IF(ISBLANK(Responses!I11), \"\", Responses!I11)","v":""},{"$f":"IF(ISBLANK(Responses!J11), \"\", Responses!J11)","v":""},0]
[{"$f":"IF(ISBLANK(Responses!A12), \"\", Responses!A12)","v":""},{"$f":"IF(ISBLANK(Responses!B12), \"\", Responses!B12)","v":""},{"$f":"IF(ISBLANK(Responses!C12), \"\", Responses!C12)","v":""},{"$f":"IF(ISBLANK(Responses!D12), \"\", Responses!D12)","v":""},{"$f":"IF(ISBLANK(Responses!E12), \"\", Responses!E12)","v":""},{"$f":"IF(ISBLANK(Responses!F12), \"\", Responses!F12)","v":""},{"$f":"IF(ISBLANK(Responses!G12), \"\", Responses!G12)","v":""},{"$f":"IF(ISBLANK(Responses!H12), \"\", Responses!H12)","v":""},{"$f":"IF(ISBLANK(Responses!I12), \"\", Responses!I12)","v":""},{"$f":"IF(ISBLANK(Responses!J12), \"\", Responses!J12)","v":""},0]
[{"$f":"IF(ISBLANK(Responses!A13), \"\", Responses!A13)","v":""},{"$f":"IF(ISBLANK(Responses!B13), \"\", Responses!B13)","v":""},{"$f":"IF(ISBLANK(Responses!C13), \"\", Responses!C13)","v":""},{"$f":"IF(ISBLANK(Responses!D13), \"\", Responses!D13)","v":""},{"$f":"IF(ISBLANK(Responses!E13), \"\", Responses!E13)","v":""},{"$f":"IF(ISBLANK(Responses!F13), \"\", Responses!F13)","v":""},{"$f":"IF(ISBLANK(Responses!G13), \"\", Responses!G13)","v":""},{"$f":"IF(ISBLANK(Responses!H13), \"\", Responses!H13)","v":""},{"$f":"IF(ISBLANK(Responses!I13), \"\", Responses!I13)","v":""},{"$f":"IF(ISBLANK(Responses!J13), \"\", Responses!J13)","v":""},0]
[{"$f":"IF(ISBLANK(Responses!A14), \"\", Responses!A14)","v":""},{"$f":"IF(ISBLANK(Responses!B14), \"\", Responses!B14)","v":""},{"$f":"IF(ISBLANK(Responses!C14), \"\", Responses!C14)","v":""},{"$f":"IF(ISBLANK(Responses!D14), \"\", Responses!D14)","v":""},{"$f":"IF(ISBLANK(Responses!E14), \"\", Responses!E14)","v":""},{"$f":"IF(ISBLANK(Responses!F14), \"\", Responses!F14)","v":""},{"$f":"IF(ISBLANK(Responses!G14), \"\", Responses!G14)","v":""},{"$f":"IF(ISBLANK(Responses!H14), \"\", Responses!H14)","v":""},{"$f":"IF(ISBLANK(Responses!I14), \"\", Responses!I14)","v":""},{"$f":"IF(ISBLANK(Responses!J14), \"\", Responses!J14)","v":""},0]
[{"$f":"IF(ISBLANK(Responses!A15), \"\", Responses!A15)","v":""},{"$f":"IF(ISBLANK(Responses!B15), \"\", Responses!B15)","v":""},{"$f":"IF(ISBLANK(Responses!C15), \"\", Responses!C15)","v":""},{"$f":"IF(ISBLANK(Responses!D15), \"\", Responses!D15)","v":""},{"$f":"IF(ISBLANK(Responses!E15), \"\", Responses!E15)","v":""},{"$f":"IF(ISBLANK(Responses!F15), \"\", Responses!F15)","v":""},{"$f":"IF(ISBLANK(Responses!G15), \"\", Responses!G15)","v":""},{"$f":"IF(ISBLANK(Responses!H15), \"\", Responses!H15)","v":""},{"$f":"IF(ISBLANK(Responses!I15), \"\", Responses!I15)","v":""},{"$f":"IF(ISBLANK(Responses!J15), \"\", Responses!J15)","v":""},0]
[{"$f":"IF(ISBLANK(Responses!A16), \"\", Responses!A16)","v":""},{"$f":"IF(ISBLANK(Responses!B16), \"\", Responses!B16)","v":""},{"$f":"IF(ISBLANK(Responses!C16), \"\", Responses!C16)","v":""},{"$f":"IF(ISBLANK(Responses!D16), \"\", Responses!D16)","v":""},{"$f":"IF(ISBLANK(Responses!E16), \"\", Responses!E16)","v":""},{"$f":"IF(ISBLANK(Responses!F16), \"\", Responses!F16)","v":""},{"$f":"IF(ISBLANK(Responses!G16), \"\", Responses!G16)","v":""},{"$f":"IF(ISBLANK(Responses!H16), \"\", Responses!H16)","v":""},{"$f":"IF(ISBLANK(Responses!I16), \"\", Responses!I16)","v":""},{"$f":"IF(ISBLANK(Responses!J16), \"\", Responses!J16)","v":""},0]
[{"$f":"IF(ISBLANK(Responses!A17), \"\", Responses!A17)","v":""},{"$f":"IF(ISBLANK(Responses!B17), \"\", Responses!B17)","v":""},{"$f":"IF(ISBLANK(Responses!C17), \"\", Responses!C17)","v":""},{"$f":"IF(ISBLANK(Responses!D17), \"\", Responses!D17)","v":""},{"$f":"IF(ISBLANK(Responses!E17), \"\", Responses!E17)","v":""},{"$f":"IF(ISBLANK(Responses!F17), \"\", Responses!F17)","v":""},{"$f":"IF(ISBLANK(Responses!G17), \"\", Responses!G17)","v":""},{"$f":"IF(ISBLANK(Responses!H17), \"\", Responses!H17)","v":""},{"$f":"IF(ISBLANK(Responses!I17), \"\", Responses!I17)","v":""},{"$f":"IF(ISBLANK(Responses!J17), \"\", Responses!J17)","v":""},0]
[{"$f":"IF(ISBLANK(Responses!A18), \"\", Responses!A18)","v":""},{"$f":"IF(ISBLANK(Responses!B18), \"\", Responses!B18)","v":""},{"$f":"IF(ISBLANK(Responses!C18), \"\", Responses!C18)","v":""},{"$f":"IF(ISBLANK(Responses!D18), \"\", Responses!D18)","v":""},{"$f":"IF(ISBLANK(Responses!E18), \"\", Responses!E18)","v":""},{"$f":"IF(ISBLANK(Responses!F18), \"\", Responses!F18)","v":""},{"$f":"IF(ISBLANK(Responses!G18), \"\", Responses!G18)","v":""},{"$f":"IF(ISBLANK(Responses!H18), \"\", Responses!H18)","v":""},{"$f":"IF(ISBLANK(Responses!I18), \"\", Responses!I18)","v":""},{"$f":"IF(ISBLANK(Responses!J18), \"\", Responses!J18)","v":""},0]
[{"$f":"IF(ISBLANK(Responses!A19), \"\", Responses!A19)","v":""},{"$f":"IF(ISBLANK(Responses!B19), \"\", Responses!B19)","v":""},{"$f":"IF(ISBLANK(Responses!C19), \"\", Responses!C19)","v":""},{"$f":"IF(ISBLANK(Responses!D19), \"\", Responses!D19)","v":""},{"$f":"IF(ISBLANK(Responses!E19), \"\", Responses!E19)","v":""},{"$f":"IF(ISBLANK(Responses!F19), \"\", Responses!F19)","v":""},{"$f":"IF(ISBLANK(Responses!G19), \"\", Responses!G19)","v":""},{"$f":"IF(ISBLANK(Responses!H19), \"\", Responses!H19)","v":""},{"$f":"IF(ISBLANK(Responses!I19), \"\", Responses!I19)","v":""},{"$f":"IF(ISBLANK(Responses!J19), \"\", Responses!J19)","v":""},0]
[{"$f":"IF(ISBLANK(Responses!A20), \"\", Responses!A20)","v":""},{"$f":"IF(ISBLANK(Responses!B20), \"\", Responses!B20)","v":""},{"$f":"IF(ISBLANK(Responses!C20), \"\", Responses!C20)","v":""},{"$f":"IF(ISBLANK(Responses!D20), \"\", Responses!D20)","v":""},{"$f":"IF(ISBLANK(Responses!E20), \"\", Responses!E20)","v":""},{"$f":"IF(ISBLANK(Responses!F20), \"\", Responses!F20)","v":""},{"$f":"IF(ISBLANK(Responses!G20), \"\", Responses!G20)","v":""},{"$f":"IF(ISBLANK(Responses!H20), \"\", Responses!H20)","v":""},{"$f":"IF(ISBLANK(Responses!I20), \"\", Responses!I20)","v":""},{"$f":"IF(ISBLANK(Responses!J20), \"\", Responses!J20)","v":""},0]
[{"$f":"IF(ISBLANK(Responses!A21), \"\", Responses!A21)","v":""},{"$f":"IF(ISBLANK(Responses!B21), \"\", Responses!B21)","v":""},{"$f":"IF(ISBLANK(Responses!C21), \"\", Responses!C21)","v":""},{"$f":"IF(ISBLANK(Responses!D21), \"\", Responses!D21)","v":""},{"$f":"IF(ISBLANK(Responses!E21), \"\", Responses!E21)","v":""},{"$f":"IF(ISBLANK(Responses!F21), \"\", Responses!F21)","v":""},{"$f":"IF(ISBLANK(Responses!G21), \"\", Responses!G21)","v":""},{"$f":"IF(ISBLANK(Responses!H21), \"\", Responses!H21)","v":""},{"$f":"IF(ISBLANK(Responses!I21), \"\", Responses!I21)","v":""},{"$f":"IF(ISBLANK(Responses!J21), \"\", Responses!J21)","v":""},0]
[{"$f":"IF(ISBLANK(Responses!A22), \"\", Responses!A22)","v":""},{"$f":"IF(ISBLANK(Responses!B22), \"\", Responses!B22)","v":""},{"$f":"IF(ISBLANK(Responses!C22), \"\", Responses!C22)","v":""},{"$f":"IF(ISBLANK(Responses!D22), \"\", Responses!D22)","v":""},{"$f":"IF(ISBLANK(Responses!E22), \"\", Responses!E22)","v":""},{"$f":"IF(ISBLANK(Responses!F22), \"\", Responses!F22)","v":""},{"$f":"IF(ISBLANK(Responses!G22), \"\", Responses!G22)","v":""},{"$f":"IF(ISBLANK(Responses!H22), \"\", Responses!H22)","v":""},{"$f":"IF(ISBLANK(Responses!I22), \"\", Responses!I22)","v":""},{"$f":"IF(ISBLANK(Responses!J22), \"\", Responses!J22)","v":""},0]
[{"$f":"IF(ISBLANK(Responses!A23), \"\", Responses!A23)","v":""},{"$f":"IF(ISBLANK(Responses!B23), \"\", Responses!B23)","v":""},{"$f":"IF(ISBLANK(Responses!C23), \"\", Responses!C23)","v":""},{"$f":"IF(ISBLANK(Responses!D23), \"\", Responses!D23)","v":""},{"$f":"IF(ISBLANK(Responses!E23), \"\", Responses!E23)","v":""},{"$f":"IF(ISBLANK(Responses!F23), \"\", Responses!F23)","v":""},{"$f":"IF(ISBLANK(Responses!G23), \"\", Responses!G23)","v":""},{"$f":"IF(ISBLANK(Responses!H23), \"\", Responses!H23)","v":""},{"$f":"IF(ISBLANK(Responses!I23), \"\", Responses!I23)","v":""},{"$f":"IF(ISBLANK(Responses!J23), \"\", Responses!J23)","v":""},0]
[{"$f":"IF(ISBLANK(Responses!A24), \"\", Responses!A24)","v":""},{"$f":"IF(ISBLANK(Responses!B24), \"\", Responses!B24)","v":""},{"$f":"IF(ISBLANK(Responses!C24), \"\", Responses!C24)","v":""},{"$f":"IF(ISBLANK(Responses!D24), \"\", Responses!D24)","v":""},{"$f":"IF(ISBLANK(Responses!E24), \"\", Responses!E24)","v":""},{"$f":"IF(ISBLANK(Responses!F24), \"\", Responses!F24)","v":""},{"$f":"IF(ISBLANK(Responses!G24), \"\", Responses!G24)","v":""},{"$f":"IF(ISBLANK(Responses!H24), \"\", Responses!H24)","v":""},{"$f":"IF(ISBLANK(Responses!I24), \"\", Responses!I24)","v":""},{"$f":"IF(ISBLANK(Responses!J24), \"\", Responses!J24)","v":""},0]
[{"$f":"IF(ISBLANK(Responses!A25), \"\", Responses!A25)","v":""},{"$f":"IF(ISBLANK(Responses!B25), \"\", Responses!B25)","v":""},{"$f":"IF(ISBLANK(Responses!C25), \"\", Responses!C25)","v":""},{"$f":"IF(ISBLANK(Responses!D25), \"\", Responses!D25)","v":""},{"$f":"IF(ISBLANK(Responses!E25), \"\", Responses!E25)","v":""},{"$f":"IF(ISBLANK(Responses!F25), \"\", Responses!F25)","v":""},{"$f":"IF(ISBLANK(Responses!G25), \"\", Responses!G25)","v":""},{"$f":"IF(ISBLANK(Responses!H25), \"\", Responses!H25)","v":""},{"$f":"IF(ISBLANK(Responses!I25), \"\", Responses!I25)","v":""},{"$f":"IF(ISBLANK(Responses!J25), \"\", Responses!J25)","v":""},0]
[{"$f":"IF(ISBLANK(Responses!A26), \"\", Responses!A26)","v":""},{"$f":"IF(ISBLANK(Responses!B26), \"\", Responses!B26)","v":""},{"$f":"IF(ISBLANK(Responses!C26), \"\", Responses!C26)","v":""},{"$f":"IF(ISBLANK(Responses!D26), \"\", Responses!D26)","v":""},{"$f":"IF(ISBLANK(Responses!E26), \"\", Responses!E26)","v":""},{"$f":"IF(ISBLANK(Responses!F26), \"\", Responses!F26)","v":""},{"$f":"IF(ISBLANK(Responses!G26), \"\", Responses!G26)","v":""},{"$f":"IF(ISBLANK(Responses!H26), \"\", Responses!H26)","v":""},{"$f":"IF(ISBLANK(Responses!I26), \"\", Responses!I26)","v":""},{"$f":"IF(ISBLANK(Responses!J26), \"\", Responses!J26)","v":""},0]
[{"$f":"IF(ISBLANK(Responses!A27), \"\", Responses!A27)","v":""},{"$f":"IF(ISBLANK(Responses!B27), \"\", Responses!B27)","v":""},{"$f":"IF(ISBLANK(Responses!C27), \"\", Responses!C27)","v":""},{"$f":"IF(ISBLANK(Responses!D27), \"\", Responses!D27)","v":""},{"$f":"IF(ISBLANK(Responses!E27), \"\", Responses!E27)","v":""},{"$f":"IF(ISBLANK(Responses!F27), \"\", Responses!F27)","v":""},{"$f":"IF(ISBLANK(Responses!G27), \"\", Responses!G27)","v":""},{"$f":"IF(ISBLANK(Responses!H27), \"\", Responses!H27)","v":""},{"$f":"IF(ISBLANK(Responses!I27), \"\", Responses!I27)","v":""},{"$f":"IF(ISBLANK(Responses!J27), \"\", Responses!J27)","v":""},0]
[{"$f":"IF(ISBLANK(Responses!A28), \"\", Responses!A28)","v":""},{"$f":"IF(ISBLANK(Responses!B28), \"\", Responses!B28)","v":""},{"$f":"IF(ISBLANK(Responses!C28), \"\", Responses!C28)","v":""},{"$f":"IF(ISBLANK(Responses!D28), \"\", Responses!D28)","v":""},{"$f":"IF(ISBLANK(Responses!E28), \"\", Responses!E28)","v":""},{"$f":"IF(ISBLANK(Responses!F28), \"\", Responses!F28)","v":""},{"$f":"IF(ISBLANK(Responses!G28), \"\", Responses!G28)","v":""},{"$f":"IF(ISBLANK(Responses!H28), \"\", Responses!H28)","v":""},{"$f":"IF(ISBLANK(Responses!I28), \"\", Responses!I28)","v":""},{"$f":"IF(ISBLANK(Responses!J28), \"\", Responses!J28)","v":""},0]
[{"$f":"IF(ISBLANK(Responses!A29), \"\", Responses!A29)","v":""},{"$f":"IF(ISBLANK(Responses!B29), \"\", Responses!B29)","v":""},{"$f":"IF(ISBLANK(Responses!C29), \"\", Responses!C29)","v":""},{"$f":"IF(ISBLANK(Responses!D29), \"\", Responses!D29)","v":""},{"$f":"IF(ISBLANK(Responses!E29), \"\", Responses!E29)","v":""},{"$f":"IF(ISBLANK(Responses!F29), \"\", Responses!F29)","v":""},{"$f":"IF(ISBLANK(Responses!G29), \"\", Responses!G29)","v":""},{"$f":"IF(ISBLANK(Responses!H29), \"\", Responses!H29)","v":""},{"$f":"IF(ISBLANK(Responses!I29), \"\", Responses!I29)","v":""},{"$f":"IF(ISBLANK(Responses!J29), \"\", Responses!J29)","v":""},0]
[{"$f":"IF(ISBLANK(Responses!A30), \"\", Responses!A30)","v":""},{"$f":"IF(ISBLANK(Responses!B30), \"\", Responses!B30)","v":""},{"$f":"IF(ISBLANK(Responses!C30), \"\", Responses!C30)","v":""},{"$f":"IF(ISBLANK(Responses!D30), \"\", Responses!D30)","v":""},{"$f":"IF(ISBLANK(Responses!E30), \"\", Responses!E30)","v":""},{"$f":"IF(ISBLANK(Responses!F30), \"\", Responses!F30)","v":""},{"$f":"IF(ISBLANK(Responses!G30), \"\", Responses!G30)","v":""},{"$f":"IF(ISBLANK(Responses!H30), \"\", Responses!H30)","v":""},{"$f":"IF(ISBLANK(Responses!I30), \"\", Responses!I30)","v":""},{"$f":"IF(ISBLANK(Responses!J30), \"\", Responses!J30)","v":""},0]
[{"$f":"IF(ISBLANK(Responses!A31), \"\", Responses!A31)","v":""},{"$f":"IF(ISBLANK(Responses!B31), \"\", Responses!B31)","v":""},{"$f":"IF(ISBLANK(Responses!C31), \"\", Responses!C31)","v":""},{"$f":"IF(ISBLANK(Responses!D31), \"\", Responses!D31)","v":""},{"$f":"IF(ISBLANK(Responses!E31), \"\", Responses!E31)","v":""},{"$f":"IF(ISBLANK(Responses!F31), \"\", Responses!F31)","v":""},{"$f":"IF(ISBLANK(Responses!G31), \"\", Responses!G31)","v":""},{"$f":"IF(ISBLANK(Responses!H31), \"\", Responses!H31)","v":""},{"$f":"IF(ISBLANK(Responses!I31), \"\", Responses!I31)","v":""},{"$f":"IF(ISBLANK(Responses!J31), \"\", Responses!J31)","v":""},0]
[{"$f":"IF(ISBLANK(Responses!A32), \"\", Responses!A32)","v":""},{"$f":"IF(ISBLANK(Responses!B32), \"\", Responses!B32)","v":""},{"$f":"IF(ISBLANK(Responses!C32), \"\", Responses!C32)","v":""},{"$f":"IF(ISBLANK(Responses!D32), \"\", Responses!D32)","v":""},{"$f":"IF(ISBLANK(Responses!E32), \"\", Responses!E32)","v":""},{"$f":"IF(ISBLANK(Responses!F32), \"\", Responses!F32)","v":""},{"$f":"IF(ISBLANK(Responses!G32), \"\", Responses!G32)","v":""},{"$f":"IF(ISBLANK(Responses!H32), \"\", Responses!H32)","v":""},{"$f":"IF(ISBLANK(Responses!I32), \"\", Responses!I32)","v":""},{"$f":"IF(ISBLANK(Responses!J32), \"\", Responses!J32)","v":""},0]
[{"$f":"IF(ISBLANK(Responses!A33), \"\", Responses!A33)","v":""},{"$f":"IF(ISBLANK(Responses!B33), \"\", Responses!B33)","v":""},{"$f":"IF(ISBLANK(Responses!C33), \"\", Responses!C33)","v":""},{"$f":"IF(ISBLANK(Responses!D33), \"\", Responses!D33)","v":""},{"$f":"IF(ISBLANK(Responses!E33), \"\", Responses!E33)","v":""},{"$f":"IF(ISBLANK(Responses!F33), \"\", Responses!F33)","v":""},{"$f":"IF(ISBLANK(Responses!G33), \"\", Responses!G33)","v":""},{"$f":"IF(ISBLANK(Responses!H33), \"\", Responses!H33)","v":""},{"$f":"IF(ISBLANK(Responses!I33), \"\", Responses!I33)","v":""},{"$f":"IF(ISBLANK(Responses!J33), \"\", Responses!J33)","v":""},0]
[{"$f":"IF(ISBLANK(Responses!A34), \"\", Responses!A34)","v":""},{"$f":"IF(ISBLANK(Responses!B34), \"\", Responses!B34)","v":""},{"$f":"IF(ISBLANK(Responses!C34), \"\", Responses!C34)","v":""},{"$f":"IF(ISBLANK(Responses!D34), \"\", Responses!D34)","v":""},{"$f":"IF(ISBLANK(Responses!E34), \"\", Responses!E34)","v":""},{"$f":"IF(ISBLANK(Responses!F34), \"\", Responses!F34)","v":""},{"$f":"IF(ISBLANK(Responses!G34), \"\", Responses!G34)","v":""},{"$f":"IF(ISBLANK(Responses!H34), \"\", Responses!H34)","v":""},{"$f":"IF(ISBLANK(Responses!I34), \"\", Responses!I34)","v":""},{"$f":"IF(ISBLANK(Responses!J34), \"\", Responses!J34)","v":""},0]
[{"$f":"IF(ISBLANK(Responses!A35), \"\", Responses!A35)","v":""},{"$f":"IF(ISBLANK(Responses!B35), \"\", Responses!B35)","v":""},{"$f":"IF(ISBLANK(Responses!C35), \"\", Responses!C35)","v":""},{"$f":"IF(ISBLANK(Responses!D35), \"\", Responses!D35)","v":""},{"$f":"IF(ISBLANK(Responses!E35), \"\", Responses!E35)","v":""},{"$f":"IF(ISBLANK(Responses!F35), \"\", Responses!F35)","v":""},{"$f":"IF(ISBLANK(Responses!G35), \"\", Responses!G35)","v":""},{"$f":"IF(ISBLANK(Responses!H35), \"\", Responses!H35)","v":""},{"$f":"IF(ISBLANK(Responses!I35), \"\", Responses!I35)","v":""},{"$f":"IF(ISBLANK(Responses!J35), \"\", Responses!J35)","v":""},0]
[{"$f":"IF(ISBLANK(Responses!A36), \"\", Responses!A36)","v":""},{"$f":"IF(ISBLANK(Responses!B36), \"\", Responses!B36)","v":""},{"$f":"IF(ISBLANK(Responses!C36), \"\", Responses!C36)","v":""},{"$f":"IF(ISBLANK(Responses!D36), \"\", Responses!D36)","v":""},{"$f":"IF(ISBLANK(Responses!E36), \"\", Responses!E36)","v":""},{"$f":"IF(ISBLANK(Responses!F36), \"\", Responses!F36)","v":""},{"$f":"IF(ISBLANK(Responses!G36), \"\", Responses!G36)","v":""},{"$f":"IF(ISBLANK(Responses!H36), \"\", Responses!H36)","v":""},{"$f":"IF(ISBLANK(Responses!I36), \"\", Responses!I36)","v":""},{"$f":"IF(ISBLANK(Responses!J36), \"\", Responses!J36)","v":""},0]
[{"$f":"IF(ISBLANK(Responses!A37), \"\", Responses!A37)","v":""},{"$f":"IF(ISBLANK(Responses!B37), \"\", Responses!B37)","v":""},{"$f":"IF(ISBLANK(Responses!C37), \"\", Responses!C37)","v":""},{"$f":"IF(ISBLANK(Responses!D37), \"\", Responses!D37)","v":""},{"$f":"IF(ISBLANK(Responses!E37), \"\", Responses!E37)","v":""},{"$f":"IF(ISBLANK(Responses!F37), \"\", Responses!F37)","v":""},{"$f":"IF(ISBLANK(Responses!G37), \"\", Responses!G37)","v":""},{"$f":"IF(ISBLANK(Responses!H37), \"\", Responses!H37)","v":""},{"$f":"IF(ISBLANK(Responses!I37), \"\", Responses!I37)","v":""},{"$f":"IF(ISBLANK(Responses!J37), \"\", Responses!J37)","v":""},0]
[{"$f":"IF(ISBLANK(Responses!A38), \"\", Responses!A38)","v":""},{"$f":"IF(ISBLANK(Responses!B38), \"\", Responses!B38)","v":""},{"$f":"IF(ISBLANK(Responses!C38), \"\", Responses!C38)","v":""},{"$f":"IF(ISBLANK(Responses!D38), \"\", Responses!D38)","v":""},{"$f":"IF(ISBLANK(Responses!E38), \"\", Responses!E38)","v":""},{"$f":"IF(ISBLANK(Responses!F38), \"\", Responses!F38)","v":""},{"$f":"IF(ISBLANK(Responses!G38), \"\", Responses!G38)","v":""},{"$f":"IF(ISBLANK(Responses!H38), \"\", Responses!H38)","v":""},{"$f":"IF(ISBLANK(Responses!I38), \"\", Responses!I38)","v":""},{"$f":"IF(ISBLANK(Responses!J38), \"\", Responses!J38)","v":""},0]
[{"$f":"IF(ISBLANK(Responses!A39), \"\", Responses!A39)","v":""},{"$f":"IF(ISBLANK(Responses!B39), \"\", Responses!B39)","v":""},{"$f":"IF(ISBLANK(Responses!C39), \"\", Responses!C39)","v":""},{"$f":"IF(ISBLANK(Responses!D39), \"\", Responses!D39)","v":""},{"$f":"IF(ISBLANK(Responses!E39), \"\", Responses!E39)","v":""},{"$f":"IF(ISBLANK(Responses!F39), \"\", Responses!F39)","v":""},{"$f":"IF(ISBLANK(Responses!G39), \"\", Responses!G39)","v":""},{"$f":"IF(ISBLANK(Responses!H39), \"\", Responses!H39)","v":""},{"$f":"IF(ISBLANK(Responses!I39), \"\", Responses!I39)","v":""},{"$f":"IF(ISBLANK(Responses!J39), \"\", Responses!J39)","v":""},0]
[{"$f":"IF(ISBLANK(Responses!A40), \"\", Responses!A40)","v":""},{"$f":"IF(ISBLANK(Responses!B40), \"\", Responses!B40)","v":""},{"$f":"IF(ISBLANK(Responses!C40), \"\", Responses!C40)","v":""},{"$f":"IF(ISBLANK(Responses!D40), \"\", Responses!D40)","v":""},{"$f":"IF(ISBLANK(Responses!E40), \"\", Responses!E40)","v":""},{"$f":"IF(ISBLANK(Responses!F40), \"\", Responses!F40)","v":""},{"$f":"IF(ISBLANK(Responses!G40), \"\", Responses!G40)","v":""},{"$f":"IF(ISBLANK(Responses!H40), \"\", Responses!H40)","v":""},{"$f":"IF(ISBLANK(Responses!I40), \"\", Responses!I40)","v":""},{"$f":"IF(ISBLANK(Responses!J40), \"\", Responses!J40)","v":""},0]
[{"$f":"IF(ISBLANK(Responses!A41), \"\", Responses!A41)","v":""},{"$f":"IF(ISBLANK(Responses!B41), \"\", Responses!B41)","v":""},{"$f":"IF(ISBLANK(Responses!C41), \"\", Responses!C41)","v":""},{"$f":"IF(ISBLANK(Responses!D41), \"\", Responses!D41)","v":""},{"$f":"IF(ISBLANK(Responses!E41), \"\", Responses!E41)","v":""},{"$f":"IF(ISBLANK(Responses!F41), \"\", Responses!F41)","v":""},{"$f":"IF(ISBLANK(Responses!G41), \"\", Responses!G41)","v":""},{"$f":"IF(ISBLANK(Responses!H41), \"\", Responses!H41)","v":""},{"$f":"IF(ISBLANK(Responses!I41), \"\", Responses!I41)","v":""},{"$f":"IF(ISBLANK(Responses!J41), \"\", Responses!J41)","v":""},0]
[{"$f":"IF(ISBLANK(Responses!A42), \"\", Responses!A42)","v":""},{"$f":"IF(ISBLANK(Responses!B42), \"\", Responses!B42)","v":""},{"$f":"IF(ISBLANK(Responses!C42), \"\", Responses!C42)","v":""},{"$f":"IF(ISBLANK(Responses!D42), \"\", Responses!D42)","v":""},{"$f":"IF(ISBLANK(Responses!E42), \"\", Responses!E42)","v":""},{"$f":"IF(ISBLANK(Responses!F42), \"\", Responses!F42)","v":""},{"$f":"IF(ISBLANK(Responses!G42), \"\", Responses!G42)","v":""},{"$f":"IF(ISBLANK(Responses!H42), \"\", Responses!H42)","v":""},{"$f":"IF(ISBLANK(Responses!I42), \"\", Responses!I42)","v":""},{"$f":"IF(ISBLANK(Responses!J42), \"\", Responses!J42)","v":""},0]
[{"$f":"IF(ISBLANK(Responses!A43), \"\", Responses!A43)","v":""},{"$f":"IF(ISBLANK(Responses!B43), \"\", Responses!B43)","v":""},{"$f":"IF(ISBLANK(Responses!C43), \"\", Responses!C43)","v":""},{"$f":"IF(ISBLANK(Responses!D43), \"\", Responses!D43)","v":""},{"$f":"IF(ISBLANK(Responses!E43), \"\", Responses!E43)","v":""},{"$f":"IF(ISBLANK(Responses!F43), \"\", Responses!F43)","v":""},{"$f":"IF(ISBLANK(Responses!G43), \"\", Responses!G43)","v":""},{"$f":"IF(ISBLANK(Responses!H43), \"\", Responses!H43)","v":""},{"$f":"IF(ISBLANK(Responses!I43), \"\", Responses!I43)","v":""},{"$f":"IF(ISBLANK(Responses!J43), \"\", Responses!J43)","v":""},0]
[{"$f":"IF(ISBLANK(Responses!A44), \"\", Responses!A44)","v":""},{"$f":"IF(ISBLANK(Responses!B44), \"\", Responses!B44)","v":""},{"$f":"IF(ISBLANK(Responses!C44), \"\", Responses!C44)","v":""},{"$f":"IF(ISBLANK(Responses!D44), \"\", Responses!D44)","v":""},{"$f":"IF(ISBLANK(Responses!E44), \"\", Responses!E44)","v":""},{"$f":"IF(ISBLANK(Responses!F44), \"\", Responses!F44)","v":""},{"$f":"IF(ISBLANK(Responses!G44), \"\", Responses!G44)","v":""},{"$f":"IF(ISBLANK(Responses!H44), \"\", Responses!H44)","v":""},{"$f":"IF(ISBLANK(Responses!I44), \"\", Responses!I44)","v":""},{"$f":"IF(ISBLANK(Responses!J44), \"\", Responses!J44)","v":""},0]
[{"$f":"IF(ISBLANK(Responses!A45), \"\", Responses!A45)","v":""},{"$f":"IF(ISBLANK(Responses!B45), \"\", Responses!B45)","v":""},{"$f":"IF(ISBLANK(Responses!C45), \"\", Responses!C45)","v":""},{"$f":"IF(ISBLANK(Responses!D45), \"\", Responses!D45)","v":""},{"$f":"IF(ISBLANK(Responses!E45), \"\", Responses!E45)","v":""},{"$f":"IF(ISBLANK(Responses!F45), \"\", Responses!F45)","v":""},{"$f":"IF(ISBLANK(Responses!G45), \"\", Responses!G45)","v":""},{"$f":"IF(ISBLANK(Responses!H45), \"\", Responses!H45)","v":""},{"$f":"IF(ISBLANK(Responses!I45), \"\", Responses!I45)","v":""},{"$f":"IF(ISBLANK(Responses!J45), \"\", Responses!J45)","v":""},0]
[{"$f":"IF(ISBLANK(Responses!A46), \"\", Responses!A46)","v":""},{"$f":"IF(ISBLANK(Responses!B46), \"\", Responses!B46)","v":""},{"$f":"IF(ISBLANK(Responses!C46), \"\", Responses!C46)","v":""},{"$f":"IF(ISBLANK(Responses!D46), \"\", Responses!D46)","v":""},{"$f":"IF(ISBLANK(Responses!E46), \"\", Responses!E46)","v":""},{"$f":"IF(ISBLANK(Responses!F46), \"\", Responses!F46)","v":""},{"$f":"IF(ISBLANK(Responses!G46), \"\", Responses!G46)","v":""},{"$f":"IF(ISBLANK(Responses!H46), \"\", Responses!H46)","v":""},{"$f":"IF(ISBLANK(Responses!I46), \"\", Responses!I46)","v":""},{"$f":"IF(ISBLANK(Responses!J46), \"\", Responses!J46)","v":""},0]
[{"$f":"IF(ISBLANK(Responses!A47), \"\", Responses!A47)","v":""},{"$f":"IF(ISBLANK(Responses!B47), \"\", Responses!B47)","v":""},{"$f":"IF(ISBLANK(Responses!C47), \"\", Responses!C47)","v":""},{"$f":"IF(ISBLANK(Responses!D47), \"\", Responses!D47)","v":""},{"$f":"IF(ISBLANK(Responses!E47), \"\", Responses!E47)","v":""},{"$f":"IF(ISBLANK(Responses!F47), \"\", Responses!F47)","v":""},{"$f":"IF(ISBLANK(Responses!G47), \"\", Responses!G47)","v":""},{"$f":"IF(ISBLANK(Responses!H47), \"\", Responses!H47)","v":""},{"$f":"IF(ISBLANK(Responses!I47), \"\", Responses!I47)","v":""},{"$f":"IF(ISBLANK(Responses!J47), \"\", Responses!J47)","v":""},0]
[{"$f":"IF(ISBLANK(Responses!A48), \"\", Responses!A48)","v":""},{"$f":"IF(ISBLANK(Responses!B48), \"\", Responses!B48)","v":""},{"$f":"IF(ISBLANK(Responses!C48), \"\", Responses!C48)","v":""},{"$f":"IF(ISBLANK(Responses!D48), \"\", Responses!D48)","v":""},{"$f":"IF(ISBLANK(Responses!E48), \"\", Responses!E48)","v":""},{"$f":"IF(ISBLANK(Responses!F48), \"\", Responses!F48)","v":""},{"$f":"IF(ISBLANK(Responses!G48), \"\", Responses!G48)","v":""},{"$f":"IF(ISBLANK(Responses!H48), \"\", Responses!H48)","v":""},{"$f":"IF(ISBLANK(Responses!I48), \"\", Responses!I48)","v":""},{"$f":"IF(ISBLANK(Responses!J48), \"\", Responses!J48)","v":""},0]
[{"$f":"IF(ISBLANK(Responses!A49), \"\", Responses!A49)","v":""},{"$f":"IF(ISBLANK(Responses!B49), \"\", Responses!B49)","v":""},{"$f":"IF(ISBLANK(Responses!C49), \"\", Responses!C49)","v":""},{"$f":"IF(ISBLANK(Responses!D49), \"\", Responses!D49)","v":""},{"$f":"IF(ISBLANK(Responses!E49), \"\", Responses!E49)","v":""},{"$f":"IF(ISBLANK(Responses!F49), \"\", Responses!F49)","v":""},{"$f":"IF(ISBLANK(Responses!G49), \"\", Responses!G49)","v":""},{"$f":"IF(ISBLANK(Responses!H49), \"\", Responses!H49)","v":""},{"$f":"IF(ISBLANK(Responses!I49), \"\", Responses!I49)","v":""},{"$f":"IF(ISBLANK(Responses!J49), \"\", Responses!J49)","v":""},0]
[{"$f":"IF(ISBLANK(Responses!A50), \"\", Responses!A50)","v":""},{"$f":"IF(ISBLANK(Responses!B50), \"\", Responses!B50)","v":""},{"$f":"IF(ISBLANK(Responses!C50), \"\", Responses!C50)","v":""},{"$f":"IF(ISBLANK(Responses!D50), \"\", Responses!D50)","v":""},{"$f":"IF(ISBLANK(Responses!E50), \"\", Responses!E50)","v":""},{"$f":"IF(ISBLANK(Responses!F50), \"\", Responses!F50)","v":""},{"$f":"IF(ISBLANK(Responses!G50), \"\", Responses!G50)","v":""},{"$f":"IF(ISBLANK(Responses!H50), \"\", Responses!H50)","v":""},{"$f":"IF(ISBLANK(Responses!I50), \"\", Responses!I50)","v":""},{"$f":"IF(ISBLANK(Responses!J50), \"\", Responses!J50)","v":""},0]
[{"$f":"IF(ISBLANK(Responses!A51), \"\", Responses!A51)","v":""},{"$f":"IF(ISBLANK(Responses!B51), \"\", Responses!B51)","v":""},{"$f":"IF(ISBLANK(Responses!C51), \"\", Responses!C51)","v":""},{"$f":"IF(ISBLANK(Responses!D51), \"\", Responses!D51)","v":""},{"$f":"IF(ISBLANK(Responses!E51), \"\", Responses!E51)","v":""},{"$f":"IF(ISBLANK(Responses!F51), \"\", Responses!F51)","v":""},{"$f":"IF(ISBLANK(Responses!G51), \"\", Responses!G51)","v":""},{"$f":"IF(ISBLANK(Responses!H51), \"\", Responses!H51)","v":""},{"$f":"IF(ISBLANK(Responses!I51), \"\", Responses!I51)","v":""},{"$f":"IF(ISBLANK(Responses!J51), \"\", Responses!J51)","v":""},0]
[{"$f":"IF(ISBLANK(Responses!A52), \"\", Responses!A52)","v":""},{"$f":"IF(ISBLANK(Responses!B52), \"\", Responses!B52)","v":""},{"$f":"IF(ISBLANK(Responses!C52), \"\", Responses!C52)","v":""},{"$f":"IF(ISBLANK(Responses!D52), \"\", Responses!D52)","v":""},{"$f":"IF(ISBLANK(Responses!E52), \"\", Responses!E52)","v":""},{"$f":"IF(ISBLANK(Responses!F52), \"\", Responses!F52)","v":""},{"$f":"IF(ISBLANK(Responses!G52), \"\", Responses!G52)","v":""},{"$f":"IF(ISBLANK(Responses!H52), \"\", Responses!H52)","v":""},{"$f":"IF(ISBLANK(Responses!I52), \"\", Responses!I52)","v":""},{"$f":"IF(ISBLANK(Responses!J52), \"\", Responses!J52)","v":""},0]
[{"$f":"IF(ISBLANK(Responses!A53), \"\", Responses!A53)","v":""},{"$f":"IF(ISBLANK(Responses!B53), \"\", Responses!B53)","v":""},{"$f":"IF(ISBLANK(Responses!C53), \"\", Responses!C53)","v":""},{"$f":"IF(ISBLANK(Responses!D53), \"\", Responses!D53)","v":""},{"$f":"IF(ISBLANK(Responses!E53), \"\", Responses!E53)","v":""},{"$f":"IF(ISBLANK(Responses!F53), \"\", Responses!F53)","v":""},{"$f":"IF(ISBLANK(Responses!G53), \"\", Responses!G53)","v":""},{"$f":"IF(ISBLANK(Responses!H53), \"\", Responses!H53)","v":""},{"$f":"IF(ISBLANK(Responses!I53), \"\", Responses!I53)","v":""},{"$f":"IF(ISBLANK(Responses!J53), \"\", Responses!J53)","v":""},0]
[{"$f":"IF(ISBLANK(Responses!A54), \"\", Responses!A54)","v":""},{"$f":"IF(ISBLANK(Responses!B54), \"\", Responses!B54)","v":""},{"$f":"IF(ISBLANK(Responses!C54), \"\", Responses!C54)","v":""},{"$f":"IF(ISBLANK(Responses!D54), \"\", Responses!D54)","v":""},{"$f":"IF(ISBLANK(Responses!E54), \"\", Responses!E54)","v":""},{"$f":"IF(ISBLANK(Responses!F54), \"\", Responses!F54)","v":""},{"$f":"IF(ISBLANK(Responses!G54), \"\", Responses!G54)","v":""},{"$f":"IF(ISBLANK(Responses!H54), \"\", Responses!H54)","v":""},{"$f":"IF(ISBLANK(Responses!I54), \"\", Responses!I54)","v":""},{"$f":"IF(ISBLANK(Responses!J54), \"\", Responses!J54)","v":""},0]
[{"$f":"IF(ISBLANK(Responses!A55), \"\", Responses!A55)","v":""},{"$f":"IF(ISBLANK(Responses!B55), \"\", Responses!B55)","v":""},{"$f":"IF(ISBLANK(Responses!C55), \"\", Responses!C55)","v":""},{"$f":"IF(ISBLANK(Responses!D55), \"\", Responses!D55)","v":""},{"$f":"IF(ISBLANK(Responses!E55), \"\", Responses!E55)","v":""},{"$f":"IF(ISBLANK(Responses!F55), \"\", Responses!F55)","v":""},{"$f":"IF(ISBLANK(Responses!G55), \"\", Responses!G55)","v":""},{"$f":"IF(ISBLANK(Responses!H55), \"\", Responses!H55)","v":""},{"$f":"IF(ISBLANK(Responses!I55), \"\", Responses!I55)","v":""},{"$f":"IF(ISBLANK(Responses!J55), \"\", Responses!J55)","v":""},0]
[{"$f":"IF(ISBLANK(Responses!A56), \"\", Responses!A56)","v":""},{"$f":"IF(ISBLANK(Responses!B56), \"\", Responses!B56)","v":""},{"$f":"IF(ISBLANK(Responses!C56), \"\", Responses!C56)","v":""},{"$f":"IF(ISBLANK(Responses!D56), \"\", Responses!D56)","v":""},{"$f":"IF(ISBLANK(Responses!E56), \"\", Responses!E56)","v":""},{"$f":"IF(ISBLANK(Responses!F56), \"\", Responses!F56)","v":""},{"$f":"IF(ISBLANK(Responses!G56), \"\", Responses!G56)","v":""},{"$f":"IF(ISBLANK(Responses!H56), \"\", Responses!H56)","v":""},{"$f":"IF(ISBLANK(Responses!I56), \"\", Responses!I56)","v":""},{"$f":"IF(ISBLANK(Responses!J56), \"\", Responses!J56)","v":""},0]
[{"$f":"IF(ISBLANK(Responses!A57), \"\", Responses!A57)","v":""},{"$f":"IF(ISBLANK(Responses!B57), \"\", Responses!B57)","v":""},{"$f":"IF(ISBLANK(Responses!C57), \"\", Responses!C57)","v":""},{"$f":"IF(ISBLANK(Responses!D57), \"\", Responses!D57)","v":""},{"$f":"IF(ISBLANK(Responses!E57), \"\", Responses!E57)","v":""},{"$f":"IF(ISBLANK(Responses!F57), \"\", Responses!F57)","v":""},{"$f":"IF(ISBLANK(Responses!G57), \"\", Responses!G57)","v":""},{"$f":"IF(ISBLANK(Responses!H57), \"\", Responses!H57)","v":""},{"$f":"IF(ISBLANK(Responses!I57), \"\", Responses!I57)","v":""},{"$f":"IF(ISBLANK(Responses!J57), \"\", Responses!J57)","v":""},0]
[{"$f":"IF(ISBLANK(Responses!A58), \"\", Responses!A58)","v":""},{"$f":"IF(ISBLANK(Responses!B58), \"\", Responses!B58)","v":""},{"$f":"IF(ISBLANK(Responses!C58), \"\", Responses!C58)","v":""},{"$f":"IF(ISBLANK(Responses!D58), \"\", Responses!D58)","v":""},{"$f":"IF(ISBLANK(Responses!E58), \"\", Responses!E58)","v":""},{"$f":"IF(ISBLANK(Responses!F58), \"\", Responses!F58)","v":""},{"$f":"IF(ISBLANK(Responses!G58), \"\", Responses!G58)","v":""},{"$f":"IF(ISBLANK(Responses!H58), \"\", Responses!H58)","v":""},{"$f":"IF(ISBLANK(Responses!I58), \"\", Responses!I58)","v":""},{"$f":"IF(ISBLANK(Responses!J58), \"\", Responses!J58)","v":""},0]
[{"$f":"IF(ISBLANK(Responses!A59), \"\", Responses!A59)","v":""},{"$f":"IF(ISBLANK(Responses!B59), \"\", Responses!B59)","v":""},{"$f":"IF(ISBLANK(Responses!C59), \"\", Responses!C59)","v":""},{"$f":"IF(ISBLANK(Responses!D59), \"\", Responses!D59)","v":""},{"$f":"IF(ISBLANK(Responses!E59), \"\", Responses!E59)","v":""},{"$f":"IF(ISBLANK(Responses!F59), \"\", Responses!F59)","v":""},{"$f":"IF(ISBLANK(Responses!G59), \"\", Responses!G59)","v":""},{"$f":"IF(ISBLANK(Responses!H59), \"\", Responses!H59)","v":""},{"$f":"IF(ISBLANK(Responses!I59), \"\", Responses!I59)","v":""},{"$f":"IF(ISBLANK(Responses!J59), \"\", Responses!J59)","v":""},0]
[{"$f":"IF(ISBLANK(Responses!A60), \"\", Responses!A60)","v":""},{"$f":"IF(ISBLANK(Responses!B60), \"\", Responses!B60)","v":""},{"$f":"IF(ISBLANK(Responses!C60), \"\", Responses!C60)","v":""},{"$f":"IF(ISBLANK(Responses!D60), \"\", Responses!D60)","v":""},{"$f":"IF(ISBLANK(Responses!E60), \"\", Responses!E60)","v":""},{"$f":"IF(ISBLANK(Responses!F60), \"\", Responses!F60)","v":""},{"$f":"IF(ISBLANK(Responses!G60), \"\", Responses!G60)","v":""},{"$f":"IF(ISBLANK(Responses!H60), \"\", Responses!H60)","v":""},{"$f":"IF(ISBLANK(Responses!I60), \"\", Responses!I60)","v":""},{"$f":"IF(ISBLANK(Responses!J60), \"\", Responses!J60)","v":""},0]
[{"$f":"IF(ISBLANK(Responses!A61), \"\", Responses!A61)","v":""},{"$f":"IF(ISBLANK(Responses!B61), \"\", Responses!B61)","v":""},{"$f":"IF(ISBLANK(Responses!C61), \"\", Responses!C61)","v":""},{"$f":"IF(ISBLANK(Responses!D61), \"\", Responses!D61)","v":""},{"$f":"IF(ISBLANK(Responses!E61), \"\", Responses!E61)","v":""},{"$f":"IF(ISBLANK(Responses!F61), \"\", Responses!F61)","v":""},{"$f":"IF(ISBLANK(Responses!G61), \"\", Responses!G61)","v":""},{"$f":"IF(ISBLANK(Responses!H61), \"\", Responses!H61)","v":""},{"$f":"IF(ISBLANK(Responses!I61), \"\", Responses!I61)","v":""},{"$f":"IF(ISBLANK(Responses!J61), \"\", Responses!J61)","v":""},0]
[{"$f":"IF(ISBLANK(Responses!A62), \"\", Responses!A62)","v":""},{"$f":"IF(ISBLANK(Responses!B62), \"\", Responses!B62)","v":""},{"$f":"IF(ISBLANK(Responses!C62), \"\", Responses!C62)","v":""},{"$f":"IF(ISBLANK(Responses!D62), \"\", Responses!D62)","v":""},{"$f":"IF(ISBLANK(Responses!E62), \"\", Responses!E62)","v":""},{"$f":"IF(ISBLANK(Responses!F62), \"\", Responses!F62)","v":""},{"$f":"IF(ISBLANK(Responses!G62), \"\", Responses!G62)","v":""},{"$f":"IF(ISBLANK(Responses!H62), \"\", Responses!H62)","v":""},{"$f":"IF(ISBLANK(Responses!I62), \"\", Responses!I62)","v":""},{"$f":"IF(ISBLANK(Responses!J62), \"\", Responses!J62)","v":""},0]
[{"$f":"IF(ISBLANK(Responses!A63), \"\", Responses!A63)","v":""},{"$f":"IF(ISBLANK(Responses!B63), \"\", Responses!B63)","v":""},{"$f":"IF(ISBLANK(Responses!C63), \"\", Responses!C63)","v":""},{"$f":"IF(ISBLANK(Responses!D63), \"\", Responses!D63)","v":""},{"$f":"IF(ISBLANK(Responses!E63), \"\", Responses!E63)","v":""},{"$f":"IF(ISBLANK(Responses!F63), \"\", Responses!F63)","v":""},{"$f":"IF(ISBLANK(Responses!G63), \"\", Responses!G63)","v":""},{"$f":"IF(ISBLANK(Responses!H63), \"\", Responses!H63)","v":""},{"$f":"IF(ISBLANK(Responses!I63), \"\", Responses!I63)","v":""},{"$f":"IF(ISBLANK(Responses!J63), \"\", Responses!J63)","v":""},0]
[{"$f":"IF(ISBLANK(Responses!A64), \"\", Responses!A64)","v":""},{"$f":"IF(ISBLANK(Responses!B64), \"\", Responses!B64)","v":""},{"$f":"IF(ISBLANK(Responses!C64), \"\", Responses!C64)","v":""},{"$f":"IF(ISBLANK(Responses!D64), \"\", Responses!D64)","v":""},{"$f":"IF(ISBLANK(Responses!E64), \"\", Responses!E64)","v":""},{"$f":"IF(ISBLANK(Responses!F64), \"\", Responses!F64)","v":""},{"$f":"IF(ISBLANK(Responses!G64), \"\", Responses!G64)","v":""},{"$f":"IF(ISBLANK(Responses!H64), \"\", Responses!H64)","v":""},{"$f":"IF(ISBLANK(Responses!I64), \"\", Responses!I64)","v":""},{"$f":"IF(ISBLANK(Responses!J64), \"\", Responses!J64)","v":""},0]
[{"$f":"IF(ISBLANK(Responses!A65), \"\", Responses!A65)","v":""},{"$f":"IF(ISBLANK(Responses!B65), \"\", Responses!B65)","v":""},{"$f":"IF(ISBLANK(Responses!C65), \"\", Responses!C65)","v":""},{"$f":"IF(ISBLANK(Responses!D65), \"\", Responses!D65)","v":""},{"$f":"IF(ISBLANK(Responses!E65), \"\", Responses!E65)","v":""},{"$f":"IF(ISBLANK(Responses!F65), \"\", Responses!F65)","v":""},{"$f":"IF(ISBLANK(Responses!G65), \"\", Responses!G65)","v":""},{"$f":"IF(ISBLANK(Responses!H65), \"\", Responses!H65)","v":""},{"$f":"IF(ISBLANK(Responses!I65), \"\", Responses!I65)","v":""},{"$f":"IF(ISBLANK(Responses!J65), \"\", Responses!J65)","v":""},0]
[{"$f":"IF(ISBLANK(Responses!A66), \"\", Responses!A66)","v":""},{"$f":"IF(ISBLANK(Responses!B66), \"\", Responses!B66)","v":""},{"$f":"IF(ISBLANK(Responses!C66), \"\", Responses!C66)","v":""},{"$f":"IF(ISBLANK(Responses!D66), \"\", Responses!D66)","v":""},{"$f":"IF(ISBLANK(Responses!E66), \"\", Responses!E66)","v":""},{"$f":"IF(ISBLANK(Responses!F66), \"\", Responses!F66)","v":""},{"$f":"IF(ISBLANK(Responses!G66), \"\", Responses!G66)","v":""},{"$f":"IF(ISBLANK(Responses!H66), \"\", Responses!H66)","v":""},{"$f":"IF(ISBLANK(Responses!I66), \"\", Responses!I66)","v":""},{"$f":"IF(ISBLANK(Responses!J66), \"\", Responses!J66)","v":""},0]
[{"$f":"IF(ISBLANK(Responses!A67), \"\", Responses!A67)","v":""},{"$f":"IF(ISBLANK(Responses!B67), \"\", Responses!B67)","v":""},{"$f":"IF(ISBLANK(Responses!C67), \"\", Responses!C67)","v":""},{"$f":"IF(ISBLANK(Responses!D67), \"\", Responses!D67)","v":""},{"$f":"IF(ISBLANK(Responses!E67), \"\", Responses!E67)","v":""},{"$f":"IF(ISBLANK(Responses!F67), \"\", Responses!F67)","v":""},{"$f":"IF(ISBLANK(Responses!G67), \"\", Responses!G67)","v":""},{"$f":"IF(ISBLANK(Responses!H67), \"\", Responses!H67)","v":""},{"$f":"IF(ISBLANK(Responses!I67), \"\", Responses!I67)","v":""},{"$f":"IF(ISBLANK(Responses!J67), \"\", Responses!J67)","v":""},0]
[{"$f":"IF(ISBLANK(Responses!A68), \"\", Responses!A68)","v":""},{"$f":"IF(ISBLANK(Responses!B68), \"\", Responses!B68)","v":""},{"$f":"IF(ISBLANK(Responses!C68), \"\", Responses!C68)","v":""},{"$f":"IF(ISBLANK(Responses!D68), \"\", Responses!D68)","v":""},{"$f":"IF(ISBLANK(Responses!E68), \"\", Responses!E68)","v":""},{"$f":"IF(ISBLANK(Responses!F68), \"\", Responses!F68)","v":""},{"$f":"IF(ISBLANK(Responses!G68), \"\", Responses!G68)","v":""},{"$f":"IF(ISBLANK(Responses!H68), \"\", Responses!H68)","v":""},{"$f":"IF(ISBLANK(Responses!I68), \"\", Responses!I68)","v":""},{"$f":"IF(ISBLANK(Responses!J68), \"\", Responses!J68)","v":""},0]
[{"$f":"IF(ISBLANK(Responses!A69), \"\", Responses!A69)","v":""},{"$f":"IF(ISBLANK(Responses!B69), \"\", Responses!B69)","v":""},{"$f":"IF(ISBLANK(Responses!C69), \"\", Responses!C69)","v":""},{"$f":"IF(ISBLANK(Responses!D69), \"\", Responses!D69)","v":""},{"$f":"IF(ISBLANK(Responses!E69), \"\", Responses!E69)","v":""},{"$f":"IF(ISBLANK(Responses!F69), \"\", Responses!F69)","v":""},{"$f":"IF(ISBLANK(Responses!G69), \"\", Responses!G69)","v":""},{"$f":"IF(ISBLANK(Responses!H69), \"\", Responses!H69)","v":""},{"$f":"IF(ISBLANK(Responses!I69), \"\", Responses!I69)","v":""},{"$f":"IF(ISBLANK(Responses!J69), \"\", Responses!J69)","v":""},0]
[{"$f":"IF(ISBLANK(Responses!A70), \"\", Responses!A70)","v":""},{"$f":"IF(ISBLANK(Responses!B70), \"\", Responses!B70)","v":""},{"$f":"IF(ISBLANK(Responses!C70), \"\", Responses!C70)","v":""},{"$f":"IF(ISBLANK(Responses!D70), \"\", Responses!D70)","v":""},{"$f":"IF(ISBLANK(Responses!E70), \"\", Responses!E70)","v":""},{"$f":"IF(ISBLANK(Responses!F70), \"\", Responses!F70)","v":""},{"$f":"IF(ISBLANK(Responses!G70), \"\", Responses!G70)","v":""},{"$f":"IF(ISBLANK(Responses!H70), \"\", Responses!H70)","v":""},{"$f":"IF(ISBLANK(Responses!I70), \"\", Responses!I70)","v":""},{"$f":"IF(ISBLANK(Responses!J70), \"\", Responses!J70)","v":""},0]
[{"$f":"IF(ISBLANK(Responses!A71), \"\", Responses!A71)","v":""},{"$f":"IF(ISBLANK(Responses!B71), \"\", Responses!B71)","v":""},{"$f":"IF(ISBLANK(Responses!C71), \"\", Responses!C71)","v":""},{"$f":"IF(ISBLANK(Responses!D71), \"\", Responses!D71)","v":""},{"$f":"IF(ISBLANK(Responses!E71), \"\", Responses!E71)","v":""},{"$f":"IF(ISBLANK(Responses!F71), \"\", Responses!F71)","v":""},{"$f":"IF(ISBLANK(Responses!G71), \"\", Responses!G71)","v":""},{"$f":"IF(ISBLANK(Responses!H71), \"\", Responses!H71)","v":""},{"$f":"IF(ISBLANK(Responses!I71), \"\", Responses!I71)","v":""},{"$f":"IF(ISBLANK(Responses!J71), \"\", Responses!J71)","v":""},0]
[{"$f":"IF(ISBLANK(Responses!A72), \"\", Responses!A72)","v":""},{"$f":"IF(ISBLANK(Responses!B72), \"\", Responses!B72)","v":""},{"$f":"IF(ISBLANK(Responses!C72), \"\", Responses!C72)","v":""},{"$f":"IF(ISBLANK(Responses!D72), \"\", Responses!D72)","v":""},{"$f":"IF(ISBLANK(Responses!E72), \"\", Responses!E72)","v":""},{"$f":"IF(ISBLANK(Responses!F72), \"\", Responses!F72)","v":""},{"$f":"IF(ISBLANK(Responses!G72), \"\", Responses!G72)","v":""},{"$f":"IF(ISBLANK(Responses!H72), \"\", Responses!H72)","v":""},{"$f":"IF(ISBLANK(Responses!I72), \"\", Responses!I72)","v":""},{"$f":"IF(ISBLANK(Responses!J72), \"\", Responses!J72)","v":""},0]
[{"$f":"IF(ISBLANK(Responses!A73), \"\", Responses!A73)","v":""},{"$f":"IF(ISBLANK(Responses!B73), \"\", Responses!B73)","v":""},{"$f":"IF(ISBLANK(Responses!C73), \"\", Responses!C73)","v":""},{"$f":"IF(ISBLANK(Responses!D73), \"\", Responses!D73)","v":""},{"$f":"IF(ISBLANK(Responses!E73), \"\", Responses!E73)","v":""},{"$f":"IF(ISBLANK(Responses!F73), \"\", Responses!F73)","v":""},{"$f":"IF(ISBLANK(Responses!G73), \"\", Responses!G73)","v":""},{"$f":"IF(ISBLANK(Responses!H73), \"\", Responses!H73)","v":""},{"$f":"IF(ISBLANK(Responses!I73), \"\", Responses!I73)","v":""},{"$f":"IF(ISBLANK(Responses!J73), \"\", Responses!J73)","v":""},0]
[{"$f":"IF(ISBLANK(Responses!A74), \"\", Responses!A74)","v":""},{"$f":"IF(ISBLANK(Responses!B74), \"\", Responses!B74)","v":""},{"$f":"IF(ISBLANK(Responses!C74), \"\", Responses!C74)","v":""},{"$f":"IF(ISBLANK(Responses!D74), \"\", Responses!D74)","v":""},{"$f":"IF(ISBLANK(Responses!E74), \"\", Responses!E74)","v":""},{"$f":"IF(ISBLANK(Responses!F74), \"\", Responses!F74)","v":""},{"$f":"IF(ISBLANK(Responses!G74), \"\", Responses!G74)","v":""},{"$f":"IF(ISBLANK(Responses!H74), \"\", Responses!H74)","v":""},{"$f":"IF(ISBLANK(Responses!I74), \"\", Responses!I74)","v":""},{"$f":"IF(ISBLANK(Responses!J74), \"\", Responses!J74)","v":""},0]
[{"$f":"IF(ISBLANK(Responses!A75), \"\", Responses!A75)","v":""},{"$f":"IF(ISBLANK(Responses!B75), \"\", Responses!B75)","v":""},{"$f":"IF(ISBLANK(Responses!C75), \"\", Responses!C75)","v":""},{"$f":"IF(ISBLANK(Responses!D75), \"\", Responses!D75)","v":""},{"$f":"IF(ISBLANK(Responses!E75), \"\", Responses!E75)","v":""},{"$f":"IF(ISBLANK(Responses!F75), \"\", Responses!F75)","v":""},{"$f":"IF(ISBLANK(Responses!G75), \"\", Responses!G75)","v":""},{"$f":"IF(ISBLANK(Responses!H75), \"\", Responses!H75)","v":""},{"$f":"IF(ISBLANK(Responses!I75), \"\", Responses!I75)","v":""},{"$f":"IF(ISBLANK(Responses!J75), \"\", Responses!J75)","v":""},0]
[{"$f":"IF(ISBLANK(Responses!A76), \"\", Responses!A76)","v":""},{"$f":"IF(ISBLANK(Responses!B76), \"\", Responses!B76)","v":""},{"$f":"IF(ISBLANK(Responses!C76), \"\", Responses!C76)","v":""},{"$f":"IF(ISBLANK(Responses!D76), \"\", Responses!D76)","v":""},{"$f":"IF(ISBLANK(Responses!E76), \"\", Responses!E76)","v":""},{"$f":"IF(ISBLANK(Responses!F76), \"\", Responses!F76)","v":""},{"$f":"IF(ISBLANK(Responses!G76), \"\", Responses!G76)","v":""},{"$f":"IF(ISBLANK(Responses!H76), \"\", Responses!H76)","v":""},{"$f":"IF(ISBLANK(Responses!I76), \"\", Responses!I76)","v":""},{"$f":"IF(ISBLANK(Responses!J76), \"\", Responses!J76)","v":""},0]
[{"$f":"IF(ISBLANK(Responses!A77), \"\", Responses!A77)","v":""},{"$f":"IF(ISBLANK(Responses!B77), \"\", Responses!B77)","v":""},{"$f":"IF(ISBLANK(Responses!C77), \"\", Responses!C77)","v":""},{"$f":"IF(ISBLANK(Responses!D77), \"\", Responses!D77)","v":""},{"$f":"IF(ISBLANK(Responses!E77), \"\", Responses!E77)","v":""},{"$f":"IF(ISBLANK(Responses!F77), \"\", Responses!F77)","v":""},{"$f":"IF(ISBLANK(Responses!G77), \"\", Responses!G77)","v":""},{"$f":"IF(ISBLANK(Responses!H77), \"\", Responses!H77)","v":""},{"$f":"IF(ISBLANK(Responses!I77), \"\", Responses!I77)","v":""},{"$f":"IF(ISBLANK(Responses!J77), \"\", Responses!J77)","v":""},0]
[{"$f":"IF(ISBLANK(Responses!A78), \"\", Responses!A78)","v":""},{"$f":"IF(ISBLANK(Responses!B78), \"\", Responses!B78)","v":""},{"$f":"IF(ISBLANK(Responses!C78), \"\", Responses!C78)","v":""},{"$f":"IF(ISBLANK(Responses!D78), \"\", Responses!D78)","v":""},{"$f":"IF(ISBLANK(Responses!E78), \"\", Responses!E78)","v":""},{"$f":"IF(ISBLANK(Responses!F78), \"\", Responses!F78)","v":""},{"$f":"IF(ISBLANK(Responses!G78), \"\", Responses!G78)","v":""},{"$f":"IF(ISBLANK(Responses!H78), \"\", Responses!H78)","v":""},{"$f":"IF(ISBLANK(Responses!I78), \"\", Responses!I78)","v":""},{"$f":"IF(ISBLANK(Responses!J78), \"\", Responses!J78)","v":""},0]
[{"$f":"IF(ISBLANK(Responses!A79), \"\", Responses!A79)","v":""},{"$f":"IF(ISBLANK(Responses!B79), \"\", Responses!B79)","v":""},{"$f":"IF(ISBLANK(Responses!C79), \"\", Responses!C79)","v":""},{"$f":"IF(ISBLANK(Responses!D79), \"\", Responses!D79)","v":""},{"$f":"IF(ISBLANK(Responses!E79), \"\", Responses!E79)","v":""},{"$f":"IF(ISBLANK(Responses!F79), \"\", Responses!F79)","v":""},{"$f":"IF(ISBLANK(Responses!G79), \"\", Responses!G79)","v":""},{"$f":"IF(ISBLANK(Responses!H79), \"\", Responses!H79)","v":""},{"$f":"IF(ISBLANK(Responses!I79), \"\", Responses!I79)","v":""},{"$f":"IF(ISBLANK(Responses!J79), \"\", Responses!J79)","v":""},0]
[{"$f":"IF(ISBLANK(Responses!A80), \"\", Responses!A80)","v":""},{"$f":"IF(ISBLANK(Responses!B80), \"\", Responses!B80)","v":""},{"$f":"IF(ISBLANK(Responses!C80), \"\", Responses!C80)","v":""},{"$f":"IF(ISBLANK(Responses!D80), \"\", Responses!D80)","v":""},{"$f":"IF(ISBLANK(Responses!E80), \"\", Responses!E80)","v":""},{"$f":"IF(ISBLANK(Responses!F80), \"\", Responses!F80)","v":""},{"$f":"IF(ISBLANK(Responses!G80), \"\", Responses!G80)","v":""},{"$f":"IF(ISBLANK(Responses!H80), \"\", Responses!H80)","v":""},{"$f":"IF(ISBLANK(Responses!I80), \"\", Responses!I80)","v":""},{"$f":"IF(ISBLANK(Responses!J80), \"\", Responses!J80)","v":""},0]
[{"$f":"IF(ISBLANK(Responses!A81), \"\", Responses!A81)","v":""},{"$f":"IF(ISBLANK(Responses!B81), \"\", Responses!B81)","v":""},{"$f":"IF(ISBLANK(Responses!C81), \"\", Responses!C81)","v":""},{"$f":"IF(ISBLANK(Responses!D81), \"\", Responses!D81)","v":""},{"$f":"IF(ISBLANK(Responses!E81), \"\", Responses!E81)","v":""},{"$f":"IF(ISBLANK(Responses!F81), \"\", Responses!F81)","v":""},{"$f":"IF(ISBLANK(Responses!G81), \"\", Responses!G81)","v":""},{"$f":"IF(ISBLANK(Responses!H81), \"\", Responses!H81)","v":""},{"$f":"IF(ISBLANK(Responses!I81), \"\", Responses!I81)","v":""},{"$f":"IF(ISBLANK(Responses!J81), \"\", Responses!J81)","v":""},0]
[{"$f":"IF(ISBLANK(Responses!A82), \"\", Responses!A82)","v":""},{"$f":"IF(ISBLANK(Responses!B82), \"\", Responses!B82)","v":""},{"$f":"IF(ISBLANK(Responses!C82), \"\", Responses!C82)","v":""},{"$f":"IF(ISBLANK(Responses!D82), \"\", Responses!D82)","v":""},{"$f":"IF(ISBLANK(Responses!E82), \"\", Responses!E82)","v":""},{"$f":"IF(ISBLANK(Responses!F82), \"\", Responses!F82)","v":""},{"$f":"IF(ISBLANK(Responses!G82), \"\", Responses!G82)","v":""},{"$f":"IF(ISBLANK(Responses!H82), \"\", Responses!H82)","v":""},{"$f":"IF(ISBLANK(Responses!I82), \"\", Responses!I82)","v":""},{"$f":"IF(ISBLANK(Responses!J82), \"\", Responses!J82)","v":""},0]
[{"$f":"IF(ISBLANK(Responses!A83), \"\", Responses!A83)","v":""},{"$f":"IF(ISBLANK(Responses!B83), \"\", Responses!B83)","v":""},{"$f":"IF(ISBLANK(Responses!C83), \"\", Responses!C83)","v":""},{"$f":"IF(ISBLANK(Responses!D83), \"\", Responses!D83)","v":""},{"$f":"IF(ISBLANK(Responses!E83), \"\", Responses!E83)","v":""},{"$f":"IF(ISBLANK(Responses!F83), \"\", Responses!F83)","v":""},{"$f":"IF(ISBLANK(Responses!G83), \"\", Responses!G83)","v":""},{"$f":"IF(ISBLANK(Responses!H83), \"\", Responses!H83)","v":""},{"$f":"IF(ISBLANK(Responses!I83), \"\", Responses!I83)","v":""},{"$f":"IF(ISBLANK(Responses!J83), \"\", Responses!J83)","v":""},0]
[{"$f":"IF(ISBLANK(Responses!A84), \"\", Responses!A84)","v":""},{"$f":"IF(ISBLANK(Responses!B84), \"\", Responses!B84)","v":""},{"$f":"IF(ISBLANK(Responses!C84), \"\", Responses!C84)","v":""},{"$f":"IF(ISBLANK(Responses!D84), \"\", Responses!D84)","v":""},{"$f":"IF(ISBLANK(Responses!E84), \"\", Responses!E84)","v":""},{"$f":"IF(ISBLANK(Responses!F84), \"\", Responses!F84)","v":""},{"$f":"IF(ISBLANK(Responses!G84), \"\", Responses!G84)","v":""},{"$f":"IF(ISBLANK(Responses!H84), \"\", Responses!H84)","v":""},{"$f":"IF(ISBLANK(Responses!I84), \"\", Responses!I84)","v":""},{"$f":"IF(ISBLANK(Responses!J84), \"\", Responses!J84)","v":""},0]
[{"$f":"IF(ISBLANK(Responses!A85), \"\", Responses!A85)","v":""},{"$f":"IF(ISBLANK(Responses!B85), \"\", Responses!B85)","v":""},{"$f":"IF(ISBLANK(Responses!C85), \"\", Responses!C85)","v":""},{"$f":"IF(ISBLANK(Responses!D85), \"\", Responses!D85)","v":""},{"$f":"IF(ISBLANK(Responses!E85), \"\", Responses!E85)","v":""},{"$f":"IF(ISBLANK(Responses!F85), \"\", Responses!F85)","v":""},{"$f":"IF(ISBLANK(Responses!G85), \"\", Responses!G85)","v":""},{"$f":"IF(ISBLANK(Responses!H85), \"\", Responses!H85)","v":""},{"$f":"IF(ISBLANK(Responses!I85), \"\", Responses!I85)","v":""},{"$f":"IF(ISBLANK(Responses!J85), \"\", Responses!J85)","v":""},0]
[{"$f":"IF(ISBLANK(Responses!A86), \"\", Responses!A86)","v":""},{"$f":"IF(ISBLANK(Responses!B86), \"\", Responses!B86)","v":""},{"$f":"IF(ISBLANK(Responses!C86), \"\", Responses!C86)","v":""},{"$f":"IF(ISBLANK(Responses!D86), \"\", Responses!D86)","v":""},{"$f":"IF(ISBLANK(Responses!E86), \"\", Responses!E86)","v":""},{"$f":"IF(ISBLANK(Responses!F86), \"\", Responses!F86)","v":""},{"$f":"IF(ISBLANK(Responses!G86), \"\", Responses!G86)","v":""},{"$f":"IF(ISBLANK(Responses!H86), \"\", Responses!H86)","v":""},{"$f":"IF(ISBLANK(Responses!I86), \"\", Responses!I86)","v":""},{"$f":"IF(ISBLANK(Responses!J86), \"\", Responses!J86)","v":""},0]
[{"$f":"IF(ISBLANK(Responses!A87), \"\", Responses!A87)","v":""},{"$f":"IF(ISBLANK(Responses!B87), \"\", Responses!B87)","v":""},{"$f":"IF(ISBLANK(Responses!C87), \"\", Responses!C87)","v":""},{"$f":"IF(ISBLANK(Responses!D87), \"\", Responses!D87)","v":""},{"$f":"IF(ISBLANK(Responses!E87), \"\", Responses!E87)","v":""},{"$f":"IF(ISBLANK(Responses!F87), \"\", Responses!F87)","v":""},{"$f":"IF(ISBLANK(Responses!G87), \"\", Responses!G87)","v":""},{"$f":"IF(ISBLANK(Responses!H87), \"\", Responses!H87)","v":""},{"$f":"IF(ISBLANK(Responses!I87), \"\", Responses!I87)","v":""},{"$f":"IF(ISBLANK(Responses!J87), \"\", Responses!J87)","v":""},0]
[{"$f":"IF(ISBLANK(Responses!A88), \"\", Responses!A88)","v":""},{"$f":"IF(ISBLANK(Responses!B88), \"\", Responses!B88)","v":""},{"$f":"IF(ISBLANK(Responses!C88), \"\", Responses!C88)","v":""},{"$f":"IF(ISBLANK(Responses!D88), \"\", Responses!D88)","v":""},{"$f":"IF(ISBLANK(Responses!E88), \"\", Responses!E88)","v":""},{"$f":"IF(ISBLANK(Responses!F88), \"\", Responses!F88)","v":""},{"$f":"IF(ISBLANK(Responses!G88), \"\", Responses!G88)","v":""},{"$f":"IF(ISBLANK(Responses!H88), \"\", Responses!H88)","v":""},{"$f":"IF(ISBLANK(Responses!I88), \"\", Responses!I88)","v":""},{"$f":"IF(ISBLANK(Responses!J88), \"\", Responses!J88)","v":""},0]
[{"$f":"IF(ISBLANK(Responses!A89), \"\", Responses!A89)","v":""},{"$f":"IF(ISBLANK(Responses!B89), \"\", Responses!B89)","v":""},{"$f":"IF(ISBLANK(Responses!C89), \"\", Responses!C89)","v":""},{"$f":"IF(ISBLANK(Responses!D89), \"\", Responses!D89)","v":""},{"$f":"IF(ISBLANK(Responses!E89), \"\", Responses!E89)","v":""},{"$f":"IF(ISBLANK(Responses!F89), \"\", Responses!F89)","v":""},{"$f":"IF(ISBLANK(Responses!G89), \"\", Responses!G89)","v":""},{"$f":"IF(ISBLANK(Responses!H89), \"\", Responses!H89)","v":""},{"$f":"IF(ISBLANK(Responses!I89), \"\", Responses!I89)","v":""},{"$f":"IF(ISBLANK(Responses!J89), \"\", Responses!J89)","v":""},0]
[{"$f":"IF(ISBLANK(Responses!A90), \"\", Responses!A90)","v":""},{"$f":"IF(ISBLANK(Responses!B90), \"\", Responses!B90)","v":""},{"$f":"IF(ISBLANK(Responses!C90), \"\", Responses!C90)","v":""},{"$f":"IF(ISBLANK(Responses!D90), \"\", Responses!D90)","v":""},{"$f":"IF(ISBLANK(Responses!E90), \"\", Responses!E90)","v":""},{"$f":"IF(ISBLANK(Responses!F90), \"\", Responses!F90)","v":""},{"$f":"IF(ISBLANK(Responses!G90), \"\", Responses!G90)","v":""},{"$f":"IF(ISBLANK(Responses!H90), \"\", Responses!H90)","v":""},{"$f":"IF(ISBLANK(Responses!I90), \"\", Responses!I90)","v":""},{"$f":"IF(ISBLANK(Responses!J90), \"\", Responses!J90)","v":""},0]
[{"$f":"IF(ISBLANK(Responses!A91), \"\", Responses!A91)","v":""},{"$f":"IF(ISBLANK(Responses!B91), \"\", Responses!B91)","v":""},{"$f":"IF(ISBLANK(Responses!C91), \"\", Responses!C91)","v":""},{"$f":"IF(ISBLANK(Responses!D91), \"\", Responses!D91)","v":""},{"$f":"IF(ISBLANK(Responses!E91), \"\", Responses!E91)","v":""},{"$f":"IF(ISBLANK(Responses!F91), \"\", Responses!F91)","v":""},{"$f":"IF(ISBLANK(Responses!G91), \"\", Responses!G91)","v":""},{"$f":"IF(ISBLANK(Responses!H91), \"\", Responses!H91)","v":""},{"$f":"IF(ISBLANK(Responses!I91), \"\", Responses!I91)","v":""},{"$f":"IF(ISBLANK(Responses!J91), \"\", Responses!J91)","v":""},0]
[{"$f":"IF(ISBLANK(Responses!A92), \"\", Responses!A92)","v":""},{"$f":"IF(ISBLANK(Responses!B92), \"\", Responses!B92)","v":""},{"$f":"IF(ISBLANK(Responses!C92), \"\", Responses!C92)","v":""},{"$f":"IF(ISBLANK(Responses!D92), \"\", Responses!D92)","v":""},{"$f":"IF(ISBLANK(Responses!E92), \"\", Responses!E92)","v":""},{"$f":"IF(ISBLANK(Responses!F92), \"\", Responses!F92)","v":""},{"$f":"IF(ISBLANK(Responses!G92), \"\", Responses!G92)","v":""},{"$f":"IF(ISBLANK(Responses!H92), \"\", Responses!H92)","v":""},{"$f":"IF(ISBLANK(Responses!I92), \"\", Responses!I92)","v":""},{"$f":"IF(ISBLANK(Responses!J92), \"\", Responses!J92)","v":""},0]
[{"$f":"IF(ISBLANK(Responses!A93), \"\", Responses!A93)","v":""},{"$f":"IF(ISBLANK(Responses!B93), \"\", Responses!B93)","v":""},{"$f":"IF(ISBLANK(Responses!C93), \"\", Responses!C93)","v":""},{"$f":"IF(ISBLANK(Responses!D93), \"\", Responses!D93)","v":""},{"$f":"IF(ISBLANK(Responses!E93), \"\", Responses!E93)","v":""},{"$f":"IF(ISBLANK(Responses!F93), \"\", Responses!F93)","v":""},{"$f":"IF(ISBLANK(Responses!G93), \"\", Responses!G93)","v":""},{"$f":"IF(ISBLANK(Responses!H93), \"\", Responses!H93)","v":""},{"$f":"IF(ISBLANK(Responses!I93), \"\", Responses!I93)","v":""},{"$f":"IF(ISBLANK(Responses!J93), \"\", Responses!J93)","v":""},0]
[{"$f":"IF(ISBLANK(Responses!A94), \"\", Responses!A94)","v":""},{"$f":"IF(ISBLANK(Responses!B94), \"\", Responses!B94)","v":""},{"$f":"IF(ISBLANK(Responses!C94), \"\", Responses!C94)","v":""},{"$f":"IF(ISBLANK(Responses!D94), \"\", Responses!D94)","v":""},{"$f":"IF(ISBLANK(Responses!E94), \"\", Responses!E94)","v":""},{"$f":"IF(ISBLANK(Responses!F94), \"\", Responses!F94)","v":""},{"$f":"IF(ISBLANK(Responses!G94), \"\", Responses!G94)","v":""},{"$f":"IF(ISBLANK(Responses!H94), \"\", Responses!H94)","v":""},{"$f":"IF(ISBLANK(Responses!I94), \"\", Responses!I94)","v":""},{"$f":"IF(ISBLANK(Responses!J94), \"\", Responses!J94)","v":""},0]
[{"$f":"IF(ISBLANK(Responses!A95), \"\", Responses!A95)","v":""},{"$f":"IF(ISBLANK(Responses!B95), \"\", Responses!B95)","v":""},{"$f":"IF(ISBLANK(Responses!C95), \"\", Responses!C95)","v":""},{"$f":"IF(ISBLANK(Responses!D95), \"\", Responses!D95)","v":""},{"$f":"IF(ISBLANK(Responses!E95), \"\", Responses!E95)","v":""},{"$f":"IF(ISBLANK(Responses!F95), \"\", Responses!F95)","v":""},{"$f":"IF(ISBLANK(Responses!G95), \"\", Responses!G95)","v":""},{"$f":"IF(ISBLANK(Responses!H95), \"\", Responses!H95)","v":""},{"$f":"IF(ISBLANK(Responses!I95), \"\", Responses!I95)","v":""},{"$f":"IF(ISBLANK(Responses!J95), \"\", Responses!J95)","v":""},0]
[{"$f":"IF(ISBLANK(Responses!A96), \"\", Responses!A96)","v":""},{"$f":"IF(ISBLANK(Responses!B96), \"\", Responses!B96)","v":""},{"$f":"IF(ISBLANK(Responses!C96), \"\", Responses!C96)","v":""},{"$f":"IF(ISBLANK(Responses!D96), \"\", Responses!D96)","v":""},{"$f":"IF(ISBLANK(Responses!E96), \"\", Responses!E96)","v":""},{"$f":"IF(ISBLANK(Responses!F96), \"\", Responses!F96)","v":""},{"$f":"IF(ISBLANK(Responses!G96), \"\", Responses!G96)","v":""},{"$f":"IF(ISBLANK(Responses!H96), \"\", Responses!H96)","v":""},{"$f":"IF(ISBLANK(Responses!I96), \"\", Responses!I96)","v":""},{"$f":"IF(ISBLANK(Responses!J96), \"\", Responses!J96)","v":""},0]
[{"$f":"IF(ISBLANK(Responses!A97), \"\", Responses!A97)","v":""},{"$f":"IF(ISBLANK(Responses!B97), \"\", Responses!B97)","v":""},{"$f":"IF(ISBLANK(Responses!C97), \"\", Responses!C97)","v":""},{"$f":"IF(ISBLANK(Responses!D97), \"\", Responses!D97)","v":""},{"$f":"IF(ISBLANK(Responses!E97), \"\", Responses!E97)","v":""},{"$f":"IF(ISBLANK(Responses!F97), \"\", Responses!F97)","v":""},{"$f":"IF(ISBLANK(Responses!G97), \"\", Responses!G97)","v":""},{"$f":"IF(ISBLANK(Responses!H97), \"\", Responses!H97)","v":""},{"$f":"IF(ISBLANK(Responses!I97), \"\", Responses!I97)","v":""},{"$f":"IF(ISBLANK(Responses!J97), \"\", Responses!J97)","v":""},0]
[{"$f":"IF(ISBLANK(Responses!A98), \"\", Responses!A98)","v":""},{"$f":"IF(ISBLANK(Responses!B98), \"\", Responses!B98)","v":""},{"$f":"IF(ISBLANK(Responses!C98), \"\", Responses!C98)","v":""},{"$f":"IF(ISBLANK(Responses!D98), \"\", Responses!D98)","v":""},{"$f":"IF(ISBLANK(Responses!E98), \"\", Responses!E98)","v":""},{"$f":"IF(ISBLANK(Responses!F98), \"\", Responses!F98)","v":""},{"$f":"IF(ISBLANK(Responses!G98), \"\", Responses!G98)","v":""},{"$f":"IF(ISBLANK(Responses!H98), \"\", Responses!H98)","v":""},{"$f":"IF(ISBLANK(Responses!I98), \"\", Responses!I98)","v":""},{"$f":"IF(ISBLANK(Responses!J98), \"\", Responses!J98)","v":""},0]
[{"$f":"IF(ISBLANK(Responses!A99), \"\", Responses!A99)","v":""},{"$f":"IF(ISBLANK(Responses!B99), \"\", Responses!B99)","v":""},{"$f":"IF(ISBLANK(Responses!C99), \"\", Responses!C99)","v":""},{"$f":"IF(ISBLANK(Responses!D99), \"\", Responses!D99)","v":""},{"$f":"IF(ISBLANK(Responses!E99), \"\", Responses!E99)","v":""},{"$f":"IF(ISBLANK(Responses!F99), \"\", Responses!F99)","v":""},{"$f":"IF(ISBLANK(Responses!G99), \"\", Responses!G99)","v":""},{"$f":"IF(ISBLANK(Responses!H99), \"\", Responses!H99)","v":""},{"$f":"IF(ISBLANK(Responses!I99), \"\", Responses!I99)","v":""},{"$f":"IF(ISBLANK(Responses!J99), \"\", Responses!J99)","v":""},0]
[{"$f":"IF(ISBLANK(Responses!A100), \"\", Responses!A100)","v":""},{"$f":"IF(ISBLANK(Responses!B100), \"\", Responses!B100)","v":""},{"$f":"IF(ISBLANK(Responses!C100), \"\", Responses!C100)","v":""},{"$f":"IF(ISBLANK(Responses!D100), \"\", Responses!D100)","v":""},{"$f":"IF(ISBLANK(Responses!E100), \"\", Responses!E100)","v":""},{"$f":"IF(ISBLANK(Responses!F100), \"\", Responses!F100)","v":""},{"$f":"IF(ISBLANK(Responses!G100), \"\", Responses!G100)","v":""},{"$f":"IF(ISBLANK(Responses!H100), \"\", Responses!H100)","v":""},{"$f":"IF(ISBLANK(Responses!I100), \"\", Responses!I100)","v":""},{"$f":"IF(ISBLANK(Responses!J100), \"\", Responses!J100)","v":""},0]
[{"$f":"IF(ISBLANK(Responses!A101), \"\", Responses!A101)","v":""},{"$f":"IF(ISBLANK(Responses!B101), \"\", Responses!B101)","v":""},{"$f":"IF(ISBLANK(Responses!C101), \"\", Responses!C101)","v":""},{"$f":"IF(ISBLANK(Responses!D101), \"\", Responses!D101)","v":""},{"$f":"IF(ISBLANK(Responses!E101), \"\", Responses!E101)","v":""},{"$f":"IF(ISBLANK(Responses!F101), \"\", Responses!F101)","v":""},{"$f":"IF(ISBLANK(Responses!G101), \"\", Responses!G101)","v":""},{"$f":"IF(ISBLANK(Responses!H101), \"\", Responses!H101)","v":""},{"$f":"IF(ISBLANK(Responses!I101), \"\", Responses!I101)","v":""},{"$f":"IF(ISBLANK(Responses!J101), \"\", Responses!J101)","v":""},0]
[{"$f":"IF(ISBLANK(Responses!A102), \"\", Responses!A102)","v":""},{"$f":"IF(ISBLANK(Responses!B102), \"\", Responses!B102)","v":""},{"$f":"IF(ISBLANK(Responses!C102), \"\", Responses!C102)","v":""},{"$f":"IF(ISBLANK(Responses!D102), \"\", Responses!D102)","v":""},{"$f":"IF(ISBLANK(Responses!E102), \"\", Responses!E102)","v":""},{"$f":"IF(ISBLANK(Responses!F102), \"\", Responses!F102)","v":""},{"$f":"IF(ISBLANK(Responses!G102), \"\", Responses!G102)","v":""},{"$f":"IF(ISBLANK(Responses!H102), \"\", Responses!H102)","v":""},{"$f":"IF(ISBLANK(Responses!I102), \"\", Responses!I102)","v":""},{"$f":"IF(ISBLANK(Responses!J102), \"\", Responses!J102)","v":""},0]
[{"$f":"IF(ISBLANK(Responses!A103), \"\", Responses!A103)","v":""},{"$f":"IF(ISBLANK(Responses!B103), \"\", Responses!B103)","v":""},{"$f":"IF(ISBLANK(Responses!C103), \"\", Responses!C103)","v":""},{"$f":"IF(ISBLANK(Responses!D103), \"\", Responses!D103)","v":""},{"$f":"IF(ISBLANK(Responses!E103), \"\", Responses!E103)","v":""},{"$f":"IF(ISBLANK(Responses!F103), \"\", Responses!F103)","v":""},{"$f":"IF(ISBLANK(Responses!G103), \"\", Responses!G103)","v":""},{"$f":"IF(ISBLANK(Responses!H103), \"\", Responses!H103)","v":""},{"$f":"IF(ISBLANK(Responses!I103), \"\", Responses!I103)","v":""},{"$f":"IF(ISBLANK(Responses!J103), \"\", Responses!J103)","v":""},0]
[{"$f":"IF(ISBLANK(Responses!A104), \"\", Responses!A104)","v":""},{"$f":"IF(ISBLANK(Responses!B104), \"\", Responses!B104)","v":""},{"$f":"IF(ISBLANK(Responses!C104), \"\", Responses!C104)","v":""},{"$f":"IF(ISBLANK(Responses!D104), \"\", Responses!D104)","v":""},{"$f":"IF(ISBLANK(Responses!E104), \"\", Responses!E104)","v":""},{"$f":"IF(ISBLANK(Responses!F104), \"\", Responses!F104)","v":""},{"$f":"IF(ISBLANK(Responses!G104), \"\", Responses!G104)","v":""},{"$f":"IF(ISBLANK(Responses!H104), \"\", Responses!H104)","v":""},{"$f":"IF(ISBLANK(Responses!I104), \"\", Responses!I104)","v":""},{"$f":"IF(ISBLANK(Responses!J104), \"\", Responses!J104)","v":""},0]
[{"$f":"IF(ISBLANK(Responses!A105), \"\", Responses!A105)","v":""},{"$f":"IF(ISBLANK(Responses!B105), \"\", Responses!B105)","v":""},{"$f":"IF(ISBLANK(Responses!C105), \"\", Responses!C105)","v":""},{"$f":"IF(ISBLANK(Responses!D105), \"\", Responses!D105)","v":""},{"$f":"IF(ISBLANK(Responses!E105), \"\", Responses!E105)","v":""},{"$f":"IF(ISBLANK(Responses!F105), \"\", Responses!F105)","v":""},{"$f":"IF(ISBLANK(Responses!G105), \"\", Responses!G105)","v":""},{"$f":"IF(ISBLANK(Responses!H105), \"\", Responses!H105)","v":""},{"$f":"IF(ISBLANK(Responses!I105), \"\", Responses!I105)","v":""},{"$f":"IF(ISBLANK(Responses!J105), \"\", Responses!J105)","v":""},0]
[{"$f":"IF(ISBLANK(Responses!A106), \"\", Responses!A106)","v":""},{"$f":"IF(ISBLANK(Responses!B106), \"\", Responses!B106)","v":""},{"$f":"IF(ISBLANK(Responses!C106), \"\", Responses!C106)","v":""},{"$f":"IF(ISBLANK(Responses!D106), \"\", Responses!D106)","v":""},{"$f":"IF(ISBLANK(Responses!E106), \"\", Responses!E106)","v":""},{"$f":"IF(ISBLANK(Responses!F106), \"\", Responses!F106)","v":""},{"$f":"IF(ISBLANK(Responses!G106), \"\", Responses!G106)","v":""},{"$f":"IF(ISBLANK(Responses!H106), \"\", Responses!H106)","v":""},{"$f":"IF(ISBLANK(Responses!I106), \"\", Responses!I106)","v":""},{"$f":"IF(ISBLANK(Responses!J106), \"\", Responses!J106)","v":""}]
[{"$f":"IF(ISBLANK(Responses!A107), \"\", Responses!A107)","v":""},{"$f":"IF(ISBLANK(Responses!B107), \"\", Responses!B107)","v":""},{"$f":"IF(ISBLANK(Responses!C107), \"\", Responses!C107)","v":""},{"$f":"IF(ISBLANK(Responses!D107), \"\", Responses!D107)","v":""},{"$f":"IF(ISBLANK(Responses!E107), \"\", Responses!E107)","v":""},{"$f":"IF(ISBLANK(Responses!F107), \"\", Responses!F107)","v":""},{"$f":"IF(ISBLANK(Responses!G107), \"\", Responses!G107)","v":""},{"$f":"IF(ISBLANK(Responses!H107), \"\", Responses!H107)","v":""},{"$f":"IF(ISBLANK(Responses!I107), \"\", Responses!I107)","v":""},{"$f":"IF(ISBLANK(Responses!J107), \"\", Responses!J107)","v":""}]
[{"$f":"IF(ISBLANK(Responses!A108), \"\", Responses!A108)","v":""},{"$f":"IF(ISBLANK(Responses!B108), \"\", Responses!B108)","v":""},{"$f":"IF(ISBLANK(Responses!C108), \"\", Responses!C108)","v":""},{"$f":"IF(ISBLANK(Responses!D108), \"\", Responses!D108)","v":""},{"$f":"IF(ISBLANK(Responses!E108), \"\", Responses!E108)","v":""},{"$f":"IF(ISBLANK(Responses!F108), \"\", Responses!F108)","v":""},{"$f":"IF(ISBLANK(Responses!G108), \"\", Responses!G108)","v":""},{"$f":"IF(ISBLANK(Responses!H108), \"\", Responses!H108)","v":""},{"$f":"IF(ISBLANK(Responses!I108), \"\", Responses!I108)","v":""},{"$f":"IF(ISBLANK(Responses!J108), \"\", Responses!J108)","v":""}]
[{"$f":"IF(ISBLANK(Responses!A109), \"\", Responses!A109)","v":""},{"$f":"IF(ISBLANK(Responses!B109), \"\", Responses!B109)","v":""},{"$f":"IF(ISBLANK(Responses!C109), \"\", Responses!C109)","v":""},{"$f":"IF(ISBLANK(Responses!D109), \"\", Responses!D109)","v":""},{"$f":"IF(ISBLANK(Responses!E109), \"\", Responses!E109)","v":""},{"$f":"IF(ISBLANK(Responses!F109), \"\", Responses!F109)","v":""},{"$f":"IF(ISBLANK(Responses!G109), \"\", Responses!G109)","v":""},{"$f":"IF(ISBLANK(Responses!H109), \"\", Responses!H109)","v":""},{"$f":"IF(ISBLANK(Responses!I109), \"\", Responses!I109)","v":""},{"$f":"IF(ISBLANK(Responses!J109), \"\", Responses!J109)","v":""}]
[{"$f":"IF(ISBLANK(Responses!A110), \"\", Responses!A110)","v":""},{"$f":"IF(ISBLANK(Responses!B110), \"\", Responses!B110)","v":""},{"$f":"IF(ISBLANK(Responses!C110), \"\", Responses!C110)","v":""},{"$f":"IF(ISBLANK(Responses!D110), \"\", Responses!D110)","v":""},{"$f":"IF(ISBLANK(Responses!E110), \"\", Responses!E110)","v":""},{"$f":"IF(ISBLANK(Responses!F110), \"\", Responses!F110)","v":""},{"$f":"IF(ISBLANK(Responses!G110), \"\", Responses!G110)","v":""},{"$f":"IF(ISBLANK(Responses!H110), \"\", Responses!H110)","v":""},{"$f":"IF(ISBLANK(Responses!I110), \"\", Responses!I110)","v":""},{"$f":"IF(ISBLANK(Responses!J110), \"\", Responses!J110)","v":""}]
[{"$f":"IF(ISBLANK(Responses!A111), \"\", Responses!A111)","v":""},{"$f":"IF(ISBLANK(Responses!B111), \"\", Responses!B111)","v":""},{"$f":"IF(ISBLANK(Responses!C111), \"\", Responses!C111)","v":""},{"$f":"IF(ISBLANK(Responses!D111), \"\", Responses!D111)","v":""},{"$f":"IF(ISBLANK(Responses!E111), \"\", Responses!E111)","v":""},{"$f":"IF(ISBLANK(Responses!F111), \"\", Responses!F111)","v":""},{"$f":"IF(ISBLANK(Responses!G111), \"\", Responses!G111)","v":""},{"$f":"IF(ISBLANK(Responses!H111), \"\", Responses!H111)","v":""},{"$f":"IF(ISBLANK(Responses!I111), \"\", Responses!I111)","v":""},{"$f":"IF(ISBLANK(Responses!J111), \"\", Responses!J111)","v":""}]
[{"$f":"IF(ISBLANK(Responses!A112), \"\", Responses!A112)","v":""},{"$f":"IF(ISBLANK(Responses!B112), \"\", Responses!B112)","v":""},{"$f":"IF(ISBLANK(Responses!C112), \"\", Responses!C112)","v":""},{"$f":"IF(ISBLANK(Responses!D112), \"\", Responses!D112)","v":""},{"$f":"IF(ISBLANK(Responses!E112), \"\", Responses!E112)","v":""},{"$f":"IF(ISBLANK(Responses!F112), \"\", Responses!F112)","v":""},{"$f":"IF(ISBLANK(Responses!G112), \"\", Responses!G112)","v":""},{"$f":"IF(ISBLANK(Responses!H112), \"\", Responses!H112)","v":""},{"$f":"IF(ISBLANK(Responses!I112), \"\", Responses!I112)","v":""},{"$f":"IF(ISBLANK(Responses!J112), \"\", Responses!J112)","v":""}]
[{"$f":"IF(ISBLANK(Responses!A113), \"\", Responses!A113)","v":""},{"$f":"IF(ISBLANK(Responses!B113), \"\", Responses!B113)","v":""},{"$f":"IF(ISBLANK(Responses!C113), \"\", Responses!C113)","v":""},{"$f":"IF(ISBLANK(Responses!D113), \"\", Responses!D113)","v":""},{"$f":"IF(ISBLANK(Responses!E113), \"\", Responses!E113)","v":""},{"$f":"IF(ISBLANK(Responses!F113), \"\", Responses!F113)","v":""},{"$f":"IF(ISBLANK(Responses!G113), \"\", Responses!G113)","v":""},{"$f":"IF(ISBLANK(Responses!H113), \"\", Responses!H113)","v":""},{"$f":"IF(ISBLANK(Responses!I113), \"\", Responses!I113)","v":""},{"$f":"IF(ISBLANK(Responses!J113), \"\", Responses!J113)","v":""}]
[{"$f":"IF(ISBLANK(Responses!A114), \"\", Responses!A114)","v":""},{"$f":"IF(ISBLANK(Responses!B114), \"\", Responses!B114)","v":""},{"$f":"IF(ISBLANK(Responses!C114), \"\", Responses!C114)","v":""},{"$f":"IF(ISBLANK(Responses!D114), \"\", Responses!D114)","v":""},{"$f":"IF(ISBLANK(Responses!E114), \"\", Responses!E114)","v":""},{"$f":"IF(ISBLANK(Responses!F114), \"\", Responses!F114)","v":""},{"$f":"IF(ISBLANK(Responses!G114), \"\", Responses!G114)","v":""},{"$f":"IF(ISBLANK(Responses!H114), \"\", Responses!H114)","v":""},{"$f":"IF(ISBLANK(Responses!I114), \"\", Responses!I114)","v":""},{"$f":"IF(ISBLANK(Responses!J114), \"\", Responses!J114)","v":""}]
[{"$f":"IF(ISBLANK(Responses!A115), \"\", Responses!A115)","v":""},{"$f":"IF(ISBLANK(Responses!B115), \"\", Responses!B115)","v":""},{"$f":"IF(ISBLANK(Responses!C115), \"\", Responses!C115)","v":""},{"$f":"IF(ISBLANK(Responses!D115), \"\", Responses!D115)","v":""},{"$f":"IF(ISBLANK(Responses!E115), \"\", Responses!E115)","v":""},{"$f":"IF(ISBLANK(Responses!F115), \"\", Responses!F115)","v":""},{"$f":"IF(ISBLANK(Responses!G115), \"\", Responses!G115)","v":""},{"$f":"IF(ISBLANK(Responses!H115), \"\", Responses!H115)","v":""},{"$f":"IF(ISBLANK(Responses!I115), \"\", Responses!I115)","v":""},{"$f":"IF(ISBLANK(Responses!J115), \"\", Responses!J115)","v":""}]
[{"$f":"IF(ISBLANK(Responses!A116), \"\", Responses!A116)","v":""},{"$f":"IF(ISBLANK(Responses!B116), \"\", Responses!B116)","v":""},{"$f":"IF(ISBLANK(Responses!C116), \"\", Responses!C116)","v":""},{"$f":"IF(ISBLANK(Responses!D116), \"\", Responses!D116)","v":""},{"$f":"IF(ISBLANK(Responses!E116), \"\", Responses!E116)","v":""},{"$f":"IF(ISBLANK(Responses!F116), \"\", Responses!F116)","v":""},{"$f":"IF(ISBLANK(Responses!G116), \"\", Responses!G116)","v":""},{"$f":"IF(ISBLANK(Responses!H116), \"\", Responses!H116)","v":""},{"$f":"IF(ISBLANK(Responses!I116), \"\", Responses!I116)","v":""},{"$f":"IF(ISBLANK(Responses!J116), \"\", Responses!J116)","v":""}]
[{"$f":"IF(ISBLANK(Responses!A117), \"\", Responses!A117)","v":""},{"$f":"IF(ISBLANK(Responses!B117), \"\", Responses!B117)","v":""},{"$f":"IF(ISBLANK(Responses!C117), \"\", Responses!C117)","v":""},{"$f":"IF(ISBLANK(Responses!D117), \"\", Responses!D117)","v":""},{"$f":"IF(ISBLANK(Responses!E117), \"\", Responses!E117)","v":""},{"$f":"IF(ISBLANK(Responses!F117), \"\", Responses!F117)","v":""},{"$f":"IF(ISBLANK(Responses!G117), \"\", Responses!G117)","v":""},{"$f":"IF(ISBLANK(Responses!H117), \"\", Responses!H117)","v":""},{"$f":"IF(ISBLANK(Responses!I117), \"\", Responses!I117)","v":""},{"$f":"IF(ISBLANK(Responses!J117), \"\", Responses!J117)","v":""}]
[{"$f":"IF(ISBLANK(Responses!A118), \"\", Responses!A118)","v":""},{"$f":"IF(ISBLANK(Responses!B118), \"\", Responses!B118)","v":""},{"$f":"IF(ISBLANK(Responses!C118), \"\", Responses!C118)","v":""},{"$f":"IF(ISBLANK(Responses!D118), \"\", Responses!D118)","v":""},{"$f":"IF(ISBLANK(Responses!E118), \"\", Responses!E118)","v":""},{"$f":"IF(ISBLANK(Responses!F118), \"\", Responses!F118)","v":""},{"$f":"IF(ISBLANK(Responses!G118), \"\", Responses!G118)","v":""},{"$f":"IF(ISBLANK(Responses!H118), \"\", Responses!H118)","v":""},{"$f":"IF(ISBLANK(Responses!I118), \"\", Responses!I118)","v":""},{"$f":"IF(ISBLANK(Responses!J118), \"\", Responses!J118)","v":""}]

{"sheet":"Staff Knowledge","index":4,"n_rows":413,"n_cols":12,"rows_kept":413,"cut":false,"hidden":true,"merged":[]}
[{"$f":"IF(ISBLANK(Responses!A1), \"\", Responses!A1)","v":"Timestamp"},{"$f":"IF(ISBLANK(Responses!B1), \"\", Responses!B1)","v":"Sport Organization Name"},{"$f":"IF(ISBLANK(Responses!K1), \"\", Responses!K1)","v":"Have the relevant  staff been informed about the latest available guidance on the COVID-19 outbreak  (official web resources available from BCCDC, WHO, CDC, ECDC, UN, local public health authorities)? And are the staff committed to following the available guidance?"},{"$f":"IF(ISBLANK(Responses!L1), \"\", Responses!L1)","v":"Are organizers aware of global and local daily situation reports as provided by local, provincial, national and international public health authorities?"},{"$f":"IF(ISBLANK(Responses!M1), \"\", Responses!M1)","v":"Do the  responsible staff understand the risks and transmission routes of COVID-19, the steps that training attendees can take to limit spread, the recognized best-practices (including respiratory etiquette, hand hygiene, physical distancing, etc.), and the travel restrictions from different regions that may affect the team gathering to train?"},"Staff Knowledge %","Staff Knowledge Score",1,1,1,null,"Max Staff Score"]
[{"$f":"IF(ISBLANK(Responses!A2), \"\", Responses!A2)","v":""},{"$f":"IF(ISBLANK(Responses!B2), \"\", Responses!B2)","v":""},{"$f":"IF(ISBLANK(Responses!K2), \"\", Responses!K2)","v":""},{"$f":"IF(ISBLANK(Responses!L2), \"\", Responses!L2)","v":""},{"$f":"IF(ISBLANK(Responses!M2), \"\", Responses!M2)","v":""},{"$f":"G2/$L$2","v":{"$error":"#N/A"}},{"$f":"SUM(H2*H$1,I2*I$1,J2*J$1)","v":{"$error":"#N/A"}},{"$f":"IF(ISBLANK(C2),0,VLOOKUP(C2,LUTs!$A$6:$B$8,2))","v":{"$error":"#N/A"}},{"$f":"IF(ISBLANK(D2),0,VLOOKUP(D2,LUTs!$A$6:$B$8,2))","v":{"$error":"#N/A"}},{"$f":"IF(ISBLANK(E2),0,VLOOKUP(E2,LUTs!$A$6:$B$8,2))","v":{"$error":"#N/A"}},null,{"$f":"SUM(F1:J1)*2","v":6}]
[{"$f":"IF(ISBLANK(Responses!A3), \"\", Responses!A3)","v":""},{"$f":"IF(ISBLANK(Responses!B3), \"\", Responses!B3)","v":""},{"$f":"IF(ISBLANK(Responses!K3), \"\", Responses!K3)","v":""},{"$f":"IF(ISBLANK(Responses!L3), \"\", Responses!L3)","v":""},{"$f":"IF(ISBLANK(Responses!M3), \"\", Responses!M3)","v":""},{"$f":"G3/$L$2","v":{"$error":"#N/A"}},{"$f":"SUM(H3*H$1,I3*I$1,J3*J$1)","v":{"$error":"#N/A"}},{"$f":"IF(ISBLANK(C3),0,VLOOKUP(C3,LUTs!$A$6:$B$8,2))","v":{"$error":"#N/A"}},{"$f":"IF(ISBLANK(D3),0,VLOOKUP(D3,LUTs!$A$6:$B$8,2))","v":{"$error":"#N/A"}},{"$f":"IF(ISBLANK(E3),0,VLOOKUP(E3,LUTs!$A$6:$B$8,2))","v":{"$error":"#N/A"}}]
[{"$f":"IF(ISBLANK(Responses!A4), \"\", Responses!A4)","v":""},{"$f":"IF(ISBLANK(Responses!B4), \"\", Responses!B4)","v":""},{"$f":"IF(ISBLANK(Responses!K4), \"\", Responses!K4)","v":""},{"$f":"IF(ISBLANK(Responses!L4), \"\", Responses!L4)","v":""},{"$f":"IF(ISBLANK(Responses!M4), \"\", Responses!M4)","v":""},{"$error":"#N/A"},{"$error":"#N/A"},{"$f":"IF(ISBLANK(C4),0,VLOOKUP(C4,LUTs!$A$6:$B$8,2))","v":{"$error":"#N/A"}},{"$f":"IF(ISBLANK(D4),0,VLOOKUP(D4,LUTs!$A$6:$B$8,2))","v":{"$error":"#N/A"}},{"$f":"IF(ISBLANK(E4),0,VLOOKUP(E4,LUTs!$A$6:$B$8,2))","v":{"$error":"#N/A"}}]
[{"$f":"IF(ISBLANK(Responses!A5), \"\", Responses!A5)","v":""},{"$f":"IF(ISBLANK(Responses!B5), \"\", Responses!B5)","v":""},{"$f":"IF(ISBLANK(Responses!K5), \"\", Responses!K5)","v":""},{"$f":"IF(ISBLANK(Responses!L5), \"\", Responses!L5)","v":""},{"$f":"IF(ISBLANK(Responses!M5), \"\", Responses!M5)","v":""},{"$error":"#N/A"},{"$error":"#N/A"},{"$f":"IF(ISBLANK(C5),0,VLOOKUP(C5,LUTs!$A$6:$B$8,2))","v":{"$error":"#N/A"}},{"$f":"IF(ISBLANK(D5),0,VLOOKUP(D5,LUTs!$A$6:$B$8,2))","v":{"$error":"#N/A"}},{"$f":"IF(ISBLANK(E5),0,VLOOKUP(E5,LUTs!$A$6:$B$8,2))","v":{"$error":"#N/A"}}]
[{"$f":"IF(ISBLANK(Responses!A6), \"\", Responses!A6)","v":""},{"$f":"IF(ISBLANK(Responses!B6), \"\", Responses!B6)","v":""},{"$f":"IF(ISBLANK(Responses!K6), \"\", Responses!K6)","v":""},{"$f":"IF(ISBLANK(Responses!L6), \"\", Responses!L6)","v":""},{"$f":"IF(ISBLANK(Responses!M6), \"\", Responses!M6)","v":""},{"$error":"#N/A"},{"$error":"#N/A"},{"$f":"IF(ISBLANK(C6),0,VLOOKUP(C6,LUTs!$A$6:$B$8,2))","v":{"$error":"#N/A"}},{"$f":"IF(ISBLANK(D6),0,VLOOKUP(D6,LUTs!$A$6:$B$8,2))","v":{"$error":"#N/A"}},{"$f":"IF(ISBLANK(E6),0,VLOOKUP(E6,LUTs!$A$6:$B$8,2))","v":{"$error":"#N/A"}}]
[{"$f":"IF(ISBLANK(Responses!A7), \"\", Responses!A7)","v":""},{"$f":"IF(ISBLANK(Responses!B7), \"\", Responses!B7)","v":""},{"$f":"IF(ISBLANK(Responses!K7), \"\", Responses!K7)","v":""},{"$f":"IF(ISBLANK(Responses!L7), \"\", Responses!L7)","v":""},{"$f":"IF(ISBLANK(Responses!M7), \"\", Responses!M7)","v":""},{"$error":"#N/A"},{"$error":"#N/A"},{"$f":"IF(ISBLANK(C7),0,VLOOKUP(C7,LUTs!$A$6:$B$8,2))","v":{"$error":"#N/A"}},{"$f":"IF(ISBLANK(D7),0,VLOOKUP(D7,LUTs!$A$6:$B$8,2))","v":{"$error":"#N/A"}},{"$f":"IF(ISBLANK(E7),0,VLOOKUP(E7,LUTs!$A$6:$B$8,2))","v":{"$error":"#N/A"}}]
[{"$f":"IF(ISBLANK(Responses!A8), \"\", Responses!A8)","v":""},{"$f":"IF(ISBLANK(Responses!B8), \"\", Responses!B8)","v":""},{"$f":"IF(ISBLANK(Responses!K8), \"\", Responses!K8)","v":""},{"$f":"IF(ISBLANK(Responses!L8), \"\", Responses!L8)","v":""},{"$f":"IF(ISBLANK(Responses!M8), \"\", Responses!M8)","v":""},{"$error":"#N/A"},{"$error":"#N/A"},{"$f":"IF(ISBLANK(C8),0,VLOOKUP(C8,LUTs!$A$6:$B$8,2))","v":{"$error":"#N/A"}},{"$f":"IF(ISBLANK(D8),0,VLOOKUP(D8,LUTs!$A$6:$B$8,2))","v":{"$error":"#N/A"}},{"$f":"IF(ISBLANK(E8),0,VLOOKUP(E8,LUTs!$A$6:$B$8,2))","v":{"$error":"#N/A"}}]
[{"$f":"IF(ISBLANK(Responses!A9), \"\", Responses!A9)","v":""},{"$f":"IF(ISBLANK(Responses!B9), \"\", Responses!B9)","v":""},{"$f":"IF(ISBLANK(Responses!K9), \"\", Responses!K9)","v":""},{"$f":"IF(ISBLANK(Responses!L9), \"\", Responses!L9)","v":""},{"$f":"IF(ISBLANK(Responses!M9), \"\", Responses!M9)","v":""},{"$error":"#N/A"},{"$error":"#N/A"},{"$f":"IF(ISBLANK(C9),0,VLOOKUP(C9,LUTs!$A$6:$B$8,2))","v":{"$error":"#N/A"}},{"$f":"IF(ISBLANK(D9),0,VLOOKUP(D9,LUTs!$A$6:$B$8,2))","v":{"$error":"#N/A"}},{"$f":"IF(ISBLANK(E9),0,VLOOKUP(E9,LUTs!$A$6:$B$8,2))","v":{"$error":"#N/A"}}]
[{"$f":"IF(ISBLANK(Responses!A10), \"\", Responses!A10)","v":""},{"$f":"IF(ISBLANK(Responses!B10), \"\", Responses!B10)","v":""},{"$f":"IF(ISBLANK(Responses!K10), \"\", Responses!K10)","v":""},{"$f":"IF(ISBLANK(Responses!L10), \"\", Responses!L10)","v":""},{"$f":"IF(ISBLANK(Responses!M10), \"\", Responses!M10)","v":""},{"$error":"#N/A"},{"$error":"#N/A"},{"$f":"IF(ISBLANK(C10),0,VLOOKUP(C10,LUTs!$A$6:$B$8,2))","v":{"$error":"#N/A"}},{"$f":"IF(ISBLANK(D10),0,VLOOKUP(D10,LUTs!$A$6:$B$8,2))","v":{"$error":"#N/A"}},{"$f":"IF(ISBLANK(E10),0,VLOOKUP(E10,LUTs!$A$6:$B$8,2))","v":{"$error":"#N/A"}}]
[{"$f":"IF(ISBLANK(Responses!A11), \"\", Responses!A11)","v":""},{"$f":"IF(ISBLANK(Responses!B11), \"\", Responses!B11)","v":""},{"$f":"IF(ISBLANK(Responses!K11), \"\", Responses!K11)","v":""},{"$f":"IF(ISBLANK(Responses!L11), \"\", Responses!L11)","v":""},{"$f":"IF(ISBLANK(Responses!M11), \"\", Responses!M11)","v":""},{"$error":"#N/A"},{"$error":"#N/A"},{"$f":"IF(ISBLANK(C11),0,VLOOKUP(C11,LUTs!$A$6:$B$8,2))","v":{"$error":"#N/A"}},{"$f":"IF(ISBLANK(D11),0,VLOOKUP(D11,LUTs!$A$6:$B$8,2))","v":{"$error":"#N/A"}},{"$f":"IF(ISBLANK(E11),0,VLOOKUP(E11,LUTs!$A$6:$B$8,2))","v":{"$error":"#N/A"}}]
[{"$f":"IF(ISBLANK(Responses!A12), \"\", Responses!A12)","v":""},{"$f":"IF(ISBLANK(Responses!B12), \"\", Responses!B12)","v":""},{"$f":"IF(ISBLANK(Responses!K12), \"\", Responses!K12)","v":""},{"$f":"IF(ISBLANK(Responses!L12), \"\", Responses!L12)","v":""},{"$f":"IF(ISBLANK(Responses!M12), \"\", Responses!M12)","v":""},{"$error":"#N/A"},{"$error":"#N/A"},{"$f":"IF(ISBLANK(C12),0,VLOOKUP(C12,LUTs!$A$6:$B$8,2))","v":{"$error":"#N/A"}},{"$f":"IF(ISBLANK(D12),0,VLOOKUP(D12,LUTs!$A$6:$B$8,2))","v":{"$error":"#N/A"}},{"$f":"IF(ISBLANK(E12),0,VLOOKUP(E12,LUTs!$A$6:$B$8,2))","v":{"$error":"#N/A"}}]
[{"$f":"IF(ISBLANK(Responses!A13), \"\", Responses!A13)","v":""},{"$f":"IF(ISBLANK(Responses!B13), \"\", Responses!B13)","v":""},{"$f":"IF(ISBLANK(Responses!K13), \"\", Responses!K13)","v":""},{"$f":"IF(ISBLANK(Responses!L13), \"\", Responses!L13)","v":""},{"$f":"IF(ISBLANK(Responses!M13), \"\", Responses!M13)","v":""},{"$error":"#N/A"},{"$error":"#N/A"},{"$f":"IF(ISBLANK(C13),0,VLOOKUP(C13,LUTs!$A$6:$B$8,2))","v":{"$error":"#N/A"}},{"$f":"IF(ISBLANK(D13),0,VLOOKUP(D13,LUTs!$A$6:$B$8,2))","v":{"$error":"#N/A"}},{"$f":"IF(ISBLANK(E13),0,VLOOKUP(E13,LUTs!$A$6:$B$8,2))","v":{"$error":"#N/A"}}]
[{"$f":"IF(ISBLANK(Responses!A14), \"\", Responses!A14)","v":""},{"$f":"IF(ISBLANK(Responses!B14), \"\", Responses!B14)","v":""},{"$f":"IF(ISBLANK(Responses!K14), \"\", Responses!K14)","v":""},{"$f":"IF(ISBLANK(Responses!L14), \"\", Responses!L14)","v":""},{"$f":"IF(ISBLANK(Responses!M14), \"\", Responses!M14)","v":""},{"$error":"#N/A"},{"$error":"#N/A"},{"$f":"IF(ISBLANK(C14),0,VLOOKUP(C14,LUTs!$A$6:$B$8,2))","v":{"$error":"#N/A"}},{"$f":"IF(ISBLANK(D14),0,VLOOKUP(D14,LUTs!$A$6:$B$8,2))","v":{"$error":"#N/A"}},{"$f":"IF(ISBLANK(E14),0,VLOOKUP(E14,LUTs!$A$6:$B$8,2))","v":{"$error":"#N/A"}}]
[{"$f":"IF(ISBLANK(Responses!A15), \"\", Responses!A15)","v":""},{"$f":"IF(ISBLANK(Responses!B15), \"\", Responses!B15)","v":""},{"$f":"IF(ISBLANK(Responses!K15), \"\", Responses!K15)","v":""},{"$f":"IF(ISBLANK(Responses!L15), \"\", Responses!L15)","v":""},{"$f":"IF(ISBLANK(Responses!M15), \"\", Responses!M15)","v":""},{"$error":"#N/A"},{"$error":"#N/A"},{"$f":"IF(ISBLANK(C15),0,VLOOKUP(C15,LUTs!$A$6:$B$8,2))","v":{"$error":"#N/A"}},{"$f":"IF(ISBLANK(D15),0,VLOOKUP(D15,LUTs!$A$6:$B$8,2))","v":{"$error":"#N/A"}},{"$f":"IF(ISBLANK(E15),0,VLOOKUP(E15,LUTs!$A$6:$B$8,2))","v":{"$error":"#N/A"}}]
[{"$f":"IF(ISBLANK(Responses!A16), \"\", Responses!A16)","v":""},{"$f":"IF(ISBLANK(Responses!B16), \"\", Responses!B16)","v":""},{"$f":"IF(ISBLANK(Responses!K16), \"\", Responses!K16)","v":""},{"$f":"IF(ISBLANK(Responses!L16), \"\", Responses!L16)","v":""},{"$f":"IF(ISBLANK(Responses!M16), \"\", Responses!M16)","v":""},{"$error":"#N/A"},{"$error":"#N/A"},{"$f":"IF(ISBLANK(C16),0,VLOOKUP(C16,LUTs!$A$6:$B$8,2))","v":{"$error":"#N/A"}},{"$f":"IF(ISBLANK(D16),0,VLOOKUP(D16,LUTs!$A$6:$B$8,2))","v":{"$error":"#N/A"}},{"$f":"IF(ISBLANK(E16),0,VLOOKUP(E16,LUTs!$A$6:$B$8,2))","v":{"$error":"#N/A"}}]
[{"$f":"IF(ISBLANK(Responses!A17), \"\", Responses!A17)","v":""},{"$f":"IF(ISBLANK(Responses!B17), \"\", Responses!B17)","v":""},{"$f":"IF(ISBLANK(Responses!K17), \"\", Responses!K17)","v":""},{"$f":"IF(ISBLANK(Responses!L17), \"\", Responses!L17)","v":""},{"$f":"IF(ISBLANK(Responses!M17), \"\", Responses!M17)","v":""},{"$error":"#N/A"},{"$error":"#N/A"},{"$f":"IF(ISBLANK(C17),0,VLOOKUP(C17,LUTs!$A$6:$B$8,2))","v":{"$error":"#N/A"}},{"$f":"IF(ISBLANK(D17),0,VLOOKUP(D17,LUTs!$A$6:$B$8,2))","v":{"$error":"#N/A"}},{"$f":"IF(ISBLANK(E17),0,VLOOKUP(E17,LUTs!$A$6:$B$8,2))","v":{"$error":"#N/A"}}]
[{"$f":"IF(ISBLANK(Responses!A18), \"\", Responses!A18)","v":""},{"$f":"IF(ISBLANK(Responses!B18), \"\", Responses!B18)","v":""},{"$f":"IF(ISBLANK(Responses!K18), \"\", Responses!K18)","v":""},{"$f":"IF(ISBLANK(Responses!L18), \"\", Responses!L18)","v":""},{"$f":"IF(ISBLANK(Responses!M18), \"\", Responses!M18)","v":""},{"$error":"#N/A"},{"$error":"#N/A"},{"$f":"IF(ISBLANK(C18),0,VLOOKUP(C18,LUTs!$A$6:$B$8,2))","v":{"$error":"#N/A"}},{"$f":"IF(ISBLANK(D18),0,VLOOKUP(D18,LUTs!$A$6:$B$8,2))","v":{"$error":"#N/A"}},{"$f":"IF(ISBLANK(E18),0,VLOOKUP(E18,LUTs!$A$6:$B$8,2))","v":{"$error":"#N/A"}}]
[{"$f":"IF(ISBLANK(Responses!A19), \"\", Responses!A19)","v":""},{"$f":"IF(ISBLANK(Responses!B19), \"\", Responses!B19)","v":""},{"$f":"IF(ISBLANK(Responses!K19), \"\", Responses!K19)","v":""},{"$f":"IF(ISBLANK(Responses!L19), \"\", Responses!L19)","v":""},{"$f":"IF(ISBLANK(Responses!M19), \"\", Responses!M19)","v":""},{"$error":"#N/A"},{"$error":"#N/A"},{"$f":"IF(ISBLANK(C19),0,VLOOKUP(C19,LUTs!$A$6:$B$8,2))","v":{"$error":"#N/A"}},{"$f":"IF(ISBLANK(D19),0,VLOOKUP(D19,LUTs!$A$6:$B$8,2))","v":{"$error":"#N/A"}},{"$f":"IF(ISBLANK(E19),0,VLOOKUP(E19,LUTs!$A$6:$B$8,2))","v":{"$error":"#N/A"}}]
[{"$f":"IF(ISBLANK(Responses!A20), \"\", Responses!A20)","v":""},{"$f":"IF(ISBLANK(Responses!B20), \"\", Responses!B20)","v":""},{"$f":"IF(ISBLANK(Responses!K20), \"\", Responses!K20)","v":""},{"$f":"IF(ISBLANK(Responses!L20), \"\", Responses!L20)","v":""},{"$f":"IF(ISBLANK(Responses!M20), \"\", Responses!M20)","v":""},{"$error":"#N/A"},{"$error":"#N/A"},{"$f":"IF(ISBLANK(C20),0,VLOOKUP(C20,LUTs!$A$6:$B$8,2))","v":{"$error":"#N/A"}},{"$f":"IF(ISBLANK(D20),0,VLOOKUP(D20,LUTs!$A$6:$B$8,2))","v":{"$error":"#N/A"}},{"$f":"IF(ISBLANK(E20),0,VLOOKUP(E20,LUTs!$A$6:$B$8,2))","v":{"$error":"#N/A"}}]
[{"$f":"IF(ISBLANK(Responses!A21), \"\", Responses!A21)","v":""},{"$f":"IF(ISBLANK(Responses!B21), \"\", Responses!B21)","v":""},{"$f":"IF(ISBLANK(Responses!K21), \"\", Responses!K21)","v":""},{"$f":"IF(ISBLANK(Responses!L21), \"\", Responses!L21)","v":""},{"$f":"IF(ISBLANK(Responses!M21), \"\", Responses!M21)","v":""},{"$error":"#N/A"},{"$error":"#N/A"},{"$f":"IF(ISBLANK(C21),0,VLOOKUP(C21,LUTs!$A$6:$B$8,2))","v":{"$error":"#N/A"}},{"$f":"IF(ISBLANK(D21),0,VLOOKUP(D21,LUTs!$A$6:$B$8,2))","v":{"$error":"#N/A"}},{"$f":"IF(ISBLANK(E21),0,VLOOKUP(E21,LUTs!$A$6:$B$8,2))","v":{"$error":"#N/A"}}]
[{"$f":"IF(ISBLANK(Responses!A22), \"\", Responses!A22)","v":""},{"$f":"IF(ISBLANK(Responses!B22), \"\", Responses!B22)","v":""},{"$f":"IF(ISBLANK(Responses!K22), \"\", Responses!K22)","v":""},{"$f":"IF(ISBLANK(Responses!L22), \"\", Responses!L22)","v":""},{"$f":"IF(ISBLANK(Responses!M22), \"\", Responses!M22)","v":""},{"$error":"#N/A"},{"$error":"#N/A"},{"$f":"IF(ISBLANK(C22),0,VLOOKUP(C22,LUTs!$A$6:$B$8,2))","v":{"$error":"#N/A"}},{"$f":"IF(ISBLANK(D22),0,VLOOKUP(D22,LUTs!$A$6:$B$8,2))","v":{"$error":"#N/A"}},{"$f":"IF(ISBLANK(E22),0,VLOOKUP(E22,LUTs!$A$6:$B$8,2))","v":{"$error":"#N/A"}}]
[{"$f":"IF(ISBLANK(Responses!A23), \"\", Responses!A23)","v":""},{"$f":"IF(ISBLANK(Responses!B23), \"\", Responses!B23)","v":""},{"$f":"IF(ISBLANK(Responses!K23), \"\", Responses!K23)","v":""},{"$f":"IF(ISBLANK(Responses!L23), \"\", Responses!L23)","v":""},{"$f":"IF(ISBLANK(Responses!M23), \"\", Responses!M23)","v":""},{"$error":"#N/A"},{"$error":"#N/A"},{"$f":"IF(ISBLANK(C23),0,VLOOKUP(C23,LUTs!$A$6:$B$8,2))","v":{"$error":"#N/A"}},{"$f":"IF(ISBLANK(D23),0,VLOOKUP(D23,LUTs!$A$6:$B$8,2))","v":{"$error":"#N/A"}},{"$f":"IF(ISBLANK(E23),0,VLOOKUP(E23,LUTs!$A$6:$B$8,2))","v":{"$error":"#N/A"}}]
[{"$f":"IF(ISBLANK(Responses!A24), \"\", Responses!A24)","v":""},{"$f":"IF(ISBLANK(Responses!B24), \"\", Responses!B24)","v":""},{"$f":"IF(ISBLANK(Responses!K24), \"\", Responses!K24)","v":""},{"$f":"IF(ISBLANK(Responses!L24), \"\", Responses!L24)","v":""},{"$f":"IF(ISBLANK(Responses!M24), \"\", Responses!M24)","v":""},{"$error":"#N/A"},{"$error":"#N/A"},{"$f":"IF(ISBLANK(C24),0,VLOOKUP(C24,LUTs!$A$6:$B$8,2))","v":{"$error":"#N/A"}},{"$f":"IF(ISBLANK(D24),0,VLOOKUP(D24,LUTs!$A$6:$B$8,2))","v":{"$error":"#N/A"}},{"$f":"IF(ISBLANK(E24),0,VLOOKUP(E24,LUTs!$A$6:$B$8,2))","v":{"$error":"#N/A"}}]
[{"$f":"IF(ISBLANK(Responses!A25), \"\", Responses!A25)","v":""},{"$f":"IF(ISBLANK(Responses!B25), \"\", Responses!B25)","v":""},{"$f":"IF(ISBLANK(Responses!K25), \"\", Responses!K25)","v":""},{"$f":"IF(ISBLANK(Responses!L25), \"\", Responses!L25)","v":""},{"$f":"IF(ISBLANK(Responses!M25), \"\", Responses!M25)","v":""},{"$error":"#N/A"},{"$error":"#N/A"},{"$f":"IF(ISBLANK(C25),0,VLOOKUP(C25,LUTs!$A$6:$B$8,2))","v":{"$error":"#N/A"}},{"$f":"IF(ISBLANK(D25),0,VLOOKUP(D25,LUTs!$A$6:$B$8,2))","v":{"$error":"#N/A"}},{"$f":"IF(ISBLANK(E25),0,VLOOKUP(E25,LUTs!$A$6:$B$8,2))","v":{"$error":"#N/A"}}]
[{"$f":"IF(ISBLANK(Responses!A26), \"\", Responses!A26)","v":""},{"$f":"IF(ISBLANK(Responses!B26), \"\", Responses!B26)","v":""},{"$f":"IF(ISBLANK(Responses!K26), \"\", Responses!K26)","v":""},{"$f":"IF(ISBLANK(Responses!L26), \"\", Responses!L26)","v":""},{"$f":"IF(ISBLANK(Responses!M26), \"\", Responses!M26)","v":""},{"$error":"#N/A"},{"$error":"#N/A"},{"$f":"IF(ISBLANK(C26),0,VLOOKUP(C26,LUTs!$A$6:$B$8,2))","v":{"$error":"#N/A"}},{"$f":"IF(ISBLANK(D26),0,VLOOKUP(D26,LUTs!$A$6:$B$8,2))","v":{"$error":"#N/A"}},{"$f":"IF(ISBLANK(E26),0,VLOOKUP(E26,LUTs!$A$6:$B$8,2))","v":{"$error":"#N/A"}}]
[{"$f":"IF(ISBLANK(Responses!A27), \"\", Responses!A27)","v":""},{"$f":"IF(ISBLANK(Responses!B27), \"\", Responses!B27)","v":""},{"$f":"IF(ISBLANK(Responses!K27), \"\", Responses!K27)","v":""},{"$f":"IF(ISBLANK(Responses!L27), \"\", Responses!L27)","v":""},{"$f":"IF(ISBLANK(Responses!M27), \"\", Responses!M27)","v":""},{"$error":"#N/A"},{"$error":"#N/A"},{"$f":"IF(ISBLANK(C27),0,VLOOKUP(C27,LUTs!$A$6:$B$8,2))","v":{"$error":"#N/A"}},{"$f":"IF(ISBLANK(D27),0,VLOOKUP(D27,LUTs!$A$6:$B$8,2))","v":{"$error":"#N/A"}},{"$f":"IF(ISBLANK(E27),0,VLOOKUP(E27,LUTs!$A$6:$B$8,2))","v":{"$error":"#N/A"}}]
[{"$f":"IF(ISBLANK(Responses!A28), \"\", Responses!A28)","v":""},{"$f":"IF(ISBLANK(Responses!B28), \"\", Responses!B28)","v":""},{"$f":"IF(ISBLANK(Responses!K28), \"\", Responses!K28)","v":""},{"$f":"IF(ISBLANK(Responses!L28), \"\", Responses!L28)","v":""},{"$f":"IF(ISBLANK(Responses!M28), \"\", Responses!M28)","v":""},{"$error":"#N/A"},{"$error":"#N/A"},{"$f":"IF(ISBLANK(C28),0,VLOOKUP(C28,LUTs!$A$6:$B$8,2))","v":{"$error":"#N/A"}},{"$f":"IF(ISBLANK(D28),0,VLOOKUP(D28,LUTs!$A$6:$B$8,2))","v":{"$error":"#N/A"}},{"$f":"IF(ISBLANK(E28),0,VLOOKUP(E28,LUTs!$A$6:$B$8,2))","v":{"$error":"#N/A"}}]
[{"$f":"IF(ISBLANK(Responses!A29), \"\", Responses!A29)","v":""},{"$f":"IF(ISBLANK(Responses!B29), \"\", Responses!B29)","v":""},{"$f":"IF(ISBLANK(Responses!K29), \"\", Responses!K29)","v":""},{"$f":"IF(ISBLANK(Responses!L29), \"\", Responses!L29)","v":""},{"$f":"IF(ISBLANK(Responses!M29), \"\", Responses!M29)","v":""},{"$error":"#N/A"},{"$error":"#N/A"},{"$f":"IF(ISBLANK(C29),0,VLOOKUP(C29,LUTs!$A$6:$B$8,2))","v":{"$error":"#N/A"}},{"$f":"IF(ISBLANK(D29),0,VLOOKUP(D29,LUTs!$A$6:$B$8,2))","v":{"$error":"#N/A"}},{"$f":"IF(ISBLANK(E29),0,VLOOKUP(E29,LUTs!$A$6:$B$8,2))","v":{"$error":"#N/A"}}]
[{"$f":"IF(ISBLANK(Responses!A30), \"\", Responses!A30)","v":""},{"$f":"IF(ISBLANK(Responses!B30), \"\", Responses!B30)","v":""},{"$f":"IF(ISBLANK(Responses!K30), \"\", Responses!K30)","v":""},{"$f":"IF(ISBLANK(Responses!L30), \"\", Responses!L30)","v":""},{"$f":"IF(ISBLANK(Responses!M30), \"\", Responses!M30)","v":""},{"$error":"#N/A"},{"$error":"#N/A"},{"$f":"IF(ISBLANK(C30),0,VLOOKUP(C30,LUTs!$A$6:$B$8,2))","v":{"$error":"#N/A"}},{"$f":"IF(ISBLANK(D30),0,VLOOKUP(D30,LUTs!$A$6:$B$8,2))","v":{"$error":"#N/A"}},{"$f":"IF(ISBLANK(E30),0,VLOOKUP(E30,LUTs!$A$6:$B$8,2))","v":{"$error":"#N/A"}}]
[{"$f":"IF(ISBLANK(Responses!A31), \"\", Responses!A31)","v":""},{"$f":"IF(ISBLANK(Responses!B31), \"\", Responses!B31)","v":""},{"$f":"IF(ISBLANK(Responses!K31), \"\", Responses!K31)","v":""},{"$f":"IF(ISBLANK(Responses!L31), \"\", Responses!L31)","v":""},{"$f":"IF(ISBLANK(Responses!M31), \"\", Responses!M31)","v":""},{"$error":"#N/A"},{"$error":"#N/A"},{"$f":"IF(ISBLANK(C31),0,VLOOKUP(C31,LUTs!$A$6:$B$8,2))","v":{"$error":"#N/A"}},{"$f":"IF(ISBLANK(D31),0,VLOOKUP(D31,LUTs!$A$6:$B$8,2))","v":{"$error":"#N/A"}},{"$f":"IF(ISBLANK(E31),0,VLOOKUP(E31,LUTs!$A$6:$B$8,2))","v":{"$error":"#N/A"}}]
[{"$f":"IF(ISBLANK(Responses!A32), \"\", Responses!A32)","v":""},{"$f":"IF(ISBLANK(Responses!B32), \"\", Responses!B32)","v":""},{"$f":"IF(ISBLANK(Responses!K32), \"\", Responses!K32)","v":""},{"$f":"IF(ISBLANK(Responses!L32), \"\", Responses!L32)","v":""},{"$f":"IF(ISBLANK(Responses!M32), \"\", Responses!M32)","v":""},{"$error":"#N/A"},{"$error":"#N/A"},{"$f":"IF(ISBLANK(C32),0,VLOOKUP(C32,LUTs!$A$6:$B$8,2))","v":{"$error":"#N/A"}},{"$f":"IF(ISBLANK(D32),0,VLOOKUP(D32,LUTs!$A$6:$B$8,2))","v":{"$error":"#N/A"}},{"$f":"IF(ISBLANK(E32),0,VLOOKUP(E32,LUTs!$A$6:$B$8,2))","v":{"$error":"#N/A"}}]
[{"$f":"IF(ISBLANK(Responses!A33), \"\", Responses!A33)","v":""},{"$f":"IF(ISBLANK(Responses!B33), \"\", Responses!B33)","v":""},{"$f":"IF(ISBLANK(Responses!K33), \"\", Responses!K33)","v":""},{"$f":"IF(ISBLANK(Responses!L33), \"\", Responses!L33)","v":""},{"$f":"IF(ISBLANK(Responses!M33), \"\", Responses!M33)","v":""},{"$error":"#N/A"},{"$error":"#N/A"},{"$f":"IF(ISBLANK(C33),0,VLOOKUP(C33,LUTs!$A$6:$B$8,2))","v":{"$error":"#N/A"}},{"$f":"IF(ISBLANK(D33),0,VLOOKUP(D33,LUTs!$A$6:$B$8,2))","v":{"$error":"#N/A"}},{"$f":"IF(ISBLANK(E33),0,VLOOKUP(E33,LUTs!$A$6:$B$8,2))","v":{"$error":"#N/A"}}]
[{"$f":"IF(ISBLANK(Responses!A34), \"\", Responses!A34)","v":""},{"$f":"IF(ISBLANK(Responses!B34), \"\", Responses!B34)","v":""},{"$f":"IF(ISBLANK(Responses!K34), \"\", Responses!K34)","v":""},{"$f":"IF(ISBLANK(Responses!L34), \"\", Responses!L34)","v":""},{"$f":"IF(ISBLANK(Responses!M34), \"\", Responses!M34)","v":""},{"$error":"#N/A"},{"$error":"#N/A"},{"$f":"IF(ISBLANK(C34),0,VLOOKUP(C34,LUTs!$A$6:$B$8,2))","v":{"$error":"#N/A"}},{"$f":"IF(ISBLANK(D34),0,VLOOKUP(D34,LUTs!$A$6:$B$8,2))","v":{"$error":"#N/A"}},{"$f":"IF(ISBLANK(E34),0,VLOOKUP(E34,LUTs!$A$6:$B$8,2))","v":{"$error":"#N/A"}}]
[{"$f":"IF(ISBLANK(Responses!A35), \"\", Responses!A35)","v":""},{"$f":"IF(ISBLANK(Responses!B35), \"\", Responses!B35)","v":""},{"$f":"IF(ISBLANK(Responses!K35), \"\", Responses!K35)","v":""},{"$f":"IF(ISBLANK(Responses!L35), \"\", Responses!L35)","v":""},{"$f":"IF(ISBLANK(Responses!M35), \"\", Responses!M35)","v":""},{"$error":"#N/A"},{"$error":"#N/A"},{"$f":"IF(ISBLANK(C35),0,VLOOKUP(C35,LUTs!$A$6:$B$8,2))","v":{"$error":"#N/A"}},{"$f":"IF(ISBLANK(D35),0,VLOOKUP(D35,LUTs!$A$6:$B$8,2))","v":{"$error":"#N/A"}},{"$f":"IF(ISBLANK(E35),0,VLOOKUP(E35,LUTs!$A$6:$B$8,2))","v":{"$error":"#N/A"}}]
[{"$f":"IF(ISBLANK(Responses!A36), \"\", Responses!A36)","v":""},{"$f":"IF(ISBLANK(Responses!B36), \"\", Responses!B36)","v":""},{"$f":"IF(ISBLANK(Responses!K36), \"\", Responses!K36)","v":""},{"$f":"IF(ISBLANK(Responses!L36), \"\", Responses!L36)","v":""},{"$f":"IF(ISBLANK(Responses!M36), \"\", Responses!M36)","v":""},{"$error":"#N/A"},{"$error":"#N/A"},{"$f":"IF(ISBLANK(C36),0,VLOOKUP(C36,LUTs!$A$6:$B$8,2))","v":{"$error":"#N/A"}},{"$f":"IF(ISBLANK(D36),0,VLOOKUP(D36,LUTs!$A$6:$B$8,2))","v":{"$error":"#N/A"}},{"$f":"IF(ISBLANK(E36),0,VLOOKUP(E36,LUTs!$A$6:$B$8,2))","v":{"$error":"#N/A"}}]
[{"$f":"IF(ISBLANK(Responses!A37), \"\", Responses!A37)","v":""},{"$f":"IF(ISBLANK(Responses!B37), \"\", Responses!B37)","v":""},{"$f":"IF(ISBLANK(Responses!K37), \"\", Responses!K37)","v":""},{"$f":"IF(ISBLANK(Responses!L37), \"\", Responses!L37)","v":""},{"$f":"IF(ISBLANK(Responses!M37), \"\", Responses!M37)","v":""},{"$error":"#N/A"},{"$error":"#N/A"},{"$f":"IF(ISBLANK(C37),0,VLOOKUP(C37,LUTs!$A$6:$B$8,2))","v":{"$error":"#N/A"}},{"$f":"IF(ISBLANK(D37),0,VLOOKUP(D37,LUTs!$A$6:$B$8,2))","v":{"$error":"#N/A"}},{"$f":"IF(ISBLANK(E37),0,VLOOKUP(E37,LUTs!$A$6:$B$8,2))","v":{"$error":"#N/A"}}]
[{"$f":"IF(ISBLANK(Responses!A38), \"\", Responses!A38)","v":""},{"$f":"IF(ISBLANK(Responses!B38), \"\", Responses!B38)","v":""},{"$f":"IF(ISBLANK(Responses!K38), \"\", Responses!K38)","v":""},{"$f":"IF(ISBLANK(Responses!L38), \"\", Responses!L38)","v":""},{"$f":"IF(ISBLANK(Responses!M38), \"\", Responses!M38)","v":""},{"$error":"#N/A"},{"$error":"#N/A"},{"$f":"IF(ISBLANK(C38),0,VLOOKUP(C38,LUTs!$A$6:$B$8,2))","v":{"$error":"#N/A"}},{"$f":"IF(ISBLANK(D38),0,VLOOKUP(D38,LUTs!$A$6:$B$8,2))","v":{"$error":"#N/A"}},{"$f":"IF(ISBLANK(E38),0,VLOOKUP(E38,LUTs!$A$6:$B$8,2))","v":{"$error":"#N/A"}}]
[{"$f":"IF(ISBLANK(Responses!A39), \"\", Responses!A39)","v":""},{"$f":"IF(ISBLANK(Responses!B39), \"\", Responses!B39)","v":""},{"$f":"IF(ISBLANK(Responses!K39), \"\", Responses!K39)","v":""},{"$f":"IF(ISBLANK(Responses!L39), \"\", Responses!L39)","v":""},{"$f":"IF(ISBLANK(Responses!M39), \"\", Responses!M39)","v":""},{"$error":"#N/A"},{"$error":"#N/A"},{"$f":"IF(ISBLANK(C39),0,VLOOKUP(C39,LUTs!$A$6:$B$8,2))","v":{"$error":"#N/A"}},{"$f":"IF(ISBLANK(D39),0,VLOOKUP(D39,LUTs!$A$6:$B$8,2))","v":{"$error":"#N/A"}},{"$f":"IF(ISBLANK(E39),0,VLOOKUP(E39,LUTs!$A$6:$B$8,2))","v":{"$error":"#N/A"}}]
[{"$f":"IF(ISBLANK(Responses!A40), \"\", Responses!A40)","v":""},{"$f":"IF(ISBLANK(Responses!B40), \"\", Responses!B40)","v":""},{"$f":"IF(ISBLANK(Responses!K40), \"\", Responses!K40)","v":""},{"$f":"IF(ISBLANK(Responses!L40), \"\", Responses!L40)","v":""},{"$f":"IF(ISBLANK(Responses!M40), \"\", Responses!M40)","v":""},{"$error":"#N/A"},{"$error":"#N/A"},{"$f":"IF(ISBLANK(C40),0,VLOOKUP(C40,LUTs!$A$6:$B$8,2))","v":{"$error":"#N/A"}},{"$f":"IF(ISBLANK(D40),0,VLOOKUP(D40,LUTs!$A$6:$B$8,2))","v":{"$error":"#N/A"}},{"$f":"IF(ISBLANK(E40),0,VLOOKUP(E40,LUTs!$A$6:$B$8,2))","v":{"$error":"#N/A"}}]
[{"$f":"IF(ISBLANK(Responses!A41), \"\", Responses!A41)","v":""},{"$f":"IF(ISBLANK(Responses!B41), \"\", Responses!B41)","v":""},{"$f":"IF(ISBLANK(Responses!K41), \"\", Responses!K41)","v":""},{"$f":"IF(ISBLANK(Responses!L41), \"\", Responses!L41)","v":""},{"$f":"IF(ISBLANK(Responses!M41), \"\", Responses!M41)","v":""},{"$error":"#N/A"},{"$error":"#N/A"},{"$f":"IF(ISBLANK(C41),0,VLOOKUP(C41,LUTs!$A$6:$B$8,2))","v":{"$error":"#N/A"}},{"$f":"IF(ISBLANK(D41),0,VLOOKUP(D41,LUTs!$A$6:$B$8,2))","v":{"$error":"#N/A"}},{"$f":"IF(ISBLANK(E41),0,VLOOKUP(E41,LUTs!$A$6:$B$8,2))","v":{"$error":"#N/A"}}]
[{"$f":"IF(ISBLANK(Responses!A42), \"\", Responses!A42)","v":""},{"$f":"IF(ISBLANK(Responses!B42), \"\", Responses!B42)","v":""},{"$f":"IF(ISBLANK(Responses!K42), \"\", Responses!K42)","v":""},{"$f":"IF(ISBLANK(Responses!L42), \"\", Responses!L42)","v":""},{"$f":"IF(ISBLANK(Responses!M42), \"\", Responses!M42)","v":""},{"$error":"#N/A"},{"$error":"#N/A"},{"$f":"IF(ISBLANK(C42),0,VLOOKUP(C42,LUTs!$A$6:$B$8,2))","v":{"$error":"#N/A"}},{"$f":"IF(ISBLANK(D42),0,VLOOKUP(D42,LUTs!$A$6:$B$8,2))","v":{"$error":"#N/A"}},{"$f":"IF(ISBLANK(E42),0,VLOOKUP(E42,LUTs!$A$6:$B$8,2))","v":{"$error":"#N/A"}}]
[{"$f":"IF(ISBLANK(Responses!A43), \"\", Responses!A43)","v":""},{"$f":"IF(ISBLANK(Responses!B43), \"\", Responses!B43)","v":""},{"$f":"IF(ISBLANK(Responses!K43), \"\", Responses!K43)","v":""},{"$f":"IF(ISBLANK(Responses!L43), \"\", Responses!L43)","v":""},{"$f":"IF(ISBLANK(Responses!M43), \"\", Responses!M43)","v":""},{"$error":"#N/A"},{"$error":"#N/A"},{"$f":"IF(ISBLANK(C43),0,VLOOKUP(C43,LUTs!$A$6:$B$8,2))","v":{"$error":"#N/A"}},{"$f":"IF(ISBLANK(D43),0,VLOOKUP(D43,LUTs!$A$6:$B$8,2))","v":{"$error":"#N/A"}},{"$f":"IF(ISBLANK(E43),0,VLOOKUP(E43,LUTs!$A$6:$B$8,2))","v":{"$error":"#N/A"}}]
[{"$f":"IF(ISBLANK(Responses!A44), \"\", Responses!A44)","v":""},{"$f":"IF(ISBLANK(Responses!B44), \"\", Responses!B44)","v":""},{"$f":"IF(ISBLANK(Responses!K44), \"\", Responses!K44)","v":""},{"$f":"IF(ISBLANK(Responses!L44), \"\", Responses!L44)","v":""},{"$f":"IF(ISBLANK(Responses!M44), \"\", Responses!M44)","v":""},{"$error":"#N/A"},{"$error":"#N/A"},{"$f":"IF(ISBLANK(C44),0,VLOOKUP(C44,LUTs!$A$6:$B$8,2))","v":{"$error":"#N/A"}},{"$f":"IF(ISBLANK(D44),0,VLOOKUP(D44,LUTs!$A$6:$B$8,2))","v":{"$error":"#N/A"}},{"$f":"IF(ISBLANK(E44),0,VLOOKUP(E44,LUTs!$A$6:$B$8,2))","v":{"$error":"#N/A"}}]
[{"$f":"IF(ISBLANK(Responses!A45), \"\", Responses!A45)","v":""},{"$f":"IF(ISBLANK(Responses!B45), \"\", Responses!B45)","v":""},{"$f":"IF(ISBLANK(Responses!K45), \"\", Responses!K45)","v":""},{"$f":"IF(ISBLANK(Responses!L45), \"\", Responses!L45)","v":""},{"$f":"IF(ISBLANK(Responses!M45), \"\", Responses!M45)","v":""},{"$error":"#N/A"},{"$error":"#N/A"},{"$f":"IF(ISBLANK(C45),0,VLOOKUP(C45,LUTs!$A$6:$B$8,2))","v":{"$error":"#N/A"}},{"$f":"IF(ISBLANK(D45),0,VLOOKUP(D45,LUTs!$A$6:$B$8,2))","v":{"$error":"#N/A"}},{"$f":"IF(ISBLANK(E45),0,VLOOKUP(E45,LUTs!$A$6:$B$8,2))","v":{"$error":"#N/A"}}]
[{"$f":"IF(ISBLANK(Responses!A46), \"\", Responses!A46)","v":""},{"$f":"IF(ISBLANK(Responses!B46), \"\", Responses!B46)","v":""},{"$f":"IF(ISBLANK(Responses!K46), \"\", Responses!K46)","v":""},{"$f":"IF(ISBLANK(Responses!L46), \"\", Responses!L46)","v":""},{"$f":"IF(ISBLANK(Responses!M46), \"\", Responses!M46)","v":""},{"$error":"#N/A"},{"$error":"#N/A"},{"$f":"IF(ISBLANK(C46),0,VLOOKUP(C46,LUTs!$A$6:$B$8,2))","v":{"$error":"#N/A"}},{"$f":"IF(ISBLANK(D46),0,VLOOKUP(D46,LUTs!$A$6:$B$8,2))","v":{"$error":"#N/A"}},{"$f":"IF(ISBLANK(E46),0,VLOOKUP(E46,LUTs!$A$6:$B$8,2))","v":{"$error":"#N/A"}}]
[{"$f":"IF(ISBLANK(Responses!A47), \"\", Responses!A47)","v":""},{"$f":"IF(ISBLANK(Responses!B47), \"\", Responses!B47)","v":""},{"$f":"IF(ISBLANK(Responses!K47), \"\", Responses!K47)","v":""},{"$f":"IF(ISBLANK(Responses!L47), \"\", Responses!L47)","v":""},{"$f":"IF(ISBLANK(Responses!M47), \"\", Responses!M47)","v":""},{"$error":"#N/A"},{"$error":"#N/A"},{"$f":"IF(ISBLANK(C47),0,VLOOKUP(C47,LUTs!$A$6:$B$8,2))","v":{"$error":"#N/A"}},{"$f":"IF(ISBLANK(D47),0,VLOOKUP(D47,LUTs!$A$6:$B$8,2))","v":{"$error":"#N/A"}},{"$f":"IF(ISBLANK(E47),0,VLOOKUP(E47,LUTs!$A$6:$B$8,2))","v":{"$error":"#N/A"}}]
[{"$f":"IF(ISBLANK(Responses!A48), \"\", Responses!A48)","v":""},{"$f":"IF(ISBLANK(Responses!B48), \"\", Responses!B48)","v":""},{"$f":"IF(ISBLANK(Responses!K48), \"\", Responses!K48)","v":""},{"$f":"IF(ISBLANK(Responses!L48), \"\", Responses!L48)","v":""},{"$f":"IF(ISBLANK(Responses!M48), \"\", Responses!M48)","v":""},{"$error":"#N/A"},{"$error":"#N/A"},{"$f":"IF(ISBLANK(C48),0,VLOOKUP(C48,LUTs!$A$6:$B$8,2))","v":{"$error":"#N/A"}},{"$f":"IF(ISBLANK(D48),0,VLOOKUP(D48,LUTs!$A$6:$B$8,2))","v":{"$error":"#N/A"}},{"$f":"IF(ISBLANK(E48),0,VLOOKUP(E48,LUTs!$A$6:$B$8,2))","v":{"$error":"#N/A"}}]
[{"$f":"IF(ISBLANK(Responses!A49), \"\", Responses!A49)","v":""},{"$f":"IF(ISBLANK(Responses!B49), \"\", Responses!B49)","v":""},{"$f":"IF(ISBLANK(Responses!K49), \"\", Responses!K49)","v":""},{"$f":"IF(ISBLANK(Responses!L49), \"\", Responses!L49)","v":""},{"$f":"IF(ISBLANK(Responses!M49), \"\", Responses!M49)","v":""},{"$error":"#N/A"},{"$error":"#N/A"},{"$f":"IF(ISBLANK(C49),0,VLOOKUP(C49,LUTs!$A$6:$B$8,2))","v":{"$error":"#N/A"}},{"$f":"IF(ISBLANK(D49),0,VLOOKUP(D49,LUTs!$A$6:$B$8,2))","v":{"$error":"#N/A"}},{"$f":"IF(ISBLANK(E49),0,VLOOKUP(E49,LUTs!$A$6:$B$8,2))","v":{"$error":"#N/A"}}]
[{"$f":"IF(ISBLANK(Responses!A50), \"\", Responses!A50)","v":""},{"$f":"IF(ISBLANK(Responses!B50), \"\", Responses!B50)","v":""},{"$f":"IF(ISBLANK(Responses!K50), \"\", Responses!K50)","v":""},{"$f":"IF(ISBLANK(Responses!L50), \"\", Responses!L50)","v":""},{"$f":"IF(ISBLANK(Responses!M50), \"\", Responses!M50)","v":""},{"$error":"#N/A"},{"$error":"#N/A"},{"$f":"IF(ISBLANK(C50),0,VLOOKUP(C50,LUTs!$A$6:$B$8,2))","v":{"$error":"#N/A"}},{"$f":"IF(ISBLANK(D50),0,VLOOKUP(D50,LUTs!$A$6:$B$8,2))","v":{"$error":"#N/A"}},{"$f":"IF(ISBLANK(E50),0,VLOOKUP(E50,LUTs!$A$6:$B$8,2))","v":{"$error":"#N/A"}}]
[{"$f":"IF(ISBLANK(Responses!A51), \"\", Responses!A51)","v":""},{"$f":"IF(ISBLANK(Responses!B51), \"\", Responses!B51)","v":""},{"$f":"IF(ISBLANK(Responses!K51), \"\", Responses!K51)","v":""},{"$f":"IF(ISBLANK(Responses!L51), \"\", Responses!L51)","v":""},{"$f":"IF(ISBLANK(Responses!M51), \"\", Responses!M51)","v":""},{"$error":"#N/A"},{"$error":"#N/A"},{"$f":"IF(ISBLANK(C51),0,VLOOKUP(C51,LUTs!$A$6:$B$8,2))","v":{"$error":"#N/A"}},{"$f":"IF(ISBLANK(D51),0,VLOOKUP(D51,LUTs!$A$6:$B$8,2))","v":{"$error":"#N/A"}},{"$f":"IF(ISBLANK(E51),0,VLOOKUP(E51,LUTs!$A$6:$B$8,2))","v":{"$error":"#N/A"}}]
[{"$f":"IF(ISBLANK(Responses!A52), \"\", Responses!A52)","v":""},{"$f":"IF(ISBLANK(Responses!B52), \"\", Responses!B52)","v":""},{"$f":"IF(ISBLANK(Responses!K52), \"\", Responses!K52)","v":""},{"$f":"IF(ISBLANK(Responses!L52), \"\", Responses!L52)","v":""},{"$f":"IF(ISBLANK(Responses!M52), \"\", Responses!M52)","v":""},{"$error":"#N/A"},{"$error":"#N/A"},{"$f":"IF(ISBLANK(C52),0,VLOOKUP(C52,LUTs!$A$6:$B$8,2))","v":{"$error":"#N/A"}},{"$f":"IF(ISBLANK(D52),0,VLOOKUP(D52,LUTs!$A$6:$B$8,2))","v":{"$error":"#N/A"}},{"$f":"IF(ISBLANK(E52),0,VLOOKUP(E52,LUTs!$A$6:$B$8,2))","v":{"$error":"#N/A"}}]
[{"$f":"IF(ISBLANK(Responses!A53), \"\", Responses!A53)","v":""},{"$f":"IF(ISBLANK(Responses!B53), \"\", Responses!B53)","v":""},{"$f":"IF(ISBLANK(Responses!K53), \"\", Responses!K53)","v":""},{"$f":"IF(ISBLANK(Responses!L53), \"\", Responses!L53)","v":""},{"$f":"IF(ISBLANK(Responses!M53), \"\", Responses!M53)","v":""},{"$error":"#N/A"},{"$error":"#N/A"},{"$f":"IF(ISBLANK(C53),0,VLOOKUP(C53,LUTs!$A$6:$B$8,2))","v":{"$error":"#N/A"}},{"$f":"IF(ISBLANK(D53),0,VLOOKUP(D53,LUTs!$A$6:$B$8,2))","v":{"$error":"#N/A"}},{"$f":"IF(ISBLANK(E53),0,VLOOKUP(E53,LUTs!$A$6:$B$8,2))","v":{"$error":"#N/A"}}]
[{"$f":"IF(ISBLANK(Responses!A54), \"\", Responses!A54)","v":""},{"$f":"IF(ISBLANK(Responses!B54), \"\", Responses!B54)","v":""},{"$f":"IF(ISBLANK(Responses!K54), \"\", Responses!K54)","v":""},{"$f":"IF(ISBLANK(Responses!L54), \"\", Responses!L54)","v":""},{"$f":"IF(ISBLANK(Responses!M54), \"\", Responses!M54)","v":""},{"$error":"#N/A"},{"$error":"#N/A"},{"$f":"IF(ISBLANK(C54),0,VLOOKUP(C54,LUTs!$A$6:$B$8,2))","v":{"$error":"#N/A"}},{"$f":"IF(ISBLANK(D54),0,VLOOKUP(D54,LUTs!$A$6:$B$8,2))","v":{"$error":"#N/A"}},{"$f":"IF(ISBLANK(E54),0,VLOOKUP(E54,LUTs!$A$6:$B$8,2))","v":{"$error":"#N/A"}}]
[{"$f":"IF(ISBLANK(Responses!A55), \"\", Responses!A55)","v":""},{"$f":"IF(ISBLANK(Responses!B55), \"\", Responses!B55)","v":""},{"$f":"IF(ISBLANK(Responses!K55), \"\", Responses!K55)","v":""},{"$f":"IF(ISBLANK(Responses!L55), \"\", Responses!L55)","v":""},{"$f":"IF(ISBLANK(Responses!M55), \"\", Responses!M55)","v":""},{"$error":"#N/A"},{"$error":"#N/A"},{"$f":"IF(ISBLANK(C55),0,VLOOKUP(C55,LUTs!$A$6:$B$8,2))","v":{"$error":"#N/A"}},{"$f":"IF(ISBLANK(D55),0,VLOOKUP(D55,LUTs!$A$6:$B$8,2))","v":{"$error":"#N/A"}},{"$f":"IF(ISBLANK(E55),0,VLOOKUP(E55,LUTs!$A$6:$B$8,2))","v":{"$error":"#N/A"}}]
[{"$f":"IF(ISBLANK(Responses!A56), \"\", Responses!A56)","v":""},{"$f":"IF(ISBLANK(Responses!B56), \"\", Responses!B56)","v":""},{"$f":"IF(ISBLANK(Responses!K56), \"\", Responses!K56)","v":""},{"$f":"IF(ISBLANK(Responses!L56), \"\", Responses!L56)","v":""},{"$f":"IF(ISBLANK(Responses!M56), \"\", Responses!M56)","v":""},{"$error":"#N/A"},{"$error":"#N/A"},{"$f":"IF(ISBLANK(C56),0,VLOOKUP(C56,LUTs!$A$6:$B$8,2))","v":{"$error":"#N/A"}},{"$f":"IF(ISBLANK(D56),0,VLOOKUP(D56,LUTs!$A$6:$B$8,2))","v":{"$error":"#N/A"}},{"$f":"IF(ISBLANK(E56),0,VLOOKUP(E56,LUTs!$A$6:$B$8,2))","v":{"$error":"#N/A"}}]
[{"$f":"IF(ISBLANK(Responses!A57), \"\", Responses!A57)","v":""},{"$f":"IF(ISBLANK(Responses!B57), \"\", Responses!B57)","v":""},{"$f":"IF(ISBLANK(Responses!K57), \"\", Responses!K57)","v":""},{"$f":"IF(ISBLANK(Responses!L57), \"\", Responses!L57)","v":""},{"$f":"IF(ISBLANK(Responses!M57), \"\", Responses!M57)","v":""},{"$error":"#N/A"},{"$error":"#N/A"},{"$f":"IF(ISBLANK(C57),0,VLOOKUP(C57,LUTs!$A$6:$B$8,2))","v":{"$error":"#N/A"}},{"$f":"IF(ISBLANK(D57),0,VLOOKUP(D57,LUTs!$A$6:$B$8,2))","v":{"$error":"#N/A"}},{"$f":"IF(ISBLANK(E57),0,VLOOKUP(E57,LUTs!$A$6:$B$8,2))","v":{"$error":"#N/A"}}]
[{"$f":"IF(ISBLANK(Responses!A58), \"\", Responses!A58)","v":""},{"$f":"IF(ISBLANK(Responses!B58), \"\", Responses!B58)","v":""},{"$f":"IF(ISBLANK(Responses!K58), \"\", Responses!K58)","v":""},{"$f":"IF(ISBLANK(Responses!L58), \"\", Responses!L58)","v":""},{"$f":"IF(ISBLANK(Responses!M58), \"\", Responses!M58)","v":""},{"$error":"#N/A"},{"$error":"#N/A"},{"$f":"IF(ISBLANK(C58),0,VLOOKUP(C58,LUTs!$A$6:$B$8,2))","v":{"$error":"#N/A"}},{"$f":"IF(ISBLANK(D58),0,VLOOKUP(D58,LUTs!$A$6:$B$8,2))","v":{"$error":"#N/A"}},{"$f":"IF(ISBLANK(E58),0,VLOOKUP(E58,LUTs!$A$6:$B$8,2))","v":{"$error":"#N/A"}}]
[{"$f":"IF(ISBLANK(Responses!A59), \"\", Responses!A59)","v":""},{"$f":"IF(ISBLANK(Responses!B59), \"\", Responses!B59)","v":""},{"$f":"IF(ISBLANK(Responses!K59), \"\", Responses!K59)","v":""},{"$f":"IF(ISBLANK(Responses!L59), \"\", Responses!L59)","v":""},{"$f":"IF(ISBLANK(Responses!M59), \"\", Responses!M59)","v":""},{"$error":"#N/A"},{"$error":"#N/A"},{"$f":"IF(ISBLANK(C59),0,VLOOKUP(C59,LUTs!$A$6:$B$8,2))","v":{"$error":"#N/A"}},{"$f":"IF(ISBLANK(D59),0,VLOOKUP(D59,LUTs!$A$6:$B$8,2))","v":{"$error":"#N/A"}},{"$f":"IF(ISBLANK(E59),0,VLOOKUP(E59,LUTs!$A$6:$B$8,2))","v":{"$error":"#N/A"}}]
[{"$f":"IF(ISBLANK(Responses!A60), \"\", Responses!A60)","v":""},{"$f":"IF(ISBLANK(Responses!B60), \"\", Responses!B60)","v":""},{"$f":"IF(ISBLANK(Responses!K60), \"\", Responses!K60)","v":""},{"$f":"IF(ISBLANK(Responses!L60), \"\", Responses!L60)","v":""},{"$f":"IF(ISBLANK(Responses!M60), \"\", Responses!M60)","v":""},{"$error":"#N/A"},{"$error":"#N/A"},{"$f":"IF(ISBLANK(C60),0,VLOOKUP(C60,LUTs!$A$6:$B$8,2))","v":{"$error":"#N/A"}},{"$f":"IF(ISBLANK(D60),0,VLOOKUP(D60,LUTs!$A$6:$B$8,2))","v":{"$error":"#N/A"}},{"$f":"IF(ISBLANK(E60),0,VLOOKUP(E60,LUTs!$A$6:$B$8,2))","v":{"$error":"#N/A"}}]
[{"$f":"IF(ISBLANK(Responses!A61), \"\", Responses!A61)","v":""},{"$f":"IF(ISBLANK(Responses!B61), \"\", Responses!B61)","v":""},{"$f":"IF(ISBLANK(Responses!K61), \"\", Responses!K61)","v":""},{"$f":"IF(ISBLANK(Responses!L61), \"\", Responses!L61)","v":""},{"$f":"IF(ISBLANK(Responses!M61), \"\", Responses!M61)","v":""},{"$error":"#N/A"},{"$error":"#N/A"},{"$f":"IF(ISBLANK(C61),0,VLOOKUP(C61,LUTs!$A$6:$B$8,2))","v":{"$error":"#N/A"}},{"$f":"IF(ISBLANK(D61),0,VLOOKUP(D61,LUTs!$A$6:$B$8,2))","v":{"$error":"#N/A"}},{"$f":"IF(ISBLANK(E61),0,VLOOKUP(E61,LUTs!$A$6:$B$8,2))","v":{"$error":"#N/A"}}]
[{"$f":"IF(ISBLANK(Responses!A62), \"\", Responses!A62)","v":""},{"$f":"IF(ISBLANK(Responses!B62), \"\", Responses!B62)","v":""},{"$f":"IF(ISBLANK(Responses!K62), \"\", Responses!K62)","v":""},{"$f":"IF(ISBLANK(Responses!L62), \"\", Responses!L62)","v":""},{"$f":"IF(ISBLANK(Responses!M62), \"\", Responses!M62)","v":""},{"$error":"#N/A"},{"$error":"#N/A"},{"$f":"IF(ISBLANK(C62),0,VLOOKUP(C62,LUTs!$A$6:$B$8,2))","v":{"$error":"#N/A"}},{"$f":"IF(ISBLANK(D62),0,VLOOKUP(D62,LUTs!$A$6:$B$8,2))","v":{"$error":"#N/A"}},{"$f":"IF(ISBLANK(E62),0,VLOOKUP(E62,LUTs!$A$6:$B$8,2))","v":{"$error":"#N/A"}}]
[{"$f":"IF(ISBLANK(Responses!A63), \"\", Responses!A63)","v":""},{"$f":"IF(ISBLANK(Responses!B63), \"\", Responses!B63)","v":""},{"$f":"IF(ISBLANK(Responses!K63), \"\", Responses!K63)","v":""},{"$f":"IF(ISBLANK(Responses!L63), \"\", Responses!L63)","v":""},{"$f":"IF(ISBLANK(Responses!M63), \"\", Responses!M63)","v":""},{"$error":"#N/A"},{"$error":"#N/A"},{"$f":"IF(ISBLANK(C63),0,VLOOKUP(C63,LUTs!$A$6:$B$8,2))","v":{"$error":"#N/A"}},{"$f":"IF(ISBLANK(D63),0,VLOOKUP(D63,LUTs!$A$6:$B$8,2))","v":{"$error":"#N/A"}},{"$f":"IF(ISBLANK(E63),0,VLOOKUP(E63,LUTs!$A$6:$B$8,2))","v":{"$error":"#N/A"}}]
[{"$f":"IF(ISBLANK(Responses!A64), \"\", Responses!A64)","v":""},{"$f":"IF(ISBLANK(Responses!B64), \"\", Responses!B64)","v":""},{"$f":"IF(ISBLANK(Responses!K64), \"\", Responses!K64)","v":""},{"$f":"IF(ISBLANK(Responses!L64), \"\", Responses!L64)","v":""},{"$f":"IF(ISBLANK(Responses!M64), \"\", Responses!M64)","v":""},{"$error":"#N/A"},{"$error":"#N/A"},{"$f":"IF(ISBLANK(C64),0,VLOOKUP(C64,LUTs!$A$6:$B$8,2))","v":{"$error":"#N/A"}},{"$f":"IF(ISBLANK(D64),0,VLOOKUP(D64,LUTs!$A$6:$B$8,2))","v":{"$error":"#N/A"}},{"$f":"IF(ISBLANK(E64),0,VLOOKUP(E64,LUTs!$A$6:$B$8,2))","v":{"$error":"#N/A"}}]
[{"$f":"IF(ISBLANK(Responses!A65), \"\", Responses!A65)","v":""},{"$f":"IF(ISBLANK(Responses!B65), \"\", Responses!B65)","v":""},{"$f":"IF(ISBLANK(Responses!K65), \"\", Responses!K65)","v":""},{"$f":"IF(ISBLANK(Responses!L65), \"\", Responses!L65)","v":""},{"$f":"IF(ISBLANK(Responses!M65), \"\", Responses!M65)","v":""},{"$error":"#N/A"},{"$error":"#N/A"},{"$f":"IF(ISBLANK(C65),0,VLOOKUP(C65,LUTs!$A$6:$B$8,2))","v":{"$error":"#N/A"}},{"$f":"IF(ISBLANK(D65),0,VLOOKUP(D65,LUTs!$A$6:$B$8,2))","v":{"$error":"#N/A"}},{"$f":"IF(ISBLANK(E65),0,VLOOKUP(E65,LUTs!$A$6:$B$8,2))","v":{"$error":"#N/A"}}]
[{"$f":"IF(ISBLANK(Responses!A66), \"\", Responses!A66)","v":""},{"$f":"IF(ISBLANK(Responses!B66), \"\", Responses!B66)","v":""},{"$f":"IF(ISBLANK(Responses!K66), \"\", Responses!K66)","v":""},{"$f":"IF(ISBLANK(Responses!L66), \"\", Responses!L66)","v":""},{"$f":"IF(ISBLANK(Responses!M66), \"\", Responses!M66)","v":""},{"$error":"#N/A"},{"$error":"#N/A"},{"$f":"IF(ISBLANK(C66),0,VLOOKUP(C66,LUTs!$A$6:$B$8,2))","v":{"$error":"#N/A"}},{"$f":"IF(ISBLANK(D66),0,VLOOKUP(D66,LUTs!$A$6:$B$8,2))","v":{"$error":"#N/A"}},{"$f":"IF(ISBLANK(E66),0,VLOOKUP(E66,LUTs!$A$6:$B$8,2))","v":{"$error":"#N/A"}}]
[{"$f":"IF(ISBLANK(Responses!A67), \"\", Responses!A67)","v":""},{"$f":"IF(ISBLANK(Responses!B67), \"\", Responses!B67)","v":""},{"$f":"IF(ISBLANK(Responses!K67), \"\", Responses!K67)","v":""},{"$f":"IF(ISBLANK(Responses!L67), \"\", Responses!L67)","v":""},{"$f":"IF(ISBLANK(Responses!M67), \"\", Responses!M67)","v":""},{"$f":"G67/$L$2","v":{"$error":"#N/A"}},{"$f":"SUM(H67*H$1,I67*I$1,J67*J$1)","v":{"$error":"#N/A"}},{"$f":"IF(ISBLANK(C67),0,VLOOKUP(C67,LUTs!$A$6:$B$8,2))","v":{"$error":"#N/A"}},{"$f":"IF(ISBLANK(D67),0,VLOOKUP(D67,LUTs!$A$6:$B$8,2))","v":{"$error":"#N/A"}},{"$f":"IF(ISBLANK(E67),0,VLOOKUP(E67,LUTs!$A$6:$B$8,2))","v":{"$error":"#N/A"}}]
[{"$f":"IF(ISBLANK(Responses!A68), \"\", Responses!A68)","v":""},{"$f":"IF(ISBLANK(Responses!B68), \"\", Responses!B68)","v":""},{"$f":"IF(ISBLANK(Responses!K68), \"\", Responses!K68)","v":""},{"$f":"IF(ISBLANK(Responses!L68), \"\", Responses!L68)","v":""},{"$f":"IF(ISBLANK(Responses!M68), \"\", Responses!M68)","v":""},{"$error":"#N/A"},{"$error":"#N/A"},{"$f":"IF(ISBLANK(C68),0,VLOOKUP(C68,LUTs!$A$6:$B$8,2))","v":{"$error":"#N/A"}},{"$f":"IF(ISBLANK(D68),0,VLOOKUP(D68,LUTs!$A$6:$B$8,2))","v":{"$error":"#N/A"}},{"$f":"IF(ISBLANK(E68),0,VLOOKUP(E68,LUTs!$A$6:$B$8,2))","v":{"$error":"#N/A"}}]
[{"$f":"IF(ISBLANK(Responses!A69), \"\", Responses!A69)","v":""},{"$f":"IF(ISBLANK(Responses!B69), \"\", Responses!B69)","v":""},{"$f":"IF(ISBLANK(Responses!K69), \"\", Responses!K69)","v":""},{"$f":"IF(ISBLANK(Responses!L69), \"\", Responses!L69)","v":""},{"$f":"IF(ISBLANK(Responses!M69), \"\", Responses!M69)","v":""},{"$error":"#N/A"},{"$error":"#N/A"},{"$f":"IF(ISBLANK(C69),0,VLOOKUP(C69,LUTs!$A$6:$B$8,2))","v":{"$error":"#N/A"}},{"$f":"IF(ISBLANK(D69),0,VLOOKUP(D69,LUTs!$A$6:$B$8,2))","v":{"$error":"#N/A"}},{"$f":"IF(ISBLANK(E69),0,VLOOKUP(E69,LUTs!$A$6:$B$8,2))","v":{"$error":"#N/A"}}]
[{"$f":"IF(ISBLANK(Responses!A70), \"\", Responses!A70)","v":""},{"$f":"IF(ISBLANK(Responses!B70), \"\", Responses!B70)","v":""},{"$f":"IF(ISBLANK(Responses!K70), \"\", Responses!K70)","v":""},{"$f":"IF(ISBLANK(Responses!L70), \"\", Responses!L70)","v":""},{"$f":"IF(ISBLANK(Responses!M70), \"\", Responses!M70)","v":""},{"$error":"#N/A"},{"$error":"#N/A"},{"$f":"IF(ISBLANK(C70),0,VLOOKUP(C70,LUTs!$A$6:$B$8,2))","v":{"$error":"#N/A"}},{"$f":"IF(ISBLANK(D70),0,VLOOKUP(D70,LUTs!$A$6:$B$8,2))","v":{"$error":"#N/A"}},{"$f":"IF(ISBLANK(E70),0,VLOOKUP(E70,LUTs!$A$6:$B$8,2))","v":{"$error":"#N/A"}}]
[{"$f":"IF(ISBLANK(Responses!A71), \"\", Responses!A71)","v":""},{"$f":"IF(ISBLANK(Responses!B71), \"\", Responses!B71)","v":""},{"$f":"IF(ISBLANK(Responses!K71), \"\", Responses!K71)","v":""},{"$f":"IF(ISBLANK(Responses!L71), \"\", Responses!L71)","v":""},{"$f":"IF(ISBLANK(Responses!M71), \"\", Responses!M71)","v":""},{"$error":"#N/A"},{"$error":"#N/A"},{"$f":"IF(ISBLANK(C71),0,VLOOKUP(C71,LUTs!$A$6:$B$8,2))","v":{"$error":"#N/A"}},{"$f":"IF(ISBLANK(D71),0,VLOOKUP(D71,LUTs!$A$6:$B$8,2))","v":{"$error":"#N/A"}},{"$f":"IF(ISBLANK(E71),0,VLOOKUP(E71,LUTs!$A$6:$B$8,2))","v":{"$error":"#N/A"}}]
[{"$f":"IF(ISBLANK(Responses!A72), \"\", Responses!A72)","v":""},{"$f":"IF(ISBLANK(Responses!B72), \"\", Responses!B72)","v":""},{"$f":"IF(ISBLANK(Responses!K72), \"\", Responses!K72)","v":""},{"$f":"IF(ISBLANK(Responses!L72), \"\", Responses!L72)","v":""},{"$f":"IF(ISBLANK(Responses!M72), \"\", Responses!M72)","v":""},{"$error":"#N/A"},{"$error":"#N/A"},{"$f":"IF(ISBLANK(C72),0,VLOOKUP(C72,LUTs!$A$6:$B$8,2))","v":{"$error":"#N/A"}},{"$f":"IF(ISBLANK(D72),0,VLOOKUP(D72,LUTs!$A$6:$B$8,2))","v":{"$error":"#N/A"}},{"$f":"IF(ISBLANK(E72),0,VLOOKUP(E72,LUTs!$A$6:$B$8,2))","v":{"$error":"#N/A"}}]
[{"$f":"IF(ISBLANK(Responses!A73), \"\", Responses!A73)","v":""},{"$f":"IF(ISBLANK(Responses!B73), \"\", Responses!B73)","v":""},{"$f":"IF(ISBLANK(Responses!K73), \"\", Responses!K73)","v":""},{"$f":"IF(ISBLANK(Responses!L73), \"\", Responses!L73)","v":""},{"$f":"IF(ISBLANK(Responses!M73), \"\", Responses!M73)","v":""},{"$error":"#N/A"},{"$error":"#N/A"},{"$f":"IF(ISBLANK(C73),0,VLOOKUP(C73,LUTs!$A$6:$B$8,2))","v":{"$error":"#N/A"}},{"$f":"IF(ISBLANK(D73),0,VLOOKUP(D73,LUTs!$A$6:$B$8,2))","v":{"$error":"#N/A"}},{"$f":"IF(ISBLANK(E73),0,VLOOKUP(E73,LUTs!$A$6:$B$8,2))","v":{"$error":"#N/A"}}]
[{"$f":"IF(ISBLANK(Responses!A74), \"\", Responses!A74)","v":""},{"$f":"IF(ISBLANK(Responses!B74), \"\", Responses!B74)","v":""},{"$f":"IF(ISBLANK(Responses!K74), \"\", Responses!K74)","v":""},{"$f":"IF(ISBLANK(Responses!L74), \"\", Responses!L74)","v":""},{"$f":"IF(ISBLANK(Responses!M74), \"\", Responses!M74)","v":""},{"$error":"#N/A"},{"$error":"#N/A"},{"$f":"IF(ISBLANK(C74),0,VLOOKUP(C74,LUTs!$A$6:$B$8,2))","v":{"$error":"#N/A"}},{"$f":"IF(ISBLANK(D74),0,VLOOKUP(D74,LUTs!$A$6:$B$8,2))","v":{"$error":"#N/A"}},{"$f":"IF(ISBLANK(E74),0,VLOOKUP(E74,LUTs!$A$6:$B$8,2))","v":{"$error":"#N/A"}}]
[{"$f":"IF(ISBLANK(Responses!A75), \"\", Responses!A75)","v":""},{"$f":"IF(ISBLANK(Responses!B75), \"\", Responses!B75)","v":""},{"$f":"IF(ISBLANK(Responses!K75), \"\", Responses!K75)","v":""},{"$f":"IF(ISBLANK(Responses!L75), \"\", Responses!L75)","v":""},{"$f":"IF(ISBLANK(Responses!M75), \"\", Responses!M75)","v":""},{"$error":"#N/A"},{"$error":"#N/A"},{"$f":"IF(ISBLANK(C75),0,VLOOKUP(C75,LUTs!$A$6:$B$8,2))","v":{"$error":"#N/A"}},{"$f":"IF(ISBLANK(D75),0,VLOOKUP(D75,LUTs!$A$6:$B$8,2))","v":{"$error":"#N/A"}},{"$f":"IF(ISBLANK(E75),0,VLOOKUP(E75,LUTs!$A$6:$B$8,2))","v":{"$error":"#N/A"}}]
[{"$f":"IF(ISBLANK(Responses!A76), \"\", Responses!A76)","v":""},{"$f":"IF(ISBLANK(Responses!B76), \"\", Responses!B76)","v":""},{"$f":"IF(ISBLANK(Responses!K76), \"\", Responses!K76)","v":""},{"$f":"IF(ISBLANK(Responses!L76), \"\", Responses!L76)","v":""},{"$f":"IF(ISBLANK(Responses!M76), \"\", Responses!M76)","v":""},{"$error":"#N/A"},{"$error":"#N/A"},{"$f":"IF(ISBLANK(C76),0,VLOOKUP(C76,LUTs!$A$6:$B$8,2))","v":{"$error":"#N/A"}},{"$f":"IF(ISBLANK(D76),0,VLOOKUP(D76,LUTs!$A$6:$B$8,2))","v":{"$error":"#N/A"}},{"$f":"IF(ISBLANK(E76),0,VLOOKUP(E76,LUTs!$A$6:$B$8,2))","v":{"$error":"#N/A"}}]
[{"$f":"IF(ISBLANK(Responses!A77), \"\", Responses!A77)","v":""},{"$f":"IF(ISBLANK(Responses!B77), \"\", Responses!B77)","v":""},{"$f":"IF(ISBLANK(Responses!K77), \"\", Responses!K77)","v":""},{"$f":"IF(ISBLANK(Responses!L77), \"\", Responses!L77)","v":""},{"$f":"IF(ISBLANK(Responses!M77), \"\", Responses!M77)","v":""},{"$error":"#N/A"},{"$error":"#N/A"},{"$f":"IF(ISBLANK(C77),0,VLOOKUP(C77,LUTs!$A$6:$B$8,2))","v":{"$error":"#N/A"}},{"$f":"IF(ISBLANK(D77),0,VLOOKUP(D77,LUTs!$A$6:$B$8,2))","v":{"$error":"#N/A"}},{"$f":"IF(ISBLANK(E77),0,VLOOKUP(E77,LUTs!$A$6:$B$8,2))","v":{"$error":"#N/A"}}]
[{"$f":"IF(ISBLANK(Responses!A78), \"\", Responses!A78)","v":""},{"$f":"IF(ISBLANK(Responses!B78), \"\", Responses!B78)","v":""},{"$f":"IF(ISBLANK(Responses!K78), \"\", Responses!K78)","v":""},{"$f":"IF(ISBLANK(Responses!L78), \"\", Responses!L78)","v":""},{"$f":"IF(ISBLANK(Responses!M78), \"\", Responses!M78)","v":""},{"$error":"#N/A"},{"$error":"#N/A"},{"$f":"IF(ISBLANK(C78),0,VLOOKUP(C78,LUTs!$A$6:$B$8,2))","v":{"$error":"#N/A"}},{"$f":"IF(ISBLANK(D78),0,VLOOKUP(D78,LUTs!$A$6:$B$8,2))","v":{"$error":"#N/A"}},{"$f":"IF(ISBLANK(E78),0,VLOOKUP(E78,LUTs!$A$6:$B$8,2))","v":{"$error":"#N/A"}}]
[{"$f":"IF(ISBLANK(Responses!A79), \"\", Responses!A79)","v":""},{"$f":"IF(ISBLANK(Responses!B79), \"\", Responses!B79)","v":""},{"$f":"IF(ISBLANK(Responses!K79), \"\", Responses!K79)","v":""},{"$f":"IF(ISBLANK(Responses!L79), \"\", Responses!L79)","v":""},{"$f":"IF(ISBLANK(Responses!M79), \"\", Responses!M79)","v":""},{"$error":"#N/A"},{"$error":"#N/A"},{"$f":"IF(ISBLANK(C79),0,VLOOKUP(C79,LUTs!$A$6:$B$8,2))","v":{"$error":"#N/A"}},{"$f":"IF(ISBLANK(D79),0,VLOOKUP(D79,LUTs!$A$6:$B$8,2))","v":{"$error":"#N/A"}},{"$f":"IF(ISBLANK(E79),0,VLOOKUP(E79,LUTs!$A$6:$B$8,2))","v":{"$error":"#N/A"}}]
[{"$f":"IF(ISBLANK(Responses!A80), \"\", Responses!A80)","v":""},{"$f":"IF(ISBLANK(Responses!B80), \"\", Responses!B80)","v":""},{"$f":"IF(ISBLANK(Responses!K80), \"\", Responses!K80)","v":""},{"$f":"IF(ISBLANK(Responses!L80), \"\", Responses!L80)","v":""},{"$f":"IF(ISBLANK(Responses!M80), \"\", Responses!M80)","v":""},{"$error":"#N/A"},{"$error":"#N/A"},{"$f":"IF(ISBLANK(C80),0,VLOOKUP(C80,LUTs!$A$6:$B$8,2))","v":{"$error":"#N/A"}},{"$f":"IF(ISBLANK(D80),0,VLOOKUP(D80,LUTs!$A$6:$B$8,2))","v":{"$error":"#N/A"}},{"$f":"IF(ISBLANK(E80),0,VLOOKUP(E80,LUTs!$A$6:$B$8,2))","v":{"$error":"#N/A"}}]
[{"$f":"IF(ISBLANK(Responses!A81), \"\", Responses!A81)","v":""},{"$f":"IF(ISBLANK(Responses!B81), \"\", Responses!B81)","v":""},{"$f":"IF(ISBLANK(Responses!K81), \"\", Responses!K81)","v":""},{"$f":"IF(ISBLANK(Responses!L81), \"\", Responses!L81)","v":""},{"$f":"IF(ISBLANK(Responses!M81), \"\", Responses!M81)","v":""},{"$error":"#N/A"},{"$error":"#N/A"},{"$f":"IF(ISBLANK(C81),0,VLOOKUP(C81,LUTs!$A$6:$B$8,2))","v":{"$error":"#N/A"}},{"$f":"IF(ISBLANK(D81),0,VLOOKUP(D81,LUTs!$A$6:$B$8,2))","v":{"$error":"#N/A"}},{"$f":"IF(ISBLANK(E81),0,VLOOKUP(E81,LUTs!$A$6:$B$8,2))","v":{"$error":"#N/A"}}]
[{"$f":"IF(ISBLANK(Responses!A82), \"\", Responses!A82)","v":""},{"$f":"IF(ISBLANK(Responses!B82), \"\", Responses!B82)","v":""},{"$f":"IF(ISBLANK(Responses!K82), \"\", Responses!K82)","v":""},{"$f":"IF(ISBLANK(Responses!L82), \"\", Responses!L82)","v":""},{"$f":"IF(ISBLANK(Responses!M82), \"\", Responses!M82)","v":""},{"$error":"#N/A"},{"$error":"#N/A"},{"$f":"IF(ISBLANK(C82),0,VLOOKUP(C82,LUTs!$A$6:$B$8,2))","v":{"$error":"#N/A"}},{"$f":"IF(ISBLANK(D82),0,VLOOKUP(D82,LUTs!$A$6:$B$8,2))","v":{"$error":"#N/A"}},{"$f":"IF(ISBLANK(E82),0,VLOOKUP(E82,LUTs!$A$6:$B$8,2))","v":{"$error":"#N/A"}}]
[{"$f":"IF(ISBLANK(Responses!A83), \"\", Responses!A83)","v":""},{"$f":"IF(ISBLANK(Responses!B83), \"\", Responses!B83)","v":""},{"$f":"IF(ISBLANK(Responses!K83), \"\", Responses!K83)","v":""},{"$f":"IF(ISBLANK(Responses!L83), \"\", Responses!L83)","v":""},{"$f":"IF(ISBLANK(Responses!M83), \"\", Responses!M83)","v":""},{"$error":"#N/A"},{"$error":"#N/A"},{"$f":"IF(ISBLANK(C83),0,VLOOKUP(C83,LUTs!$A$6:$B$8,2))","v":{"$error":"#N/A"}},{"$f":"IF(ISBLANK(D83),0,VLOOKUP(D83,LUTs!$A$6:$B$8,2))","v":{"$error":"#N/A"}},{"$f":"IF(ISBLANK(E83),0,VLOOKUP(E83,LUTs!$A$6:$B$8,2))","v":{"$error":"#N/A"}}]
[{"$f":"IF(ISBLANK(Responses!A84), \"\", Responses!A84)","v":""},{"$f":"IF(ISBLANK(Responses!B84), \"\", Responses!B84)","v":""},{"$f":"IF(ISBLANK(Responses!K84), \"\", Responses!K84)","v":""},{"$f":"IF(ISBLANK(Responses!L84), \"\", Responses!L84)","v":""},{"$f":"IF(ISBLANK(Responses!M84), \"\", Responses!M84)","v":""},{"$error":"#N/A"},{"$error":"#N/A"},{"$f":"IF(ISBLANK(C84),0,VLOOKUP(C84,LUTs!$A$6:$B$8,2))","v":{"$error":"#N/A"}},{"$f":"IF(ISBLANK(D84),0,VLOOKUP(D84,LUTs!$A$6:$B$8,2))","v":{"$error":"#N/A"}},{"$f":"IF(ISBLANK(E84),0,VLOOKUP(E84,LUTs!$A$6:$B$8,2))","v":{"$error":"#N/A"}}]
[{"$f":"IF(ISBLANK(Responses!A85), \"\", Responses!A85)","v":""},{"$f":"IF(ISBLANK(Responses!B85), \"\", Responses!B85)","v":""},{"$f":"IF(ISBLANK(Responses!K85), \"\", Responses!K85)","v":""},{"$f":"IF(ISBLANK(Responses!L85), \"\", Responses!L85)","v":""},{"$f":"IF(ISBLANK(Responses!M85), \"\", Responses!M85)","v":""},{"$error":"#N/A"},{"$error":"#N/A"},{"$f":"IF(ISBLANK(C85),0,VLOOKUP(C85,LUTs!$A$6:$B$8,2))","v":{"$error":"#N/A"}},{"$f":"IF(ISBLANK(D85),0,VLOOKUP(D85,LUTs!$A$6:$B$8,2))","v":{"$error":"#N/A"}},{"$f":"IF(ISBLANK(E85),0,VLOOKUP(E85,LUTs!$A$6:$B$8,2))","v":{"$error":"#N/A"}}]
[{"$f":"IF(ISBLANK(Responses!A86), \"\", Responses!A86)","v":""},{"$f":"IF(ISBLANK(Responses!B86), \"\", Responses!B86)","v":""},{"$f":"IF(ISBLANK(Responses!K86), \"\", Responses!K86)","v":""},{"$f":"IF(ISBLANK(Responses!L86), \"\", Responses!L86)","v":""},{"$f":"IF(ISBLANK(Responses!M86), \"\", Responses!M86)","v":""},{"$error":"#N/A"},{"$error":"#N/A"},{"$f":"IF(ISBLANK(C86),0,VLOOKUP(C86,LUTs!$A$6:$B$8,2))","v":{"$error":"#N/A"}},{"$f":"IF(ISBLANK(D86),0,VLOOKUP(D86,LUTs!$A$6:$B$8,2))","v":{"$error":"#N/A"}},{"$f":"IF(ISBLANK(E86),0,VLOOKUP(E86,LUTs!$A$6:$B$8,2))","v":{"$error":"#N/A"}}]
[{"$f":"IF(ISBLANK(Responses!A87), \"\", Responses!A87)","v":""},{"$f":"IF(ISBLANK(Responses!B87), \"\", Responses!B87)","v":""},{"$f":"IF(ISBLANK(Responses!K87), \"\", Responses!K87)","v":""},{"$f":"IF(ISBLANK(Responses!L87), \"\", Responses!L87)","v":""},{"$f":"IF(ISBLANK(Responses!M87), \"\", Responses!M87)","v":""},{"$error":"#N/A"},{"$error":"#N/A"},{"$f":"IF(ISBLANK(C87),0,VLOOKUP(C87,LUTs!$A$6:$B$8,2))","v":{"$error":"#N/A"}},{"$f":"IF(ISBLANK(D87),0,VLOOKUP(D87,LUTs!$A$6:$B$8,2))","v":{"$error":"#N/A"}},{"$f":"IF(ISBLANK(E87),0,VLOOKUP(E87,LUTs!$A$6:$B$8,2))","v":{"$error":"#N/A"}}]
[{"$f":"IF(ISBLANK(Responses!A88), \"\", Responses!A88)","v":""},{"$f":"IF(ISBLANK(Responses!B88), \"\", Responses!B88)","v":""},{"$f":"IF(ISBLANK(Responses!K88), \"\", Responses!K88)","v":""},{"$f":"IF(ISBLANK(Responses!L88), \"\", Responses!L88)","v":""},{"$f":"IF(ISBLANK(Responses!M88), \"\", Responses!M88)","v":""},{"$error":"#N/A"},{"$error":"#N/A"},{"$f":"IF(ISBLANK(C88),0,VLOOKUP(C88,LUTs!$A$6:$B$8,2))","v":{"$error":"#N/A"}},{"$f":"IF(ISBLANK(D88),0,VLOOKUP(D88,LUTs!$A$6:$B$8,2))","v":{"$error":"#N/A"}},{"$f":"IF(ISBLANK(E88),0,VLOOKUP(E88,LUTs!$A$6:$B$8,2))","v":{"$error":"#N/A"}}]
[{"$f":"IF(ISBLANK(Responses!A89), \"\", Responses!A89)","v":""},{"$f":"IF(ISBLANK(Responses!B89), \"\", Responses!B89)","v":""},{"$f":"IF(ISBLANK(Responses!K89), \"\", Responses!K89)","v":""},{"$f":"IF(ISBLANK(Responses!L89), \"\", Responses!L89)","v":""},{"$f":"IF(ISBLANK(Responses!M89), \"\", Responses!M89)","v":""},{"$error":"#N/A"},{"$error":"#N/A"},{"$f":"IF(ISBLANK(C89),0,VLOOKUP(C89,LUTs!$A$6:$B$8,2))","v":{"$error":"#N/A"}},{"$f":"IF(ISBLANK(D89),0,VLOOKUP(D89,LUTs!$A$6:$B$8,2))","v":{"$error":"#N/A"}},{"$f":"IF(ISBLANK(E89),0,VLOOKUP(E89,LUTs!$A$6:$B$8,2))","v":{"$error":"#N/A"}}]
[{"$f":"IF(ISBLANK(Responses!A90), \"\", Responses!A90)","v":""},{"$f":"IF(ISBLANK(Responses!B90), \"\", Responses!B90)","v":""},{"$f":"IF(ISBLANK(Responses!K90), \"\", Responses!K90)","v":""},{"$f":"IF(ISBLANK(Responses!L90), \"\", Responses!L90)","v":""},{"$f":"IF(ISBLANK(Responses!M90), \"\", Responses!M90)","v":""},{"$error":"#N/A"},{"$error":"#N/A"},{"$f":"IF(ISBLANK(C90),0,VLOOKUP(C90,LUTs!$A$6:$B$8,2))","v":{"$error":"#N/A"}},{"$f":"IF(ISBLANK(D90),0,VLOOKUP(D90,LUTs!$A$6:$B$8,2))","v":{"$error":"#N/A"}},{"$f":"IF(ISBLANK(E90),0,VLOOKUP(E90,LUTs!$A$6:$B$8,2))","v":{"$error":"#N/A"}}]
[{"$f":"IF(ISBLANK(Responses!A91), \"\", Responses!A91)","v":""},{"$f":"IF(ISBLANK(Responses!B91), \"\", Responses!B91)","v":""},{"$f":"IF(ISBLANK(Responses!K91), \"\", Responses!K91)","v":""},{"$f":"IF(ISBLANK(Responses!L91), \"\", Responses!L91)","v":""},{"$f":"IF(ISBLANK(Responses!M91), \"\", Responses!M91)","v":""},{"$error":"#N/A"},{"$error":"#N/A"},{"$f":"IF(ISBLANK(C91),0,VLOOKUP(C91,LUTs!$A$6:$B$8,2))","v":{"$error":"#N/A"}},{"$f":"IF(ISBLANK(D91),0,VLOOKUP(D91,LUTs!$A$6:$B$8,2))","v":{"$error":"#N/A"}},{"$f":"IF(ISBLANK(E91),0,VLOOKUP(E91,LUTs!$A$6:$B$8,2))","v":{"$error":"#N/A"}}]
[{"$f":"IF(ISBLANK(Responses!A92), \"\", Responses!A92)","v":""},{"$f":"IF(ISBLANK(Responses!B92), \"\", Responses!B92)","v":""},{"$f":"IF(ISBLANK(Responses!K92), \"\", Responses!K92)","v":""},{"$f":"IF(ISBLANK(Responses!L92), \"\", Responses!L92)","v":""},{"$f":"IF(ISBLANK(Responses!M92), \"\", Responses!M92)","v":""},{"$error":"#N/A"},{"$error":"#N/A"},{"$f":"IF(ISBLANK(C92),0,VLOOKUP(C92,LUTs!$A$6:$B$8,2))","v":{"$error":"#N/A"}},{"$f":"IF(ISBLANK(D92),0,VLOOKUP(D92,LUTs!$A$6:$B$8,2))","v":{"$error":"#N/A"}},{"$f":"IF(ISBLANK(E92),0,VLOOKUP(E92,LUTs!$A$6:$B$8,2))","v":{"$error":"#N/A"}}]
[{"$f":"IF(ISBLANK(Responses!A93), \"\", Responses!A93)","v":""},{"$f":"IF(ISBLANK(Responses!B93), \"\", Responses!B93)","v":""},{"$f":"IF(ISBLANK(Responses!K93), \"\", Responses!K93)","v":""},{"$f":"IF(ISBLANK(Responses!L93), \"\", Responses!L93)","v":""},{"$f":"IF(ISBLANK(Responses!M93), \"\", Responses!M93)","v":""},{"$error":"#N/A"},{"$error":"#N/A"},{"$f":"IF(ISBLANK(C93),0,VLOOKUP(C93,LUTs!$A$6:$B$8,2))","v":{"$error":"#N/A"}},{"$f":"IF(ISBLANK(D93),0,VLOOKUP(D93,LUTs!$A$6:$B$8,2))","v":{"$error":"#N/A"}},{"$f":"IF(ISBLANK(E93),0,VLOOKUP(E93,LUTs!$A$6:$B$8,2))","v":{"$error":"#N/A"}}]
[{"$f":"IF(ISBLANK(Responses!A94), \"\", Responses!A94)","v":""},{"$f":"IF(ISBLANK(Responses!B94), \"\", Responses!B94)","v":""},{"$f":"IF(ISBLANK(Responses!K94), \"\", Responses!K94)","v":""},{"$f":"IF(ISBLANK(Responses!L94), \"\", Responses!L94)","v":""},{"$f":"IF(ISBLANK(Responses!M94), \"\", Responses!M94)","v":""},{"$error":"#N/A"},{"$error":"#N/A"},{"$f":"IF(ISBLANK(C94),0,VLOOKUP(C94,LUTs!$A$6:$B$8,2))","v":{"$error":"#N/A"}},{"$f":"IF(ISBLANK(D94),0,VLOOKUP(D94,LUTs!$A$6:$B$8,2))","v":{"$error":"#N/A"}},{"$f":"IF(ISBLANK(E94),0,VLOOKUP(E94,LUTs!$A$6:$B$8,2))","v":{"$error":"#N/A"}}]
[{"$f":"IF(ISBLANK(Responses!A95), \"\", Responses!A95)","v":""},{"$f":"IF(ISBLANK(Responses!B95), \"\", Responses!B95)","v":""},{"$f":"IF(ISBLANK(Responses!K95), \"\", Responses!K95)","v":""},{"$f":"IF(ISBLANK(Responses!L95), \"\", Responses!L95)","v":""},{"$f":"IF(ISBLANK(Responses!M95), \"\", Responses!M95)","v":""},{"$error":"#N/A"},{"$error":"#N/A"},{"$f":"IF(ISBLANK(C95),0,VLOOKUP(C95,LUTs!$A$6:$B$8,2))","v":{"$error":"#N/A"}},{"$f":"IF(ISBLANK(D95),0,VLOOKUP(D95,LUTs!$A$6:$B$8,2))","v":{"$error":"#N/A"}},{"$f":"IF(ISBLANK(E95),0,VLOOKUP(E95,LUTs!$A$6:$B$8,2))","v":{"$error":"#N/A"}}]
[{"$f":"IF(ISBLANK(Responses!A96), \"\", Responses!A96)","v":""},{"$f":"IF(ISBLANK(Responses!B96), \"\", Responses!B96)","v":""},{"$f":"IF(ISBLANK(Responses!K96), \"\", Responses!K96)","v":""},{"$f":"IF(ISBLANK(Responses!L96), \"\", Responses!L96)","v":""},{"$f":"IF(ISBLANK(Responses!M96), \"\", Responses!M96)","v":""},{"$error":"#N/A"},{"$error":"#N/A"},{"$f":"IF(ISBLANK(C96),0,VLOOKUP(C96,LUTs!$A$6:$B$8,2))","v":{"$error":"#N/A"}},{"$f":"IF(ISBLANK(D96),0,VLOOKUP(D96,LUTs!$A$6:$B$8,2))","v":{"$error":"#N/A"}},{"$f":"IF(ISBLANK(E96),0,VLOOKUP(E96,LUTs!$A$6:$B$8,2))","v":{"$error":"#N/A"}}]
[{"$f":"IF(ISBLANK(Responses!A97), \"\", Responses!A97)","v":""},{"$f":"IF(ISBLANK(Responses!B97), \"\", Responses!B97)","v":""},{"$f":"IF(ISBLANK(Responses!K97), \"\", Responses!K97)","v":""},{"$f":"IF(ISBLANK(Responses!L97), \"\", Responses!L97)","v":""},{"$f":"IF(ISBLANK(Responses!M97), \"\", Responses!M97)","v":""},{"$error":"#N/A"},{"$error":"#N/A"},{"$f":"IF(ISBLANK(C97),0,VLOOKUP(C97,LUTs!$A$6:$B$8,2))","v":{"$error":"#N/A"}},{"$f":"IF(ISBLANK(D97),0,VLOOKUP(D97,LUTs!$A$6:$B$8,2))","v":{"$error":"#N/A"}},{"$f":"IF(ISBLANK(E97),0,VLOOKUP(E97,LUTs!$A$6:$B$8,2))","v":{"$error":"#N/A"}}]
[{"$f":"IF(ISBLANK(Responses!A98), \"\", Responses!A98)","v":""},{"$f":"IF(ISBLANK(Responses!B98), \"\", Responses!B98)","v":""},{"$f":"IF(ISBLANK(Responses!K98), \"\", Responses!K98)","v":""},{"$f":"IF(ISBLANK(Responses!L98), \"\", Responses!L98)","v":""},{"$f":"IF(ISBLANK(Responses!M98), \"\", Responses!M98)","v":""},{"$error":"#N/A"},{"$error":"#N/A"},{"$f":"IF(ISBLANK(C98),0,VLOOKUP(C98,LUTs!$A$6:$B$8,2))","v":{"$error":"#N/A"}},{"$f":"IF(ISBLANK(D98),0,VLOOKUP(D98,LUTs!$A$6:$B$8,2))","v":{"$error":"#N/A"}},{"$f":"IF(ISBLANK(E98),0,VLOOKUP(E98,LUTs!$A$6:$B$8,2))","v":{"$error":"#N/A"}}]
[{"$f":"IF(ISBLANK(Responses!A99), \"\", Responses!A99)","v":""},{"$f":"IF(ISBLANK(Responses!B99), \"\", Responses!B99)","v":""},{"$f":"IF(ISBLANK(Responses!K99), \"\", Responses!K99)","v":""},{"$f":"IF(ISBLANK(Responses!L99), \"\", Responses!L99)","v":""},{"$f":"IF(ISBLANK(Responses!M99), \"\", Responses!M99)","v":""},{"$error":"#N/A"},{"$error":"#N/A"},{"$f":"IF(ISBLANK(C99),0,VLOOKUP(C99,LUTs!$A$6:$B$8,2))","v":{"$error":"#N/A"}},{"$f":"IF(ISBLANK(D99),0,VLOOKUP(D99,LUTs!$A$6:$B$8,2))","v":{"$error":"#N/A"}},{"$f":"IF(ISBLANK(E99),0,VLOOKUP(E99,LUTs!$A$6:$B$8,2))","v":{"$error":"#N/A"}}]
[{"$f":"IF(ISBLANK(Responses!A100), \"\", Responses!A100)","v":""},{"$f":"IF(ISBLANK(Responses!B100), \"\", Responses!B100)","v":""},{"$f":"IF(ISBLANK(Responses!K100), \"\", Responses!K100)","v":""},{"$f":"IF(ISBLANK(Responses!L100), \"\", Responses!L100)","v":""},{"$f":"IF(ISBLANK(Responses!M100), \"\", Responses!M100)","v":""},{"$error":"#N/A"},{"$error":"#N/A"},{"$f":"IF(ISBLANK(C100),0,VLOOKUP(C100,LUTs!$A$6:$B$8,2))","v":{"$error":"#N/A"}},{"$f":"IF(ISBLANK(D100),0,VLOOKUP(D100,LUTs!$A$6:$B$8,2))","v":{"$error":"#N/A"}},{"$f":"IF(ISBLANK(E100),0,VLOOKUP(E100,LUTs!$A$6:$B$8,2))","v":{"$error":"#N/A"}}]
[{"$f":"IF(ISBLANK(Responses!A101), \"\", Responses!A101)","v":""},{"$f":"IF(ISBLANK(Responses!B101), \"\", Responses!B101)","v":""},{"$f":"IF(ISBLANK(Responses!K101), \"\", Responses!K101)","v":""},{"$f":"IF(ISBLANK(Responses!L101), \"\", Responses!L101)","v":""},{"$f":"IF(ISBLANK(Responses!M101), \"\", Responses!M101)","v":""},{"$error":"#N/A"},{"$error":"#N/A"},{"$f":"IF(ISBLANK(C101),0,VLOOKUP(C101,LUTs!$A$6:$B$8,2))","v":{"$error":"#N/A"}},{"$f":"IF(ISBLANK(D101),0,VLOOKUP(D101,LUTs!$A$6:$B$8,2))","v":{"$error":"#N/A"}},{"$f":"IF(ISBLANK(E101),0,VLOOKUP(E101,LUTs!$A$6:$B$8,2))","v":{"$error":"#N/A"}}]
[{"$f":"IF(ISBLANK(Responses!A102), \"\", Responses!A102)","v":""},{"$f":"IF(ISBLANK(Responses!B102), \"\", Responses!B102)","v":""},{"$f":"IF(ISBLANK(Responses!K102), \"\", Responses!K102)","v":""},{"$f":"IF(ISBLANK(Responses!L102), \"\", Responses!L102)","v":""},{"$f":"IF(ISBLANK(Responses!M102), \"\", Responses!M102)","v":""},{"$error":"#N/A"},{"$error":"#N/A"},{"$f":"IF(ISBLANK(C102),0,VLOOKUP(C102,LUTs!$A$6:$B$8,2))","v":{"$error":"#N/A"}},{"$f":"IF(ISBLANK(D102),0,VLOOKUP(D102,LUTs!$A$6:$B$8,2))","v":{"$error":"#N/A"}},{"$f":"IF(ISBLANK(E102),0,VLOOKUP(E102,LUTs!$A$6:$B$8,2))","v":{"$error":"#N/A"}}]
[{"$f":"IF(ISBLANK(Responses!A103), \"\", Responses!A103)","v":""},{"$f":"IF(ISBLANK(Responses!B103), \"\", Responses!B103)","v":""},{"$f":"IF(ISBLANK(Responses!K103), \"\", Responses!K103)","v":""},{"$f":"IF(ISBLANK(Responses!L103), \"\", Responses!L103)","v":""},{"$f":"IF(ISBLANK(Responses!M103), \"\", Responses!M103)","v":""},{"$error":"#N/A"},{"$error":"#N/A"},{"$f":"IF(ISBLANK(C103),0,VLOOKUP(C103,LUTs!$A$6:$B$8,2))","v":{"$error":"#N/A"}},{"$f":"IF(ISBLANK(D103),0,VLOOKUP(D103,LUTs!$A$6:$B$8,2))","v":{"$error":"#N/A"}},{"$f":"IF(ISBLANK(E103),0,VLOOKUP(E103,LUTs!$A$6:$B$8,2))","v":{"$error":"#N/A"}}]
[{"$f":"IF(ISBLANK(Responses!A104), \"\", Responses!A104)","v":""},{"$f":"IF(ISBLANK(Responses!B104), \"\", Responses!B104)","v":""},{"$f":"IF(ISBLANK(Responses!K104), \"\", Responses!K104)","v":""},{"$f":"IF(ISBLANK(Responses!L104), \"\", Responses!L104)","v":""},{"$f":"IF(ISBLANK(Responses!M104), \"\", Responses!M104)","v":""},{"$error":"#N/A"},{"$error":"#N/A"},{"$f":"IF(ISBLANK(C104),0,VLOOKUP(C104,LUTs!$A$6:$B$8,2))","v":{"$error":"#N/A"}},{"$f":"IF(ISBLANK(D104),0,VLOOKUP(D104,LUTs!$A$6:$B$8,2))","v":{"$error":"#N/A"}},{"$f":"IF(ISBLANK(E104),0,VLOOKUP(E104,LUTs!$A$6:$B$8,2))","v":{"$error":"#N/A"}}]
[{"$f":"IF(ISBLANK(Responses!A105), \"\", Responses!A105)","v":""},{"$f":"IF(ISBLANK(Responses!B105), \"\", Responses!B105)","v":""},{"$f":"IF(ISBLANK(Responses!K105), \"\", Responses!K105)","v":""},{"$f":"IF(ISBLANK(Responses!L105), \"\", Responses!L105)","v":""},{"$f":"IF(ISBLANK(Responses!M105), \"\", Responses!M105)","v":""},{"$error":"#N/A"},{"$error":"#N/A"},{"$f":"IF(ISBLANK(C105),0,VLOOKUP(C105,LUTs!$A$6:$B$8,2))","v":{"$error":"#N/A"}},{"$f":"IF(ISBLANK(D105),0,VLOOKUP(D105,LUTs!$A$6:$B$8,2))","v":{"$error":"#N/A"}},{"$f":"IF(ISBLANK(E105),0,VLOOKUP(E105,LUTs!$A$6:$B$8,2))","v":{"$error":"#N/A"}}]
[{"$f":"IF(ISBLANK(Responses!A106), \"\", Responses!A106)","v":""},{"$f":"IF(ISBLANK(Responses!B106), \"\", Responses!B106)","v":""},{"$f":"IF(ISBLANK(Responses!K106), \"\", Responses!K106)","v":""},{"$f":"IF(ISBLANK(Responses!L106), \"\", Responses!L106)","v":""},{"$f":"IF(ISBLANK(Responses!M106), \"\", Responses!M106)","v":""},{"$error":"#N/A"},{"$error":"#N/A"},{"$f":"IF(ISBLANK(C106),0,VLOOKUP(C106,LUTs!$A$6:$B$8,2))","v":{"$error":"#N/A"}},{"$f":"IF(ISBLANK(D106),0,VLOOKUP(D106,LUTs!$A$6:$B$8,2))","v":{"$error":"#N/A"}},{"$f":"IF(ISBLANK(E106),0,VLOOKUP(E106,LUTs!$A$6:$B$8,2))","v":{"$error":"#N/A"}}]
[{"$f":"IF(ISBLANK(Responses!A107), \"\", Responses!A107)","v":""},{"$f":"IF(ISBLANK(Responses!B107), \"\", Responses!B107)","v":""},{"$f":"IF(ISBLANK(Responses!K107), \"\", Responses!K107)","v":""},{"$f":"IF(ISBLANK(Responses!L107), \"\", Responses!L107)","v":""},{"$f":"IF(ISBLANK(Responses!M107), \"\", Responses!M107)","v":""},{"$error":"#N/A"},{"$error":"#N/A"},{"$f":"IF(ISBLANK(C107),0,VLOOKUP(C107,LUTs!$A$6:$B$8,2))","v":{"$error":"#N/A"}},{"$f":"IF(ISBLANK(D107),0,VLOOKUP(D107,LUTs!$A$6:$B$8,2))","v":{"$error":"#N/A"}},{"$f":"IF(ISBLANK(E107),0,VLOOKUP(E107,LUTs!$A$6:$B$8,2))","v":{"$error":"#N/A"}}]
[{"$f":"IF(ISBLANK(Responses!A108), \"\", Responses!A108)","v":""},{"$f":"IF(ISBLANK(Responses!B108), \"\", Responses!B108)","v":""},{"$f":"IF(ISBLANK(Responses!K108), \"\", Responses!K108)","v":""},{"$f":"IF(ISBLANK(Responses!L108), \"\", Responses!L108)","v":""},{"$f":"IF(ISBLANK(Responses!M108), \"\", Responses!M108)","v":""},0]
[{"$f":"IF(ISBLANK(Responses!A109), \"\", Responses!A109)","v":""},{"$f":"IF(ISBLANK(Responses!B109), \"\", Responses!B109)","v":""},{"$f":"IF(ISBLANK(Responses!K109), \"\", Responses!K109)","v":""},{"$f":"IF(ISBLANK(Responses!L109), \"\", Responses!L109)","v":""},{"$f":"IF(ISBLANK(Responses!M109), \"\", Responses!M109)","v":""}]
[{"$f":"IF(ISBLANK(Responses!A110), \"\", Responses!A110)","v":""},{"$f":"IF(ISBLANK(Responses!B110), \"\", Responses!B110)","v":""},{"$f":"IF(ISBLANK(Responses!K110), \"\", Responses!K110)","v":""},{"$f":"IF(ISBLANK(Responses!L110), \"\", Responses!L110)","v":""},{"$f":"IF(ISBLANK(Responses!M110), \"\", Responses!M110)","v":""}]
[{"$f":"IF(ISBLANK(Responses!A111), \"\", Responses!A111)","v":""},{"$f":"IF(ISBLANK(Responses!B111), \"\", Responses!B111)","v":""},{"$f":"IF(ISBLANK(Responses!K111), \"\", Responses!K111)","v":""},{"$f":"IF(ISBLANK(Responses!L111), \"\", Responses!L111)","v":""},{"$f":"IF(ISBLANK(Responses!M111), \"\", Responses!M111)","v":""}]
[{"$f":"IF(ISBLANK(Responses!A112), \"\", Responses!A112)","v":""},{"$f":"IF(ISBLANK(Responses!B112), \"\", Responses!B112)","v":""},{"$f":"IF(ISBLANK(Responses!K112), \"\", Responses!K112)","v":""},{"$f":"IF(ISBLANK(Responses!L112), \"\", Responses!L112)","v":""},{"$f":"IF(ISBLANK(Responses!M112), \"\", Responses!M112)","v":""}]
[{"$f":"IF(ISBLANK(Responses!A113), \"\", Responses!A113)","v":""},{"$f":"IF(ISBLANK(Responses!B113), \"\", Responses!B113)","v":""},{"$f":"IF(ISBLANK(Responses!K113), \"\", Responses!K113)","v":""},{"$f":"IF(ISBLANK(Responses!L113), \"\", Responses!L113)","v":""},{"$f":"IF(ISBLANK(Responses!M113), \"\", Responses!M113)","v":""}]
[{"$f":"IF(ISBLANK(Responses!A114), \"\", Responses!A114)","v":""},{"$f":"IF(ISBLANK(Responses!B114), \"\", Responses!B114)","v":""},{"$f":"IF(ISBLANK(Responses!K114), \"\", Responses!K114)","v":""},{"$f":"IF(ISBLANK(Responses!L114), \"\", Responses!L114)","v":""},{"$f":"IF(ISBLANK(Responses!M114), \"\", Responses!M114)","v":""}]
[{"$f":"IF(ISBLANK(Responses!A115), \"\", Responses!A115)","v":""},{"$f":"IF(ISBLANK(Responses!B115), \"\", Responses!B115)","v":""},{"$f":"IF(ISBLANK(Responses!K115), \"\", Responses!K115)","v":""},{"$f":"IF(ISBLANK(Responses!L115), \"\", Responses!L115)","v":""},{"$f":"IF(ISBLANK(Responses!M115), \"\", Responses!M115)","v":""}]
[{"$f":"IF(ISBLANK(Responses!A116), \"\", Responses!A116)","v":""},{"$f":"IF(ISBLANK(Responses!B116), \"\", Responses!B116)","v":""},{"$f":"IF(ISBLANK(Responses!K116), \"\", Responses!K116)","v":""},{"$f":"IF(ISBLANK(Responses!L116), \"\", Responses!L116)","v":""},{"$f":"IF(ISBLANK(Responses!M116), \"\", Responses!M116)","v":""}]
[{"$f":"IF(ISBLANK(Responses!A117), \"\", Responses!A117)","v":""},{"$f":"IF(ISBLANK(Responses!B117), \"\", Responses!B117)","v":""},{"$f":"IF(ISBLANK(Responses!K117), \"\", Responses!K117)","v":""},{"$f":"IF(ISBLANK(Responses!L117), \"\", Responses!L117)","v":""},{"$f":"IF(ISBLANK(Responses!M117), \"\", Responses!M117)","v":""}]
[{"$f":"IF(ISBLANK(Responses!A118), \"\", Responses!A118)","v":""},{"$f":"IF(ISBLANK(Responses!B118), \"\", Responses!B118)","v":""},{"$f":"IF(ISBLANK(Responses!K118), \"\", Responses!K118)","v":""},{"$f":"IF(ISBLANK(Responses!L118), \"\", Responses!L118)","v":""},{"$f":"IF(ISBLANK(Responses!M118), \"\", Responses!M118)","v":""}]
[{"$f":"IF(ISBLANK(Responses!A119), \"\", Responses!A119)","v":""},{"$f":"IF(ISBLANK(Responses!B119), \"\", Responses!B119)","v":""},{"$f":"IF(ISBLANK(Responses!K119), \"\", Responses!K119)","v":""},{"$f":"IF(ISBLANK(Responses!L119), \"\", Responses!L119)","v":""},{"$f":"IF(ISBLANK(Responses!M119), \"\", Responses!M119)","v":""}]
[{"$f":"IF(ISBLANK(Responses!A120), \"\", Responses!A120)","v":""},{"$f":"IF(ISBLANK(Responses!B120), \"\", Responses!B120)","v":""},{"$f":"IF(ISBLANK(Responses!K120), \"\", Responses!K120)","v":""},{"$f":"IF(ISBLANK(Responses!L120), \"\", Responses!L120)","v":""},{"$f":"IF(ISBLANK(Responses!M120), \"\", Responses!M120)","v":""}]
[{"$f":"IF(ISBLANK(Responses!A121), \"\", Responses!A121)","v":""},{"$f":"IF(ISBLANK(Responses!B121), \"\", Responses!B121)","v":""},{"$f":"IF(ISBLANK(Responses!K121), \"\", Responses!K121)","v":""},{"$f":"IF(ISBLANK(Responses!L121), \"\", Responses!L121)","v":""},{"$f":"IF(ISBLANK(Responses!M121), \"\", Responses!M121)","v":""}]
[{"$f":"IF(ISBLANK(Responses!A122), \"\", Responses!A122)","v":""},{"$f":"IF(ISBLANK(Responses!B122), \"\", Responses!B122)","v":""},{"$f":"IF(ISBLANK(Responses!K122), \"\", Responses!K122)","v":""},{"$f":"IF(ISBLANK(Responses!L122), \"\", Responses!L122)","v":""},{"$f":"IF(ISBLANK(Responses!M122), \"\", Responses!M122)","v":""}]
[{"$f":"IF(ISBLANK(Responses!A123), \"\", Responses!A123)","v":""},{"$f":"IF(ISBLANK(Responses!B123), \"\", Responses!B123)","v":""},{"$f":"IF(ISBLANK(Responses!K123), \"\", Responses!K123)","v":""},{"$f":"IF(ISBLANK(Responses!L123), \"\", Responses!L123)","v":""},{"$f":"IF(ISBLANK(Responses!M123), \"\", Responses!M123)","v":""}]
[{"$f":"IF(ISBLANK(Responses!A124), \"\", Responses!A124)","v":""},{"$f":"IF(ISBLANK(Responses!B124), \"\", Responses!B124)","v":""},{"$f":"IF(ISBLANK(Responses!K124), \"\", Responses!K124)","v":""},{"$f":"IF(ISBLANK(Responses!L124), \"\", Responses!L124)","v":""},{"$f":"IF(ISBLANK(Responses!M124), \"\", Responses!M124)","v":""}]
[{"$f":"IF(ISBLANK(Responses!A125), \"\", Responses!A125)","v":""},{"$f":"IF(ISBLANK(Responses!B125), \"\", Responses!B125)","v":""},{"$f":"IF(ISBLANK(Responses!K125), \"\", Responses!K125)","v":""},{"$f":"IF(ISBLANK(Responses!L125), \"\", Responses!L125)","v":""},{"$f":"IF(ISBLANK(Responses!M125), \"\", Responses!M125)","v":""}]
[{"$f":"IF(ISBLANK(Responses!A126), \"\", Responses!A126)","v":""},{"$f":"IF(ISBLANK(Responses!B126), \"\", Responses!B126)","v":""},{"$f":"IF(ISBLANK(Responses!K126), \"\", Responses!K126)","v":""},{"$f":"IF(ISBLANK(Responses!L126), \"\", Responses!L126)","v":""},{"$f":"IF(ISBLANK(Responses!M126), \"\", Responses!M126)","v":""}]
[{"$f":"IF(ISBLANK(Responses!A127), \"\", Responses!A127)","v":""},{"$f":"IF(ISBLANK(Responses!B127), \"\", Responses!B127)","v":""},{"$f":"IF(ISBLANK(Responses!K127), \"\", Responses!K127)","v":""},{"$f":"IF(ISBLANK(Responses!L127), \"\", Responses!L127)","v":""},{"$f":"IF(ISBLANK(Responses!M127), \"\", Responses!M127)","v":""}]
[{"$f":"IF(ISBLANK(Responses!A128), \"\", Responses!A128)","v":""},{"$f":"IF(ISBLANK(Responses!B128), \"\", Responses!B128)","v":""},{"$f":"IF(ISBLANK(Responses!K128), \"\", Responses!K128)","v":""},{"$f":"IF(ISBLANK(Responses!L128), \"\", Responses!L128)","v":""},{"$f":"IF(ISBLANK(Responses!M128), \"\", Responses!M128)","v":""}]
[{"$f":"IF(ISBLANK(Responses!A129), \"\", Responses!A129)","v":""},{"$f":"IF(ISBLANK(Responses!B129), \"\", Responses!B129)","v":""},{"$f":"IF(ISBLANK(Responses!K129), \"\", Responses!K129)","v":""},{"$f":"IF(ISBLANK(Responses!L129), \"\", Responses!L129)","v":""},{"$f":"IF(ISBLANK(Responses!M129), \"\", Responses!M129)","v":""}]
[{"$f":"IF(ISBLANK(Responses!A130), \"\", Responses!A130)","v":""},{"$f":"IF(ISBLANK(Responses!B130), \"\", Responses!B130)","v":""},{"$f":"IF(ISBLANK(Responses!K130), \"\", Responses!K130)","v":""},{"$f":"IF(ISBLANK(Responses!L130), \"\", Responses!L130)","v":""},{"$f":"IF(ISBLANK(Responses!M130), \"\", Responses!M130)","v":""}]
[{"$f":"IF(ISBLANK(Responses!A131), \"\", Responses!A131)","v":""},{"$f":"IF(ISBLANK(Responses!B131), \"\", Responses!B131)","v":""},{"$f":"IF(ISBLANK(Responses!K131), \"\", Responses!K131)","v":""},{"$f":"IF(ISBLANK(Responses!L131), \"\", Responses!L131)","v":""},{"$f":"IF(ISBLANK(Responses!M131), \"\", Responses!M131)","v":""}]
[{"$f":"IF(ISBLANK(Responses!A132), \"\", Responses!A132)","v":""},{"$f":"IF(ISBLANK(Responses!B132), \"\", Responses!B132)","v":""},{"$f":"IF(ISBLANK(Responses!K132), \"\", Responses!K132)","v":""},{"$f":"IF(ISBLANK(Responses!L132), \"\", Responses!L132)","v":""},{"$f":"IF(ISBLANK(Responses!M132), \"\", Responses!M132)","v":""}]
[{"$f":"IF(ISBLANK(Responses!A133), \"\", Responses!A133)","v":""},{"$f":"IF(ISBLANK(Responses!B133), \"\", Responses!B133)","v":""},{"$f":"IF(ISBLANK(Responses!K133), \"\", Responses!K133)","v":""},{"$f":"IF(ISBLANK(Responses!L133), \"\", Responses!L133)","v":""},{"$f":"IF(ISBLANK(Responses!M133), \"\", Responses!M133)","v":""}]
[{"$f":"IF(ISBLANK(Responses!A134), \"\", Responses!A134)","v":""},{"$f":"IF(ISBLANK(Responses!B134), \"\", Responses!B134)","v":""},{"$f":"IF(ISBLANK(Responses!K134), \"\", Responses!K134)","v":""},{"$f":"IF(ISBLANK(Responses!L134), \"\", Responses!L134)","v":""},{"$f":"IF(ISBLANK(Responses!M134), \"\", Responses!M134)","v":""}]
[{"$f":"IF(ISBLANK(Responses!A135), \"\", Responses!A135)","v":""},{"$f":"IF(ISBLANK(Responses!B135), \"\", Responses!B135)","v":""},{"$f":"IF(ISBLANK(Responses!K135), \"\", Responses!K135)","v":""},{"$f":"IF(ISBLANK(Responses!L135), \"\", Responses!L135)","v":""},{"$f":"IF(ISBLANK(Responses!M135), \"\", Responses!M135)","v":""}]
[{"$f":"IF(ISBLANK(Responses!A136), \"\", Responses!A136)","v":""},{"$f":"IF(ISBLANK(Responses!B136), \"\", Responses!B136)","v":""},{"$f":"IF(ISBLANK(Responses!K136), \"\", Responses!K136)","v":""},{"$f":"IF(ISBLANK(Responses!L136), \"\", Responses!L136)","v":""},{"$f":"IF(ISBLANK(Responses!M136), \"\", Responses!M136)","v":""}]
[{"$f":"IF(ISBLANK(Responses!A137), \"\", Responses!A137)","v":""},{"$f":"IF(ISBLANK(Responses!B137), \"\", Responses!B137)","v":""},{"$f":"IF(ISBLANK(Responses!K137), \"\", Responses!K137)","v":""},{"$f":"IF(ISBLANK(Responses!L137), \"\", Responses!L137)","v":""},{"$f":"IF(ISBLANK(Responses!M137), \"\", Responses!M137)","v":""}]
[{"$f":"IF(ISBLANK(Responses!A138), \"\", Responses!A138)","v":""},{"$f":"IF(ISBLANK(Responses!B138), \"\", Responses!B138)","v":""},{"$f":"IF(ISBLANK(Responses!K138), \"\", Responses!K138)","v":""},{"$f":"IF(ISBLANK(Responses!L138), \"\", Responses!L138)","v":""},{"$f":"IF(ISBLANK(Responses!M138), \"\", Responses!M138)","v":""}]
[{"$f":"IF(ISBLANK(Responses!A139), \"\", Responses!A139)","v":""},{"$f":"IF(ISBLANK(Responses!B139), \"\", Responses!B139)","v":""},{"$f":"IF(ISBLANK(Responses!K139), \"\", Responses!K139)","v":""},{"$f":"IF(ISBLANK(Responses!L139), \"\", Responses!L139)","v":""},{"$f":"IF(ISBLANK(Responses!M139), \"\", Responses!M139)","v":""}]
[{"$f":"IF(ISBLANK(Responses!A140), \"\", Responses!A140)","v":""},{"$f":"IF(ISBLANK(Responses!B140), \"\", Responses!B140)","v":""},{"$f":"IF(ISBLANK(Responses!K140), \"\", Responses!K140)","v":""},{"$f":"IF(ISBLANK(Responses!L140), \"\", Responses!L140)","v":""},{"$f":"IF(ISBLANK(Responses!M140), \"\", Responses!M140)","v":""}]
[{"$f":"IF(ISBLANK(Responses!A141), \"\", Responses!A141)","v":""},{"$f":"IF(ISBLANK(Responses!B141), \"\", Responses!B141)","v":""},{"$f":"IF(ISBLANK(Responses!K141), \"\", Responses!K141)","v":""},{"$f":"IF(ISBLANK(Responses!L141), \"\", Responses!L141)","v":""},{"$f":"IF(ISBLANK(Responses!M141), \"\", Responses!M141)","v":""}]
[{"$f":"IF(ISBLANK(Responses!A142), \"\", Responses!A142)","v":""},{"$f":"IF(ISBLANK(Responses!B142), \"\", Responses!B142)","v":""},{"$f":"IF(ISBLANK(Responses!K142), \"\", Responses!K142)","v":""},{"$f":"IF(ISBLANK(Responses!L142), \"\", Responses!L142)","v":""},{"$f":"IF(ISBLANK(Responses!M142), \"\", Responses!M142)","v":""}]
[{"$f":"IF(ISBLANK(Responses!A143), \"\", Responses!A143)","v":""},{"$f":"IF(ISBLANK(Responses!B143), \"\", Responses!B143)","v":""},{"$f":"IF(ISBLANK(Responses!K143), \"\", Responses!K143)","v":""},{"$f":"IF(ISBLANK(Responses!L143), \"\", Responses!L143)","v":""},{"$f":"IF(ISBLANK(Responses!M143), \"\", Responses!M143)","v":""}]
[{"$f":"IF(ISBLANK(Responses!A144), \"\", Responses!A144)","v":""},{"$f":"IF(ISBLANK(Responses!B144), \"\", Responses!B144)","v":""},{"$f":"IF(ISBLANK(Responses!K144), \"\", Responses!K144)","v":""},{"$f":"IF(ISBLANK(Responses!L144), \"\", Responses!L144)","v":""},{"$f":"IF(ISBLANK(Responses!M144), \"\", Responses!M144)","v":""}]
[{"$f":"IF(ISBLANK(Responses!A145), \"\", Responses!A145)","v":""},{"$f":"IF(ISBLANK(Responses!B145), \"\", Responses!B145)","v":""},{"$f":"IF(ISBLANK(Responses!K145), \"\", Responses!K145)","v":""},{"$f":"IF(ISBLANK(Responses!L145), \"\", Responses!L145)","v":""},{"$f":"IF(ISBLANK(Responses!M145), \"\", Responses!M145)","v":""}]
[{"$f":"IF(ISBLANK(Responses!A146), \"\", Responses!A146)","v":""},{"$f":"IF(ISBLANK(Responses!B146), \"\", Responses!B146)","v":""},{"$f":"IF(ISBLANK(Responses!K146), \"\", Responses!K146)","v":""},{"$f":"IF(ISBLANK(Responses!L146), \"\", Responses!L146)","v":""},{"$f":"IF(ISBLANK(Responses!M146), \"\", Responses!M146)","v":""}]
[{"$f":"IF(ISBLANK(Responses!A147), \"\", Responses!A147)","v":""},{"$f":"IF(ISBLANK(Responses!B147), \"\", Responses!B147)","v":""},{"$f":"IF(ISBLANK(Responses!K147), \"\", Responses!K147)","v":""},{"$f":"IF(ISBLANK(Responses!L147), \"\", Responses!L147)","v":""},{"$f":"IF(ISBLANK(Responses!M147), \"\", Responses!M147)","v":""}]
[{"$f":"IF(ISBLANK(Responses!A148), \"\", Responses!A148)","v":""},{"$f":"IF(ISBLANK(Responses!B148), \"\", Responses!B148)","v":""},{"$f":"IF(ISBLANK(Responses!K148), \"\", Responses!K148)","v":""},{"$f":"IF(ISBLANK(Responses!L148), \"\", Responses!L148)","v":""},{"$f":"IF(ISBLANK(Responses!M148), \"\", Responses!M148)","v":""}]
[{"$f":"IF(ISBLANK(Responses!A149), \"\", Responses!A149)","v":""},{"$f":"IF(ISBLANK(Responses!B149), \"\", Responses!B149)","v":""},{"$f":"IF(ISBLANK(Responses!K149), \"\", Responses!K149)","v":""},{"$f":"IF(ISBLANK(Responses!L149), \"\", Responses!L149)","v":""},{"$f":"IF(ISBLANK(Responses!M149), \"\", Responses!M149)","v":""}]
[{"$f":"IF(ISBLANK(Responses!A150), \"\", Responses!A150)","v":""},{"$f":"IF(ISBLANK(Responses!B150), \"\", Responses!B150)","v":""},{"$f":"IF(ISBLANK(Responses!K150), \"\", Responses!K150)","v":""},{"$f":"IF(ISBLANK(Responses!L150), \"\", Responses!L150)","v":""},{"$f":"IF(ISBLANK(Responses!M150), \"\", Responses!M150)","v":""}]
[{"$f":"IF(ISBLANK(Responses!A151), \"\", Responses!A151)","v":""},{"$f":"IF(ISBLANK(Responses!B151), \"\", Responses!B151)","v":""},{"$f":"IF(ISBLANK(Responses!K151), \"\", Responses!K151)","v":""},{"$f":"IF(ISBLANK(Responses!L151), \"\", Responses!L151)","v":""},{"$f":"IF(ISBLANK(Responses!M151), \"\", Responses!M151)","v":""}]
[{"$f":"IF(ISBLANK(Responses!A152), \"\", Responses!A152)","v":""},{"$f":"IF(ISBLANK(Responses!B152), \"\", Responses!B152)","v":""},{"$f":"IF(ISBLANK(Responses!K152), \"\", Responses!K152)","v":""},{"$f":"IF(ISBLANK(Responses!L152), \"\", Responses!L152)","v":""},{"$f":"IF(ISBLANK(Responses!M152), \"\", Responses!M152)","v":""}]
[{"$f":"IF(ISBLANK(Responses!A153), \"\", Responses!A153)","v":""},{"$f":"IF(ISBLANK(Responses!B153), \"\", Responses!B153)","v":""},{"$f":"IF(ISBLANK(Responses!K153), \"\", Responses!K153)","v":""},{"$f":"IF(ISBLANK(Responses!L153), \"\", Responses!L153)","v":""},{"$f":"IF(ISBLANK(Responses!M153), \"\", Responses!M153)","v":""}]
[{"$f":"IF(ISBLANK(Responses!A154), \"\", Responses!A154)","v":""},{"$f":"IF(ISBLANK(Responses!B154), \"\", Responses!B154)","v":""},{"$f":"IF(ISBLANK(Responses!K154), \"\", Responses!K154)","v":""},{"$f":"IF(ISBLANK(Responses!L154), \"\", Responses!L154)","v":""},{"$f":"IF(ISBLANK(Responses!M154), \"\", Responses!M154)","v":""}]
[{"$f":"IF(ISBLANK(Responses!A155), \"\", Responses!A155)","v":""},{"$f":"IF(ISBLANK(Responses!B155), \"\", Responses!B155)","v":""},{"$f":"IF(ISBLANK(Responses!K155), \"\", Responses!K155)","v":""},{"$f":"IF(ISBLANK(Responses!L155), \"\", Responses!L155)","v":""},{"$f":"IF(ISBLANK(Responses!M155), \"\", Responses!M155)","v":""}]
[{"$f":"IF(ISBLANK(Responses!A156), \"\", Responses!A156)","v":""},{"$f":"IF(ISBLANK(Responses!B156), \"\", Responses!B156)","v":""},{"$f":"IF(ISBLANK(Responses!K156), \"\", Responses!K156)","v":""},{"$f":"IF(ISBLANK(Responses!L156), \"\", Responses!L156)","v":""},{"$f":"IF(ISBLANK(Responses!M156), \"\", Responses!M156)","v":""}]
[{"$f":"IF(ISBLANK(Responses!A157), \"\", Responses!A157)","v":""},{"$f":"IF(ISBLANK(Responses!B157), \"\", Responses!B157)","v":""},{"$f":"IF(ISBLANK(Responses!K157), \"\", Responses!K157)","v":""},{"$f":"IF(ISBLANK(Responses!L157), \"\", Responses!L157)","v":""},{"$f":"IF(ISBLANK(Responses!M157), \"\", Responses!M157)","v":""}]
[{"$f":"IF(ISBLANK(Responses!A158), \"\", Responses!A158)","v":""},{"$f":"IF(ISBLANK(Responses!B158), \"\", Responses!B158)","v":""},{"$f":"IF(ISBLANK(Responses!K158), \"\", Responses!K158)","v":""},{"$f":"IF(ISBLANK(Responses!L158), \"\", Responses!L158)","v":""},{"$f":"IF(ISBLANK(Responses!M158), \"\", Responses!M158)","v":""}]
[{"$f":"IF(ISBLANK(Responses!A159), \"\", Responses!A159)","v":""},{"$f":"IF(ISBLANK(Responses!B159), \"\", Responses!B159)","v":""},{"$f":"IF(ISBLANK(Responses!K159), \"\", Responses!K159)","v":""},{"$f":"IF(ISBLANK(Responses!L159), \"\", Responses!L159)","v":""},{"$f":"IF(ISBLANK(Responses!M159), \"\", Responses!M159)","v":""}]
[{"$f":"IF(ISBLANK(Responses!A160), \"\", Responses!A160)","v":""},{"$f":"IF(ISBLANK(Responses!B160), \"\", Responses!B160)","v":""},{"$f":"IF(ISBLANK(Responses!K160), \"\", Responses!K160)","v":""},{"$f":"IF(ISBLANK(Responses!L160), \"\", Responses!L160)","v":""},{"$f":"IF(ISBLANK(Responses!M160), \"\", Responses!M160)","v":""}]
[{"$f":"IF(ISBLANK(Responses!A161), \"\", Responses!A161)","v":""},{"$f":"IF(ISBLANK(Responses!B161), \"\", Responses!B161)","v":""},{"$f":"IF(ISBLANK(Responses!K161), \"\", Responses!K161)","v":""},{"$f":"IF(ISBLANK(Responses!L161), \"\", Responses!L161)","v":""},{"$f":"IF(ISBLANK(Responses!M161), \"\", Responses!M161)","v":""}]
[{"$f":"IF(ISBLANK(Responses!A162), \"\", Responses!A162)","v":""},{"$f":"IF(ISBLANK(Responses!B162), \"\", Responses!B162)","v":""},{"$f":"IF(ISBLANK(Responses!K162), \"\", Responses!K162)","v":""},{"$f":"IF(ISBLANK(Responses!L162), \"\", Responses!L162)","v":""},{"$f":"IF(ISBLANK(Responses!M162), \"\", Responses!M162)","v":""}]
[{"$f":"IF(ISBLANK(Responses!A163), \"\", Responses!A163)","v":""},{"$f":"IF(ISBLANK(Responses!B163), \"\", Responses!B163)","v":""},{"$f":"IF(ISBLANK(Responses!K163), \"\", Responses!K163)","v":""},{"$f":"IF(ISBLANK(Responses!L163), \"\", Responses!L163)","v":""},{"$f":"IF(ISBLANK(Responses!M163), \"\", Responses!M163)","v":""}]
[{"$f":"IF(ISBLANK(Responses!A164), \"\", Responses!A164)","v":""},{"$f":"IF(ISBLANK(Responses!B164), \"\", Responses!B164)","v":""},{"$f":"IF(ISBLANK(Responses!K164), \"\", Responses!K164)","v":""},{"$f":"IF(ISBLANK(Responses!L164), \"\", Responses!L164)","v":""},{"$f":"IF(ISBLANK(Responses!M164), \"\", Responses!M164)","v":""}]
[{"$f":"IF(ISBLANK(Responses!A165), \"\", Responses!A165)","v":""},{"$f":"IF(ISBLANK(Responses!B165), \"\", Responses!B165)","v":""},{"$f":"IF(ISBLANK(Responses!K165), \"\", Responses!K165)","v":""},{"$f":"IF(ISBLANK(Responses!L165), \"\", Responses!L165)","v":""},{"$f":"IF(ISBLANK(Responses!M165), \"\", Responses!M165)","v":""}]
[{"$f":"IF(ISBLANK(Responses!A166), \"\", Responses!A166)","v":""},{"$f":"IF(ISBLANK(Responses!B166), \"\", Responses!B166)","v":""},{"$f":"IF(ISBLANK(Responses!K166), \"\", Responses!K166)","v":""},{"$f":"IF(ISBLANK(Responses!L166), \"\", Responses!L166)","v":""},{"$f":"IF(ISBLANK(Responses!M166), \"\", Responses!M166)","v":""}]
[{"$f":"IF(ISBLANK(Responses!A167), \"\", Responses!A167)","v":""},{"$f":"IF(ISBLANK(Responses!B167), \"\", Responses!B167)","v":""},{"$f":"IF(ISBLANK(Responses!K167), \"\", Responses!K167)","v":""},{"$f":"IF(ISBLANK(Responses!L167), \"\", Responses!L167)","v":""},{"$f":"IF(ISBLANK(Responses!M167), \"\", Responses!M167)","v":""}]
[{"$f":"IF(ISBLANK(Responses!A168), \"\", Responses!A168)","v":""},{"$f":"IF(ISBLANK(Responses!B168), \"\", Responses!B168)","v":""},{"$f":"IF(ISBLANK(Responses!K168), \"\", Responses!K168)","v":""},{"$f":"IF(ISBLANK(Responses!L168), \"\", Responses!L168)","v":""},{"$f":"IF(ISBLANK(Responses!M168), \"\", Responses!M168)","v":""}]
[{"$f":"IF(ISBLANK(Responses!A169), \"\", Responses!A169)","v":""},{"$f":"IF(ISBLANK(Responses!B169), \"\", Responses!B169)","v":""},{"$f":"IF(ISBLANK(Responses!K169), \"\", Responses!K169)","v":""},{"$f":"IF(ISBLANK(Responses!L169), \"\", Responses!L169)","v":""},{"$f":"IF(ISBLANK(Responses!M169), \"\", Responses!M169)","v":""}]
[{"$f":"IF(ISBLANK(Responses!A170), \"\", Responses!A170)","v":""},{"$f":"IF(ISBLANK(Responses!B170), \"\", Responses!B170)","v":""},{"$f":"IF(ISBLANK(Responses!K170), \"\", Responses!K170)","v":""},{"$f":"IF(ISBLANK(Responses!L170), \"\", Responses!L170)","v":""},{"$f":"IF(ISBLANK(Responses!M170), \"\", Responses!M170)","v":""}]
[{"$f":"IF(ISBLANK(Responses!A171), \"\", Responses!A171)","v":""},{"$f":"IF(ISBLANK(Responses!B171), \"\", Responses!B171)","v":""},{"$f":"IF(ISBLANK(Responses!K171), \"\", Responses!K171)","v":""},{"$f":"IF(ISBLANK(Responses!L171), \"\", Responses!L171)","v":""},{"$f":"IF(ISBLANK(Responses!M171), \"\", Responses!M171)","v":""}]
[{"$f":"IF(ISBLANK(Responses!A172), \"\", Responses!A172)","v":""},{"$f":"IF(ISBLANK(Responses!B172), \"\", Responses!B172)","v":""},{"$f":"IF(ISBLANK(Responses!K172), \"\", Responses!K172)","v":""},{"$f":"IF(ISBLANK(Responses!L172), \"\", Responses!L172)","v":""},{"$f":"IF(ISBLANK(Responses!M172), \"\", Responses!M172)","v":""}]
[{"$f":"IF(ISBLANK(Responses!A173), \"\", Responses!A173)","v":""},{"$f":"IF(ISBLANK(Responses!B173), \"\", Responses!B173)","v":""},{"$f":"IF(ISBLANK(Responses!K173), \"\", Responses!K173)","v":""},{"$f":"IF(ISBLANK(Responses!L173), \"\", Responses!L173)","v":""},{"$f":"IF(ISBLANK(Responses!M173), \"\", Responses!M173)","v":""}]
[{"$f":"IF(ISBLANK(Responses!A174), \"\", Responses!A174)","v":""},{"$f":"IF(ISBLANK(Responses!B174), \"\", Responses!B174)","v":""},{"$f":"IF(ISBLANK(Responses!K174), \"\", Responses!K174)","v":""},{"$f":"IF(ISBLANK(Responses!L174), \"\", Responses!L174)","v":""},{"$f":"IF(ISBLANK(Responses!M174), \"\", Responses!M174)","v":""}]
[{"$f":"IF(ISBLANK(Responses!A175), \"\", Responses!A175)","v":""},{"$f":"IF(ISBLANK(Responses!B175), \"\", Responses!B175)","v":""},{"$f":"IF(ISBLANK(Responses!K175), \"\", Responses!K175)","v":""},{"$f":"IF(ISBLANK(Responses!L175), \"\", Responses!L175)","v":""},{"$f":"IF(ISBLANK(Responses!M175), \"\", Responses!M175)","v":""}]
[{"$f":"IF(ISBLANK(Responses!A176), \"\", Responses!A176)","v":""},{"$f":"IF(ISBLANK(Responses!B176), \"\", Responses!B176)","v":""},{"$f":"IF(ISBLANK(Responses!K176), \"\", Responses!K176)","v":""},{"$f":"IF(ISBLANK(Responses!L176), \"\", Responses!L176)","v":""},{"$f":"IF(ISBLANK(Responses!M176), \"\", Responses!M176)","v":""}]
[{"$f":"IF(ISBLANK(Responses!A177), \"\", Responses!A177)","v":""},{"$f":"IF(ISBLANK(Responses!B177), \"\", Responses!B177)","v":""},{"$f":"IF(ISBLANK(Responses!K177), \"\", Responses!K177)","v":""},{"$f":"IF(ISBLANK(Responses!L177), \"\", Responses!L177)","v":""},{"$f":"IF(ISBLANK(Responses!M177), \"\", Responses!M177)","v":""}]
[{"$f":"IF(ISBLANK(Responses!A178), \"\", Responses!A178)","v":""},{"$f":"IF(ISBLANK(Responses!B178), \"\", Responses!B178)","v":""},{"$f":"IF(ISBLANK(Responses!K178), \"\", Responses!K178)","v":""},{"$f":"IF(ISBLANK(Responses!L178), \"\", Responses!L178)","v":""},{"$f":"IF(ISBLANK(Responses!M178), \"\", Responses!M178)","v":""}]
[{"$f":"IF(ISBLANK(Responses!A179), \"\", Responses!A179)","v":""},{"$f":"IF(ISBLANK(Responses!B179), \"\", Responses!B179)","v":""},{"$f":"IF(ISBLANK(Responses!K179), \"\", Responses!K179)","v":""},{"$f":"IF(ISBLANK(Responses!L179), \"\", Responses!L179)","v":""},{"$f":"IF(ISBLANK(Responses!M179), \"\", Responses!M179)","v":""}]
[{"$f":"IF(ISBLANK(Responses!A180), \"\", Responses!A180)","v":""},{"$f":"IF(ISBLANK(Responses!B180), \"\", Responses!B180)","v":""},{"$f":"IF(ISBLANK(Responses!K180), \"\", Responses!K180)","v":""},{"$f":"IF(ISBLANK(Responses!L180), \"\", Responses!L180)","v":""},{"$f":"IF(ISBLANK(Responses!M180), \"\", Responses!M180)","v":""}]
[{"$f":"IF(ISBLANK(Responses!A181), \"\", Responses!A181)","v":""},{"$f":"IF(ISBLANK(Responses!B181), \"\", Responses!B181)","v":""},{"$f":"IF(ISBLANK(Responses!K181), \"\", Responses!K181)","v":""},{"$f":"IF(ISBLANK(Responses!L181), \"\", Responses!L181)","v":""},{"$f":"IF(ISBLANK(Responses!M181), \"\", Responses!M181)","v":""}]
[{"$f":"IF(ISBLANK(Responses!A182), \"\", Responses!A182)","v":""},{"$f":"IF(ISBLANK(Responses!B182), \"\", Responses!B182)","v":""},{"$f":"IF(ISBLANK(Responses!K182), \"\", Responses!K182)","v":""},{"$f":"IF(ISBLANK(Responses!L182), \"\", Responses!L182)","v":""},{"$f":"IF(ISBLANK(Responses!M182), \"\", Responses!M182)","v":""}]
[{"$f":"IF(ISBLANK(Responses!A183), \"\", Responses!A183)","v":""},{"$f":"IF(ISBLANK(Responses!B183), \"\", Responses!B183)","v":""},{"$f":"IF(ISBLANK(Responses!K183), \"\", Responses!K183)","v":""},{"$f":"IF(ISBLANK(Responses!L183), \"\", Responses!L183)","v":""},{"$f":"IF(ISBLANK(Responses!M183), \"\", Responses!M183)","v":""}]
[{"$f":"IF(ISBLANK(Responses!A184), \"\", Responses!A184)","v":""},{"$f":"IF(ISBLANK(Responses!B184), \"\", Responses!B184)","v":""},{"$f":"IF(ISBLANK(Responses!K184), \"\", Responses!K184)","v":""},{"$f":"IF(ISBLANK(Responses!L184), \"\", Responses!L184)","v":""},{"$f":"IF(ISBLANK(Responses!M184), \"\", Responses!M184)","v":""}]
[{"$f":"IF(ISBLANK(Responses!A185), \"\", Responses!A185)","v":""},{"$f":"IF(ISBLANK(Responses!B185), \"\", Responses!B185)","v":""},{"$f":"IF(ISBLANK(Responses!K185), \"\", Responses!K185)","v":""},{"$f":"IF(ISBLANK(Responses!L185), \"\", Responses!L185)","v":""},{"$f":"IF(ISBLANK(Responses!M185), \"\", Responses!M185)","v":""}]
[{"$f":"IF(ISBLANK(Responses!A186), \"\", Responses!A186)","v":""},{"$f":"IF(ISBLANK(Responses!B186), \"\", Responses!B186)","v":""},{"$f":"IF(ISBLANK(Responses!K186), \"\", Responses!K186)","v":""},{"$f":"IF(ISBLANK(Responses!L186), \"\", Responses!L186)","v":""},{"$f":"IF(ISBLANK(Responses!M186), \"\", Responses!M186)","v":""}]
[{"$f":"IF(ISBLANK(Responses!A187), \"\", Responses!A187)","v":""},{"$f":"IF(ISBLANK(Responses!B187), \"\", Responses!B187)","v":""},{"$f":"IF(ISBLANK(Responses!K187), \"\", Responses!K187)","v":""},{"$f":"IF(ISBLANK(Responses!L187), \"\", Responses!L187)","v":""},{"$f":"IF(ISBLANK(Responses!M187), \"\", Responses!M187)","v":""}]
[{"$f":"IF(ISBLANK(Responses!A188), \"\", Responses!A188)","v":""},{"$f":"IF(ISBLANK(Responses!B188), \"\", Responses!B188)","v":""},{"$f":"IF(ISBLANK(Responses!K188), \"\", Responses!K188)","v":""},{"$f":"IF(ISBLANK(Responses!L188), \"\", Responses!L188)","v":""},{"$f":"IF(ISBLANK(Responses!M188), \"\", Responses!M188)","v":""}]
[{"$f":"IF(ISBLANK(Responses!A189), \"\", Responses!A189)","v":""},{"$f":"IF(ISBLANK(Responses!B189), \"\", Responses!B189)","v":""},{"$f":"IF(ISBLANK(Responses!K189), \"\", Responses!K189)","v":""},{"$f":"IF(ISBLANK(Responses!L189), \"\", Responses!L189)","v":""},{"$f":"IF(ISBLANK(Responses!M189), \"\", Responses!M189)","v":""}]
[{"$f":"IF(ISBLANK(Responses!A190), \"\", Responses!A190)","v":""},{"$f":"IF(ISBLANK(Responses!B190), \"\", Responses!B190)","v":""},{"$f":"IF(ISBLANK(Responses!K190), \"\", Responses!K190)","v":""},{"$f":"IF(ISBLANK(Responses!L190), \"\", Responses!L190)","v":""},{"$f":"IF(ISBLANK(Responses!M190), \"\", Responses!M190)","v":""}]
[{"$f":"IF(ISBLANK(Responses!A191), \"\", Responses!A191)","v":""},{"$f":"IF(ISBLANK(Responses!B191), \"\", Responses!B191)","v":""},{"$f":"IF(ISBLANK(Responses!K191), \"\", Responses!K191)","v":""},{"$f":"IF(ISBLANK(Responses!L191), \"\", Responses!L191)","v":""},{"$f":"IF(ISBLANK(Responses!M191), \"\", Responses!M191)","v":""}]
[{"$f":"IF(ISBLANK(Responses!A192), \"\", Responses!A192)","v":""},{"$f":"IF(ISBLANK(Responses!B192), \"\", Responses!B192)","v":""},{"$f":"IF(ISBLANK(Responses!K192), \"\", Responses!K192)","v":""},{"$f":"IF(ISBLANK(Responses!L192), \"\", Responses!L192)","v":""},{"$f":"IF(ISBLANK(Responses!M192), \"\", Responses!M192)","v":""}]
[{"$f":"IF(ISBLANK(Responses!A193), \"\", Responses!A193)","v":""},{"$f":"IF(ISBLANK(Responses!B193), \"\", Responses!B193)","v":""},{"$f":"IF(ISBLANK(Responses!K193), \"\", Responses!K193)","v":""},{"$f":"IF(ISBLANK(Responses!L193), \"\", Responses!L193)","v":""},{"$f":"IF(ISBLANK(Responses!M193), \"\", Responses!M193)","v":""}]
[{"$f":"IF(ISBLANK(Responses!A194), \"\", Responses!A194)","v":""},{"$f":"IF(ISBLANK(Responses!B194), \"\", Responses!B194)","v":""},{"$f":"IF(ISBLANK(Responses!K194), \"\", Responses!K194)","v":""},{"$f":"IF(ISBLANK(Responses!L194), \"\", Responses!L194)","v":""},{"$f":"IF(ISBLANK(Responses!M194), \"\", Responses!M194)","v":""}]
[{"$f":"IF(ISBLANK(Responses!A195), \"\", Responses!A195)","v":""},{"$f":"IF(ISBLANK(Responses!B195), \"\", Responses!B195)","v":""},{"$f":"IF(ISBLANK(Responses!K195), \"\", Responses!K195)","v":""},{"$f":"IF(ISBLANK(Responses!L195), \"\", Responses!L195)","v":""},{"$f":"IF(ISBLANK(Responses!M195), \"\", Responses!M195)","v":""}]
[{"$f":"IF(ISBLANK(Responses!A196), \"\", Responses!A196)","v":""},{"$f":"IF(ISBLANK(Responses!B196), \"\", Responses!B196)","v":""},{"$f":"IF(ISBLANK(Responses!K196), \"\", Responses!K196)","v":""},{"$f":"IF(ISBLANK(Responses!L196), \"\", Responses!L196)","v":""},{"$f":"IF(ISBLANK(Responses!M196), \"\", Responses!M196)","v":""}]
[{"$f":"IF(ISBLANK(Responses!A197), \"\", Responses!A197)","v":""},{"$f":"IF(ISBLANK(Responses!B197), \"\", Responses!B197)","v":""},{"$f":"IF(ISBLANK(Responses!K197), \"\", Responses!K197)","v":""},{"$f":"IF(ISBLANK(Responses!L197), \"\", Responses!L197)","v":""},{"$f":"IF(ISBLANK(Responses!M197), \"\", Responses!M197)","v":""}]
[{"$f":"IF(ISBLANK(Responses!A198), \"\", Responses!A198)","v":""},{"$f":"IF(ISBLANK(Responses!B198), \"\", Responses!B198)","v":""},{"$f":"IF(ISBLANK(Responses!K198), \"\", Responses!K198)","v":""},{"$f":"IF(ISBLANK(Responses!L198), \"\", Responses!L198)","v":""},{"$f":"IF(ISBLANK(Responses!M198), \"\", Responses!M198)","v":""}]
[{"$f":"IF(ISBLANK(Responses!A199), \"\", Responses!A199)","v":""},{"$f":"IF(ISBLANK(Responses!B199), \"\", Responses!B199)","v":""},{"$f":"IF(ISBLANK(Responses!K199), \"\", Responses!K199)","v":""},{"$f":"IF(ISBLANK(Responses!L199), \"\", Responses!L199)","v":""},{"$f":"IF(ISBLANK(Responses!M199), \"\", Responses!M199)","v":""}]
[{"$f":"IF(ISBLANK(Responses!A200), \"\", Responses!A200)","v":""},{"$f":"IF(ISBLANK(Responses!B200), \"\", Responses!B200)","v":""},{"$f":"IF(ISBLANK(Responses!K200), \"\", Responses!K200)","v":""},{"$f":"IF(ISBLANK(Responses!L200), \"\", Responses!L200)","v":""},{"$f":"IF(ISBLANK(Responses!M200), \"\", Responses!M200)","v":""}]
[{"$f":"IF(ISBLANK(Responses!A201), \"\", Responses!A201)","v":""},{"$f":"IF(ISBLANK(Responses!B201), \"\", Responses!B201)","v":""},{"$f":"IF(ISBLANK(Responses!K201), \"\", Responses!K201)","v":""},{"$f":"IF(ISBLANK(Responses!L201), \"\", Responses!L201)","v":""},{"$f":"IF(ISBLANK(Responses!M201), \"\", Responses!M201)","v":""}]
[{"$f":"IF(ISBLANK(Responses!A202), \"\", Responses!A202)","v":""},{"$f":"IF(ISBLANK(Responses!B202), \"\", Responses!B202)","v":""},{"$f":"IF(ISBLANK(Responses!K202), \"\", Responses!K202)","v":""},{"$f":"IF(ISBLANK(Responses!L202), \"\", Responses!L202)","v":""},{"$f":"IF(ISBLANK(Responses!M202), \"\", Responses!M202)","v":""}]
[{"$f":"IF(ISBLANK(Responses!A203), \"\", Responses!A203)","v":""},{"$f":"IF(ISBLANK(Responses!B203), \"\", Responses!B203)","v":""},{"$f":"IF(ISBLANK(Responses!K203), \"\", Responses!K203)","v":""},{"$f":"IF(ISBLANK(Responses!L203), \"\", Responses!L203)","v":""},{"$f":"IF(ISBLANK(Responses!M203), \"\", Responses!M203)","v":""}]
[{"$f":"IF(ISBLANK(Responses!A204), \"\", Responses!A204)","v":""},{"$f":"IF(ISBLANK(Responses!B204), \"\", Responses!B204)","v":""},{"$f":"IF(ISBLANK(Responses!K204), \"\", Responses!K204)","v":""},{"$f":"IF(ISBLANK(Responses!L204), \"\", Responses!L204)","v":""},{"$f":"IF(ISBLANK(Responses!M204), \"\", Responses!M204)","v":""}]
[{"$f":"IF(ISBLANK(Responses!A205), \"\", Responses!A205)","v":""},{"$f":"IF(ISBLANK(Responses!B205), \"\", Responses!B205)","v":""},{"$f":"IF(ISBLANK(Responses!K205), \"\", Responses!K205)","v":""},{"$f":"IF(ISBLANK(Responses!L205), \"\", Responses!L205)","v":""},{"$f":"IF(ISBLANK(Responses!M205), \"\", Responses!M205)","v":""}]
[{"$f":"IF(ISBLANK(Responses!A206), \"\", Responses!A206)","v":""},{"$f":"IF(ISBLANK(Responses!B206), \"\", Responses!B206)","v":""},{"$f":"IF(ISBLANK(Responses!K206), \"\", Responses!K206)","v":""},{"$f":"IF(ISBLANK(Responses!L206), \"\", Responses!L206)","v":""},{"$f":"IF(ISBLANK(Responses!M206), \"\", Responses!M206)","v":""}]
[{"$f":"IF(ISBLANK(Responses!A207), \"\", Responses!A207)","v":""},{"$f":"IF(ISBLANK(Responses!B207), \"\", Responses!B207)","v":""},{"$f":"IF(ISBLANK(Responses!K207), \"\", Responses!K207)","v":""},{"$f":"IF(ISBLANK(Responses!L207), \"\", Responses!L207)","v":""},{"$f":"IF(ISBLANK(Responses!M207), \"\", Responses!M207)","v":""}]
[{"$f":"IF(ISBLANK(Responses!A208), \"\", Responses!A208)","v":""},{"$f":"IF(ISBLANK(Responses!B208), \"\", Responses!B208)","v":""},{"$f":"IF(ISBLANK(Responses!K208), \"\", Responses!K208)","v":""},{"$f":"IF(ISBLANK(Responses!L208), \"\", Responses!L208)","v":""},{"$f":"IF(ISBLANK(Responses!M208), \"\", Responses!M208)","v":""}]
[{"$f":"IF(ISBLANK(Responses!A209), \"\", Responses!A209)","v":""},{"$f":"IF(ISBLANK(Responses!B209), \"\", Responses!B209)","v":""},{"$f":"IF(ISBLANK(Responses!K209), \"\", Responses!K209)","v":""},{"$f":"IF(ISBLANK(Responses!L209), \"\", Responses!L209)","v":""},{"$f":"IF(ISBLANK(Responses!M209), \"\", Responses!M209)","v":""}]
[{"$f":"IF(ISBLANK(Responses!A210), \"\", Responses!A210)","v":""},{"$f":"IF(ISBLANK(Responses!B210), \"\", Responses!B210)","v":""},{"$f":"IF(ISBLANK(Responses!K210), \"\", Responses!K210)","v":""},{"$f":"IF(ISBLANK(Responses!L210), \"\", Responses!L210)","v":""},{"$f":"IF(ISBLANK(Responses!M210), \"\", Responses!M210)","v":""}]
[{"$f":"IF(ISBLANK(Responses!A211), \"\", Responses!A211)","v":""},{"$f":"IF(ISBLANK(Responses!B211), \"\", Responses!B211)","v":""},{"$f":"IF(ISBLANK(Responses!K211), \"\", Responses!K211)","v":""},{"$f":"IF(ISBLANK(Responses!L211), \"\", Responses!L211)","v":""},{"$f":"IF(ISBLANK(Responses!M211), \"\", Responses!M211)","v":""}]
[{"$f":"IF(ISBLANK(Responses!A212), \"\", Responses!A212)","v":""},{"$f":"IF(ISBLANK(Responses!B212), \"\", Responses!B212)","v":""},{"$f":"IF(ISBLANK(Responses!K212), \"\", Responses!K212)","v":""},{"$f":"IF(ISBLANK(Responses!L212), \"\", Responses!L212)","v":""},{"$f":"IF(ISBLANK(Responses!M212), \"\", Responses!M212)","v":""}]
[{"$f":"IF(ISBLANK(Responses!A213), \"\", Responses!A213)","v":""},{"$f":"IF(ISBLANK(Responses!B213), \"\", Responses!B213)","v":""},{"$f":"IF(ISBLANK(Responses!K213), \"\", Responses!K213)","v":""},{"$f":"IF(ISBLANK(Responses!L213), \"\", Responses!L213)","v":""},{"$f":"IF(ISBLANK(Responses!M213), \"\", Responses!M213)","v":""}]
[{"$f":"IF(ISBLANK(Responses!A214), \"\", Responses!A214)","v":""},{"$f":"IF(ISBLANK(Responses!B214), \"\", Responses!B214)","v":""},{"$f":"IF(ISBLANK(Responses!K214), \"\", Responses!K214)","v":""},{"$f":"IF(ISBLANK(Responses!L214), \"\", Responses!L214)","v":""},{"$f":"IF(ISBLANK(Responses!M214), \"\", Responses!M214)","v":""}]
[{"$f":"IF(ISBLANK(Responses!A215), \"\", Responses!A215)","v":""},{"$f":"IF(ISBLANK(Responses!B215), \"\", Responses!B215)","v":""},{"$f":"IF(ISBLANK(Responses!K215), \"\", Responses!K215)","v":""},{"$f":"IF(ISBLANK(Responses!L215), \"\", Responses!L215)","v":""},{"$f":"IF(ISBLANK(Responses!M215), \"\", Responses!M215)","v":""}]
[{"$f":"IF(ISBLANK(Responses!A216), \"\", Responses!A216)","v":""},{"$f":"IF(ISBLANK(Responses!B216), \"\", Responses!B216)","v":""},{"$f":"IF(ISBLANK(Responses!K216), \"\", Responses!K216)","v":""},{"$f":"IF(ISBLANK(Responses!L216), \"\", Responses!L216)","v":""},{"$f":"IF(ISBLANK(Responses!M216), \"\", Responses!M216)","v":""}]
[{"$f":"IF(ISBLANK(Responses!A217), \"\", Responses!A217)","v":""},{"$f":"IF(ISBLANK(Responses!B217), \"\", Responses!B217)","v":""},{"$f":"IF(ISBLANK(Responses!K217), \"\", Responses!K217)","v":""},{"$f":"IF(ISBLANK(Responses!L217), \"\", Responses!L217)","v":""},{"$f":"IF(ISBLANK(Responses!M217), \"\", Responses!M217)","v":""}]
[{"$f":"IF(ISBLANK(Responses!A218), \"\", Responses!A218)","v":""},{"$f":"IF(ISBLANK(Responses!B218), \"\", Responses!B218)","v":""},{"$f":"IF(ISBLANK(Responses!K218), \"\", Responses!K218)","v":""},{"$f":"IF(ISBLANK(Responses!L218), \"\", Responses!L218)","v":""},{"$f":"IF(ISBLANK(Responses!M218), \"\", Responses!M218)","v":""}]
[{"$f":"IF(ISBLANK(Responses!A219), \"\", Responses!A219)","v":""},{"$f":"IF(ISBLANK(Responses!B219), \"\", Responses!B219)","v":""},{"$f":"IF(ISBLANK(Responses!K219), \"\", Responses!K219)","v":""},{"$f":"IF(ISBLANK(Responses!L219), \"\", Responses!L219)","v":""},{"$f":"IF(ISBLANK(Responses!M219), \"\", Responses!M219)","v":""}]
[{"$f":"IF(ISBLANK(Responses!A220), \"\", Responses!A220)","v":""},{"$f":"IF(ISBLANK(Responses!B220), \"\", Responses!B220)","v":""},{"$f":"IF(ISBLANK(Responses!K220), \"\", Responses!K220)","v":""},{"$f":"IF(ISBLANK(Responses!L220), \"\", Responses!L220)","v":""},{"$f":"IF(ISBLANK(Responses!M220), \"\", Responses!M220)","v":""}]
[{"$f":"IF(ISBLANK(Responses!A221), \"\", Responses!A221)","v":""},{"$f":"IF(ISBLANK(Responses!B221), \"\", Responses!B221)","v":""},{"$f":"IF(ISBLANK(Responses!K221), \"\", Responses!K221)","v":""},{"$f":"IF(ISBLANK(Responses!L221), \"\", Responses!L221)","v":""},{"$f":"IF(ISBLANK(Responses!M221), \"\", Responses!M221)","v":""}]
[{"$f":"IF(ISBLANK(Responses!A222), \"\", Responses!A222)","v":""},{"$f":"IF(ISBLANK(Responses!B222), \"\", Responses!B222)","v":""},{"$f":"IF(ISBLANK(Responses!K222), \"\", Responses!K222)","v":""},{"$f":"IF(ISBLANK(Responses!L222), \"\", Responses!L222)","v":""},{"$f":"IF(ISBLANK(Responses!M222), \"\", Responses!M222)","v":""}]
[{"$f":"IF(ISBLANK(Responses!A223), \"\", Responses!A223)","v":""},{"$f":"IF(ISBLANK(Responses!B223), \"\", Responses!B223)","v":""},{"$f":"IF(ISBLANK(Responses!K223), \"\", Responses!K223)","v":""},{"$f":"IF(ISBLANK(Responses!L223), \"\", Responses!L223)","v":""},{"$f":"IF(ISBLANK(Responses!M223), \"\", Responses!M223)","v":""}]
[{"$f":"IF(ISBLANK(Responses!A224), \"\", Responses!A224)","v":""},{"$f":"IF(ISBLANK(Responses!B224), \"\", Responses!B224)","v":""},{"$f":"IF(ISBLANK(Responses!K224), \"\", Responses!K224)","v":""},{"$f":"IF(ISBLANK(Responses!L224), \"\", Responses!L224)","v":""},{"$f":"IF(ISBLANK(Responses!M224), \"\", Responses!M224)","v":""}]
[{"$f":"IF(ISBLANK(Responses!A225), \"\", Responses!A225)","v":""},{"$f":"IF(ISBLANK(Responses!B225), \"\", Responses!B225)","v":""},{"$f":"IF(ISBLANK(Responses!K225), \"\", Responses!K225)","v":""},{"$f":"IF(ISBLANK(Responses!L225), \"\", Responses!L225)","v":""},{"$f":"IF(ISBLANK(Responses!M225), \"\", Responses!M225)","v":""}]
[{"$f":"IF(ISBLANK(Responses!A226), \"\", Responses!A226)","v":""},{"$f":"IF(ISBLANK(Responses!B226), \"\", Responses!B226)","v":""},{"$f":"IF(ISBLANK(Responses!K226), \"\", Responses!K226)","v":""},{"$f":"IF(ISBLANK(Responses!L226), \"\", Responses!L226)","v":""},{"$f":"IF(ISBLANK(Responses!M226), \"\", Responses!M226)","v":""}]
[{"$f":"IF(ISBLANK(Responses!A227), \"\", Responses!A227)","v":""},{"$f":"IF(ISBLANK(Responses!B227), \"\", Responses!B227)","v":""},{"$f":"IF(ISBLANK(Responses!K227), \"\", Responses!K227)","v":""},{"$f":"IF(ISBLANK(Responses!L227), \"\", Responses!L227)","v":""},{"$f":"IF(ISBLANK(Responses!M227), \"\", Responses!M227)","v":""}]
[{"$f":"IF(ISBLANK(Responses!A228), \"\", Responses!A228)","v":""},{"$f":"IF(ISBLANK(Responses!B228), \"\", Responses!B228)","v":""},{"$f":"IF(ISBLANK(Responses!K228), \"\", Responses!K228)","v":""},{"$f":"IF(ISBLANK(Responses!L228), \"\", Responses!L228)","v":""},{"$f":"IF(ISBLANK(Responses!M228), \"\", Responses!M228)","v":""}]
[{"$f":"IF(ISBLANK(Responses!A229), \"\", Responses!A229)","v":""},{"$f":"IF(ISBLANK(Responses!B229), \"\", Responses!B229)","v":""},{"$f":"IF(ISBLANK(Responses!K229), \"\", Responses!K229)","v":""},{"$f":"IF(ISBLANK(Responses!L229), \"\", Responses!L229)","v":""},{"$f":"IF(ISBLANK(Responses!M229), \"\", Responses!M229)","v":""}]
[{"$f":"IF(ISBLANK(Responses!A230), \"\", Responses!A230)","v":""},{"$f":"IF(ISBLANK(Responses!B230), \"\", Responses!B230)","v":""},{"$f":"IF(ISBLANK(Responses!K230), \"\", Responses!K230)","v":""},{"$f":"IF(ISBLANK(Responses!L230), \"\", Responses!L230)","v":""},{"$f":"IF(ISBLANK(Responses!M230), \"\", Responses!M230)","v":""}]
[{"$f":"IF(ISBLANK(Responses!A231), \"\", Responses!A231)","v":""},{"$f":"IF(ISBLANK(Responses!B231), \"\", Responses!B231)","v":""},{"$f":"IF(ISBLANK(Responses!K231), \"\", Responses!K231)","v":""},{"$f":"IF(ISBLANK(Responses!L231), \"\", Responses!L231)","v":""},{"$f":"IF(ISBLANK(Responses!M231), \"\", Responses!M231)","v":""}]
[{"$f":"IF(ISBLANK(Responses!A232), \"\", Responses!A232)","v":""},{"$f":"IF(ISBLANK(Responses!B232), \"\", Responses!B232)","v":""},{"$f":"IF(ISBLANK(Responses!K232), \"\", Responses!K232)","v":""},{"$f":"IF(ISBLANK(Responses!L232), \"\", Responses!L232)","v":""},{"$f":"IF(ISBLANK(Responses!M232), \"\", Responses!M232)","v":""}]
[{"$f":"IF(ISBLANK(Responses!A233), \"\", Responses!A233)","v":""},{"$f":"IF(ISBLANK(Responses!B233), \"\", Responses!B233)","v":""},{"$f":"IF(ISBLANK(Responses!K233), \"\", Responses!K233)","v":""},{"$f":"IF(ISBLANK(Responses!L233), \"\", Responses!L233)","v":""},{"$f":"IF(ISBLANK(Responses!M233), \"\", Responses!M233)","v":""}]
[{"$f":"IF(ISBLANK(Responses!A234), \"\", Responses!A234)","v":""},{"$f":"IF(ISBLANK(Responses!B234), \"\", Responses!B234)","v":""},{"$f":"IF(ISBLANK(Responses!K234), \"\", Responses!K234)","v":""},{"$f":"IF(ISBLANK(Responses!L234), \"\", Responses!L234)","v":""},{"$f":"IF(ISBLANK(Responses!M234), \"\", Responses!M234)","v":""}]
[{"$f":"IF(ISBLANK(Responses!A235), \"\", Responses!A235)","v":""},{"$f":"IF(ISBLANK(Responses!B235), \"\", Responses!B235)","v":""},{"$f":"IF(ISBLANK(Responses!K235), \"\", Responses!K235)","v":""},{"$f":"IF(ISBLANK(Responses!L235), \"\", Responses!L235)","v":""},{"$f":"IF(ISBLANK(Responses!M235), \"\", Responses!M235)","v":""}]
[{"$f":"IF(ISBLANK(Responses!A236), \"\", Responses!A236)","v":""},{"$f":"IF(ISBLANK(Responses!B236), \"\", Responses!B236)","v":""},{"$f":"IF(ISBLANK(Responses!K236), \"\", Responses!K236)","v":""},{"$f":"IF(ISBLANK(Responses!L236), \"\", Responses!L236)","v":""},{"$f":"IF(ISBLANK(Responses!M236), \"\", Responses!M236)","v":""}]
[{"$f":"IF(ISBLANK(Responses!A237), \"\", Responses!A237)","v":""},{"$f":"IF(ISBLANK(Responses!B237), \"\", Responses!B237)","v":""},{"$f":"IF(ISBLANK(Responses!K237), \"\", Responses!K237)","v":""},{"$f":"IF(ISBLANK(Responses!L237), \"\", Responses!L237)","v":""},{"$f":"IF(ISBLANK(Responses!M237), \"\", Responses!M237)","v":""}]
[{"$f":"IF(ISBLANK(Responses!A238), \"\", Responses!A238)","v":""},{"$f":"IF(ISBLANK(Responses!B238), \"\", Responses!B238)","v":""},{"$f":"IF(ISBLANK(Responses!K238), \"\", Responses!K238)","v":""},{"$f":"IF(ISBLANK(Responses!L238), \"\", Responses!L238)","v":""},{"$f":"IF(ISBLANK(Responses!M238), \"\", Responses!M238)","v":""}]
[{"$f":"IF(ISBLANK(Responses!A239), \"\", Responses!A239)","v":""},{"$f":"IF(ISBLANK(Responses!B239), \"\", Responses!B239)","v":""},{"$f":"IF(ISBLANK(Responses!K239), \"\", Responses!K239)","v":""},{"$f":"IF(ISBLANK(Responses!L239), \"\", Responses!L239)","v":""},{"$f":"IF(ISBLANK(Responses!M239), \"\", Responses!M239)","v":""}]
[{"$f":"IF(ISBLANK(Responses!A240), \"\", Responses!A240)","v":""},{"$f":"IF(ISBLANK(Responses!B240), \"\", Responses!B240)","v":""},{"$f":"IF(ISBLANK(Responses!K240), \"\", Responses!K240)","v":""},{"$f":"IF(ISBLANK(Responses!L240), \"\", Responses!L240)","v":""},{"$f":"IF(ISBLANK(Responses!M240), \"\", Responses!M240)","v":""}]
[{"$f":"IF(ISBLANK(Responses!A241), \"\", Responses!A241)","v":""},{"$f":"IF(ISBLANK(Responses!B241), \"\", Responses!B241)","v":""},{"$f":"IF(ISBLANK(Responses!K241), \"\", Responses!K241)","v":""},{"$f":"IF(ISBLANK(Responses!L241), \"\", Responses!L241)","v":""},{"$f":"IF(ISBLANK(Responses!M241), \"\", Responses!M241)","v":""}]
[{"$f":"IF(ISBLANK(Responses!A242), \"\", Responses!A242)","v":""},{"$f":"IF(ISBLANK(Responses!B242), \"\", Responses!B242)","v":""},{"$f":"IF(ISBLANK(Responses!K242), \"\", Responses!K242)","v":""},{"$f":"IF(ISBLANK(Responses!L242), \"\", Responses!L242)","v":""},{"$f":"IF(ISBLANK(Responses!M242), \"\", Responses!M242)","v":""}]
[{"$f":"IF(ISBLANK(Responses!A243), \"\", Responses!A243)","v":""},{"$f":"IF(ISBLANK(Responses!B243), \"\", Responses!B243)","v":""},{"$f":"IF(ISBLANK(Responses!K243), \"\", Responses!K243)","v":""},{"$f":"IF(ISBLANK(Responses!L243), \"\", Responses!L243)","v":""},{"$f":"IF(ISBLANK(Responses!M243), \"\", Responses!M243)","v":""}]
[{"$f":"IF(ISBLANK(Responses!A244), \"\", Responses!A244)","v":""},{"$f":"IF(ISBLANK(Responses!B244), \"\", Responses!B244)","v":""},{"$f":"IF(ISBLANK(Responses!K244), \"\", Responses!K244)","v":""},{"$f":"IF(ISBLANK(Responses!L244), \"\", Responses!L244)","v":""},{"$f":"IF(ISBLANK(Responses!M244), \"\", Responses!M244)","v":""}]
[{"$f":"IF(ISBLANK(Responses!A245), \"\", Responses!A245)","v":""},{"$f":"IF(ISBLANK(Responses!B245), \"\", Responses!B245)","v":""},{"$f":"IF(ISBLANK(Responses!K245), \"\", Responses!K245)","v":""},{"$f":"IF(ISBLANK(Responses!L245), \"\", Responses!L245)","v":""},{"$f":"IF(ISBLANK(Responses!M245), \"\", Responses!M245)","v":""}]
[{"$f":"IF(ISBLANK(Responses!A246), \"\", Responses!A246)","v":""},{"$f":"IF(ISBLANK(Responses!B246), \"\", Responses!B246)","v":""},{"$f":"IF(ISBLANK(Responses!K246), \"\", Responses!K246)","v":""},{"$f":"IF(ISBLANK(Responses!L246), \"\", Responses!L246)","v":""},{"$f":"IF(ISBLANK(Responses!M246), \"\", Responses!M246)","v":""}]
[{"$f":"IF(ISBLANK(Responses!A247), \"\", Responses!A247)","v":""},{"$f":"IF(ISBLANK(Responses!B247), \"\", Responses!B247)","v":""},{"$f":"IF(ISBLANK(Responses!K247), \"\", Responses!K247)","v":""},{"$f":"IF(ISBLANK(Responses!L247), \"\", Responses!L247)","v":""},{"$f":"IF(ISBLANK(Responses!M247), \"\", Responses!M247)","v":""}]
[{"$f":"IF(ISBLANK(Responses!A248), \"\", Responses!A248)","v":""},{"$f":"IF(ISBLANK(Responses!B248), \"\", Responses!B248)","v":""},{"$f":"IF(ISBLANK(Responses!K248), \"\", Responses!K248)","v":""},{"$f":"IF(ISBLANK(Responses!L248), \"\", Responses!L248)","v":""},{"$f":"IF(ISBLANK(Responses!M248), \"\", Responses!M248)","v":""}]
[{"$f":"IF(ISBLANK(Responses!A249), \"\", Responses!A249)","v":""},{"$f":"IF(ISBLANK(Responses!B249), \"\", Responses!B249)","v":""},{"$f":"IF(ISBLANK(Responses!K249), \"\", Responses!K249)","v":""},{"$f":"IF(ISBLANK(Responses!L249), \"\", Responses!L249)","v":""},{"$f":"IF(ISBLANK(Responses!M249), \"\", Responses!M249)","v":""}]
[{"$f":"IF(ISBLANK(Responses!A250), \"\", Responses!A250)","v":""},{"$f":"IF(ISBLANK(Responses!B250), \"\", Responses!B250)","v":""},{"$f":"IF(ISBLANK(Responses!K250), \"\", Responses!K250)","v":""},{"$f":"IF(ISBLANK(Responses!L250), \"\", Responses!L250)","v":""},{"$f":"IF(ISBLANK(Responses!M250), \"\", Responses!M250)","v":""}]
[{"$f":"IF(ISBLANK(Responses!A251), \"\", Responses!A251)","v":""},{"$f":"IF(ISBLANK(Responses!B251), \"\", Responses!B251)","v":""},{"$f":"IF(ISBLANK(Responses!K251), \"\", Responses!K251)","v":""},{"$f":"IF(ISBLANK(Responses!L251), \"\", Responses!L251)","v":""},{"$f":"IF(ISBLANK(Responses!M251), \"\", Responses!M251)","v":""}]
[{"$f":"IF(ISBLANK(Responses!A252), \"\", Responses!A252)","v":""},{"$f":"IF(ISBLANK(Responses!B252), \"\", Responses!B252)","v":""},{"$f":"IF(ISBLANK(Responses!K252), \"\", Responses!K252)","v":""},{"$f":"IF(ISBLANK(Responses!L252), \"\", Responses!L252)","v":""},{"$f":"IF(ISBLANK(Responses!M252), \"\", Responses!M252)","v":""}]
[{"$f":"IF(ISBLANK(Responses!A253), \"\", Responses!A253)","v":""},{"$f":"IF(ISBLANK(Responses!B253), \"\", Responses!B253)","v":""},{"$f":"IF(ISBLANK(Responses!K253), \"\", Responses!K253)","v":""},{"$f":"IF(ISBLANK(Responses!L253), \"\", Responses!L253)","v":""},{"$f":"IF(ISBLANK(Responses!M253), \"\", Responses!M253)","v":""}]
[{"$f":"IF(ISBLANK(Responses!A254), \"\", Responses!A254)","v":""},{"$f":"IF(ISBLANK(Responses!B254), \"\", Responses!B254)","v":""},{"$f":"IF(ISBLANK(Responses!K254), \"\", Responses!K254)","v":""},{"$f":"IF(ISBLANK(Responses!L254), \"\", Responses!L254)","v":""},{"$f":"IF(ISBLANK(Responses!M254), \"\", Responses!M254)","v":""}]
[{"$f":"IF(ISBLANK(Responses!A255), \"\", Responses!A255)","v":""},{"$f":"IF(ISBLANK(Responses!B255), \"\", Responses!B255)","v":""},{"$f":"IF(ISBLANK(Responses!K255), \"\", Responses!K255)","v":""},{"$f":"IF(ISBLANK(Responses!L255), \"\", Responses!L255)","v":""},{"$f":"IF(ISBLANK(Responses!M255), \"\", Responses!M255)","v":""}]
[{"$f":"IF(ISBLANK(Responses!A256), \"\", Responses!A256)","v":""},{"$f":"IF(ISBLANK(Responses!B256), \"\", Responses!B256)","v":""},{"$f":"IF(ISBLANK(Responses!K256), \"\", Responses!K256)","v":""},{"$f":"IF(ISBLANK(Responses!L256), \"\", Responses!L256)","v":""},{"$f":"IF(ISBLANK(Responses!M256), \"\", Responses!M256)","v":""}]
[{"$f":"IF(ISBLANK(Responses!A257), \"\", Responses!A257)","v":""},{"$f":"IF(ISBLANK(Responses!B257), \"\", Responses!B257)","v":""},{"$f":"IF(ISBLANK(Responses!K257), \"\", Responses!K257)","v":""},{"$f":"IF(ISBLANK(Responses!L257), \"\", Responses!L257)","v":""},{"$f":"IF(ISBLANK(Responses!M257), \"\", Responses!M257)","v":""}]
[{"$f":"IF(ISBLANK(Responses!A258), \"\", Responses!A258)","v":""},{"$f":"IF(ISBLANK(Responses!B258), \"\", Responses!B258)","v":""},{"$f":"IF(ISBLANK(Responses!K258), \"\", Responses!K258)","v":""},{"$f":"IF(ISBLANK(Responses!L258), \"\", Responses!L258)","v":""},{"$f":"IF(ISBLANK(Responses!M258), \"\", Responses!M258)","v":""}]
[{"$f":"IF(ISBLANK(Responses!A259), \"\", Responses!A259)","v":""},{"$f":"IF(ISBLANK(Responses!B259), \"\", Responses!B259)","v":""},{"$f":"IF(ISBLANK(Responses!K259), \"\", Responses!K259)","v":""},{"$f":"IF(ISBLANK(Responses!L259), \"\", Responses!L259)","v":""},{"$f":"IF(ISBLANK(Responses!M259), \"\", Responses!M259)","v":""}]
[{"$f":"IF(ISBLANK(Responses!A260), \"\", Responses!A260)","v":""},{"$f":"IF(ISBLANK(Responses!B260), \"\", Responses!B260)","v":""},{"$f":"IF(ISBLANK(Responses!K260), \"\", Responses!K260)","v":""},{"$f":"IF(ISBLANK(Responses!L260), \"\", Responses!L260)","v":""},{"$f":"IF(ISBLANK(Responses!M260), \"\", Responses!M260)","v":""}]
[{"$f":"IF(ISBLANK(Responses!A261), \"\", Responses!A261)","v":""},{"$f":"IF(ISBLANK(Responses!B261), \"\", Responses!B261)","v":""},{"$f":"IF(ISBLANK(Responses!K261), \"\", Responses!K261)","v":""},{"$f":"IF(ISBLANK(Responses!L261), \"\", Responses!L261)","v":""},{"$f":"IF(ISBLANK(Responses!M261), \"\", Responses!M261)","v":""}]
[{"$f":"IF(ISBLANK(Responses!A262), \"\", Responses!A262)","v":""},{"$f":"IF(ISBLANK(Responses!B262), \"\", Responses!B262)","v":""},{"$f":"IF(ISBLANK(Responses!K262), \"\", Responses!K262)","v":""},{"$f":"IF(ISBLANK(Responses!L262), \"\", Responses!L262)","v":""},{"$f":"IF(ISBLANK(Responses!M262), \"\", Responses!M262)","v":""}]
[{"$f":"IF(ISBLANK(Responses!A263), \"\", Responses!A263)","v":""},{"$f":"IF(ISBLANK(Responses!B263), \"\", Responses!B263)","v":""},{"$f":"IF(ISBLANK(Responses!K263), \"\", Responses!K263)","v":""},{"$f":"IF(ISBLANK(Responses!L263), \"\", Responses!L263)","v":""},{"$f":"IF(ISBLANK(Responses!M263), \"\", Responses!M263)","v":""}]
[{"$f":"IF(ISBLANK(Responses!A264), \"\", Responses!A264)","v":""},{"$f":"IF(ISBLANK(Responses!B264), \"\", Responses!B264)","v":""},{"$f":"IF(ISBLANK(Responses!K264), \"\", Responses!K264)","v":""},{"$f":"IF(ISBLANK(Responses!L264), \"\", Responses!L264)","v":""},{"$f":"IF(ISBLANK(Responses!M264), \"\", Responses!M264)","v":""}]
[{"$f":"IF(ISBLANK(Responses!A265), \"\", Responses!A265)","v":""},{"$f":"IF(ISBLANK(Responses!B265), \"\", Responses!B265)","v":""},{"$f":"IF(ISBLANK(Responses!K265), \"\", Responses!K265)","v":""},{"$f":"IF(ISBLANK(Responses!L265), \"\", Responses!L265)","v":""},{"$f":"IF(ISBLANK(Responses!M265), \"\", Responses!M265)","v":""}]
[{"$f":"IF(ISBLANK(Responses!A266), \"\", Responses!A266)","v":""},{"$f":"IF(ISBLANK(Responses!B266), \"\", Responses!B266)","v":""},{"$f":"IF(ISBLANK(Responses!K266), \"\", Responses!K266)","v":""},{"$f":"IF(ISBLANK(Responses!L266), \"\", Responses!L266)","v":""},{"$f":"IF(ISBLANK(Responses!M266), \"\", Responses!M266)","v":""}]
[{"$f":"IF(ISBLANK(Responses!A267), \"\", Responses!A267)","v":""},{"$f":"IF(ISBLANK(Responses!B267), \"\", Responses!B267)","v":""},{"$f":"IF(ISBLANK(Responses!K267), \"\", Responses!K267)","v":""},{"$f":"IF(ISBLANK(Responses!L267), \"\", Responses!L267)","v":""},{"$f":"IF(ISBLANK(Responses!M267), \"\", Responses!M267)","v":""}]
[{"$f":"IF(ISBLANK(Responses!A268), \"\", Responses!A268)","v":""},{"$f":"IF(ISBLANK(Responses!B268), \"\", Responses!B268)","v":""},{"$f":"IF(ISBLANK(Responses!K268), \"\", Responses!K268)","v":""},{"$f":"IF(ISBLANK(Responses!L268), \"\", Responses!L268)","v":""},{"$f":"IF(ISBLANK(Responses!M268), \"\", Responses!M268)","v":""}]
[{"$f":"IF(ISBLANK(Responses!A269), \"\", Responses!A269)","v":""},{"$f":"IF(ISBLANK(Responses!B269), \"\", Responses!B269)","v":""},{"$f":"IF(ISBLANK(Responses!K269), \"\", Responses!K269)","v":""},{"$f":"IF(ISBLANK(Responses!L269), \"\", Responses!L269)","v":""},{"$f":"IF(ISBLANK(Responses!M269), \"\", Responses!M269)","v":""}]
[{"$f":"IF(ISBLANK(Responses!A270), \"\", Responses!A270)","v":""},{"$f":"IF(ISBLANK(Responses!B270), \"\", Responses!B270)","v":""},{"$f":"IF(ISBLANK(Responses!K270), \"\", Responses!K270)","v":""},{"$f":"IF(ISBLANK(Responses!L270), \"\", Responses!L270)","v":""},{"$f":"IF(ISBLANK(Responses!M270), \"\", Responses!M270)","v":""}]
[{"$f":"IF(ISBLANK(Responses!A271), \"\", Responses!A271)","v":""},{"$f":"IF(ISBLANK(Responses!B271), \"\", Responses!B271)","v":""},{"$f":"IF(ISBLANK(Responses!K271), \"\", Responses!K271)","v":""},{"$f":"IF(ISBLANK(Responses!L271), \"\", Responses!L271)","v":""},{"$f":"IF(ISBLANK(Responses!M271), \"\", Responses!M271)","v":""}]
[{"$f":"IF(ISBLANK(Responses!A272), \"\", Responses!A272)","v":""},{"$f":"IF(ISBLANK(Responses!B272), \"\", Responses!B272)","v":""},{"$f":"IF(ISBLANK(Responses!K272), \"\", Responses!K272)","v":""},{"$f":"IF(ISBLANK(Responses!L272), \"\", Responses!L272)","v":""},{"$f":"IF(ISBLANK(Responses!M272), \"\", Responses!M272)","v":""}]
[{"$f":"IF(ISBLANK(Responses!A273), \"\", Responses!A273)","v":""},{"$f":"IF(ISBLANK(Responses!B273), \"\", Responses!B273)","v":""},{"$f":"IF(ISBLANK(Responses!K273), \"\", Responses!K273)","v":""},{"$f":"IF(ISBLANK(Responses!L273), \"\", Responses!L273)","v":""},{"$f":"IF(ISBLANK(Responses!M273), \"\", Responses!M273)","v":""}]
[{"$f":"IF(ISBLANK(Responses!A274), \"\", Responses!A274)","v":""},{"$f":"IF(ISBLANK(Responses!B274), \"\", Responses!B274)","v":""},{"$f":"IF(ISBLANK(Responses!K274), \"\", Responses!K274)","v":""},{"$f":"IF(ISBLANK(Responses!L274), \"\", Responses!L274)","v":""},{"$f":"IF(ISBLANK(Responses!M274), \"\", Responses!M274)","v":""}]
[{"$f":"IF(ISBLANK(Responses!A275), \"\", Responses!A275)","v":""},{"$f":"IF(ISBLANK(Responses!B275), \"\", Responses!B275)","v":""},{"$f":"IF(ISBLANK(Responses!K275), \"\", Responses!K275)","v":""},{"$f":"IF(ISBLANK(Responses!L275), \"\", Responses!L275)","v":""},{"$f":"IF(ISBLANK(Responses!M275), \"\", Responses!M275)","v":""}]
[{"$f":"IF(ISBLANK(Responses!A276), \"\", Responses!A276)","v":""},{"$f":"IF(ISBLANK(Responses!B276), \"\", Responses!B276)","v":""},{"$f":"IF(ISBLANK(Responses!K276), \"\", Responses!K276)","v":""},{"$f":"IF(ISBLANK(Responses!L276), \"\", Responses!L276)","v":""},{"$f":"IF(ISBLANK(Responses!M276), \"\", Responses!M276)","v":""}]
[{"$f":"IF(ISBLANK(Responses!A277), \"\", Responses!A277)","v":""},{"$f":"IF(ISBLANK(Responses!B277), \"\", Responses!B277)","v":""},{"$f":"IF(ISBLANK(Responses!K277), \"\", Responses!K277)","v":""},{"$f":"IF(ISBLANK(Responses!L277), \"\", Responses!L277)","v":""},{"$f":"IF(ISBLANK(Responses!M277), \"\", Responses!M277)","v":""}]
[{"$f":"IF(ISBLANK(Responses!A278), \"\", Responses!A278)","v":""},{"$f":"IF(ISBLANK(Responses!B278), \"\", Responses!B278)","v":""},{"$f":"IF(ISBLANK(Responses!K278), \"\", Responses!K278)","v":""},{"$f":"IF(ISBLANK(Responses!L278), \"\", Responses!L278)","v":""},{"$f":"IF(ISBLANK(Responses!M278), \"\", Responses!M278)","v":""}]
[{"$f":"IF(ISBLANK(Responses!A279), \"\", Responses!A279)","v":""},{"$f":"IF(ISBLANK(Responses!B279), \"\", Responses!B279)","v":""},{"$f":"IF(ISBLANK(Responses!K279), \"\", Responses!K279)","v":""},{"$f":"IF(ISBLANK(Responses!L279), \"\", Responses!L279)","v":""},{"$f":"IF(ISBLANK(Responses!M279), \"\", Responses!M279)","v":""}]
[{"$f":"IF(ISBLANK(Responses!A280), \"\", Responses!A280)","v":""},{"$f":"IF(ISBLANK(Responses!B280), \"\", Responses!B280)","v":""},{"$f":"IF(ISBLANK(Responses!K280), \"\", Responses!K280)","v":""},{"$f":"IF(ISBLANK(Responses!L280), \"\", Responses!L280)","v":""},{"$f":"IF(ISBLANK(Responses!M280), \"\", Responses!M280)","v":""}]
[{"$f":"IF(ISBLANK(Responses!A281), \"\", Responses!A281)","v":""},{"$f":"IF(ISBLANK(Responses!B281), \"\", Responses!B281)","v":""},{"$f":"IF(ISBLANK(Responses!K281), \"\", Responses!K281)","v":""},{"$f":"IF(ISBLANK(Responses!L281), \"\", Responses!L281)","v":""},{"$f":"IF(ISBLANK(Responses!M281), \"\", Responses!M281)","v":""}]
[{"$f":"IF(ISBLANK(Responses!A282), \"\", Responses!A282)","v":""},{"$f":"IF(ISBLANK(Responses!B282), \"\", Responses!B282)","v":""},{"$f":"IF(ISBLANK(Responses!K282), \"\", Responses!K282)","v":""},{"$f":"IF(ISBLANK(Responses!L282), \"\", Responses!L282)","v":""},{"$f":"IF(ISBLANK(Responses!M282), \"\", Responses!M282)","v":""}]
[{"$f":"IF(ISBLANK(Responses!A283), \"\", Responses!A283)","v":""},{"$f":"IF(ISBLANK(Responses!B283), \"\", Responses!B283)","v":""},{"$f":"IF(ISBLANK(Responses!K283), \"\", Responses!K283)","v":""},{"$f":"IF(ISBLANK(Responses!L283), \"\", Responses!L283)","v":""},{"$f":"IF(ISBLANK(Responses!M283), \"\", Responses!M283)","v":""}]
[{"$f":"IF(ISBLANK(Responses!A284), \"\", Responses!A284)","v":""},{"$f":"IF(ISBLANK(Responses!B284), \"\", Responses!B284)","v":""},{"$f":"IF(ISBLANK(Responses!K284), \"\", Responses!K284)","v":""},{"$f":"IF(ISBLANK(Responses!L284), \"\", Responses!L284)","v":""},{"$f":"IF(ISBLANK(Responses!M284), \"\", Responses!M284)","v":""}]
[{"$f":"IF(ISBLANK(Responses!A285), \"\", Responses!A285)","v":""},{"$f":"IF(ISBLANK(Responses!B285), \"\", Responses!B285)","v":""},{"$f":"IF(ISBLANK(Responses!K285), \"\", Responses!K285)","v":""},{"$f":"IF(ISBLANK(Responses!L285), \"\", Responses!L285)","v":""},{"$f":"IF(ISBLANK(Responses!M285), \"\", Responses!M285)","v":""}]
[{"$f":"IF(ISBLANK(Responses!A286), \"\", Responses!A286)","v":""},{"$f":"IF(ISBLANK(Responses!B286), \"\", Responses!B286)","v":""},{"$f":"IF(ISBLANK(Responses!K286), \"\", Responses!K286)","v":""},{"$f":"IF(ISBLANK(Responses!L286), \"\", Responses!L286)","v":""},{"$f":"IF(ISBLANK(Responses!M286), \"\", Responses!M286)","v":""}]
[{"$f":"IF(ISBLANK(Responses!A287), \"\", Responses!A287)","v":""},{"$f":"IF(ISBLANK(Responses!B287), \"\", Responses!B287)","v":""},{"$f":"IF(ISBLANK(Responses!K287), \"\", Responses!K287)","v":""},{"$f":"IF(ISBLANK(Responses!L287), \"\", Responses!L287)","v":""},{"$f":"IF(ISBLANK(Responses!M287), \"\", Responses!M287)","v":""}]
[{"$f":"IF(ISBLANK(Responses!A288), \"\", Responses!A288)","v":""},{"$f":"IF(ISBLANK(Responses!B288), \"\", Responses!B288)","v":""},{"$f":"IF(ISBLANK(Responses!K288), \"\", Responses!K288)","v":""},{"$f":"IF(ISBLANK(Responses!L288), \"\", Responses!L288)","v":""},{"$f":"IF(ISBLANK(Responses!M288), \"\", Responses!M288)","v":""}]
[{"$f":"IF(ISBLANK(Responses!A289), \"\", Responses!A289)","v":""},{"$f":"IF(ISBLANK(Responses!B289), \"\", Responses!B289)","v":""},{"$f":"IF(ISBLANK(Responses!K289), \"\", Responses!K289)","v":""},{"$f":"IF(ISBLANK(Responses!L289), \"\", Responses!L289)","v":""},{"$f":"IF(ISBLANK(Responses!M289), \"\", Responses!M289)","v":""}]
[{"$f":"IF(ISBLANK(Responses!A290), \"\", Responses!A290)","v":""},{"$f":"IF(ISBLANK(Responses!B290), \"\", Responses!B290)","v":""},{"$f":"IF(ISBLANK(Responses!K290), \"\", Responses!K290)","v":""},{"$f":"IF(ISBLANK(Responses!L290), \"\", Responses!L290)","v":""},{"$f":"IF(ISBLANK(Responses!M290), \"\", Responses!M290)","v":""}]
[{"$f":"IF(ISBLANK(Responses!A291), \"\", Responses!A291)","v":""},{"$f":"IF(ISBLANK(Responses!B291), \"\", Responses!B291)","v":""},{"$f":"IF(ISBLANK(Responses!K291), \"\", Responses!K291)","v":""},{"$f":"IF(ISBLANK(Responses!L291), \"\", Responses!L291)","v":""},{"$f":"IF(ISBLANK(Responses!M291), \"\", Responses!M291)","v":""}]
[{"$f":"IF(ISBLANK(Responses!A292), \"\", Responses!A292)","v":""},{"$f":"IF(ISBLANK(Responses!B292), \"\", Responses!B292)","v":""},{"$f":"IF(ISBLANK(Responses!K292), \"\", Responses!K292)","v":""},{"$f":"IF(ISBLANK(Responses!L292), \"\", Responses!L292)","v":""},{"$f":"IF(ISBLANK(Responses!M292), \"\", Responses!M292)","v":""}]
[{"$f":"IF(ISBLANK(Responses!A293), \"\", Responses!A293)","v":""},{"$f":"IF(ISBLANK(Responses!B293), \"\", Responses!B293)","v":""},{"$f":"IF(ISBLANK(Responses!K293), \"\", Responses!K293)","v":""},{"$f":"IF(ISBLANK(Responses!L293), \"\", Responses!L293)","v":""},{"$f":"IF(ISBLANK(Responses!M293), \"\", Responses!M293)","v":""}]
[{"$f":"IF(ISBLANK(Responses!A294), \"\", Responses!A294)","v":""},{"$f":"IF(ISBLANK(Responses!B294), \"\", Responses!B294)","v":""},{"$f":"IF(ISBLANK(Responses!K294), \"\", Responses!K294)","v":""},{"$f":"IF(ISBLANK(Responses!L294), \"\", Responses!L294)","v":""},{"$f":"IF(ISBLANK(Responses!M294), \"\", Responses!M294)","v":""}]
[{"$f":"IF(ISBLANK(Responses!A295), \"\", Responses!A295)","v":""},{"$f":"IF(ISBLANK(Responses!B295), \"\", Responses!B295)","v":""},{"$f":"IF(ISBLANK(Responses!K295), \"\", Responses!K295)","v":""},{"$f":"IF(ISBLANK(Responses!L295), \"\", Responses!L295)","v":""},{"$f":"IF(ISBLANK(Responses!M295), \"\", Responses!M295)","v":""}]
[{"$f":"IF(ISBLANK(Responses!A296), \"\", Responses!A296)","v":""},{"$f":"IF(ISBLANK(Responses!B296), \"\", Responses!B296)","v":""},{"$f":"IF(ISBLANK(Responses!K296), \"\", Responses!K296)","v":""},{"$f":"IF(ISBLANK(Responses!L296), \"\", Responses!L296)","v":""},{"$f":"IF(ISBLANK(Responses!M296), \"\", Responses!M296)","v":""}]
[{"$f":"IF(ISBLANK(Responses!A297), \"\", Responses!A297)","v":""},{"$f":"IF(ISBLANK(Responses!B297), \"\", Responses!B297)","v":""},{"$f":"IF(ISBLANK(Responses!K297), \"\", Responses!K297)","v":""},{"$f":"IF(ISBLANK(Responses!L297), \"\", Responses!L297)","v":""},{"$f":"IF(ISBLANK(Responses!M297), \"\", Responses!M297)","v":""}]
[{"$f":"IF(ISBLANK(Responses!A298), \"\", Responses!A298)","v":""},{"$f":"IF(ISBLANK(Responses!B298), \"\", Responses!B298)","v":""},{"$f":"IF(ISBLANK(Responses!K298), \"\", Responses!K298)","v":""},{"$f":"IF(ISBLANK(Responses!L298), \"\", Responses!L298)","v":""},{"$f":"IF(ISBLANK(Responses!M298), \"\", Responses!M298)","v":""}]
[{"$f":"IF(ISBLANK(Responses!A299), \"\", Responses!A299)","v":""},{"$f":"IF(ISBLANK(Responses!B299), \"\", Responses!B299)","v":""},{"$f":"IF(ISBLANK(Responses!K299), \"\", Responses!K299)","v":""},{"$f":"IF(ISBLANK(Responses!L299), \"\", Responses!L299)","v":""},{"$f":"IF(ISBLANK(Responses!M299), \"\", Responses!M299)","v":""}]
[{"$f":"IF(ISBLANK(Responses!A300), \"\", Responses!A300)","v":""},{"$f":"IF(ISBLANK(Responses!B300), \"\", Responses!B300)","v":""},{"$f":"IF(ISBLANK(Responses!K300), \"\", Responses!K300)","v":""},{"$f":"IF(ISBLANK(Responses!L300), \"\", Responses!L300)","v":""},{"$f":"IF(ISBLANK(Responses!M300), \"\", Responses!M300)","v":""}]
[{"$f":"IF(ISBLANK(Responses!A301), \"\", Responses!A301)","v":""},{"$f":"IF(ISBLANK(Responses!B301), \"\", Responses!B301)","v":""},{"$f":"IF(ISBLANK(Responses!K301), \"\", Responses!K301)","v":""},{"$f":"IF(ISBLANK(Responses!L301), \"\", Responses!L301)","v":""},{"$f":"IF(ISBLANK(Responses!M301), \"\", Responses!M301)","v":""}]
[{"$f":"IF(ISBLANK(Responses!A302), \"\", Responses!A302)","v":""},{"$f":"IF(ISBLANK(Responses!B302), \"\", Responses!B302)","v":""},{"$f":"IF(ISBLANK(Responses!K302), \"\", Responses!K302)","v":""},{"$f":"IF(ISBLANK(Responses!L302), \"\", Responses!L302)","v":""},{"$f":"IF(ISBLANK(Responses!M302), \"\", Responses!M302)","v":""}]
[{"$f":"IF(ISBLANK(Responses!A303), \"\", Responses!A303)","v":""},{"$f":"IF(ISBLANK(Responses!B303), \"\", Responses!B303)","v":""},{"$f":"IF(ISBLANK(Responses!K303), \"\", Responses!K303)","v":""},{"$f":"IF(ISBLANK(Responses!L303), \"\", Responses!L303)","v":""},{"$f":"IF(ISBLANK(Responses!M303), \"\", Responses!M303)","v":""}]
[{"$f":"IF(ISBLANK(Responses!A304), \"\", Responses!A304)","v":""},{"$f":"IF(ISBLANK(Responses!B304), \"\", Responses!B304)","v":""},{"$f":"IF(ISBLANK(Responses!K304), \"\", Responses!K304)","v":""},{"$f":"IF(ISBLANK(Responses!L304), \"\", Responses!L304)","v":""},{"$f":"IF(ISBLANK(Responses!M304), \"\", Responses!M304)","v":""}]
[{"$f":"IF(ISBLANK(Responses!A305), \"\", Responses!A305)","v":""},{"$f":"IF(ISBLANK(Responses!B305), \"\", Responses!B305)","v":""},{"$f":"IF(ISBLANK(Responses!K305), \"\", Responses!K305)","v":""},{"$f":"IF(ISBLANK(Responses!L305), \"\", Responses!L305)","v":""},{"$f":"IF(ISBLANK(Responses!M305), \"\", Responses!M305)","v":""}]
[{"$f":"IF(ISBLANK(Responses!A306), \"\", Responses!A306)","v":""},{"$f":"IF(ISBLANK(Responses!B306), \"\", Responses!B306)","v":""},{"$f":"IF(ISBLANK(Responses!K306), \"\", Responses!K306)","v":""},{"$f":"IF(ISBLANK(Responses!L306), \"\", Responses!L306)","v":""},{"$f":"IF(ISBLANK(Responses!M306), \"\", Responses!M306)","v":""}]
[{"$f":"IF(ISBLANK(Responses!A307), \"\", Responses!A307)","v":""},{"$f":"IF(ISBLANK(Responses!B307), \"\", Responses!B307)","v":""},{"$f":"IF(ISBLANK(Responses!K307), \"\", Responses!K307)","v":""},{"$f":"IF(ISBLANK(Responses!L307), \"\", Responses!L307)","v":""},{"$f":"IF(ISBLANK(Responses!M307), \"\", Responses!M307)","v":""}]
[{"$f":"IF(ISBLANK(Responses!A308), \"\", Responses!A308)","v":""},{"$f":"IF(ISBLANK(Responses!B308), \"\", Responses!B308)","v":""},{"$f":"IF(ISBLANK(Responses!K308), \"\", Responses!K308)","v":""},{"$f":"IF(ISBLANK(Responses!L308), \"\", Responses!L308)","v":""},{"$f":"IF(ISBLANK(Responses!M308), \"\", Responses!M308)","v":""}]
[{"$f":"IF(ISBLANK(Responses!A309), \"\", Responses!A309)","v":""},{"$f":"IF(ISBLANK(Responses!B309), \"\", Responses!B309)","v":""},{"$f":"IF(ISBLANK(Responses!K309), \"\", Responses!K309)","v":""},{"$f":"IF(ISBLANK(Responses!L309), \"\", Responses!L309)","v":""},{"$f":"IF(ISBLANK(Responses!M309), \"\", Responses!M309)","v":""}]
[{"$f":"IF(ISBLANK(Responses!A310), \"\", Responses!A310)","v":""},{"$f":"IF(ISBLANK(Responses!B310), \"\", Responses!B310)","v":""},{"$f":"IF(ISBLANK(Responses!K310), \"\", Responses!K310)","v":""},{"$f":"IF(ISBLANK(Responses!L310), \"\", Responses!L310)","v":""},{"$f":"IF(ISBLANK(Responses!M310), \"\", Responses!M310)","v":""}]
[{"$f":"IF(ISBLANK(Responses!A311), \"\", Responses!A311)","v":""},{"$f":"IF(ISBLANK(Responses!B311), \"\", Responses!B311)","v":""},{"$f":"IF(ISBLANK(Responses!K311), \"\", Responses!K311)","v":""},{"$f":"IF(ISBLANK(Responses!L311), \"\", Responses!L311)","v":""},{"$f":"IF(ISBLANK(Responses!M311), \"\", Responses!M311)","v":""}]
[{"$f":"IF(ISBLANK(Responses!A312), \"\", Responses!A312)","v":""},{"$f":"IF(ISBLANK(Responses!B312), \"\", Responses!B312)","v":""},{"$f":"IF(ISBLANK(Responses!K312), \"\", Responses!K312)","v":""},{"$f":"IF(ISBLANK(Responses!L312), \"\", Responses!L312)","v":""},{"$f":"IF(ISBLANK(Responses!M312), \"\", Responses!M312)","v":""}]
[{"$f":"IF(ISBLANK(Responses!A313), \"\", Responses!A313)","v":""},{"$f":"IF(ISBLANK(Responses!B313), \"\", Responses!B313)","v":""},{"$f":"IF(ISBLANK(Responses!K313), \"\", Responses!K313)","v":""},{"$f":"IF(ISBLANK(Responses!L313), \"\", Responses!L313)","v":""},{"$f":"IF(ISBLANK(Responses!M313), \"\", Responses!M313)","v":""}]
[{"$f":"IF(ISBLANK(Responses!A314), \"\", Responses!A314)","v":""},{"$f":"IF(ISBLANK(Responses!B314), \"\", Responses!B314)","v":""},{"$f":"IF(ISBLANK(Responses!K314), \"\", Responses!K314)","v":""},{"$f":"IF(ISBLANK(Responses!L314), \"\", Responses!L314)","v":""},{"$f":"IF(ISBLANK(Responses!M314), \"\", Responses!M314)","v":""}]
[{"$f":"IF(ISBLANK(Responses!A315), \"\", Responses!A315)","v":""},{"$f":"IF(ISBLANK(Responses!B315), \"\", Responses!B315)","v":""},{"$f":"IF(ISBLANK(Responses!K315), \"\", Responses!K315)","v":""},{"$f":"IF(ISBLANK(Responses!L315), \"\", Responses!L315)","v":""},{"$f":"IF(ISBLANK(Responses!M315), \"\", Responses!M315)","v":""}]
[{"$f":"IF(ISBLANK(Responses!A316), \"\", Responses!A316)","v":""},{"$f":"IF(ISBLANK(Responses!B316), \"\", Responses!B316)","v":""},{"$f":"IF(ISBLANK(Responses!K316), \"\", Responses!K316)","v":""},{"$f":"IF(ISBLANK(Responses!L316), \"\", Responses!L316)","v":""},{"$f":"IF(ISBLANK(Responses!M316), \"\", Responses!M316)","v":""}]
[{"$f":"IF(ISBLANK(Responses!A317), \"\", Responses!A317)","v":""},{"$f":"IF(ISBLANK(Responses!B317), \"\", Responses!B317)","v":""},{"$f":"IF(ISBLANK(Responses!K317), \"\", Responses!K317)","v":""},{"$f":"IF(ISBLANK(Responses!L317), \"\", Responses!L317)","v":""},{"$f":"IF(ISBLANK(Responses!M317), \"\", Responses!M317)","v":""}]
[{"$f":"IF(ISBLANK(Responses!A318), \"\", Responses!A318)","v":""},{"$f":"IF(ISBLANK(Responses!B318), \"\", Responses!B318)","v":""},{"$f":"IF(ISBLANK(Responses!K318), \"\", Responses!K318)","v":""},{"$f":"IF(ISBLANK(Responses!L318), \"\", Responses!L318)","v":""},{"$f":"IF(ISBLANK(Responses!M318), \"\", Responses!M318)","v":""}]
[{"$f":"IF(ISBLANK(Responses!A319), \"\", Responses!A319)","v":""},{"$f":"IF(ISBLANK(Responses!B319), \"\", Responses!B319)","v":""},{"$f":"IF(ISBLANK(Responses!K319), \"\", Responses!K319)","v":""},{"$f":"IF(ISBLANK(Responses!L319), \"\", Responses!L319)","v":""},{"$f":"IF(ISBLANK(Responses!M319), \"\", Responses!M319)","v":""}]
[{"$f":"IF(ISBLANK(Responses!A320), \"\", Responses!A320)","v":""},{"$f":"IF(ISBLANK(Responses!B320), \"\", Responses!B320)","v":""},{"$f":"IF(ISBLANK(Responses!K320), \"\", Responses!K320)","v":""},{"$f":"IF(ISBLANK(Responses!L320), \"\", Responses!L320)","v":""},{"$f":"IF(ISBLANK(Responses!M320), \"\", Responses!M320)","v":""}]
[{"$f":"IF(ISBLANK(Responses!A321), \"\", Responses!A321)","v":""},{"$f":"IF(ISBLANK(Responses!B321), \"\", Responses!B321)","v":""},{"$f":"IF(ISBLANK(Responses!K321), \"\", Responses!K321)","v":""},{"$f":"IF(ISBLANK(Responses!L321), \"\", Responses!L321)","v":""},{"$f":"IF(ISBLANK(Responses!M321), \"\", Responses!M321)","v":""}]
[{"$f":"IF(ISBLANK(Responses!A322), \"\", Responses!A322)","v":""},{"$f":"IF(ISBLANK(Responses!B322), \"\", Responses!B322)","v":""},{"$f":"IF(ISBLANK(Responses!K322), \"\", Responses!K322)","v":""},{"$f":"IF(ISBLANK(Responses!L322), \"\", Responses!L322)","v":""},{"$f":"IF(ISBLANK(Responses!M322), \"\", Responses!M322)","v":""}]
[{"$f":"IF(ISBLANK(Responses!A323), \"\", Responses!A323)","v":""},{"$f":"IF(ISBLANK(Responses!B323), \"\", Responses!B323)","v":""},{"$f":"IF(ISBLANK(Responses!K323), \"\", Responses!K323)","v":""},{"$f":"IF(ISBLANK(Responses!L323), \"\", Responses!L323)","v":""},{"$f":"IF(ISBLANK(Responses!M323), \"\", Responses!M323)","v":""}]
[{"$f":"IF(ISBLANK(Responses!A324), \"\", Responses!A324)","v":""},{"$f":"IF(ISBLANK(Responses!B324), \"\", Responses!B324)","v":""},{"$f":"IF(ISBLANK(Responses!K324), \"\", Responses!K324)","v":""},{"$f":"IF(ISBLANK(Responses!L324), \"\", Responses!L324)","v":""},{"$f":"IF(ISBLANK(Responses!M324), \"\", Responses!M324)","v":""}]
[{"$f":"IF(ISBLANK(Responses!A325), \"\", Responses!A325)","v":""},{"$f":"IF(ISBLANK(Responses!B325), \"\", Responses!B325)","v":""},{"$f":"IF(ISBLANK(Responses!K325), \"\", Responses!K325)","v":""},{"$f":"IF(ISBLANK(Responses!L325), \"\", Responses!L325)","v":""},{"$f":"IF(ISBLANK(Responses!M325), \"\", Responses!M325)","v":""}]
[{"$f":"IF(ISBLANK(Responses!A326), \"\", Responses!A326)","v":""},{"$f":"IF(ISBLANK(Responses!B326), \"\", Responses!B326)","v":""},{"$f":"IF(ISBLANK(Responses!K326), \"\", Responses!K326)","v":""},{"$f":"IF(ISBLANK(Responses!L326), \"\", Responses!L326)","v":""},{"$f":"IF(ISBLANK(Responses!M326), \"\", Responses!M326)","v":""}]
[{"$f":"IF(ISBLANK(Responses!A327), \"\", Responses!A327)","v":""},{"$f":"IF(ISBLANK(Responses!B327), \"\", Responses!B327)","v":""},{"$f":"IF(ISBLANK(Responses!K327), \"\", Responses!K327)","v":""},{"$f":"IF(ISBLANK(Responses!L327), \"\", Responses!L327)","v":""},{"$f":"IF(ISBLANK(Responses!M327), \"\", Responses!M327)","v":""}]
[{"$f":"IF(ISBLANK(Responses!A328), \"\", Responses!A328)","v":""},{"$f":"IF(ISBLANK(Responses!B328), \"\", Responses!B328)","v":""},{"$f":"IF(ISBLANK(Responses!K328), \"\", Responses!K328)","v":""},{"$f":"IF(ISBLANK(Responses!L328), \"\", Responses!L328)","v":""},{"$f":"IF(ISBLANK(Responses!M328), \"\", Responses!M328)","v":""}]
[{"$f":"IF(ISBLANK(Responses!A329), \"\", Responses!A329)","v":""},{"$f":"IF(ISBLANK(Responses!B329), \"\", Responses!B329)","v":""},{"$f":"IF(ISBLANK(Responses!K329), \"\", Responses!K329)","v":""},{"$f":"IF(ISBLANK(Responses!L329), \"\", Responses!L329)","v":""},{"$f":"IF(ISBLANK(Responses!M329), \"\", Responses!M329)","v":""}]
[{"$f":"IF(ISBLANK(Responses!A330), \"\", Responses!A330)","v":""},{"$f":"IF(ISBLANK(Responses!B330), \"\", Responses!B330)","v":""},{"$f":"IF(ISBLANK(Responses!K330), \"\", Responses!K330)","v":""},{"$f":"IF(ISBLANK(Responses!L330), \"\", Responses!L330)","v":""},{"$f":"IF(ISBLANK(Responses!M330), \"\", Responses!M330)","v":""}]
[{"$f":"IF(ISBLANK(Responses!A331), \"\", Responses!A331)","v":""},{"$f":"IF(ISBLANK(Responses!B331), \"\", Responses!B331)","v":""},{"$f":"IF(ISBLANK(Responses!K331), \"\", Responses!K331)","v":""},{"$f":"IF(ISBLANK(Responses!L331), \"\", Responses!L331)","v":""},{"$f":"IF(ISBLANK(Responses!M331), \"\", Responses!M331)","v":""}]
[{"$f":"IF(ISBLANK(Responses!A332), \"\", Responses!A332)","v":""},{"$f":"IF(ISBLANK(Responses!B332), \"\", Responses!B332)","v":""},{"$f":"IF(ISBLANK(Responses!K332), \"\", Responses!K332)","v":""},{"$f":"IF(ISBLANK(Responses!L332), \"\", Responses!L332)","v":""},{"$f":"IF(ISBLANK(Responses!M332), \"\", Responses!M332)","v":""}]
[{"$f":"IF(ISBLANK(Responses!A333), \"\", Responses!A333)","v":""},{"$f":"IF(ISBLANK(Responses!B333), \"\", Responses!B333)","v":""},{"$f":"IF(ISBLANK(Responses!K333), \"\", Responses!K333)","v":""},{"$f":"IF(ISBLANK(Responses!L333), \"\", Responses!L333)","v":""},{"$f":"IF(ISBLANK(Responses!M333), \"\", Responses!M333)","v":""}]
[{"$f":"IF(ISBLANK(Responses!A334), \"\", Responses!A334)","v":""},{"$f":"IF(ISBLANK(Responses!B334), \"\", Responses!B334)","v":""},{"$f":"IF(ISBLANK(Responses!K334), \"\", Responses!K334)","v":""},{"$f":"IF(ISBLANK(Responses!L334), \"\", Responses!L334)","v":""},{"$f":"IF(ISBLANK(Responses!M334), \"\", Responses!M334)","v":""}]
[{"$f":"IF(ISBLANK(Responses!A335), \"\", Responses!A335)","v":""},{"$f":"IF(ISBLANK(Responses!B335), \"\", Responses!B335)","v":""},{"$f":"IF(ISBLANK(Responses!K335), \"\", Responses!K335)","v":""},{"$f":"IF(ISBLANK(Responses!L335), \"\", Responses!L335)","v":""},{"$f":"IF(ISBLANK(Responses!M335), \"\", Responses!M335)","v":""}]
[{"$f":"IF(ISBLANK(Responses!A336), \"\", Responses!A336)","v":""},{"$f":"IF(ISBLANK(Responses!B336), \"\", Responses!B336)","v":""},{"$f":"IF(ISBLANK(Responses!K336), \"\", Responses!K336)","v":""},{"$f":"IF(ISBLANK(Responses!L336), \"\", Responses!L336)","v":""},{"$f":"IF(ISBLANK(Responses!M336), \"\", Responses!M336)","v":""}]
[{"$f":"IF(ISBLANK(Responses!A337), \"\", Responses!A337)","v":""},{"$f":"IF(ISBLANK(Responses!B337), \"\", Responses!B337)","v":""},{"$f":"IF(ISBLANK(Responses!K337), \"\", Responses!K337)","v":""},{"$f":"IF(ISBLANK(Responses!L337), \"\", Responses!L337)","v":""},{"$f":"IF(ISBLANK(Responses!M337), \"\", Responses!M337)","v":""}]
[{"$f":"IF(ISBLANK(Responses!A338), \"\", Responses!A338)","v":""},{"$f":"IF(ISBLANK(Responses!B338), \"\", Responses!B338)","v":""},{"$f":"IF(ISBLANK(Responses!K338), \"\", Responses!K338)","v":""},{"$f":"IF(ISBLANK(Responses!L338), \"\", Responses!L338)","v":""},{"$f":"IF(ISBLANK(Responses!M338), \"\", Responses!M338)","v":""}]
[{"$f":"IF(ISBLANK(Responses!A339), \"\", Responses!A339)","v":""},{"$f":"IF(ISBLANK(Responses!B339), \"\", Responses!B339)","v":""},{"$f":"IF(ISBLANK(Responses!K339), \"\", Responses!K339)","v":""},{"$f":"IF(ISBLANK(Responses!L339), \"\", Responses!L339)","v":""},{"$f":"IF(ISBLANK(Responses!M339), \"\", Responses!M339)","v":""}]
[{"$f":"IF(ISBLANK(Responses!A340), \"\", Responses!A340)","v":""},{"$f":"IF(ISBLANK(Responses!B340), \"\", Responses!B340)","v":""},{"$f":"IF(ISBLANK(Responses!K340), \"\", Responses!K340)","v":""},{"$f":"IF(ISBLANK(Responses!L340), \"\", Responses!L340)","v":""},{"$f":"IF(ISBLANK(Responses!M340), \"\", Responses!M340)","v":""}]
[{"$f":"IF(ISBLANK(Responses!A341), \"\", Responses!A341)","v":""},{"$f":"IF(ISBLANK(Responses!B341), \"\", Responses!B341)","v":""},{"$f":"IF(ISBLANK(Responses!K341), \"\", Responses!K341)","v":""},{"$f":"IF(ISBLANK(Responses!L341), \"\", Responses!L341)","v":""},{"$f":"IF(ISBLANK(Responses!M341), \"\", Responses!M341)","v":""}]
[{"$f":"IF(ISBLANK(Responses!A342), \"\", Responses!A342)","v":""},{"$f":"IF(ISBLANK(Responses!B342), \"\", Responses!B342)","v":""},{"$f":"IF(ISBLANK(Responses!K342), \"\", Responses!K342)","v":""},{"$f":"IF(ISBLANK(Responses!L342), \"\", Responses!L342)","v":""},{"$f":"IF(ISBLANK(Responses!M342), \"\", Responses!M342)","v":""}]
[{"$f":"IF(ISBLANK(Responses!A343), \"\", Responses!A343)","v":""},{"$f":"IF(ISBLANK(Responses!B343), \"\", Responses!B343)","v":""},{"$f":"IF(ISBLANK(Responses!K343), \"\", Responses!K343)","v":""},{"$f":"IF(ISBLANK(Responses!L343), \"\", Responses!L343)","v":""},{"$f":"IF(ISBLANK(Responses!M343), \"\", Responses!M343)","v":""}]
[{"$f":"IF(ISBLANK(Responses!A344), \"\", Responses!A344)","v":""},{"$f":"IF(ISBLANK(Responses!B344), \"\", Responses!B344)","v":""},{"$f":"IF(ISBLANK(Responses!K344), \"\", Responses!K344)","v":""},{"$f":"IF(ISBLANK(Responses!L344), \"\", Responses!L344)","v":""},{"$f":"IF(ISBLANK(Responses!M344), \"\", Responses!M344)","v":""}]
[{"$f":"IF(ISBLANK(Responses!A345), \"\", Responses!A345)","v":""},{"$f":"IF(ISBLANK(Responses!B345), \"\", Responses!B345)","v":""},{"$f":"IF(ISBLANK(Responses!K345), \"\", Responses!K345)","v":""},{"$f":"IF(ISBLANK(Responses!L345), \"\", Responses!L345)","v":""},{"$f":"IF(ISBLANK(Responses!M345), \"\", Responses!M345)","v":""}]
[{"$f":"IF(ISBLANK(Responses!A346), \"\", Responses!A346)","v":""},{"$f":"IF(ISBLANK(Responses!B346), \"\", Responses!B346)","v":""},{"$f":"IF(ISBLANK(Responses!K346), \"\", Responses!K346)","v":""},{"$f":"IF(ISBLANK(Responses!L346), \"\", Responses!L346)","v":""},{"$f":"IF(ISBLANK(Responses!M346), \"\", Responses!M346)","v":""}]
[{"$f":"IF(ISBLANK(Responses!A347), \"\", Responses!A347)","v":""},{"$f":"IF(ISBLANK(Responses!B347), \"\", Responses!B347)","v":""},{"$f":"IF(ISBLANK(Responses!K347), \"\", Responses!K347)","v":""},{"$f":"IF(ISBLANK(Responses!L347), \"\", Responses!L347)","v":""},{"$f":"IF(ISBLANK(Responses!M347), \"\", Responses!M347)","v":""}]
[{"$f":"IF(ISBLANK(Responses!A348), \"\", Responses!A348)","v":""},{"$f":"IF(ISBLANK(Responses!B348), \"\", Responses!B348)","v":""},{"$f":"IF(ISBLANK(Responses!K348), \"\", Responses!K348)","v":""},{"$f":"IF(ISBLANK(Responses!L348), \"\", Responses!L348)","v":""},{"$f":"IF(ISBLANK(Responses!M348), \"\", Responses!M348)","v":""}]
[{"$f":"IF(ISBLANK(Responses!A349), \"\", Responses!A349)","v":""},{"$f":"IF(ISBLANK(Responses!B349), \"\", Responses!B349)","v":""},{"$f":"IF(ISBLANK(Responses!K349), \"\", Responses!K349)","v":""},{"$f":"IF(ISBLANK(Responses!L349), \"\", Responses!L349)","v":""},{"$f":"IF(ISBLANK(Responses!M349), \"\", Responses!M349)","v":""}]
[{"$f":"IF(ISBLANK(Responses!A350), \"\", Responses!A350)","v":""},{"$f":"IF(ISBLANK(Responses!B350), \"\", Responses!B350)","v":""},{"$f":"IF(ISBLANK(Responses!K350), \"\", Responses!K350)","v":""},{"$f":"IF(ISBLANK(Responses!L350), \"\", Responses!L350)","v":""},{"$f":"IF(ISBLANK(Responses!M350), \"\", Responses!M350)","v":""}]
[{"$f":"IF(ISBLANK(Responses!A351), \"\", Responses!A351)","v":""},{"$f":"IF(ISBLANK(Responses!B351), \"\", Responses!B351)","v":""},{"$f":"IF(ISBLANK(Responses!K351), \"\", Responses!K351)","v":""},{"$f":"IF(ISBLANK(Responses!L351), \"\", Responses!L351)","v":""},{"$f":"IF(ISBLANK(Responses!M351), \"\", Responses!M351)","v":""}]
[{"$f":"IF(ISBLANK(Responses!A352), \"\", Responses!A352)","v":""},{"$f":"IF(ISBLANK(Responses!B352), \"\", Responses!B352)","v":""},{"$f":"IF(ISBLANK(Responses!K352), \"\", Responses!K352)","v":""},{"$f":"IF(ISBLANK(Responses!L352), \"\", Responses!L352)","v":""},{"$f":"IF(ISBLANK(Responses!M352), \"\", Responses!M352)","v":""}]
[{"$f":"IF(ISBLANK(Responses!A353), \"\", Responses!A353)","v":""},{"$f":"IF(ISBLANK(Responses!B353), \"\", Responses!B353)","v":""},{"$f":"IF(ISBLANK(Responses!K353), \"\", Responses!K353)","v":""},{"$f":"IF(ISBLANK(Responses!L353), \"\", Responses!L353)","v":""},{"$f":"IF(ISBLANK(Responses!M353), \"\", Responses!M353)","v":""}]
[{"$f":"IF(ISBLANK(Responses!A354), \"\", Responses!A354)","v":""},{"$f":"IF(ISBLANK(Responses!B354), \"\", Responses!B354)","v":""},{"$f":"IF(ISBLANK(Responses!K354), \"\", Responses!K354)","v":""},{"$f":"IF(ISBLANK(Responses!L354), \"\", Responses!L354)","v":""},{"$f":"IF(ISBLANK(Responses!M354), \"\", Responses!M354)","v":""}]
[{"$f":"IF(ISBLANK(Responses!A355), \"\", Responses!A355)","v":""},{"$f":"IF(ISBLANK(Responses!B355), \"\", Responses!B355)","v":""},{"$f":"IF(ISBLANK(Responses!K355), \"\", Responses!K355)","v":""},{"$f":"IF(ISBLANK(Responses!L355), \"\", Responses!L355)","v":""},{"$f":"IF(ISBLANK(Responses!M355), \"\", Responses!M355)","v":""}]
[{"$f":"IF(ISBLANK(Responses!A356), \"\", Responses!A356)","v":""},{"$f":"IF(ISBLANK(Responses!B356), \"\", Responses!B356)","v":""},{"$f":"IF(ISBLANK(Responses!K356), \"\", Responses!K356)","v":""},{"$f":"IF(ISBLANK(Responses!L356), \"\", Responses!L356)","v":""},{"$f":"IF(ISBLANK(Responses!M356), \"\", Responses!M356)","v":""}]
[{"$f":"IF(ISBLANK(Responses!A357), \"\", Responses!A357)","v":""},{"$f":"IF(ISBLANK(Responses!B357), \"\", Responses!B357)","v":""},{"$f":"IF(ISBLANK(Responses!K357), \"\", Responses!K357)","v":""},{"$f":"IF(ISBLANK(Responses!L357), \"\", Responses!L357)","v":""},{"$f":"IF(ISBLANK(Responses!M357), \"\", Responses!M357)","v":""}]
[{"$f":"IF(ISBLANK(Responses!A358), \"\", Responses!A358)","v":""},{"$f":"IF(ISBLANK(Responses!B358), \"\", Responses!B358)","v":""},{"$f":"IF(ISBLANK(Responses!K358), \"\", Responses!K358)","v":""},{"$f":"IF(ISBLANK(Responses!L358), \"\", Responses!L358)","v":""},{"$f":"IF(ISBLANK(Responses!M358), \"\", Responses!M358)","v":""}]
[{"$f":"IF(ISBLANK(Responses!A359), \"\", Responses!A359)","v":""},{"$f":"IF(ISBLANK(Responses!B359), \"\", Responses!B359)","v":""},{"$f":"IF(ISBLANK(Responses!K359), \"\", Responses!K359)","v":""},{"$f":"IF(ISBLANK(Responses!L359), \"\", Responses!L359)","v":""},{"$f":"IF(ISBLANK(Responses!M359), \"\", Responses!M359)","v":""}]
[{"$f":"IF(ISBLANK(Responses!A360), \"\", Responses!A360)","v":""},{"$f":"IF(ISBLANK(Responses!B360), \"\", Responses!B360)","v":""},{"$f":"IF(ISBLANK(Responses!K360), \"\", Responses!K360)","v":""},{"$f":"IF(ISBLANK(Responses!L360), \"\", Responses!L360)","v":""},{"$f":"IF(ISBLANK(Responses!M360), \"\", Responses!M360)","v":""}]
[{"$f":"IF(ISBLANK(Responses!A361), \"\", Responses!A361)","v":""},{"$f":"IF(ISBLANK(Responses!B361), \"\", Responses!B361)","v":""},{"$f":"IF(ISBLANK(Responses!K361), \"\", Responses!K361)","v":""},{"$f":"IF(ISBLANK(Responses!L361), \"\", Responses!L361)","v":""},{"$f":"IF(ISBLANK(Responses!M361), \"\", Responses!M361)","v":""}]
[{"$f":"IF(ISBLANK(Responses!A362), \"\", Responses!A362)","v":""},{"$f":"IF(ISBLANK(Responses!B362), \"\", Responses!B362)","v":""},{"$f":"IF(ISBLANK(Responses!K362), \"\", Responses!K362)","v":""},{"$f":"IF(ISBLANK(Responses!L362), \"\", Responses!L362)","v":""},{"$f":"IF(ISBLANK(Responses!M362), \"\", Responses!M362)","v":""}]
[{"$f":"IF(ISBLANK(Responses!A363), \"\", Responses!A363)","v":""},{"$f":"IF(ISBLANK(Responses!B363), \"\", Responses!B363)","v":""},{"$f":"IF(ISBLANK(Responses!K363), \"\", Responses!K363)","v":""},{"$f":"IF(ISBLANK(Responses!L363), \"\", Responses!L363)","v":""},{"$f":"IF(ISBLANK(Responses!M363), \"\", Responses!M363)","v":""}]
[{"$f":"IF(ISBLANK(Responses!A364), \"\", Responses!A364)","v":""},{"$f":"IF(ISBLANK(Responses!B364), \"\", Responses!B364)","v":""},{"$f":"IF(ISBLANK(Responses!K364), \"\", Responses!K364)","v":""},{"$f":"IF(ISBLANK(Responses!L364), \"\", Responses!L364)","v":""},{"$f":"IF(ISBLANK(Responses!M364), \"\", Responses!M364)","v":""}]
[{"$f":"IF(ISBLANK(Responses!A365), \"\", Responses!A365)","v":""},{"$f":"IF(ISBLANK(Responses!B365), \"\", Responses!B365)","v":""},{"$f":"IF(ISBLANK(Responses!K365), \"\", Responses!K365)","v":""},{"$f":"IF(ISBLANK(Responses!L365), \"\", Responses!L365)","v":""},{"$f":"IF(ISBLANK(Responses!M365), \"\", Responses!M365)","v":""}]
[{"$f":"IF(ISBLANK(Responses!A366), \"\", Responses!A366)","v":""},{"$f":"IF(ISBLANK(Responses!B366), \"\", Responses!B366)","v":""},{"$f":"IF(ISBLANK(Responses!K366), \"\", Responses!K366)","v":""},{"$f":"IF(ISBLANK(Responses!L366), \"\", Responses!L366)","v":""},{"$f":"IF(ISBLANK(Responses!M366), \"\", Responses!M366)","v":""}]
[{"$f":"IF(ISBLANK(Responses!A367), \"\", Responses!A367)","v":""},{"$f":"IF(ISBLANK(Responses!B367), \"\", Responses!B367)","v":""},{"$f":"IF(ISBLANK(Responses!K367), \"\", Responses!K367)","v":""},{"$f":"IF(ISBLANK(Responses!L367), \"\", Responses!L367)","v":""},{"$f":"IF(ISBLANK(Responses!M367), \"\", Responses!M367)","v":""}]
[{"$f":"IF(ISBLANK(Responses!A368), \"\", Responses!A368)","v":""},{"$f":"IF(ISBLANK(Responses!B368), \"\", Responses!B368)","v":""},{"$f":"IF(ISBLANK(Responses!K368), \"\", Responses!K368)","v":""},{"$f":"IF(ISBLANK(Responses!L368), \"\", Responses!L368)","v":""},{"$f":"IF(ISBLANK(Responses!M368), \"\", Responses!M368)","v":""}]
[{"$f":"IF(ISBLANK(Responses!A369), \"\", Responses!A369)","v":""},{"$f":"IF(ISBLANK(Responses!B369), \"\", Responses!B369)","v":""},{"$f":"IF(ISBLANK(Responses!K369), \"\", Responses!K369)","v":""},{"$f":"IF(ISBLANK(Responses!L369), \"\", Responses!L369)","v":""},{"$f":"IF(ISBLANK(Responses!M369), \"\", Responses!M369)","v":""}]
[{"$f":"IF(ISBLANK(Responses!A370), \"\", Responses!A370)","v":""},{"$f":"IF(ISBLANK(Responses!B370), \"\", Responses!B370)","v":""},{"$f":"IF(ISBLANK(Responses!K370), \"\", Responses!K370)","v":""},{"$f":"IF(ISBLANK(Responses!L370), \"\", Responses!L370)","v":""},{"$f":"IF(ISBLANK(Responses!M370), \"\", Responses!M370)","v":""}]
[{"$f":"IF(ISBLANK(Responses!A371), \"\", Responses!A371)","v":""},{"$f":"IF(ISBLANK(Responses!B371), \"\", Responses!B371)","v":""},{"$f":"IF(ISBLANK(Responses!K371), \"\", Responses!K371)","v":""},{"$f":"IF(ISBLANK(Responses!L371), \"\", Responses!L371)","v":""},{"$f":"IF(ISBLANK(Responses!M371), \"\", Responses!M371)","v":""}]
[{"$f":"IF(ISBLANK(Responses!A372), \"\", Responses!A372)","v":""},{"$f":"IF(ISBLANK(Responses!B372), \"\", Responses!B372)","v":""},{"$f":"IF(ISBLANK(Responses!K372), \"\", Responses!K372)","v":""},{"$f":"IF(ISBLANK(Responses!L372), \"\", Responses!L372)","v":""},{"$f":"IF(ISBLANK(Responses!M372), \"\", Responses!M372)","v":""}]
[{"$f":"IF(ISBLANK(Responses!A373), \"\", Responses!A373)","v":""},{"$f":"IF(ISBLANK(Responses!B373), \"\", Responses!B373)","v":""},{"$f":"IF(ISBLANK(Responses!K373), \"\", Responses!K373)","v":""},{"$f":"IF(ISBLANK(Responses!L373), \"\", Responses!L373)","v":""},{"$f":"IF(ISBLANK(Responses!M373), \"\", Responses!M373)","v":""}]
[{"$f":"IF(ISBLANK(Responses!A374), \"\", Responses!A374)","v":""},{"$f":"IF(ISBLANK(Responses!B374), \"\", Responses!B374)","v":""},{"$f":"IF(ISBLANK(Responses!K374), \"\", Responses!K374)","v":""},{"$f":"IF(ISBLANK(Responses!L374), \"\", Responses!L374)","v":""},{"$f":"IF(ISBLANK(Responses!M374), \"\", Responses!M374)","v":""}]
[{"$f":"IF(ISBLANK(Responses!A375), \"\", Responses!A375)","v":""},{"$f":"IF(ISBLANK(Responses!B375), \"\", Responses!B375)","v":""},{"$f":"IF(ISBLANK(Responses!K375), \"\", Responses!K375)","v":""},{"$f":"IF(ISBLANK(Responses!L375), \"\", Responses!L375)","v":""},{"$f":"IF(ISBLANK(Responses!M375), \"\", Responses!M375)","v":""}]
[{"$f":"IF(ISBLANK(Responses!A376), \"\", Responses!A376)","v":""},{"$f":"IF(ISBLANK(Responses!B376), \"\", Responses!B376)","v":""},{"$f":"IF(ISBLANK(Responses!K376), \"\", Responses!K376)","v":""},{"$f":"IF(ISBLANK(Responses!L376), \"\", Responses!L376)","v":""},{"$f":"IF(ISBLANK(Responses!M376), \"\", Responses!M376)","v":""}]
[{"$f":"IF(ISBLANK(Responses!A377), \"\", Responses!A377)","v":""},{"$f":"IF(ISBLANK(Responses!B377), \"\", Responses!B377)","v":""},{"$f":"IF(ISBLANK(Responses!K377), \"\", Responses!K377)","v":""},{"$f":"IF(ISBLANK(Responses!L377), \"\", Responses!L377)","v":""},{"$f":"IF(ISBLANK(Responses!M377), \"\", Responses!M377)","v":""}]
[{"$f":"IF(ISBLANK(Responses!A378), \"\", Responses!A378)","v":""},{"$f":"IF(ISBLANK(Responses!B378), \"\", Responses!B378)","v":""},{"$f":"IF(ISBLANK(Responses!K378), \"\", Responses!K378)","v":""},{"$f":"IF(ISBLANK(Responses!L378), \"\", Responses!L378)","v":""},{"$f":"IF(ISBLANK(Responses!M378), \"\", Responses!M378)","v":""}]
[{"$f":"IF(ISBLANK(Responses!A379), \"\", Responses!A379)","v":""},{"$f":"IF(ISBLANK(Responses!B379), \"\", Responses!B379)","v":""},{"$f":"IF(ISBLANK(Responses!K379), \"\", Responses!K379)","v":""},{"$f":"IF(ISBLANK(Responses!L379), \"\", Responses!L379)","v":""},{"$f":"IF(ISBLANK(Responses!M379), \"\", Responses!M379)","v":""}]
[{"$f":"IF(ISBLANK(Responses!A380), \"\", Responses!A380)","v":""},{"$f":"IF(ISBLANK(Responses!B380), \"\", Responses!B380)","v":""},{"$f":"IF(ISBLANK(Responses!K380), \"\", Responses!K380)","v":""},{"$f":"IF(ISBLANK(Responses!L380), \"\", Responses!L380)","v":""},{"$f":"IF(ISBLANK(Responses!M380), \"\", Responses!M380)","v":""}]
[{"$f":"IF(ISBLANK(Responses!A381), \"\", Responses!A381)","v":""},{"$f":"IF(ISBLANK(Responses!B381), \"\", Responses!B381)","v":""},{"$f":"IF(ISBLANK(Responses!K381), \"\", Responses!K381)","v":""},{"$f":"IF(ISBLANK(Responses!L381), \"\", Responses!L381)","v":""},{"$f":"IF(ISBLANK(Responses!M381), \"\", Responses!M381)","v":""}]
[{"$f":"IF(ISBLANK(Responses!A382), \"\", Responses!A382)","v":""},{"$f":"IF(ISBLANK(Responses!B382), \"\", Responses!B382)","v":""},{"$f":"IF(ISBLANK(Responses!K382), \"\", Responses!K382)","v":""},{"$f":"IF(ISBLANK(Responses!L382), \"\", Responses!L382)","v":""},{"$f":"IF(ISBLANK(Responses!M382), \"\", Responses!M382)","v":""}]
[{"$f":"IF(ISBLANK(Responses!A383), \"\", Responses!A383)","v":""},{"$f":"IF(ISBLANK(Responses!B383), \"\", Responses!B383)","v":""},{"$f":"IF(ISBLANK(Responses!K383), \"\", Responses!K383)","v":""},{"$f":"IF(ISBLANK(Responses!L383), \"\", Responses!L383)","v":""},{"$f":"IF(ISBLANK(Responses!M383), \"\", Responses!M383)","v":""}]
[{"$f":"IF(ISBLANK(Responses!A384), \"\", Responses!A384)","v":""},{"$f":"IF(ISBLANK(Responses!B384), \"\", Responses!B384)","v":""},{"$f":"IF(ISBLANK(Responses!K384), \"\", Responses!K384)","v":""},{"$f":"IF(ISBLANK(Responses!L384), \"\", Responses!L384)","v":""},{"$f":"IF(ISBLANK(Responses!M384), \"\", Responses!M384)","v":""}]
[{"$f":"IF(ISBLANK(Responses!A385), \"\", Responses!A385)","v":""},{"$f":"IF(ISBLANK(Responses!B385), \"\", Responses!B385)","v":""},{"$f":"IF(ISBLANK(Responses!K385), \"\", Responses!K385)","v":""},{"$f":"IF(ISBLANK(Responses!L385), \"\", Responses!L385)","v":""},{"$f":"IF(ISBLANK(Responses!M385), \"\", Responses!M385)","v":""}]
[{"$f":"IF(ISBLANK(Responses!A386), \"\", Responses!A386)","v":""},{"$f":"IF(ISBLANK(Responses!B386), \"\", Responses!B386)","v":""},{"$f":"IF(ISBLANK(Responses!K386), \"\", Responses!K386)","v":""},{"$f":"IF(ISBLANK(Responses!L386), \"\", Responses!L386)","v":""},{"$f":"IF(ISBLANK(Responses!M386), \"\", Responses!M386)","v":""}]
[{"$f":"IF(ISBLANK(Responses!A387), \"\", Responses!A387)","v":""},{"$f":"IF(ISBLANK(Responses!B387), \"\", Responses!B387)","v":""},{"$f":"IF(ISBLANK(Responses!K387), \"\", Responses!K387)","v":""},{"$f":"IF(ISBLANK(Responses!L387), \"\", Responses!L387)","v":""},{"$f":"IF(ISBLANK(Responses!M387), \"\", Responses!M387)","v":""}]
[{"$f":"IF(ISBLANK(Responses!A388), \"\", Responses!A388)","v":""},{"$f":"IF(ISBLANK(Responses!B388), \"\", Responses!B388)","v":""},{"$f":"IF(ISBLANK(Responses!K388), \"\", Responses!K388)","v":""},{"$f":"IF(ISBLANK(Responses!L388), \"\", Responses!L388)","v":""},{"$f":"IF(ISBLANK(Responses!M388), \"\", Responses!M388)","v":""}]
[{"$f":"IF(ISBLANK(Responses!A389), \"\", Responses!A389)","v":""},{"$f":"IF(ISBLANK(Responses!B389), \"\", Responses!B389)","v":""},{"$f":"IF(ISBLANK(Responses!K389), \"\", Responses!K389)","v":""},{"$f":"IF(ISBLANK(Responses!L389), \"\", Responses!L389)","v":""},{"$f":"IF(ISBLANK(Responses!M389), \"\", Responses!M389)","v":""}]
[{"$f":"IF(ISBLANK(Responses!A390), \"\", Responses!A390)","v":""},{"$f":"IF(ISBLANK(Responses!B390), \"\", Responses!B390)","v":""},{"$f":"IF(ISBLANK(Responses!K390), \"\", Responses!K390)","v":""},{"$f":"IF(ISBLANK(Responses!L390), \"\", Responses!L390)","v":""},{"$f":"IF(ISBLANK(Responses!M390), \"\", Responses!M390)","v":""}]
[{"$f":"IF(ISBLANK(Responses!A391), \"\", Responses!A391)","v":""},{"$f":"IF(ISBLANK(Responses!B391), \"\", Responses!B391)","v":""},{"$f":"IF(ISBLANK(Responses!K391), \"\", Responses!K391)","v":""},{"$f":"IF(ISBLANK(Responses!L391), \"\", Responses!L391)","v":""},{"$f":"IF(ISBLANK(Responses!M391), \"\", Responses!M391)","v":""}]
[{"$f":"IF(ISBLANK(Responses!A392), \"\", Responses!A392)","v":""},{"$f":"IF(ISBLANK(Responses!B392), \"\", Responses!B392)","v":""},{"$f":"IF(ISBLANK(Responses!K392), \"\", Responses!K392)","v":""},{"$f":"IF(ISBLANK(Responses!L392), \"\", Responses!L392)","v":""},{"$f":"IF(ISBLANK(Responses!M392), \"\", Responses!M392)","v":""}]
[{"$f":"IF(ISBLANK(Responses!A393), \"\", Responses!A393)","v":""},{"$f":"IF(ISBLANK(Responses!B393), \"\", Responses!B393)","v":""},{"$f":"IF(ISBLANK(Responses!K393), \"\", Responses!K393)","v":""},{"$f":"IF(ISBLANK(Responses!L393), \"\", Responses!L393)","v":""},{"$f":"IF(ISBLANK(Responses!M393), \"\", Responses!M393)","v":""}]
[{"$f":"IF(ISBLANK(Responses!A394), \"\", Responses!A394)","v":""},{"$f":"IF(ISBLANK(Responses!B394), \"\", Responses!B394)","v":""},{"$f":"IF(ISBLANK(Responses!K394), \"\", Responses!K394)","v":""},{"$f":"IF(ISBLANK(Responses!L394), \"\", Responses!L394)","v":""},{"$f":"IF(ISBLANK(Responses!M394), \"\", Responses!M394)","v":""}]
[{"$f":"IF(ISBLANK(Responses!A395), \"\", Responses!A395)","v":""},{"$f":"IF(ISBLANK(Responses!B395), \"\", Responses!B395)","v":""},{"$f":"IF(ISBLANK(Responses!K395), \"\", Responses!K395)","v":""},{"$f":"IF(ISBLANK(Responses!L395), \"\", Responses!L395)","v":""},{"$f":"IF(ISBLANK(Responses!M395), \"\", Responses!M395)","v":""}]
[{"$f":"IF(ISBLANK(Responses!A396), \"\", Responses!A396)","v":""},{"$f":"IF(ISBLANK(Responses!B396), \"\", Responses!B396)","v":""},{"$f":"IF(ISBLANK(Responses!K396), \"\", Responses!K396)","v":""},{"$f":"IF(ISBLANK(Responses!L396), \"\", Responses!L396)","v":""},{"$f":"IF(ISBLANK(Responses!M396), \"\", Responses!M396)","v":""}]
[{"$f":"IF(ISBLANK(Responses!A397), \"\", Responses!A397)","v":""},{"$f":"IF(ISBLANK(Responses!B397), \"\", Responses!B397)","v":""},{"$f":"IF(ISBLANK(Responses!K397), \"\", Responses!K397)","v":""},{"$f":"IF(ISBLANK(Responses!L397), \"\", Responses!L397)","v":""},{"$f":"IF(ISBLANK(Responses!M397), \"\", Responses!M397)","v":""}]
[{"$f":"IF(ISBLANK(Responses!A398), \"\", Responses!A398)","v":""},{"$f":"IF(ISBLANK(Responses!B398), \"\", Responses!B398)","v":""},{"$f":"IF(ISBLANK(Responses!K398), \"\", Responses!K398)","v":""},{"$f":"IF(ISBLANK(Responses!L398), \"\", Responses!L398)","v":""},{"$f":"IF(ISBLANK(Responses!M398), \"\", Responses!M398)","v":""}]
[{"$f":"IF(ISBLANK(Responses!A399), \"\", Responses!A399)","v":""},{"$f":"IF(ISBLANK(Responses!B399), \"\", Responses!B399)","v":""},{"$f":"IF(ISBLANK(Responses!K399), \"\", Responses!K399)","v":""},{"$f":"IF(ISBLANK(Responses!L399), \"\", Responses!L399)","v":""},{"$f":"IF(ISBLANK(Responses!M399), \"\", Responses!M399)","v":""}]
[{"$f":"IF(ISBLANK(Responses!A400), \"\", Responses!A400)","v":""},{"$f":"IF(ISBLANK(Responses!B400), \"\", Responses!B400)","v":""},{"$f":"IF(ISBLANK(Responses!K400), \"\", Responses!K400)","v":""},{"$f":"IF(ISBLANK(Responses!L400), \"\", Responses!L400)","v":""},{"$f":"IF(ISBLANK(Responses!M400), \"\", Responses!M400)","v":""}]
[{"$f":"IF(ISBLANK(Responses!A401), \"\", Responses!A401)","v":""},{"$f":"IF(ISBLANK(Responses!B401), \"\", Responses!B401)","v":""},{"$f":"IF(ISBLANK(Responses!K401), \"\", Responses!K401)","v":""},{"$f":"IF(ISBLANK(Responses!L401), \"\", Responses!L401)","v":""},{"$f":"IF(ISBLANK(Responses!M401), \"\", Responses!M401)","v":""}]
[{"$f":"IF(ISBLANK(Responses!A402), \"\", Responses!A402)","v":""},{"$f":"IF(ISBLANK(Responses!B402), \"\", Responses!B402)","v":""},{"$f":"IF(ISBLANK(Responses!K402), \"\", Responses!K402)","v":""},{"$f":"IF(ISBLANK(Responses!L402), \"\", Responses!L402)","v":""},{"$f":"IF(ISBLANK(Responses!M402), \"\", Responses!M402)","v":""}]
[{"$f":"IF(ISBLANK(Responses!A403), \"\", Responses!A403)","v":""},{"$f":"IF(ISBLANK(Responses!B403), \"\", Responses!B403)","v":""},{"$f":"IF(ISBLANK(Responses!K403), \"\", Responses!K403)","v":""},{"$f":"IF(ISBLANK(Responses!L403), \"\", Responses!L403)","v":""},{"$f":"IF(ISBLANK(Responses!M403), \"\", Responses!M403)","v":""}]
[{"$f":"IF(ISBLANK(Responses!A404), \"\", Responses!A404)","v":""},{"$f":"IF(ISBLANK(Responses!B404), \"\", Responses!B404)","v":""},{"$f":"IF(ISBLANK(Responses!K404), \"\", Responses!K404)","v":""},{"$f":"IF(ISBLANK(Responses!L404), \"\", Responses!L404)","v":""},{"$f":"IF(ISBLANK(Responses!M404), \"\", Responses!M404)","v":""}]
[{"$f":"IF(ISBLANK(Responses!A405), \"\", Responses!A405)","v":""},{"$f":"IF(ISBLANK(Responses!B405), \"\", Responses!B405)","v":""},{"$f":"IF(ISBLANK(Responses!K405), \"\", Responses!K405)","v":""},{"$f":"IF(ISBLANK(Responses!L405), \"\", Responses!L405)","v":""},{"$f":"IF(ISBLANK(Responses!M405), \"\", Responses!M405)","v":""}]
[{"$f":"IF(ISBLANK(Responses!A406), \"\", Responses!A406)","v":""},{"$f":"IF(ISBLANK(Responses!B406), \"\", Responses!B406)","v":""},{"$f":"IF(ISBLANK(Responses!K406), \"\", Responses!K406)","v":""},{"$f":"IF(ISBLANK(Responses!L406), \"\", Responses!L406)","v":""},{"$f":"IF(ISBLANK(Responses!M406), \"\", Responses!M406)","v":""}]
[{"$f":"IF(ISBLANK(Responses!A407), \"\", Responses!A407)","v":""},{"$f":"IF(ISBLANK(Responses!B407), \"\", Responses!B407)","v":""},{"$f":"IF(ISBLANK(Responses!K407), \"\", Responses!K407)","v":""},{"$f":"IF(ISBLANK(Responses!L407), \"\", Responses!L407)","v":""},{"$f":"IF(ISBLANK(Responses!M407), \"\", Responses!M407)","v":""}]
[{"$f":"IF(ISBLANK(Responses!A408), \"\", Responses!A408)","v":""},{"$f":"IF(ISBLANK(Responses!B408), \"\", Responses!B408)","v":""},{"$f":"IF(ISBLANK(Responses!K408), \"\", Responses!K408)","v":""},{"$f":"IF(ISBLANK(Responses!L408), \"\", Responses!L408)","v":""},{"$f":"IF(ISBLANK(Responses!M408), \"\", Responses!M408)","v":""}]
[{"$f":"IF(ISBLANK(Responses!A409), \"\", Responses!A409)","v":""},{"$f":"IF(ISBLANK(Responses!B409), \"\", Responses!B409)","v":""},{"$f":"IF(ISBLANK(Responses!K409), \"\", Responses!K409)","v":""},{"$f":"IF(ISBLANK(Responses!L409), \"\", Responses!L409)","v":""},{"$f":"IF(ISBLANK(Responses!M409), \"\", Responses!M409)","v":""}]
[{"$f":"IF(ISBLANK(Responses!A410), \"\", Responses!A410)","v":""},{"$f":"IF(ISBLANK(Responses!B410), \"\", Responses!B410)","v":""},{"$f":"IF(ISBLANK(Responses!K410), \"\", Responses!K410)","v":""},{"$f":"IF(ISBLANK(Responses!L410), \"\", Responses!L410)","v":""},{"$f":"IF(ISBLANK(Responses!M410), \"\", Responses!M410)","v":""}]
[{"$f":"IF(ISBLANK(Responses!A411), \"\", Responses!A411)","v":""},{"$f":"IF(ISBLANK(Responses!B411), \"\", Responses!B411)","v":""},{"$f":"IF(ISBLANK(Responses!K411), \"\", Responses!K411)","v":""},{"$f":"IF(ISBLANK(Responses!L411), \"\", Responses!L411)","v":""},{"$f":"IF(ISBLANK(Responses!M411), \"\", Responses!M411)","v":""}]
[{"$f":"IF(ISBLANK(Responses!A412), \"\", Responses!A412)","v":""},{"$f":"IF(ISBLANK(Responses!B412), \"\", Responses!B412)","v":""},{"$f":"IF(ISBLANK(Responses!K412), \"\", Responses!K412)","v":""},{"$f":"IF(ISBLANK(Responses!L412), \"\", Responses!L412)","v":""},{"$f":"IF(ISBLANK(Responses!M412), \"\", Responses!M412)","v":""}]
[{"$f":"IF(ISBLANK(Responses!A413), \"\", Responses!A413)","v":""},{"$f":"IF(ISBLANK(Responses!B413), \"\", Responses!B413)","v":""},{"$f":"IF(ISBLANK(Responses!K413), \"\", Responses!K413)","v":""},{"$f":"IF(ISBLANK(Responses!L413), \"\", Responses!L413)","v":""},{"$f":"IF(ISBLANK(Responses!M413), \"\", Responses!M413)","v":""}]

{"sheet":"Specific Measures","index":5,"n_rows":606,"n_cols":20,"rows_kept":606,"cut":false,"hidden":true,"merged":[]}
[{"$f":"IF(ISBLANK(Responses!A1), \"\", Responses!A1)","v":"Timestamp"},{"$f":"IF(ISBLANK(Responses!B1), \"\", Responses!B1)","v":"Sport Organization Name"},{"$f":"IF(ISBLANK(Responses!N1), \"\", Responses!N1)","v":"Will there be daily health checks of athletes/staff?"},{"$f":"IF(ISBLANK(Responses!O1), \"\", Responses!O1)","v":"Will the athletes be separated from other groups, to limit transmission? Are teams in self-contained groups?"},{"$f":"IF(ISBLANK(Responses!P1), \"\", Responses!P1)","v":"Are there measures in place to limit the sharing of equipment, water bottles, towels, etc.?"},{"$f":"IF(ISBLANK(Responses!Q1), \"\", Responses!Q1)","v":"Will athletes have closed containers to allow for the safe disposal or storing of all hygienic materials (e.g. tissues, towels, etc.)?"},{"$f":"IF(ISBLANK(Responses!R1), \"\", Responses!R1)","v":"Will the facility have designated equipment, lockers and stalls for each athlete?"},{"$f":"IF(ISBLANK(Responses!S1), \"\", Responses!S1)","v":"Do common areas provided allow for physical distancing between athletes (minimum of 2 metres)?"},{"$f":"IF(ISBLANK(Responses!T1), \"\", Responses!T1)","v":"Have pre-travel health checks been performed on all athletes to ensure no recent illnesses, and underlying co-morbidities, medications, allergies, etc. are documented?"},"Specific Measures %","Specific Measures Score",2,2,3,3,3,2,2,null,"Max Spec Measures Score"]
[{"$f":"IF(ISBLANK(Responses!A2), \"\", Responses!A2)","v":""},{"$f":"IF(ISBLANK(Responses!B2), \"\", Responses!B2)","v":""},{"$f":"IF(ISBLANK(Responses!N2), \"\", Responses!N2)","v":""},{"$f":"IF(ISBLANK(Responses!O2), \"\", Responses!O2)","v":""},{"$f":"IF(ISBLANK(Responses!P2), \"\", Responses!P2)","v":""},{"$f":"IF(ISBLANK(Responses!Q2), \"\", Responses!Q2)","v":""},{"$f":"IF(ISBLANK(Responses!R2), \"\", Responses!R2)","v":""},{"$f":"IF(ISBLANK(Responses!S2), \"\", Responses!S2)","v":""},{"$f":"IF(ISBLANK(Responses!T2), \"\", Responses!T2)","v":""},{"$f":"K2/(2*SUM(L$1:R$1))","v":{"$error":"#N/A"}},{"$f":"SUM(L2*L$1,M2*M$1,N2*N$1,O2*O$1,P2*P$1,Q2*Q$1,R2*R$1)","v":{"$error":"#N/A"}},{"$f":"IF(ISBLANK(C2),0,VLOOKUP(C2,LUTs!$A$6:$B$8,2))","v":{"$error":"#N/A"}},{"$f":"IF(ISBLANK(D2),0,VLOOKUP(D2,LUTs!$A$6:$B$8,2))","v":{"$error":"#N/A"}},{"$f":"IF(ISBLANK(E2),0,VLOOKUP(E2,LUTs!$A$6:$B$8,2))","v":{"$error":"#N/A"}},{"$f":"IF(ISBLANK(F2),0,VLOOKUP(F2,LUTs!$A$6:$B$8,2))","v":{"$error":"#N/A"}},{"$f":"IF(ISBLANK(G2),0,VLOOKUP(G2,LUTs!$A$6:$B$8,2))","v":{"$error":"#N/A"}},{"$f":"IF(ISBLANK(H2),0,VLOOKUP(H2,LUTs!$A$6:$B$8,2))","v":{"$error":"#N/A"}},{"$f":"IF(ISBLANK(I2),0,VLOOKUP(I2,LUTs!$A$6:$B$8,2))","v":{"$error":"#N/A"}},null,{"$f":"SUM(L1:R1)*2","v":34}]
[{"$f":"IF(ISBLANK(Responses!A3), \"\", Responses!A3)","v":""},{"$f":"IF(ISBLANK(Responses!B3), \"\", Responses!B3)","v":""},{"$f":"IF(ISBLANK(Responses!N3), \"\", Responses!N3)","v":""},{"$f":"IF(ISBLANK(Responses!O3), \"\", Responses!O3)","v":""},{"$f":"IF(ISBLANK(Responses!P3), \"\", Responses!P3)","v":""},{"$f":"IF(ISBLANK(Responses!Q3), \"\", Responses!Q3)","v":""},{"$f":"IF(ISBLANK(Responses!R3), \"\", Responses!R3)","v":""},{"$f":"IF(ISBLANK(Responses!S3), \"\", Responses!S3)","v":""},{"$f":"IF(ISBLANK(Responses!T3), \"\", Responses!T3)","v":""},{"$error":"#N/A"},{"$error":"#N/A"},{"$f":"IF(ISBLANK(C3),0,VLOOKUP(C3,LUTs!$A$6:$B$8,2))","v":{"$error":"#N/A"}},{"$f":"IF(ISBLANK(D3),0,VLOOKUP(D3,LUTs!$A$6:$B$8,2))","v":{"$error":"#N/A"}},{"$f":"IF(ISBLANK(E3),0,VLOOKUP(E3,LUTs!$A$6:$B$8,2))","v":{"$error":"#N/A"}},{"$f":"IF(ISBLANK(F3),0,VLOOKUP(F3,LUTs!$A$6:$B$8,2))","v":{"$error":"#N/A"}},{"$f":"IF(ISBLANK(G3),0,VLOOKUP(G3,LUTs!$A$6:$B$8,2))","v":{"$error":"#N/A"}},{"$f":"IF(ISBLANK(H3),0,VLOOKUP(H3,LUTs!$A$6:$B$8,2))","v":{"$error":"#N/A"}},{"$f":"IF(ISBLANK(I3),0,VLOOKUP(I3,LUTs!$A$6:$B$8,2))","v":{"$error":"#N/A"}}]
[{"$f":"IF(ISBLANK(Responses!A4), \"\", Responses!A4)","v":""},{"$f":"IF(ISBLANK(Responses!B4), \"\", Responses!B4)","v":""},{"$f":"IF(ISBLANK(Responses!N4), \"\", Responses!N4)","v":""},{"$f":"IF(ISBLANK(Responses!O4), \"\", Responses!O4)","v":""},{"$f":"IF(ISBLANK(Responses!P4), \"\", Responses!P4)","v":""},{"$f":"IF(ISBLANK(Responses!Q4), \"\", Responses!Q4)","v":""},{"$f":"IF(ISBLANK(Responses!R4), \"\", Responses!R4)","v":""},{"$f":"IF(ISBLANK(Responses!S4), \"\", Responses!S4)","v":""},{"$f":"IF(ISBLANK(Responses!T4), \"\", Responses!T4)","v":""},{"$error":"#N/A"},{"$error":"#N/A"},{"$f":"IF(ISBLANK(C4),0,VLOOKUP(C4,LUTs!$A$6:$B$8,2))","v":{"$error":"#N/A"}},{"$f":"IF(ISBLANK(D4),0,VLOOKUP(D4,LUTs!$A$6:$B$8,2))","v":{"$error":"#N/A"}},{"$f":"IF(ISBLANK(E4),0,VLOOKUP(E4,LUTs!$A$6:$B$8,2))","v":{"$error":"#N/A"}},{"$f":"IF(ISBLANK(F4),0,VLOOKUP(F4,LUTs!$A$6:$B$8,2))","v":{"$error":"#N/A"}},{"$f":"IF(ISBLANK(G4),0,VLOOKUP(G4,LUTs!$A$6:$B$8,2))","v":{"$error":"#N/A"}},{"$f":"IF(ISBLANK(H4),0,VLOOKUP(H4,LUTs!$A$6:$B$8,2))","v":{"$error":"#N/A"}},{"$f":"IF(ISBLANK(I4),0,VLOOKUP(I4,LUTs!$A$6:$B$8,2))","v":{"$error":"#N/A"}}]
[{"$f":"IF(ISBLANK(Responses!A5), \"\", Responses!A5)","v":""},{"$f":"IF(ISBLANK(Responses!B5), \"\", Responses!B5)","v":""},{"$f":"IF(ISBLANK(Responses!N5), \"\", Responses!N5)","v":""},{"$f":"IF(ISBLANK(Responses!O5), \"\", Responses!O5)","v":""},{"$f":"IF(ISBLANK(Responses!P5), \"\", Responses!P5)","v":""},{"$f":"IF(ISBLANK(Responses!Q5), \"\", Responses!Q5)","v":""},{"$f":"IF(ISBLANK(Responses!R5), \"\", Responses!R5)","v":""},{"$f":"IF(ISBLANK(Responses!S5), \"\", Responses!S5)","v":""},{"$f":"IF(ISBLANK(Responses!T5), \"\", Responses!T5)","v":""},{"$error":"#N/A"},{"$error":"#N/A"},{"$f":"IF(ISBLANK(C5),0,VLOOKUP(C5,LUTs!$A$6:$B$8,2))","v":{"$error":"#N/A"}},{"$f":"IF(ISBLANK(D5),0,VLOOKUP(D5,LUTs!$A$6:$B$8,2))","v":{"$error":"#N/A"}},{"$f":"IF(ISBLANK(E5),0,VLOOKUP(E5,LUTs!$A$6:$B$8,2))","v":{"$error":"#N/A"}},{"$f":"IF(ISBLANK(F5),0,VLOOKUP(F5,LUTs!$A$6:$B$8,2))","v":{"$error":"#N/A"}},{"$f":"IF(ISBLANK(G5),0,VLOOKUP(G5,LUTs!$A$6:$B$8,2))","v":{"$error":"#N/A"}},{"$f":"IF(ISBLANK(H5),0,VLOOKUP(H5,LUTs!$A$6:$B$8,2))","v":{"$error":"#N/A"}},{"$f":"IF(ISBLANK(I5),0,VLOOKUP(I5,LUTs!$A$6:$B$8,2))","v":{"$error":"#N/A"}}]
[{"$f":"IF(ISBLANK(Responses!A6), \"\", Responses!A6)","v":""},{"$f":"IF(ISBLANK(Responses!B6), \"\", Responses!B6)","v":""},{"$f":"IF(ISBLANK(Responses!N6), \"\", Responses!N6)","v":""},{"$f":"IF(ISBLANK(Responses!O6), \"\", Responses!O6)","v":""},{"$f":"IF(ISBLANK(Responses!P6), \"\", Responses!P6)","v":""},{"$f":"IF(ISBLANK(Responses!Q6), \"\", Responses!Q6)","v":""},{"$f":"IF(ISBLANK(Responses!R6), \"\", Responses!R6)","v":""},{"$f":"IF(ISBLANK(Responses!S6), \"\", Responses!S6)","v":""},{"$f":"IF(ISBLANK(Responses!T6), \"\", Responses!T6)","v":""},{"$error":"#N/A"},{"$error":"#N/A"},{"$f":"IF(ISBLANK(C6),0,VLOOKUP(C6,LUTs!$A$6:$B$8,2))","v":{"$error":"#N/A"}},{"$f":"IF(ISBLANK(D6),0,VLOOKUP(D6,LUTs!$A$6:$B$8,2))","v":{"$error":"#N/A"}},{"$f":"IF(ISBLANK(E6),0,VLOOKUP(E6,LUTs!$A$6:$B$8,2))","v":{"$error":"#N/A"}},{"$f":"IF(ISBLANK(F6),0,VLOOKUP(F6,LUTs!$A$6:$B$8,2))","v":{"$error":"#N/A"}},{"$f":"IF(ISBLANK(G6),0,VLOOKUP(G6,LUTs!$A$6:$B$8,2))","v":{"$error":"#N/A"}},{"$f":"IF(ISBLANK(H6),0,VLOOKUP(H6,LUTs!$A$6:$B$8,2))","v":{"$error":"#N/A"}},{"$f":"IF(ISBLANK(I6),0,VLOOKUP(I6,LUTs!$A$6:$B$8,2))","v":{"$error":"#N/A"}}]
[{"$f":"IF(ISBLANK(Responses!A7), \"\", Responses!A7)","v":""},{"$f":"IF(ISBLANK(Responses!B7), \"\", Responses!B7)","v":""},{"$f":"IF(ISBLANK(Responses!N7), \"\", Responses!N7)","v":""},{"$f":"IF(ISBLANK(Responses!O7), \"\", Responses!O7)","v":""},{"$f":"IF(ISBLANK(Responses!P7), \"\", Responses!P7)","v":""},{"$f":"IF(ISBLANK(Responses!Q7), \"\", Responses!Q7)","v":""},{"$f":"IF(ISBLANK(Responses!R7), \"\", Responses!R7)","v":""},{"$f":"IF(ISBLANK(Responses!S7), \"\", Responses!S7)","v":""},{"$f":"IF(ISBLANK(Responses!T7), \"\", Responses!T7)","v":""},{"$error":"#N/A"},{"$error":"#N/A"},{"$f":"IF(ISBLANK(C7),0,VLOOKUP(C7,LUTs!$A$6:$B$8,2))","v":{"$error":"#N/A"}},{"$f":"IF(ISBLANK(D7),0,VLOOKUP(D7,LUTs!$A$6:$B$8,2))","v":{"$error":"#N/A"}},{"$f":"IF(ISBLANK(E7),0,VLOOKUP(E7,LUTs!$A$6:$B$8,2))","v":{"$error":"#N/A"}},{"$f":"IF(ISBLANK(F7),0,VLOOKUP(F7,LUTs!$A$6:$B$8,2))","v":{"$error":"#N/A"}},{"$f":"IF(ISBLANK(G7),0,VLOOKUP(G7,LUTs!$A$6:$B$8,2))","v":{"$error":"#N/A"}},{"$f":"IF(ISBLANK(H7),0,VLOOKUP(H7,LUTs!$A$6:$B$8,2))","v":{"$error":"#N/A"}},{"$f":"IF(ISBLANK(I7),0,VLOOKUP(I7,LUTs!$A$6:$B$8,2))","v":{"$error":"#N/A"}}]
[{"$f":"IF(ISBLANK(Responses!A8), \"\", Responses!A8)","v":""},{"$f":"IF(ISBLANK(Responses!B8), \"\", Responses!B8)","v":""},{"$f":"IF(ISBLANK(Responses!N8), \"\", Responses!N8)","v":""},{"$f":"IF(ISBLANK(Responses!O8), \"\", Responses!O8)","v":""},{"$f":"IF(ISBLANK(Responses!P8), \"\", Responses!P8)","v":""},{"$f":"IF(ISBLANK(Responses!Q8), \"\", Responses!Q8)","v":""},{"$f":"IF(ISBLANK(Responses!R8), \"\", Responses!R8)","v":""},{"$f":"IF(ISBLANK(Responses!S8), \"\", Responses!S8)","v":""},{"$f":"IF(ISBLANK(Responses!T8), \"\", Responses!T8)","v":""},{"$error":"#N/A"},{"$error":"#N/A"},{"$f":"IF(ISBLANK(C8),0,VLOOKUP(C8,LUTs!$A$6:$B$8,2))","v":{"$error":"#N/A"}},{"$f":"IF(ISBLANK(D8),0,VLOOKUP(D8,LUTs!$A$6:$B$8,2))","v":{"$error":"#N/A"}},{"$f":"IF(ISBLANK(E8),0,VLOOKUP(E8,LUTs!$A$6:$B$8,2))","v":{"$error":"#N/A"}},{"$f":"IF(ISBLANK(F8),0,VLOOKUP(F8,LUTs!$A$6:$B$8,2))","v":{"$error":"#N/A"}},{"$f":"IF(ISBLANK(G8),0,VLOOKUP(G8,LUTs!$A$6:$B$8,2))","v":{"$error":"#N/A"}},{"$f":"IF(ISBLANK(H8),0,VLOOKUP(H8,LUTs!$A$6:$B$8,2))","v":{"$error":"#N/A"}},{"$f":"IF(ISBLANK(I8),0,VLOOKUP(I8,LUTs!$A$6:$B$8,2))","v":{"$error":"#N/A"}}]
[{"$f":"IF(ISBLANK(Responses!A9), \"\", Responses!A9)","v":""},{"$f":"IF(ISBLANK(Responses!B9), \"\", Responses!B9)","v":""},{"$f":"IF(ISBLANK(Responses!N9), \"\", Responses!N9)","v":""},{"$f":"IF(ISBLANK(Responses!O9), \"\", Responses!O9)","v":""},{"$f":"IF(ISBLANK(Responses!P9), \"\", Responses!P9)","v":""},{"$f":"IF(ISBLANK(Responses!Q9), \"\", Responses!Q9)","v":""},{"$f":"IF(ISBLANK(Responses!R9), \"\", Responses!R9)","v":""},{"$f":"IF(ISBLANK(Responses!S9), \"\", Responses!S9)","v":""},{"$f":"IF(ISBLANK(Responses!T9), \"\", Responses!T9)","v":""},{"$error":"#N/A"},{"$error":"#N/A"},{"$f":"IF(ISBLANK(C9),0,VLOOKUP(C9,LUTs!$A$6:$B$8,2))","v":{"$error":"#N/A"}},{"$f":"IF(ISBLANK(D9),0,VLOOKUP(D9,LUTs!$A$6:$B$8,2))","v":{"$error":"#N/A"}},{"$f":"IF(ISBLANK(E9),0,VLOOKUP(E9,LUTs!$A$6:$B$8,2))","v":{"$error":"#N/A"}},{"$f":"IF(ISBLANK(F9),0,VLOOKUP(F9,LUTs!$A$6:$B$8,2))","v":{"$error":"#N/A"}},{"$f":"IF(ISBLANK(G9),0,VLOOKUP(G9,LUTs!$A$6:$B$8,2))","v":{"$error":"#N/A"}},{"$f":"IF(ISBLANK(H9),0,VLOOKUP(H9,LUTs!$A$6:$B$8,2))","v":{"$error":"#N/A"}},{"$f":"IF(ISBLANK(I9),0,VLOOKUP(I9,LUTs!$A$6:$B$8,2))","v":{"$error":"#N/A"}}]
[{"$f":"IF(ISBLANK(Responses!A10), \"\", Responses!A10)","v":""},{"$f":"IF(ISBLANK(Responses!B10), \"\", Responses!B10)","v":""},{"$f":"IF(ISBLANK(Responses!N10), \"\", Responses!N10)","v":""},{"$f":"IF(ISBLANK(Responses!O10), \"\", Responses!O10)","v":""},{"$f":"IF(ISBLANK(Responses!P10), \"\", Responses!P10)","v":""},{"$f":"IF(ISBLANK(Responses!Q10), \"\", Responses!Q10)","v":""},{"$f":"IF(ISBLANK(Responses!R10), \"\", Responses!R10)","v":""},{"$f":"IF(ISBLANK(Responses!S10), \"\", Responses!S10)","v":""},{"$f":"IF(ISBLANK(Responses!T10), \"\", Responses!T10)","v":""},{"$error":"#N/A"},{"$error":"#N/A"},{"$f":"IF(ISBLANK(C10),0,VLOOKUP(C10,LUTs!$A$6:$B$8,2))","v":{"$error":"#N/A"}},{"$f":"IF(ISBLANK(D10),0,VLOOKUP(D10,LUTs!$A$6:$B$8,2))","v":{"$error":"#N/A"}},{"$f":"IF(ISBLANK(E10),0,VLOOKUP(E10,LUTs!$A$6:$B$8,2))","v":{"$error":"#N/A"}},{"$f":"IF(ISBLANK(F10),0,VLOOKUP(F10,LUTs!$A$6:$B$8,2))","v":{"$error":"#N/A"}},{"$f":"IF(ISBLANK(G10),0,VLOOKUP(G10,LUTs!$A$6:$B$8,2))","v":{"$error":"#N/A"}},{"$f":"IF(ISBLANK(H10),0,VLOOKUP(H10,LUTs!$A$6:$B$8,2))","v":{"$error":"#N/A"}},{"$f":"IF(ISBLANK(I10),0,VLOOKUP(I10,LUTs!$A$6:$B$8,2))","v":{"$error":"#N/A"}}]
[{"$f":"IF(ISBLANK(Responses!A11), \"\", Responses!A11)","v":""},{"$f":"IF(ISBLANK(Responses!B11), \"\", Responses!B11)","v":""},{"$f":"IF(ISBLANK(Responses!N11), \"\", Responses!N11)","v":""},{"$f":"IF(ISBLANK(Responses!O11), \"\", Responses!O11)","v":""},{"$f":"IF(ISBLANK(Responses!P11), \"\", Responses!P11)","v":""},{"$f":"IF(ISBLANK(Responses!Q11), \"\", Responses!Q11)","v":""},{"$f":"IF(ISBLANK(Responses!R11), \"\", Responses!R11)","v":""},{"$f":"IF(ISBLANK(Responses!S11), \"\", Responses!S11)","v":""},{"$f":"IF(ISBLANK(Responses!T11), \"\", Responses!T11)","v":""},{"$error":"#N/A"},{"$error":"#N/A"},{"$f":"IF(ISBLANK(C11),0,VLOOKUP(C11,LUTs!$A$6:$B$8,2))","v":{"$error":"#N/A"}},{"$f":"IF(ISBLANK(D11),0,VLOOKUP(D11,LUTs!$A$6:$B$8,2))","v":{"$error":"#N/A"}},{"$f":"IF(ISBLANK(E11),0,VLOOKUP(E11,LUTs!$A$6:$B$8,2))","v":{"$error":"#N/A"}},{"$f":"IF(ISBLANK(F11),0,VLOOKUP(F11,LUTs!$A$6:$B$8,2))","v":{"$error":"#N/A"}},{"$f":"IF(ISBLANK(G11),0,VLOOKUP(G11,LUTs!$A$6:$B$8,2))","v":{"$error":"#N/A"}},{"$f":"IF(ISBLANK(H11),0,VLOOKUP(H11,LUTs!$A$6:$B$8,2))","v":{"$error":"#N/A"}},{"$f":"IF(ISBLANK(I11),0,VLOOKUP(I11,LUTs!$A$6:$B$8,2))","v":{"$error":"#N/A"}}]
[{"$f":"IF(ISBLANK(Responses!A12), \"\", Responses!A12)","v":""},{"$f":"IF(ISBLANK(Responses!B12), \"\", Responses!B12)","v":""},{"$f":"IF(ISBLANK(Responses!N12), \"\", Responses!N12)","v":""},{"$f":"IF(ISBLANK(Responses!O12), \"\", Responses!O12)","v":""},{"$f":"IF(ISBLANK(Responses!P12), \"\", Responses!P12)","v":""},{"$f":"IF(ISBLANK(Responses!Q12), \"\", Responses!Q12)","v":""},{"$f":"IF(ISBLANK(Responses!R12), \"\", Responses!R12)","v":""},{"$f":"IF(ISBLANK(Responses!S12), \"\", Responses!S12)","v":""},{"$f":"IF(ISBLANK(Responses!T12), \"\", Responses!T12)","v":""},{"$error":"#N/A"},{"$error":"#N/A"},{"$f":"IF(ISBLANK(C12),0,VLOOKUP(C12,LUTs!$A$6:$B$8,2))","v":{"$error":"#N/A"}},{"$f":"IF(ISBLANK(D12),0,VLOOKUP(D12,LUTs!$A$6:$B$8,2))","v":{"$error":"#N/A"}},{"$f":"IF(ISBLANK(E12),0,VLOOKUP(E12,LUTs!$A$6:$B$8,2))","v":{"$error":"#N/A"}},{"$f":"IF(ISBLANK(F12),0,VLOOKUP(F12,LUTs!$A$6:$B$8,2))","v":{"$error":"#N/A"}},{"$f":"IF(ISBLANK(G12),0,VLOOKUP(G12,LUTs!$A$6:$B$8,2))","v":{"$error":"#N/A"}},{"$f":"IF(ISBLANK(H12),0,VLOOKUP(H12,LUTs!$A$6:$B$8,2))","v":{"$error":"#N/A"}},{"$f":"IF(ISBLANK(I12),0,VLOOKUP(I12,LUTs!$A$6:$B$8,2))","v":{"$error":"#N/A"}}]
[{"$f":"IF(ISBLANK(Responses!A13), \"\", Responses!A13)","v":""},{"$f":"IF(ISBLANK(Responses!B13), \"\", Responses!B13)","v":""},{"$f":"IF(ISBLANK(Responses!N13), \"\", Responses!N13)","v":""},{"$f":"IF(ISBLANK(Responses!O13), \"\", Responses!O13)","v":""},{"$f":"IF(ISBLANK(Responses!P13), \"\", Responses!P13)","v":""},{"$f":"IF(ISBLANK(Responses!Q13), \"\", Responses!Q13)","v":""},{"$f":"IF(ISBLANK(Responses!R13), \"\", Responses!R13)","v":""},{"$f":"IF(ISBLANK(Responses!S13), \"\", Responses!S13)","v":""},{"$f":"IF(ISBLANK(Responses!T13), \"\", Responses!T13)","v":""},{"$error":"#N/A"},{"$error":"#N/A"},{"$f":"IF(ISBLANK(C13),0,VLOOKUP(C13,LUTs!$A$6:$B$8,2))","v":{"$error":"#N/A"}},{"$f":"IF(ISBLANK(D13),0,VLOOKUP(D13,LUTs!$A$6:$B$8,2))","v":{"$error":"#N/A"}},{"$f":"IF(ISBLANK(E13),0,VLOOKUP(E13,LUTs!$A$6:$B$8,2))","v":{"$error":"#N/A"}},{"$f":"IF(ISBLANK(F13),0,VLOOKUP(F13,LUTs!$A$6:$B$8,2))","v":{"$error":"#N/A"}},{"$f":"IF(ISBLANK(G13),0,VLOOKUP(G13,LUTs!$A$6:$B$8,2))","v":{"$error":"#N/A"}},{"$f":"IF(ISBLANK(H13),0,VLOOKUP(H13,LUTs!$A$6:$B$8,2))","v":{"$error":"#N/A"}},{"$f":"IF(ISBLANK(I13),0,VLOOKUP(I13,LUTs!$A$6:$B$8,2))","v":{"$error":"#N/A"}}]
[{"$f":"IF(ISBLANK(Responses!A14), \"\", Responses!A14)","v":""},{"$f":"IF(ISBLANK(Responses!B14), \"\", Responses!B14)","v":""},{"$f":"IF(ISBLANK(Responses!N14), \"\", Responses!N14)","v":""},{"$f":"IF(ISBLANK(Responses!O14), \"\", Responses!O14)","v":""},{"$f":"IF(ISBLANK(Responses!P14), \"\", Responses!P14)","v":""},{"$f":"IF(ISBLANK(Responses!Q14), \"\", Responses!Q14)","v":""},{"$f":"IF(ISBLANK(Responses!R14), \"\", Responses!R14)","v":""},{"$f":"IF(ISBLANK(Responses!S14), \"\", Responses!S14)","v":""},{"$f":"IF(ISBLANK(Responses!T14), \"\", Responses!T14)","v":""},{"$error":"#N/A"},{"$error":"#N/A"},{"$f":"IF(ISBLANK(C14),0,VLOOKUP(C14,LUTs!$A$6:$B$8,2))","v":{"$error":"#N/A"}},{"$f":"IF(ISBLANK(D14),0,VLOOKUP(D14,LUTs!$A$6:$B$8,2))","v":{"$error":"#N/A"}},{"$f":"IF(ISBLANK(E14),0,VLOOKUP(E14,LUTs!$A$6:$B$8,2))","v":{"$error":"#N/A"}},{"$f":"IF(ISBLANK(F14),0,VLOOKUP(F14,LUTs!$A$6:$B$8,2))","v":{"$error":"#N/A"}},{"$f":"IF(ISBLANK(G14),0,VLOOKUP(G14,LUTs!$A$6:$B$8,2))","v":{"$error":"#N/A"}},{"$f":"IF(ISBLANK(H14),0,VLOOKUP(H14,LUTs!$A$6:$B$8,2))","v":{"$error":"#N/A"}},{"$f":"IF(ISBLANK(I14),0,VLOOKUP(I14,LUTs!$A$6:$B$8,2))","v":{"$error":"#N/A"}}]
[{"$f":"IF(ISBLANK(Responses!A15), \"\", Responses!A15)","v":""},{"$f":"IF(ISBLANK(Responses!B15), \"\", Responses!B15)","v":""},{"$f":"IF(ISBLANK(Responses!N15), \"\", Responses!N15)","v":""},{"$f":"IF(ISBLANK(Responses!O15), \"\", Responses!O15)","v":""},{"$f":"IF(ISBLANK(Responses!P15), \"\", Responses!P15)","v":""},{"$f":"IF(ISBLANK(Responses!Q15), \"\", Responses!Q15)","v":""},{"$f":"IF(ISBLANK(Responses!R15), \"\", Responses!R15)","v":""},{"$f":"IF(ISBLANK(Responses!S15), \"\", Responses!S15)","v":""},{"$f":"IF(ISBLANK(Responses!T15), \"\", Responses!T15)","v":""},{"$error":"#N/A"},{"$error":"#N/A"},{"$f":"IF(ISBLANK(C15),0,VLOOKUP(C15,LUTs!$A$6:$B$8,2))","v":{"$error":"#N/A"}},{"$f":"IF(ISBLANK(D15),0,VLOOKUP(D15,LUTs!$A$6:$B$8,2))","v":{"$error":"#N/A"}},{"$f":"IF(ISBLANK(E15),0,VLOOKUP(E15,LUTs!$A$6:$B$8,2))","v":{"$error":"#N/A"}},{"$f":"IF(ISBLANK(F15),0,VLOOKUP(F15,LUTs!$A$6:$B$8,2))","v":{"$error":"#N/A"}},{"$f":"IF(ISBLANK(G15),0,VLOOKUP(G15,LUTs!$A$6:$B$8,2))","v":{"$error":"#N/A"}},{"$f":"IF(ISBLANK(H15),0,VLOOKUP(H15,LUTs!$A$6:$B$8,2))","v":{"$error":"#N/A"}},{"$f":"IF(ISBLANK(I15),0,VLOOKUP(I15,LUTs!$A$6:$B$8,2))","v":{"$error":"#N/A"}}]
[{"$f":"IF(ISBLANK(Responses!A16), \"\", Responses!A16)","v":""},{"$f":"IF(ISBLANK(Responses!B16), \"\", Responses!B16)","v":""},{"$f":"IF(ISBLANK(Responses!N16), \"\", Responses!N16)","v":""},{"$f":"IF(ISBLANK(Responses!O16), \"\", Responses!O16)","v":""},{"$f":"IF(ISBLANK(Responses!P16), \"\", Responses!P16)","v":""},{"$f":"IF(ISBLANK(Responses!Q16), \"\", Responses!Q16)","v":""},{"$f":"IF(ISBLANK(Responses!R16), \"\", Responses!R16)","v":""},{"$f":"IF(ISBLANK(Responses!S16), \"\", Responses!S16)","v":""},{"$f":"IF(ISBLANK(Responses!T16), \"\", Responses!T16)","v":""},{"$error":"#N/A"},{"$error":"#N/A"},{"$f":"IF(ISBLANK(C16),0,VLOOKUP(C16,LUTs!$A$6:$B$8,2))","v":{"$error":"#N/A"}},{"$f":"IF(ISBLANK(D16),0,VLOOKUP(D16,LUTs!$A$6:$B$8,2))","v":{"$error":"#N/A"}},{"$f":"IF(ISBLANK(E16),0,VLOOKUP(E16,LUTs!$A$6:$B$8,2))","v":{"$error":"#N/A"}},{"$f":"IF(ISBLANK(F16),0,VLOOKUP(F16,LUTs!$A$6:$B$8,2))","v":{"$error":"#N/A"}},{"$f":"IF(ISBLANK(G16),0,VLOOKUP(G16,LUTs!$A$6:$B$8,2))","v":{"$error":"#N/A"}},{"$f":"IF(ISBLANK(H16),0,VLOOKUP(H16,LUTs!$A$6:$B$8,2))","v":{"$error":"#N/A"}},{"$f":"IF(ISBLANK(I16),0,VLOOKUP(I16,LUTs!$A$6:$B$8,2))","v":{"$error":"#N/A"}}]
[{"$f":"IF(ISBLANK(Responses!A17), \"\", Responses!A17)","v":""},{"$f":"IF(ISBLANK(Responses!B17), \"\", Responses!B17)","v":""},{"$f":"IF(ISBLANK(Responses!N17), \"\", Responses!N17)","v":""},{"$f":"IF(ISBLANK(Responses!O17), \"\", Responses!O17)","v":""},{"$f":"IF(ISBLANK(Responses!P17), \"\", Responses!P17)","v":""},{"$f":"IF(ISBLANK(Responses!Q17), \"\", Responses!Q17)","v":""},{"$f":"IF(ISBLANK(Responses!R17), \"\", Responses!R17)","v":""},{"$f":"IF(ISBLANK(Responses!S17), \"\", Responses!S17)","v":""},{"$f":"IF(ISBLANK(Responses!T17), \"\", Responses!T17)","v":""},{"$error":"#N/A"},{"$error":"#N/A"},{"$f":"IF(ISBLANK(C17),0,VLOOKUP(C17,LUTs!$A$6:$B$8,2))","v":{"$error":"#N/A"}},{"$f":"IF(ISBLANK(D17),0,VLOOKUP(D17,LUTs!$A$6:$B$8,2))","v":{"$error":"#N/A"}},{"$f":"IF(ISBLANK(E17),0,VLOOKUP(E17,LUTs!$A$6:$B$8,2))","v":{"$error":"#N/A"}},{"$f":"IF(ISBLANK(F17),0,VLOOKUP(F17,LUTs!$A$6:$B$8,2))","v":{"$error":"#N/A"}},{"$f":"IF(ISBLANK(G17),0,VLOOKUP(G17,LUTs!$A$6:$B$8,2))","v":{"$error":"#N/A"}},{"$f":"IF(ISBLANK(H17),0,VLOOKUP(H17,LUTs!$A$6:$B$8,2))","v":{"$error":"#N/A"}},{"$f":"IF(ISBLANK(I17),0,VLOOKUP(I17,LUTs!$A$6:$B$8,2))","v":{"$error":"#N/A"}}]
[{"$f":"IF(ISBLANK(Responses!A18), \"\", Responses!A18)","v":""},{"$f":"IF(ISBLANK(Responses!B18), \"\", Responses!B18)","v":""},{"$f":"IF(ISBLANK(Responses!N18), \"\", Responses!N18)","v":""},{"$f":"IF(ISBLANK(Responses!O18), \"\", Responses!O18)","v":""},{"$f":"IF(ISBLANK(Responses!P18), \"\", Responses!P18)","v":""},{"$f":"IF(ISBLANK(Responses!Q18), \"\", Responses!Q18)","v":""},{"$f":"IF(ISBLANK(Responses!R18), \"\", Responses!R18)","v":""},{"$f":"IF(ISBLANK(Responses!S18), \"\", Responses!S18)","v":""},{"$f":"IF(ISBLANK(Responses!T18), \"\", Responses!T18)","v":""},{"$error":"#N/A"},{"$error":"#N/A"},{"$f":"IF(ISBLANK(C18),0,VLOOKUP(C18,LUTs!$A$6:$B$8,2))","v":{"$error":"#N/A"}},{"$f":"IF(ISBLANK(D18),0,VLOOKUP(D18,LUTs!$A$6:$B$8,2))","v":{"$error":"#N/A"}},{"$f":"IF(ISBLANK(E18),0,VLOOKUP(E18,LUTs!$A$6:$B$8,2))","v":{"$error":"#N/A"}},{"$f":"IF(ISBLANK(F18),0,VLOOKUP(F18,LUTs!$A$6:$B$8,2))","v":{"$error":"#N/A"}},{"$f":"IF(ISBLANK(G18),0,VLOOKUP(G18,LUTs!$A$6:$B$8,2))","v":{"$error":"#N/A"}},{"$f":"IF(ISBLANK(H18),0,VLOOKUP(H18,LUTs!$A$6:$B$8,2))","v":{"$error":"#N/A"}},{"$f":"IF(ISBLANK(I18),0,VLOOKUP(I18,LUTs!$A$6:$B$8,2))","v":{"$error":"#N/A"}}]
[{"$f":"IF(ISBLANK(Responses!A19), \"\", Responses!A19)","v":""},{"$f":"IF(ISBLANK(Responses!B19), \"\", Responses!B19)","v":""},{"$f":"IF(ISBLANK(Responses!N19), \"\", Responses!N19)","v":""},{"$f":"IF(ISBLANK(Responses!O19), \"\", Responses!O19)","v":""},{"$f":"IF(ISBLANK(Responses!P19), \"\", Responses!P19)","v":""},{"$f":"IF(ISBLANK(Responses!Q19), \"\", Responses!Q19)","v":""},{"$f":"IF(ISBLANK(Responses!R19), \"\", Responses!R19)","v":""},{"$f":"IF(ISBLANK(Responses!S19), \"\", Responses!S19)","v":""},{"$f":"IF(ISBLANK(Responses!T19), \"\", Responses!T19)","v":""},{"$error":"#N/A"},{"$error":"#N/A"},{"$f":"IF(ISBLANK(C19),0,VLOOKUP(C19,LUTs!$A$6:$B$8,2))","v":{"$error":"#N/A"}},{"$f":"IF(ISBLANK(D19),0,VLOOKUP(D19,LUTs!$A$6:$B$8,2))","v":{"$error":"#N/A"}},{"$f":"IF(ISBLANK(E19),0,VLOOKUP(E19,LUTs!$A$6:$B$8,2))","v":{"$error":"#N/A"}},{"$f":"IF(ISBLANK(F19),0,VLOOKUP(F19,LUTs!$A$6:$B$8,2))","v":{"$error":"#N/A"}},{"$f":"IF(ISBLANK(G19),0,VLOOKUP(G19,LUTs!$A$6:$B$8,2))","v":{"$error":"#N/A"}},{"$f":"IF(ISBLANK(H19),0,VLOOKUP(H19,LUTs!$A$6:$B$8,2))","v":{"$error":"#N/A"}},{"$f":"IF(ISBLANK(I19),0,VLOOKUP(I19,LUTs!$A$6:$B$8,2))","v":{"$error":"#N/A"}}]
[{"$f":"IF(ISBLANK(Responses!A20), \"\", Responses!A20)","v":""},{"$f":"IF(ISBLANK(Responses!B20), \"\", Responses!B20)","v":""},{"$f":"IF(ISBLANK(Responses!N20), \"\", Responses!N20)","v":""},{"$f":"IF(ISBLANK(Responses!O20), \"\", Responses!O20)","v":""},{"$f":"IF(ISBLANK(Responses!P20), \"\", Responses!P20)","v":""},{"$f":"IF(ISBLANK(Responses!Q20), \"\", Responses!Q20)","v":""},{"$f":"IF(ISBLANK(Responses!R20), \"\", Responses!R20)","v":""},{"$f":"IF(ISBLANK(Responses!S20), \"\", Responses!S20)","v":""},{"$f":"IF(ISBLANK(Responses!T20), \"\", Responses!T20)","v":""},{"$error":"#N/A"},{"$error":"#N/A"},{"$f":"IF(ISBLANK(C20),0,VLOOKUP(C20,LUTs!$A$6:$B$8,2))","v":{"$error":"#N/A"}},{"$f":"IF(ISBLANK(D20),0,VLOOKUP(D20,LUTs!$A$6:$B$8,2))","v":{"$error":"#N/A"}},{"$f":"IF(ISBLANK(E20),0,VLOOKUP(E20,LUTs!$A$6:$B$8,2))","v":{"$error":"#N/A"}},{"$f":"IF(ISBLANK(F20),0,VLOOKUP(F20,LUTs!$A$6:$B$8,2))","v":{"$error":"#N/A"}},{"$f":"IF(ISBLANK(G20),0,VLOOKUP(G20,LUTs!$A$6:$B$8,2))","v":{"$error":"#N/A"}},{"$f":"IF(ISBLANK(H20),0,VLOOKUP(H20,LUTs!$A$6:$B$8,2))","v":{"$error":"#N/A"}},{"$f":"IF(ISBLANK(I20),0,VLOOKUP(I20,LUTs!$A$6:$B$8,2))","v":{"$error":"#N/A"}}]
[{"$f":"IF(ISBLANK(Responses!A21), \"\", Responses!A21)","v":""},{"$f":"IF(ISBLANK(Responses!B21), \"\", Responses!B21)","v":""},{"$f":"IF(ISBLANK(Responses!N21), \"\", Responses!N21)","v":""},{"$f":"IF(ISBLANK(Responses!O21), \"\", Responses!O21)","v":""},{"$f":"IF(ISBLANK(Responses!P21), \"\", Responses!P21)","v":""},{"$f":"IF(ISBLANK(Responses!Q21), \"\", Responses!Q21)","v":""},{"$f":"IF(ISBLANK(Responses!R21), \"\", Responses!R21)","v":""},{"$f":"IF(ISBLANK(Responses!S21), \"\", Responses!S21)","v":""},{"$f":"IF(ISBLANK(Responses!T21), \"\", Responses!T21)","v":""},{"$error":"#N/A"},{"$error":"#N/A"},{"$f":"IF(ISBLANK(C21),0,VLOOKUP(C21,LUTs!$A$6:$B$8,2))","v":{"$error":"#N/A"}},{"$f":"IF(ISBLANK(D21),0,VLOOKUP(D21,LUTs!$A$6:$B$8,2))","v":{"$error":"#N/A"}},{"$f":"IF(ISBLANK(E21),0,VLOOKUP(E21,LUTs!$A$6:$B$8,2))","v":{"$error":"#N/A"}},{"$f":"IF(ISBLANK(F21),0,VLOOKUP(F21,LUTs!$A$6:$B$8,2))","v":{"$error":"#N/A"}},{"$f":"IF(ISBLANK(G21),0,VLOOKUP(G21,LUTs!$A$6:$B$8,2))","v":{"$error":"#N/A"}},{"$f":"IF(ISBLANK(H21),0,VLOOKUP(H21,LUTs!$A$6:$B$8,2))","v":{"$error":"#N/A"}},{"$f":"IF(ISBLANK(I21),0,VLOOKUP(I21,LUTs!$A$6:$B$8,2))","v":{"$error":"#N/A"}}]
[{"$f":"IF(ISBLANK(Responses!A22), \"\", Responses!A22)","v":""},{"$f":"IF(ISBLANK(Responses!B22), \"\", Responses!B22)","v":""},{"$f":"IF(ISBLANK(Responses!N22), \"\", Responses!N22)","v":""},{"$f":"IF(ISBLANK(Responses!O22), \"\", Responses!O22)","v":""},{"$f":"IF(ISBLANK(Responses!P22), \"\", Responses!P22)","v":""},{"$f":"IF(ISBLANK(Responses!Q22), \"\", Responses!Q22)","v":""},{"$f":"IF(ISBLANK(Responses!R22), \"\", Responses!R22)","v":""},{"$f":"IF(ISBLANK(Responses!S22), \"\", Responses!S22)","v":""},{"$f":"IF(ISBLANK(Responses!T22), \"\", Responses!T22)","v":""},{"$error":"#N/A"},{"$error":"#N/A"},{"$f":"IF(ISBLANK(C22),0,VLOOKUP(C22,LUTs!$A$6:$B$8,2))","v":{"$error":"#N/A"}},{"$f":"IF(ISBLANK(D22),0,VLOOKUP(D22,LUTs!$A$6:$B$8,2))","v":{"$error":"#N/A"}},{"$f":"IF(ISBLANK(E22),0,VLOOKUP(E22,LUTs!$A$6:$B$8,2))","v":{"$error":"#N/A"}},{"$f":"IF(ISBLANK(F22),0,VLOOKUP(F22,LUTs!$A$6:$B$8,2))","v":{"$error":"#N/A"}},{"$f":"IF(ISBLANK(G22),0,VLOOKUP(G22,LUTs!$A$6:$B$8,2))","v":{"$error":"#N/A"}},{"$f":"IF(ISBLANK(H22),0,VLOOKUP(H22,LUTs!$A$6:$B$8,2))","v":{"$error":"#N/A"}},{"$f":"IF(ISBLANK(I22),0,VLOOKUP(I22,LUTs!$A$6:$B$8,2))","v":{"$error":"#N/A"}}]
[{"$f":"IF(ISBLANK(Responses!A23), \"\", Responses!A23)","v":""},{"$f":"IF(ISBLANK(Responses!B23), \"\", Responses!B23)","v":""},{"$f":"IF(ISBLANK(Responses!N23), \"\", Responses!N23)","v":""},{"$f":"IF(ISBLANK(Responses!O23), \"\", Responses!O23)","v":""},{"$f":"IF(ISBLANK(Responses!P23), \"\", Responses!P23)","v":""},{"$f":"IF(ISBLANK(Responses!Q23), \"\", Responses!Q23)","v":""},{"$f":"IF(ISBLANK(Responses!R23), \"\", Responses!R23)","v":""},{"$f":"IF(ISBLANK(Responses!S23), \"\", Responses!S23)","v":""},{"$f":"IF(ISBLANK(Responses!T23), \"\", Responses!T23)","v":""},{"$error":"#N/A"},{"$error":"#N/A"},{"$f":"IF(ISBLANK(C23),0,VLOOKUP(C23,LUTs!$A$6:$B$8,2))","v":{"$error":"#N/A"}},{"$f":"IF(ISBLANK(D23),0,VLOOKUP(D23,LUTs!$A$6:$B$8,2))","v":{"$error":"#N/A"}},{"$f":"IF(ISBLANK(E23),0,VLOOKUP(E23,LUTs!$A$6:$B$8,2))","v":{"$error":"#N/A"}},{"$f":"IF(ISBLANK(F23),0,VLOOKUP(F23,LUTs!$A$6:$B$8,2))","v":{"$error":"#N/A"}},{"$f":"IF(ISBLANK(G23),0,VLOOKUP(G23,LUTs!$A$6:$B$8,2))","v":{"$error":"#N/A"}},{"$f":"IF(ISBLANK(H23),0,VLOOKUP(H23,LUTs!$A$6:$B$8,2))","v":{"$error":"#N/A"}},{"$f":"IF(ISBLANK(I23),0,VLOOKUP(I23,LUTs!$A$6:$B$8,2))","v":{"$error":"#N/A"}}]
[{"$f":"IF(ISBLANK(Responses!A24), \"\", Responses!A24)","v":""},{"$f":"IF(ISBLANK(Responses!B24), \"\", Responses!B24)","v":""},{"$f":"IF(ISBLANK(Responses!N24), \"\", Responses!N24)","v":""},{"$f":"IF(ISBLANK(Responses!O24), \"\", Responses!O24)","v":""},{"$f":"IF(ISBLANK(Responses!P24), \"\", Responses!P24)","v":""},{"$f":"IF(ISBLANK(Responses!Q24), \"\", Responses!Q24)","v":""},{"$f":"IF(ISBLANK(Responses!R24), \"\", Responses!R24)","v":""},{"$f":"IF(ISBLANK(Responses!S24), \"\", Responses!S24)","v":""},{"$f":"IF(ISBLANK(Responses!T24), \"\", Responses!T24)","v":""},{"$error":"#N/A"},{"$error":"#N/A"},{"$f":"IF(ISBLANK(C24),0,VLOOKUP(C24,LUTs!$A$6:$B$8,2))","v":{"$error":"#N/A"}},{"$f":"IF(ISBLANK(D24),0,VLOOKUP(D24,LUTs!$A$6:$B$8,2))","v":{"$error":"#N/A"}},{"$f":"IF(ISBLANK(E24),0,VLOOKUP(E24,LUTs!$A$6:$B$8,2))","v":{"$error":"#N/A"}},{"$f":"IF(ISBLANK(F24),0,VLOOKUP(F24,LUTs!$A$6:$B$8,2))","v":{"$error":"#N/A"}},{"$f":"IF(ISBLANK(G24),0,VLOOKUP(G24,LUTs!$A$6:$B$8,2))","v":{"$error":"#N/A"}},{"$f":"IF(ISBLANK(H24),0,VLOOKUP(H24,LUTs!$A$6:$B$8,2))","v":{"$error":"#N/A"}},{"$f":"IF(ISBLANK(I24),0,VLOOKUP(I24,LUTs!$A$6:$B$8,2))","v":{"$error":"#N/A"}}]
[{"$f":"IF(ISBLANK(Responses!A25), \"\", Responses!A25)","v":""},{"$f":"IF(ISBLANK(Responses!B25), \"\", Responses!B25)","v":""},{"$f":"IF(ISBLANK(Responses!N25), \"\", Responses!N25)","v":""},{"$f":"IF(ISBLANK(Responses!O25), \"\", Responses!O25)","v":""},{"$f":"IF(ISBLANK(Responses!P25), \"\", Responses!P25)","v":""},{"$f":"IF(ISBLANK(Responses!Q25), \"\", Responses!Q25)","v":""},{"$f":"IF(ISBLANK(Responses!R25), \"\", Responses!R25)","v":""},{"$f":"IF(ISBLANK(Responses!S25), \"\", Responses!S25)","v":""},{"$f":"IF(ISBLANK(Responses!T25), \"\", Responses!T25)","v":""},{"$error":"#N/A"},{"$error":"#N/A"},{"$f":"IF(ISBLANK(C25),0,VLOOKUP(C25,LUTs!$A$6:$B$8,2))","v":{"$error":"#N/A"}},{"$f":"IF(ISBLANK(D25),0,VLOOKUP(D25,LUTs!$A$6:$B$8,2))","v":{"$error":"#N/A"}},{"$f":"IF(ISBLANK(E25),0,VLOOKUP(E25,LUTs!$A$6:$B$8,2))","v":{"$error":"#N/A"}},{"$f":"IF(ISBLANK(F25),0,VLOOKUP(F25,LUTs!$A$6:$B$8,2))","v":{"$error":"#N/A"}},{"$f":"IF(ISBLANK(G25),0,VLOOKUP(G25,LUTs!$A$6:$B$8,2))","v":{"$error":"#N/A"}},{"$f":"IF(ISBLANK(H25),0,VLOOKUP(H25,LUTs!$A$6:$B$8,2))","v":{"$error":"#N/A"}},{"$f":"IF(ISBLANK(I25),0,VLOOKUP(I25,LUTs!$A$6:$B$8,2))","v":{"$error":"#N/A"}}]
[{"$f":"IF(ISBLANK(Responses!A26), \"\", Responses!A26)","v":""},{"$f":"IF(ISBLANK(Responses!B26), \"\", Responses!B26)","v":""},{"$f":"IF(ISBLANK(Responses!N26), \"\", Responses!N26)","v":""},{"$f":"IF(ISBLANK(Responses!O26), \"\", Responses!O26)","v":""},{"$f":"IF(ISBLANK(Responses!P26), \"\", Responses!P26)","v":""},{"$f":"IF(ISBLANK(Responses!Q26), \"\", Responses!Q26)","v":""},{"$f":"IF(ISBLANK(Responses!R26), \"\", Responses!R26)","v":""},{"$f":"IF(ISBLANK(Responses!S26), \"\", Responses!S26)","v":""},{"$f":"IF(ISBLANK(Responses!T26), \"\", Responses!T26)","v":""},{"$error":"#N/A"},{"$error":"#N/A"},{"$f":"IF(ISBLANK(C26),0,VLOOKUP(C26,LUTs!$A$6:$B$8,2))","v":{"$error":"#N/A"}},{"$f":"IF(ISBLANK(D26),0,VLOOKUP(D26,LUTs!$A$6:$B$8,2))","v":{"$error":"#N/A"}},{"$f":"IF(ISBLANK(E26),0,VLOOKUP(E26,LUTs!$A$6:$B$8,2))","v":{"$error":"#N/A"}},{"$f":"IF(ISBLANK(F26),0,VLOOKUP(F26,LUTs!$A$6:$B$8,2))","v":{"$error":"#N/A"}},{"$f":"IF(ISBLANK(G26),0,VLOOKUP(G26,LUTs!$A$6:$B$8,2))","v":{"$error":"#N/A"}},{"$f":"IF(ISBLANK(H26),0,VLOOKUP(H26,LUTs!$A$6:$B$8,2))","v":{"$error":"#N/A"}},{"$f":"IF(ISBLANK(I26),0,VLOOKUP(I26,LUTs!$A$6:$B$8,2))","v":{"$error":"#N/A"}}]
[{"$f":"IF(ISBLANK(Responses!A27), \"\", Responses!A27)","v":""},{"$f":"IF(ISBLANK(Responses!B27), \"\", Responses!B27)","v":""},{"$f":"IF(ISBLANK(Responses!N27), \"\", Responses!N27)","v":""},{"$f":"IF(ISBLANK(Responses!O27), \"\", Responses!O27)","v":""},{"$f":"IF(ISBLANK(Responses!P27), \"\", Responses!P27)","v":""},{"$f":"IF(ISBLANK(Responses!Q27), \"\", Responses!Q27)","v":""},{"$f":"IF(ISBLANK(Responses!R27), \"\", Responses!R27)","v":""},{"$f":"IF(ISBLANK(Responses!S27), \"\", Responses!S27)","v":""},{"$f":"IF(ISBLANK(Responses!T27), \"\", Responses!T27)","v":""},{"$error":"#N/A"},{"$error":"#N/A"},{"$f":"IF(ISBLANK(C27),0,VLOOKUP(C27,LUTs!$A$6:$B$8,2))","v":{"$error":"#N/A"}},{"$f":"IF(ISBLANK(D27),0,VLOOKUP(D27,LUTs!$A$6:$B$8,2))","v":{"$error":"#N/A"}},{"$f":"IF(ISBLANK(E27),0,VLOOKUP(E27,LUTs!$A$6:$B$8,2))","v":{"$error":"#N/A"}},{"$f":"IF(ISBLANK(F27),0,VLOOKUP(F27,LUTs!$A$6:$B$8,2))","v":{"$error":"#N/A"}},{"$f":"IF(ISBLANK(G27),0,VLOOKUP(G27,LUTs!$A$6:$B$8,2))","v":{"$error":"#N/A"}},{"$f":"IF(ISBLANK(H27),0,VLOOKUP(H27,LUTs!$A$6:$B$8,2))","v":{"$error":"#N/A"}},{"$f":"IF(ISBLANK(I27),0,VLOOKUP(I27,LUTs!$A$6:$B$8,2))","v":{"$error":"#N/A"}}]
[{"$f":"IF(ISBLANK(Responses!A28), \"\", Responses!A28)","v":""},{"$f":"IF(ISBLANK(Responses!B28), \"\", Responses!B28)","v":""},{"$f":"IF(ISBLANK(Responses!N28), \"\", Responses!N28)","v":""},{"$f":"IF(ISBLANK(Responses!O28), \"\", Responses!O28)","v":""},{"$f":"IF(ISBLANK(Responses!P28), \"\", Responses!P28)","v":""},{"$f":"IF(ISBLANK(Responses!Q28), \"\", Responses!Q28)","v":""},{"$f":"IF(ISBLANK(Responses!R28), \"\", Responses!R28)","v":""},{"$f":"IF(ISBLANK(Responses!S28), \"\", Responses!S28)","v":""},{"$f":"IF(ISBLANK(Responses!T28), \"\", Responses!T28)","v":""},{"$error":"#N/A"},{"$error":"#N/A"},{"$f":"IF(ISBLANK(C28),0,VLOOKUP(C28,LUTs!$A$6:$B$8,2))","v":{"$error":"#N/A"}},{"$f":"IF(ISBLANK(D28),0,VLOOKUP(D28,LUTs!$A$6:$B$8,2))","v":{"$error":"#N/A"}},{"$f":"IF(ISBLANK(E28),0,VLOOKUP(E28,LUTs!$A$6:$B$8,2))","v":{"$error":"#N/A"}},{"$f":"IF(ISBLANK(F28),0,VLOOKUP(F28,LUTs!$A$6:$B$8,2))","v":{"$error":"#N/A"}},{"$f":"IF(ISBLANK(G28),0,VLOOKUP(G28,LUTs!$A$6:$B$8,2))","v":{"$error":"#N/A"}},{"$f":"IF(ISBLANK(H28),0,VLOOKUP(H28,LUTs!$A$6:$B$8,2))","v":{"$error":"#N/A"}},{"$f":"IF(ISBLANK(I28),0,VLOOKUP(I28,LUTs!$A$6:$B$8,2))","v":{"$error":"#N/A"}}]
[{"$f":"IF(ISBLANK(Responses!A29), \"\", Responses!A29)","v":""},{"$f":"IF(ISBLANK(Responses!B29), \"\", Responses!B29)","v":""},{"$f":"IF(ISBLANK(Responses!N29), \"\", Responses!N29)","v":""},{"$f":"IF(ISBLANK(Responses!O29), \"\", Responses!O29)","v":""},{"$f":"IF(ISBLANK(Responses!P29), \"\", Responses!P29)","v":""},{"$f":"IF(ISBLANK(Responses!Q29), \"\", Responses!Q29)","v":""},{"$f":"IF(ISBLANK(Responses!R29), \"\", Responses!R29)","v":""},{"$f":"IF(ISBLANK(Responses!S29), \"\", Responses!S29)","v":""},{"$f":"IF(ISBLANK(Responses!T29), \"\", Responses!T29)","v":""},{"$error":"#N/A"},{"$error":"#N/A"},{"$f":"IF(ISBLANK(C29),0,VLOOKUP(C29,LUTs!$A$6:$B$8,2))","v":{"$error":"#N/A"}},{"$f":"IF(ISBLANK(D29),0,VLOOKUP(D29,LUTs!$A$6:$B$8,2))","v":{"$error":"#N/A"}},{"$f":"IF(ISBLANK(E29),0,VLOOKUP(E29,LUTs!$A$6:$B$8,2))","v":{"$error":"#N/A"}},{"$f":"IF(ISBLANK(F29),0,VLOOKUP(F29,LUTs!$A$6:$B$8,2))","v":{"$error":"#N/A"}},{"$f":"IF(ISBLANK(G29),0,VLOOKUP(G29,LUTs!$A$6:$B$8,2))","v":{"$error":"#N/A"}},{"$f":"IF(ISBLANK(H29),0,VLOOKUP(H29,LUTs!$A$6:$B$8,2))","v":{"$error":"#N/A"}},{"$f":"IF(ISBLANK(I29),0,VLOOKUP(I29,LUTs!$A$6:$B$8,2))","v":{"$error":"#N/A"}}]
[{"$f":"IF(ISBLANK(Responses!A30), \"\", Responses!A30)","v":""},{"$f":"IF(ISBLANK(Responses!B30), \"\", Responses!B30)","v":""},{"$f":"IF(ISBLANK(Responses!N30), \"\", Responses!N30)","v":""},{"$f":"IF(ISBLANK(Responses!O30), \"\", Responses!O30)","v":""},{"$f":"IF(ISBLANK(Responses!P30), \"\", Responses!P30)","v":""},{"$f":"IF(ISBLANK(Responses!Q30), \"\", Responses!Q30)","v":""},{"$f":"IF(ISBLANK(Responses!R30), \"\", Responses!R30)","v":""},{"$f":"IF(ISBLANK(Responses!S30), \"\", Responses!S30)","v":""},{"$f":"IF(ISBLANK(Responses!T30), \"\", Responses!T30)","v":""},{"$error":"#N/A"},{"$error":"#N/A"},{"$f":"IF(ISBLANK(C30),0,VLOOKUP(C30,LUTs!$A$6:$B$8,2))","v":{"$error":"#N/A"}},{"$f":"IF(ISBLANK(D30),0,VLOOKUP(D30,LUTs!$A$6:$B$8,2))","v":{"$error":"#N/A"}},{"$f":"IF(ISBLANK(E30),0,VLOOKUP(E30,LUTs!$A$6:$B$8,2))","v":{"$error":"#N/A"}},{"$f":"IF(ISBLANK(F30),0,VLOOKUP(F30,LUTs!$A$6:$B$8,2))","v":{"$error":"#N/A"}},{"$f":"IF(ISBLANK(G30),0,VLOOKUP(G30,LUTs!$A$6:$B$8,2))","v":{"$error":"#N/A"}},{"$f":"IF(ISBLANK(H30),0,VLOOKUP(H30,LUTs!$A$6:$B$8,2))","v":{"$error":"#N/A"}},{"$f":"IF(ISBLANK(I30),0,VLOOKUP(I30,LUTs!$A$6:$B$8,2))","v":{"$error":"#N/A"}}]
[{"$f":"IF(ISBLANK(Responses!A31), \"\", Responses!A31)","v":""},{"$f":"IF(ISBLANK(Responses!B31), \"\", Responses!B31)","v":""},{"$f":"IF(ISBLANK(Responses!N31), \"\", Responses!N31)","v":""},{"$f":"IF(ISBLANK(Responses!O31), \"\", Responses!O31)","v":""},{"$f":"IF(ISBLANK(Responses!P31), \"\", Responses!P31)","v":""},{"$f":"IF(ISBLANK(Responses!Q31), \"\", Responses!Q31)","v":""},{"$f":"IF(ISBLANK(Responses!R31), \"\", Responses!R31)","v":""},{"$f":"IF(ISBLANK(Responses!S31), \"\", Responses!S31)","v":""},{"$f":"IF(ISBLANK(Responses!T31), \"\", Responses!T31)","v":""},{"$error":"#N/A"},{"$error":"#N/A"},{"$f":"IF(ISBLANK(C31),0,VLOOKUP(C31,LUTs!$A$6:$B$8,2))","v":{"$error":"#N/A"}},{"$f":"IF(ISBLANK(D31),0,VLOOKUP(D31,LUTs!$A$6:$B$8,2))","v":{"$error":"#N/A"}},{"$f":"IF(ISBLANK(E31),0,VLOOKUP(E31,LUTs!$A$6:$B$8,2))","v":{"$error":"#N/A"}},{"$f":"IF(ISBLANK(F31),0,VLOOKUP(F31,LUTs!$A$6:$B$8,2))","v":{"$error":"#N/A"}},{"$f":"IF(ISBLANK(G31),0,VLOOKUP(G31,LUTs!$A$6:$B$8,2))","v":{"$error":"#N/A"}},{"$f":"IF(ISBLANK(H31),0,VLOOKUP(H31,LUTs!$A$6:$B$8,2))","v":{"$error":"#N/A"}},{"$f":"IF(ISBLANK(I31),0,VLOOKUP(I31,LUTs!$A$6:$B$8,2))","v":{"$error":"#N/A"}}]
[{"$f":"IF(ISBLANK(Responses!A32), \"\", Responses!A32)","v":""},{"$f":"IF(ISBLANK(Responses!B32), \"\", Responses!B32)","v":""},{"$f":"IF(ISBLANK(Responses!N32), \"\", Responses!N32)","v":""},{"$f":"IF(ISBLANK(Responses!O32), \"\", Responses!O32)","v":""},{"$f":"IF(ISBLANK(Responses!P32), \"\", Responses!P32)","v":""},{"$f":"IF(ISBLANK(Responses!Q32), \"\", Responses!Q32)","v":""},{"$f":"IF(ISBLANK(Responses!R32), \"\", Responses!R32)","v":""},{"$f":"IF(ISBLANK(Responses!S32), \"\", Responses!S32)","v":""},{"$f":"IF(ISBLANK(Responses!T32), \"\", Responses!T32)","v":""},{"$error":"#N/A"},{"$error":"#N/A"},{"$f":"IF(ISBLANK(C32),0,VLOOKUP(C32,LUTs!$A$6:$B$8,2))","v":{"$error":"#N/A"}},{"$f":"IF(ISBLANK(D32),0,VLOOKUP(D32,LUTs!$A$6:$B$8,2))","v":{"$error":"#N/A"}},{"$f":"IF(ISBLANK(E32),0,VLOOKUP(E32,LUTs!$A$6:$B$8,2))","v":{"$error":"#N/A"}},{"$f":"IF(ISBLANK(F32),0,VLOOKUP(F32,LUTs!$A$6:$B$8,2))","v":{"$error":"#N/A"}},{"$f":"IF(ISBLANK(G32),0,VLOOKUP(G32,LUTs!$A$6:$B$8,2))","v":{"$error":"#N/A"}},{"$f":"IF(ISBLANK(H32),0,VLOOKUP(H32,LUTs!$A$6:$B$8,2))","v":{"$error":"#N/A"}},{"$f":"IF(ISBLANK(I32),0,VLOOKUP(I32,LUTs!$A$6:$B$8,2))","v":{"$error":"#N/A"}}]
[{"$f":"IF(ISBLANK(Responses!A33), \"\", Responses!A33)","v":""},{"$f":"IF(ISBLANK(Responses!B33), \"\", Responses!B33)","v":""},{"$f":"IF(ISBLANK(Responses!N33), \"\", Responses!N33)","v":""},{"$f":"IF(ISBLANK(Responses!O33), \"\", Responses!O33)","v":""},{"$f":"IF(ISBLANK(Responses!P33), \"\", Responses!P33)","v":""},{"$f":"IF(ISBLANK(Responses!Q33), \"\", Responses!Q33)","v":""},{"$f":"IF(ISBLANK(Responses!R33), \"\", Responses!R33)","v":""},{"$f":"IF(ISBLANK(Responses!S33), \"\", Responses!S33)","v":""},{"$f":"IF(ISBLANK(Responses!T33), \"\", Responses!T33)","v":""},{"$error":"#N/A"},{"$error":"#N/A"},{"$f":"IF(ISBLANK(C33),0,VLOOKUP(C33,LUTs!$A$6:$B$8,2))","v":{"$error":"#N/A"}},{"$f":"IF(ISBLANK(D33),0,VLOOKUP(D33,LUTs!$A$6:$B$8,2))","v":{"$error":"#N/A"}},{"$f":"IF(ISBLANK(E33),0,VLOOKUP(E33,LUTs!$A$6:$B$8,2))","v":{"$error":"#N/A"}},{"$f":"IF(ISBLANK(F33),0,VLOOKUP(F33,LUTs!$A$6:$B$8,2))","v":{"$error":"#N/A"}},{"$f":"IF(ISBLANK(G33),0,VLOOKUP(G33,LUTs!$A$6:$B$8,2))","v":{"$error":"#N/A"}},{"$f":"IF(ISBLANK(H33),0,VLOOKUP(H33,LUTs!$A$6:$B$8,2))","v":{"$error":"#N/A"}},{"$f":"IF(ISBLANK(I33),0,VLOOKUP(I33,LUTs!$A$6:$B$8,2))","v":{"$error":"#N/A"}}]
[{"$f":"IF(ISBLANK(Responses!A34), \"\", Responses!A34)","v":""},{"$f":"IF(ISBLANK(Responses!B34), \"\", Responses!B34)","v":""},{"$f":"IF(ISBLANK(Responses!N34), \"\", Responses!N34)","v":""},{"$f":"IF(ISBLANK(Responses!O34), \"\", Responses!O34)","v":""},{"$f":"IF(ISBLANK(Responses!P34), \"\", Responses!P34)","v":""},{"$f":"IF(ISBLANK(Responses!Q34), \"\", Responses!Q34)","v":""},{"$f":"IF(ISBLANK(Responses!R34), \"\", Responses!R34)","v":""},{"$f":"IF(ISBLANK(Responses!S34), \"\", Responses!S34)","v":""},{"$f":"IF(ISBLANK(Responses!T34), \"\", Responses!T34)","v":""},{"$error":"#N/A"},{"$error":"#N/A"},{"$f":"IF(ISBLANK(C34),0,VLOOKUP(C34,LUTs!$A$6:$B$8,2))","v":{"$error":"#N/A"}},{"$f":"IF(ISBLANK(D34),0,VLOOKUP(D34,LUTs!$A$6:$B$8,2))","v":{"$error":"#N/A"}},{"$f":"IF(ISBLANK(E34),0,VLOOKUP(E34,LUTs!$A$6:$B$8,2))","v":{"$error":"#N/A"}},{"$f":"IF(ISBLANK(F34),0,VLOOKUP(F34,LUTs!$A$6:$B$8,2))","v":{"$error":"#N/A"}},{"$f":"IF(ISBLANK(G34),0,VLOOKUP(G34,LUTs!$A$6:$B$8,2))","v":{"$error":"#N/A"}},{"$f":"IF(ISBLANK(H34),0,VLOOKUP(H34,LUTs!$A$6:$B$8,2))","v":{"$error":"#N/A"}},{"$f":"IF(ISBLANK(I34),0,VLOOKUP(I34,LUTs!$A$6:$B$8,2))","v":{"$error":"#N/A"}}]
[{"$f":"IF(ISBLANK(Responses!A35), \"\", Responses!A35)","v":""},{"$f":"IF(ISBLANK(Responses!B35), \"\", Responses!B35)","v":""},{"$f":"IF(ISBLANK(Responses!N35), \"\", Responses!N35)","v":""},{"$f":"IF(ISBLANK(Responses!O35), \"\", Responses!O35)","v":""},{"$f":"IF(ISBLANK(Responses!P35), \"\", Responses!P35)","v":""},{"$f":"IF(ISBLANK(Responses!Q35), \"\", Responses!Q35)","v":""},{"$f":"IF(ISBLANK(Responses!R35), \"\", Responses!R35)","v":""},{"$f":"IF(ISBLANK(Responses!S35), \"\", Responses!S35)","v":""},{"$f":"IF(ISBLANK(Responses!T35), \"\", Responses!T35)","v":""},{"$error":"#N/A"},{"$error":"#N/A"},{"$f":"IF(ISBLANK(C35),0,VLOOKUP(C35,LUTs!$A$6:$B$8,2))","v":{"$error":"#N/A"}},{"$f":"IF(ISBLANK(D35),0,VLOOKUP(D35,LUTs!$A$6:$B$8,2))","v":{"$error":"#N/A"}},{"$f":"IF(ISBLANK(E35),0,VLOOKUP(E35,LUTs!$A$6:$B$8,2))","v":{"$error":"#N/A"}},{"$f":"IF(ISBLANK(F35),0,VLOOKUP(F35,LUTs!$A$6:$B$8,2))","v":{"$error":"#N/A"}},{"$f":"IF(ISBLANK(G35),0,VLOOKUP(G35,LUTs!$A$6:$B$8,2))","v":{"$error":"#N/A"}},{"$f":"IF(ISBLANK(H35),0,VLOOKUP(H35,LUTs!$A$6:$B$8,2))","v":{"$error":"#N/A"}},{"$f":"IF(ISBLANK(I35),0,VLOOKUP(I35,LUTs!$A$6:$B$8,2))","v":{"$error":"#N/A"}}]
[{"$f":"IF(ISBLANK(Responses!A36), \"\", Responses!A36)","v":""},{"$f":"IF(ISBLANK(Responses!B36), \"\", Responses!B36)","v":""},{"$f":"IF(ISBLANK(Responses!N36), \"\", Responses!N36)","v":""},{"$f":"IF(ISBLANK(Responses!O36), \"\", Responses!O36)","v":""},{"$f":"IF(ISBLANK(Responses!P36), \"\", Responses!P36)","v":""},{"$f":"IF(ISBLANK(Responses!Q36), \"\", Responses!Q36)","v":""},{"$f":"IF(ISBLANK(Responses!R36), \"\", Responses!R36)","v":""},{"$f":"IF(ISBLANK(Responses!S36), \"\", Responses!S36)","v":""},{"$f":"IF(ISBLANK(Responses!T36), \"\", Responses!T36)","v":""},{"$error":"#N/A"},{"$error":"#N/A"},{"$f":"IF(ISBLANK(C36),0,VLOOKUP(C36,LUTs!$A$6:$B$8,2))","v":{"$error":"#N/A"}},{"$f":"IF(ISBLANK(D36),0,VLOOKUP(D36,LUTs!$A$6:$B$8,2))","v":{"$error":"#N/A"}},{"$f":"IF(ISBLANK(E36),0,VLOOKUP(E36,LUTs!$A$6:$B$8,2))","v":{"$error":"#N/A"}},{"$f":"IF(ISBLANK(F36),0,VLOOKUP(F36,LUTs!$A$6:$B$8,2))","v":{"$error":"#N/A"}},{"$f":"IF(ISBLANK(G36),0,VLOOKUP(G36,LUTs!$A$6:$B$8,2))","v":{"$error":"#N/A"}},{"$f":"IF(ISBLANK(H36),0,VLOOKUP(H36,LUTs!$A$6:$B$8,2))","v":{"$error":"#N/A"}},{"$f":"IF(ISBLANK(I36),0,VLOOKUP(I36,LUTs!$A$6:$B$8,2))","v":{"$error":"#N/A"}}]
[{"$f":"IF(ISBLANK(Responses!A37), \"\", Responses!A37)","v":""},{"$f":"IF(ISBLANK(Responses!B37), \"\", Responses!B37)","v":""},{"$f":"IF(ISBLANK(Responses!N37), \"\", Responses!N37)","v":""},{"$f":"IF(ISBLANK(Responses!O37), \"\", Responses!O37)","v":""},{"$f":"IF(ISBLANK(Responses!P37), \"\", Responses!P37)","v":""},{"$f":"IF(ISBLANK(Responses!Q37), \"\", Responses!Q37)","v":""},{"$f":"IF(ISBLANK(Responses!R37), \"\", Responses!R37)","v":""},{"$f":"IF(ISBLANK(Responses!S37), \"\", Responses!S37)","v":""},{"$f":"IF(ISBLANK(Responses!T37), \"\", Responses!T37)","v":""},{"$error":"#N/A"},{"$error":"#N/A"},{"$f":"IF(ISBLANK(C37),0,VLOOKUP(C37,LUTs!$A$6:$B$8,2))","v":{"$error":"#N/A"}},{"$f":"IF(ISBLANK(D37),0,VLOOKUP(D37,LUTs!$A$6:$B$8,2))","v":{"$error":"#N/A"}},{"$f":"IF(ISBLANK(E37),0,VLOOKUP(E37,LUTs!$A$6:$B$8,2))","v":{"$error":"#N/A"}},{"$f":"IF(ISBLANK(F37),0,VLOOKUP(F37,LUTs!$A$6:$B$8,2))","v":{"$error":"#N/A"}},{"$f":"IF(ISBLANK(G37),0,VLOOKUP(G37,LUTs!$A$6:$B$8,2))","v":{"$error":"#N/A"}},{"$f":"IF(ISBLANK(H37),0,VLOOKUP(H37,LUTs!$A$6:$B$8,2))","v":{"$error":"#N/A"}},{"$f":"IF(ISBLANK(I37),0,VLOOKUP(I37,LUTs!$A$6:$B$8,2))","v":{"$error":"#N/A"}}]
[{"$f":"IF(ISBLANK(Responses!A38), \"\", Responses!A38)","v":""},{"$f":"IF(ISBLANK(Responses!B38), \"\", Responses!B38)","v":""},{"$f":"IF(ISBLANK(Responses!N38), \"\", Responses!N38)","v":""},{"$f":"IF(ISBLANK(Responses!O38), \"\", Responses!O38)","v":""},{"$f":"IF(ISBLANK(Responses!P38), \"\", Responses!P38)","v":""},{"$f":"IF(ISBLANK(Responses!Q38), \"\", Responses!Q38)","v":""},{"$f":"IF(ISBLANK(Responses!R38), \"\", Responses!R38)","v":""},{"$f":"IF(ISBLANK(Responses!S38), \"\", Responses!S38)","v":""},{"$f":"IF(ISBLANK(Responses!T38), \"\", Responses!T38)","v":""},{"$error":"#N/A"},{"$error":"#N/A"},{"$f":"IF(ISBLANK(C38),0,VLOOKUP(C38,LUTs!$A$6:$B$8,2))","v":{"$error":"#N/A"}},{"$f":"IF(ISBLANK(D38),0,VLOOKUP(D38,LUTs!$A$6:$B$8,2))","v":{"$error":"#N/A"}},{"$f":"IF(ISBLANK(E38),0,VLOOKUP(E38,LUTs!$A$6:$B$8,2))","v":{"$error":"#N/A"}},{"$f":"IF(ISBLANK(F38),0,VLOOKUP(F38,LUTs!$A$6:$B$8,2))","v":{"$error":"#N/A"}},{"$f":"IF(ISBLANK(G38),0,VLOOKUP(G38,LUTs!$A$6:$B$8,2))","v":{"$error":"#N/A"}},{"$f":"IF(ISBLANK(H38),0,VLOOKUP(H38,LUTs!$A$6:$B$8,2))","v":{"$error":"#N/A"}},{"$f":"IF(ISBLANK(I38),0,VLOOKUP(I38,LUTs!$A$6:$B$8,2))","v":{"$error":"#N/A"}}]
[{"$f":"IF(ISBLANK(Responses!A39), \"\", Responses!A39)","v":""},{"$f":"IF(ISBLANK(Responses!B39), \"\", Responses!B39)","v":""},{"$f":"IF(ISBLANK(Responses!N39), \"\", Responses!N39)","v":""},{"$f":"IF(ISBLANK(Responses!O39), \"\", Responses!O39)","v":""},{"$f":"IF(ISBLANK(Responses!P39), \"\", Responses!P39)","v":""},{"$f":"IF(ISBLANK(Responses!Q39), \"\", Responses!Q39)","v":""},{"$f":"IF(ISBLANK(Responses!R39), \"\", Responses!R39)","v":""},{"$f":"IF(ISBLANK(Responses!S39), \"\", Responses!S39)","v":""},{"$f":"IF(ISBLANK(Responses!T39), \"\", Responses!T39)","v":""},{"$error":"#N/A"},{"$error":"#N/A"},{"$f":"IF(ISBLANK(C39),0,VLOOKUP(C39,LUTs!$A$6:$B$8,2))","v":{"$error":"#N/A"}},{"$f":"IF(ISBLANK(D39),0,VLOOKUP(D39,LUTs!$A$6:$B$8,2))","v":{"$error":"#N/A"}},{"$f":"IF(ISBLANK(E39),0,VLOOKUP(E39,LUTs!$A$6:$B$8,2))","v":{"$error":"#N/A"}},{"$f":"IF(ISBLANK(F39),0,VLOOKUP(F39,LUTs!$A$6:$B$8,2))","v":{"$error":"#N/A"}},{"$f":"IF(ISBLANK(G39),0,VLOOKUP(G39,LUTs!$A$6:$B$8,2))","v":{"$error":"#N/A"}},{"$f":"IF(ISBLANK(H39),0,VLOOKUP(H39,LUTs!$A$6:$B$8,2))","v":{"$error":"#N/A"}},{"$f":"IF(ISBLANK(I39),0,VLOOKUP(I39,LUTs!$A$6:$B$8,2))","v":{"$error":"#N/A"}}]
[{"$f":"IF(ISBLANK(Responses!A40), \"\", Responses!A40)","v":""},{"$f":"IF(ISBLANK(Responses!B40), \"\", Responses!B40)","v":""},{"$f":"IF(ISBLANK(Responses!N40), \"\", Responses!N40)","v":""},{"$f":"IF(ISBLANK(Responses!O40), \"\", Responses!O40)","v":""},{"$f":"IF(ISBLANK(Responses!P40), \"\", Responses!P40)","v":""},{"$f":"IF(ISBLANK(Responses!Q40), \"\", Responses!Q40)","v":""},{"$f":"IF(ISBLANK(Responses!R40), \"\", Responses!R40)","v":""},{"$f":"IF(ISBLANK(Responses!S40), \"\", Responses!S40)","v":""},{"$f":"IF(ISBLANK(Responses!T40), \"\", Responses!T40)","v":""},{"$error":"#N/A"},{"$error":"#N/A"},{"$f":"IF(ISBLANK(C40),0,VLOOKUP(C40,LUTs!$A$6:$B$8,2))","v":{"$error":"#N/A"}},{"$f":"IF(ISBLANK(D40),0,VLOOKUP(D40,LUTs!$A$6:$B$8,2))","v":{"$error":"#N/A"}},{"$f":"IF(ISBLANK(E40),0,VLOOKUP(E40,LUTs!$A$6:$B$8,2))","v":{"$error":"#N/A"}},{"$f":"IF(ISBLANK(F40),0,VLOOKUP(F40,LUTs!$A$6:$B$8,2))","v":{"$error":"#N/A"}},{"$f":"IF(ISBLANK(G40),0,VLOOKUP(G40,LUTs!$A$6:$B$8,2))","v":{"$error":"#N/A"}},{"$f":"IF(ISBLANK(H40),0,VLOOKUP(H40,LUTs!$A$6:$B$8,2))","v":{"$error":"#N/A"}},{"$f":"IF(ISBLANK(I40),0,VLOOKUP(I40,LUTs!$A$6:$B$8,2))","v":{"$error":"#N/A"}}]
[{"$f":"IF(ISBLANK(Responses!A41), \"\", Responses!A41)","v":""},{"$f":"IF(ISBLANK(Responses!B41), \"\", Responses!B41)","v":""},{"$f":"IF(ISBLANK(Responses!N41), \"\", Responses!N41)","v":""},{"$f":"IF(ISBLANK(Responses!O41), \"\", Responses!O41)","v":""},{"$f":"IF(ISBLANK(Responses!P41), \"\", Responses!P41)","v":""},{"$f":"IF(ISBLANK(Responses!Q41), \"\", Responses!Q41)","v":""},{"$f":"IF(ISBLANK(Responses!R41), \"\", Responses!R41)","v":""},{"$f":"IF(ISBLANK(Responses!S41), \"\", Responses!S41)","v":""},{"$f":"IF(ISBLANK(Responses!T41), \"\", Responses!T41)","v":""},{"$error":"#N/A"},{"$error":"#N/A"},{"$f":"IF(ISBLANK(C41),0,VLOOKUP(C41,LUTs!$A$6:$B$8,2))","v":{"$error":"#N/A"}},{"$f":"IF(ISBLANK(D41),0,VLOOKUP(D41,LUTs!$A$6:$B$8,2))","v":{"$error":"#N/A"}},{"$f":"IF(ISBLANK(E41),0,VLOOKUP(E41,LUTs!$A$6:$B$8,2))","v":{"$error":"#N/A"}},{"$f":"IF(ISBLANK(F41),0,VLOOKUP(F41,LUTs!$A$6:$B$8,2))","v":{"$error":"#N/A"}},{"$f":"IF(ISBLANK(G41),0,VLOOKUP(G41,LUTs!$A$6:$B$8,2))","v":{"$error":"#N/A"}},{"$f":"IF(ISBLANK(H41),0,VLOOKUP(H41,LUTs!$A$6:$B$8,2))","v":{"$error":"#N/A"}},{"$f":"IF(ISBLANK(I41),0,VLOOKUP(I41,LUTs!$A$6:$B$8,2))","v":{"$error":"#N/A"}}]
[{"$f":"IF(ISBLANK(Responses!A42), \"\", Responses!A42)","v":""},{"$f":"IF(ISBLANK(Responses!B42), \"\", Responses!B42)","v":""},{"$f":"IF(ISBLANK(Responses!N42), \"\", Responses!N42)","v":""},{"$f":"IF(ISBLANK(Responses!O42), \"\", Responses!O42)","v":""},{"$f":"IF(ISBLANK(Responses!P42), \"\", Responses!P42)","v":""},{"$f":"IF(ISBLANK(Responses!Q42), \"\", Responses!Q42)","v":""},{"$f":"IF(ISBLANK(Responses!R42), \"\", Responses!R42)","v":""},{"$f":"IF(ISBLANK(Responses!S42), \"\", Responses!S42)","v":""},{"$f":"IF(ISBLANK(Responses!T42), \"\", Responses!T42)","v":""},{"$error":"#N/A"},{"$error":"#N/A"},{"$f":"IF(ISBLANK(C42),0,VLOOKUP(C42,LUTs!$A$6:$B$8,2))","v":{"$error":"#N/A"}},{"$f":"IF(ISBLANK(D42),0,VLOOKUP(D42,LUTs!$A$6:$B$8,2))","v":{"$error":"#N/A"}},{"$f":"IF(ISBLANK(E42),0,VLOOKUP(E42,LUTs!$A$6:$B$8,2))","v":{"$error":"#N/A"}},{"$f":"IF(ISBLANK(F42),0,VLOOKUP(F42,LUTs!$A$6:$B$8,2))","v":{"$error":"#N/A"}},{"$f":"IF(ISBLANK(G42),0,VLOOKUP(G42,LUTs!$A$6:$B$8,2))","v":{"$error":"#N/A"}},{"$f":"IF(ISBLANK(H42),0,VLOOKUP(H42,LUTs!$A$6:$B$8,2))","v":{"$error":"#N/A"}},{"$f":"IF(ISBLANK(I42),0,VLOOKUP(I42,LUTs!$A$6:$B$8,2))","v":{"$error":"#N/A"}}]
[{"$f":"IF(ISBLANK(Responses!A43), \"\", Responses!A43)","v":""},{"$f":"IF(ISBLANK(Responses!B43), \"\", Responses!B43)","v":""},{"$f":"IF(ISBLANK(Responses!N43), \"\", Responses!N43)","v":""},{"$f":"IF(ISBLANK(Responses!O43), \"\", Responses!O43)","v":""},{"$f":"IF(ISBLANK(Responses!P43), \"\", Responses!P43)","v":""},{"$f":"IF(ISBLANK(Responses!Q43), \"\", Responses!Q43)","v":""},{"$f":"IF(ISBLANK(Responses!R43), \"\", Responses!R43)","v":""},{"$f":"IF(ISBLANK(Responses!S43), \"\", Responses!S43)","v":""},{"$f":"IF(ISBLANK(Responses!T43), \"\", Responses!T43)","v":""},{"$error":"#N/A"},{"$error":"#N/A"},{"$f":"IF(ISBLANK(C43),0,VLOOKUP(C43,LUTs!$A$6:$B$8,2))","v":{"$error":"#N/A"}},{"$f":"IF(ISBLANK(D43),0,VLOOKUP(D43,LUTs!$A$6:$B$8,2))","v":{"$error":"#N/A"}},{"$f":"IF(ISBLANK(E43),0,VLOOKUP(E43,LUTs!$A$6:$B$8,2))","v":{"$error":"#N/A"}},{"$f":"IF(ISBLANK(F43),0,VLOOKUP(F43,LUTs!$A$6:$B$8,2))","v":{"$error":"#N/A"}},{"$f":"IF(ISBLANK(G43),0,VLOOKUP(G43,LUTs!$A$6:$B$8,2))","v":{"$error":"#N/A"}},{"$f":"IF(ISBLANK(H43),0,VLOOKUP(H43,LUTs!$A$6:$B$8,2))","v":{"$error":"#N/A"}},{"$f":"IF(ISBLANK(I43),0,VLOOKUP(I43,LUTs!$A$6:$B$8,2))","v":{"$error":"#N/A"}}]
[{"$f":"IF(ISBLANK(Responses!A44), \"\", Responses!A44)","v":""},{"$f":"IF(ISBLANK(Responses!B44), \"\", Responses!B44)","v":""},{"$f":"IF(ISBLANK(Responses!N44), \"\", Responses!N44)","v":""},{"$f":"IF(ISBLANK(Responses!O44), \"\", Responses!O44)","v":""},{"$f":"IF(ISBLANK(Responses!P44), \"\", Responses!P44)","v":""},{"$f":"IF(ISBLANK(Responses!Q44), \"\", Responses!Q44)","v":""},{"$f":"IF(ISBLANK(Responses!R44), \"\", Responses!R44)","v":""},{"$f":"IF(ISBLANK(Responses!S44), \"\", Responses!S44)","v":""},{"$f":"IF(ISBLANK(Responses!T44), \"\", Responses!T44)","v":""},{"$error":"#N/A"},{"$error":"#N/A"},{"$f":"IF(ISBLANK(C44),0,VLOOKUP(C44,LUTs!$A$6:$B$8,2))","v":{"$error":"#N/A"}},{"$f":"IF(ISBLANK(D44),0,VLOOKUP(D44,LUTs!$A$6:$B$8,2))","v":{"$error":"#N/A"}},{"$f":"IF(ISBLANK(E44),0,VLOOKUP(E44,LUTs!$A$6:$B$8,2))","v":{"$error":"#N/A"}},{"$f":"IF(ISBLANK(F44),0,VLOOKUP(F44,LUTs!$A$6:$B$8,2))","v":{"$error":"#N/A"}},{"$f":"IF(ISBLANK(G44),0,VLOOKUP(G44,LUTs!$A$6:$B$8,2))","v":{"$error":"#N/A"}},{"$f":"IF(ISBLANK(H44),0,VLOOKUP(H44,LUTs!$A$6:$B$8,2))","v":{"$error":"#N/A"}},{"$f":"IF(ISBLANK(I44),0,VLOOKUP(I44,LUTs!$A$6:$B$8,2))","v":{"$error":"#N/A"}}]
[{"$f":"IF(ISBLANK(Responses!A45), \"\", Responses!A45)","v":""},{"$f":"IF(ISBLANK(Responses!B45), \"\", Responses!B45)","v":""},{"$f":"IF(ISBLANK(Responses!N45), \"\", Responses!N45)","v":""},{"$f":"IF(ISBLANK(Responses!O45), \"\", Responses!O45)","v":""},{"$f":"IF(ISBLANK(Responses!P45), \"\", Responses!P45)","v":""},{"$f":"IF(ISBLANK(Responses!Q45), \"\", Responses!Q45)","v":""},{"$f":"IF(ISBLANK(Responses!R45), \"\", Responses!R45)","v":""},{"$f":"IF(ISBLANK(Responses!S45), \"\", Responses!S45)","v":""},{"$f":"IF(ISBLANK(Responses!T45), \"\", Responses!T45)","v":""},{"$error":"#N/A"},{"$error":"#N/A"},{"$f":"IF(ISBLANK(C45),0,VLOOKUP(C45,LUTs!$A$6:$B$8,2))","v":{"$error":"#N/A"}},{"$f":"IF(ISBLANK(D45),0,VLOOKUP(D45,LUTs!$A$6:$B$8,2))","v":{"$error":"#N/A"}},{"$f":"IF(ISBLANK(E45),0,VLOOKUP(E45,LUTs!$A$6:$B$8,2))","v":{"$error":"#N/A"}},{"$f":"IF(ISBLANK(F45),0,VLOOKUP(F45,LUTs!$A$6:$B$8,2))","v":{"$error":"#N/A"}},{"$f":"IF(ISBLANK(G45),0,VLOOKUP(G45,LUTs!$A$6:$B$8,2))","v":{"$error":"#N/A"}},{"$f":"IF(ISBLANK(H45),0,VLOOKUP(H45,LUTs!$A$6:$B$8,2))","v":{"$error":"#N/A"}},{"$f":"IF(ISBLANK(I45),0,VLOOKUP(I45,LUTs!$A$6:$B$8,2))","v":{"$error":"#N/A"}}]
[{"$f":"IF(ISBLANK(Responses!A46), \"\", Responses!A46)","v":""},{"$f":"IF(ISBLANK(Responses!B46), \"\", Responses!B46)","v":""},{"$f":"IF(ISBLANK(Responses!N46), \"\", Responses!N46)","v":""},{"$f":"IF(ISBLANK(Responses!O46), \"\", Responses!O46)","v":""},{"$f":"IF(ISBLANK(Responses!P46), \"\", Responses!P46)","v":""},{"$f":"IF(ISBLANK(Responses!Q46), \"\", Responses!Q46)","v":""},{"$f":"IF(ISBLANK(Responses!R46), \"\", Responses!R46)","v":""},{"$f":"IF(ISBLANK(Responses!S46), \"\", Responses!S46)","v":""},{"$f":"IF(ISBLANK(Responses!T46), \"\", Responses!T46)","v":""},{"$error":"#N/A"},{"$error":"#N/A"},{"$f":"IF(ISBLANK(C46),0,VLOOKUP(C46,LUTs!$A$6:$B$8,2))","v":{"$error":"#N/A"}},{"$f":"IF(ISBLANK(D46),0,VLOOKUP(D46,LUTs!$A$6:$B$8,2))","v":{"$error":"#N/A"}},{"$f":"IF(ISBLANK(E46),0,VLOOKUP(E46,LUTs!$A$6:$B$8,2))","v":{"$error":"#N/A"}},{"$f":"IF(ISBLANK(F46),0,VLOOKUP(F46,LUTs!$A$6:$B$8,2))","v":{"$error":"#N/A"}},{"$f":"IF(ISBLANK(G46),0,VLOOKUP(G46,LUTs!$A$6:$B$8,2))","v":{"$error":"#N/A"}},{"$f":"IF(ISBLANK(H46),0,VLOOKUP(H46,LUTs!$A$6:$B$8,2))","v":{"$error":"#N/A"}},{"$f":"IF(ISBLANK(I46),0,VLOOKUP(I46,LUTs!$A$6:$B$8,2))","v":{"$error":"#N/A"}}]
[{"$f":"IF(ISBLANK(Responses!A47), \"\", Responses!A47)","v":""},{"$f":"IF(ISBLANK(Responses!B47), \"\", Responses!B47)","v":""},{"$f":"IF(ISBLANK(Responses!N47), \"\", Responses!N47)","v":""},{"$f":"IF(ISBLANK(Responses!O47), \"\", Responses!O47)","v":""},{"$f":"IF(ISBLANK(Responses!P47), \"\", Responses!P47)","v":""},{"$f":"IF(ISBLANK(Responses!Q47), \"\", Responses!Q47)","v":""},{"$f":"IF(ISBLANK(Responses!R47), \"\", Responses!R47)","v":""},{"$f":"IF(ISBLANK(Responses!S47), \"\", Responses!S47)","v":""},{"$f":"IF(ISBLANK(Responses!T47), \"\", Responses!T47)","v":""},{"$error":"#N/A"},{"$error":"#N/A"},{"$f":"IF(ISBLANK(C47),0,VLOOKUP(C47,LUTs!$A$6:$B$8,2))","v":{"$error":"#N/A"}},{"$f":"IF(ISBLANK(D47),0,VLOOKUP(D47,LUTs!$A$6:$B$8,2))","v":{"$error":"#N/A"}},{"$f":"IF(ISBLANK(E47),0,VLOOKUP(E47,LUTs!$A$6:$B$8,2))","v":{"$error":"#N/A"}},{"$f":"IF(ISBLANK(F47),0,VLOOKUP(F47,LUTs!$A$6:$B$8,2))","v":{"$error":"#N/A"}},{"$f":"IF(ISBLANK(G47),0,VLOOKUP(G47,LUTs!$A$6:$B$8,2))","v":{"$error":"#N/A"}},{"$f":"IF(ISBLANK(H47),0,VLOOKUP(H47,LUTs!$A$6:$B$8,2))","v":{"$error":"#N/A"}},{"$f":"IF(ISBLANK(I47),0,VLOOKUP(I47,LUTs!$A$6:$B$8,2))","v":{"$error":"#N/A"}}]
[{"$f":"IF(ISBLANK(Responses!A48), \"\", Responses!A48)","v":""},{"$f":"IF(ISBLANK(Responses!B48), \"\", Responses!B48)","v":""},{"$f":"IF(ISBLANK(Responses!N48), \"\", Responses!N48)","v":""},{"$f":"IF(ISBLANK(Responses!O48), \"\", Responses!O48)","v":""},{"$f":"IF(ISBLANK(Responses!P48), \"\", Responses!P48)","v":""},{"$f":"IF(ISBLANK(Responses!Q48), \"\", Responses!Q48)","v":""},{"$f":"IF(ISBLANK(Responses!R48), \"\", Responses!R48)","v":""},{"$f":"IF(ISBLANK(Responses!S48), \"\", Responses!S48)","v":""},{"$f":"IF(ISBLANK(Responses!T48), \"\", Responses!T48)","v":""},{"$error":"#N/A"},{"$error":"#N/A"},{"$f":"IF(ISBLANK(C48),0,VLOOKUP(C48,LUTs!$A$6:$B$8,2))","v":{"$error":"#N/A"}},{"$f":"IF(ISBLANK(D48),0,VLOOKUP(D48,LUTs!$A$6:$B$8,2))","v":{"$error":"#N/A"}},{"$f":"IF(ISBLANK(E48),0,VLOOKUP(E48,LUTs!$A$6:$B$8,2))","v":{"$error":"#N/A"}},{"$f":"IF(ISBLANK(F48),0,VLOOKUP(F48,LUTs!$A$6:$B$8,2))","v":{"$error":"#N/A"}},{"$f":"IF(ISBLANK(G48),0,VLOOKUP(G48,LUTs!$A$6:$B$8,2))","v":{"$error":"#N/A"}},{"$f":"IF(ISBLANK(H48),0,VLOOKUP(H48,LUTs!$A$6:$B$8,2))","v":{"$error":"#N/A"}},{"$f":"IF(ISBLANK(I48),0,VLOOKUP(I48,LUTs!$A$6:$B$8,2))","v":{"$error":"#N/A"}}]
[{"$f":"IF(ISBLANK(Responses!A49), \"\", Responses!A49)","v":""},{"$f":"IF(ISBLANK(Responses!B49), \"\", Responses!B49)","v":""},{"$f":"IF(ISBLANK(Responses!N49), \"\", Responses!N49)","v":""},{"$f":"IF(ISBLANK(Responses!O49), \"\", Responses!O49)","v":""},{"$f":"IF(ISBLANK(Responses!P49), \"\", Responses!P49)","v":""},{"$f":"IF(ISBLANK(Responses!Q49), \"\", Responses!Q49)","v":""},{"$f":"IF(ISBLANK(Responses!R49), \"\", Responses!R49)","v":""},{"$f":"IF(ISBLANK(Responses!S49), \"\", Responses!S49)","v":""},{"$f":"IF(ISBLANK(Responses!T49), \"\", Responses!T49)","v":""},{"$error":"#N/A"},{"$error":"#N/A"},{"$f":"IF(ISBLANK(C49),0,VLOOKUP(C49,LUTs!$A$6:$B$8,2))","v":{"$error":"#N/A"}},{"$f":"IF(ISBLANK(D49),0,VLOOKUP(D49,LUTs!$A$6:$B$8,2))","v":{"$error":"#N/A"}},{"$f":"IF(ISBLANK(E49),0,VLOOKUP(E49,LUTs!$A$6:$B$8,2))","v":{"$error":"#N/A"}},{"$f":"IF(ISBLANK(F49),0,VLOOKUP(F49,LUTs!$A$6:$B$8,2))","v":{"$error":"#N/A"}},{"$f":"IF(ISBLANK(G49),0,VLOOKUP(G49,LUTs!$A$6:$B$8,2))","v":{"$error":"#N/A"}},{"$f":"IF(ISBLANK(H49),0,VLOOKUP(H49,LUTs!$A$6:$B$8,2))","v":{"$error":"#N/A"}},{"$f":"IF(ISBLANK(I49),0,VLOOKUP(I49,LUTs!$A$6:$B$8,2))","v":{"$error":"#N/A"}}]
[{"$f":"IF(ISBLANK(Responses!A50), \"\", Responses!A50)","v":""},{"$f":"IF(ISBLANK(Responses!B50), \"\", Responses!B50)","v":""},{"$f":"IF(ISBLANK(Responses!N50), \"\", Responses!N50)","v":""},{"$f":"IF(ISBLANK(Responses!O50), \"\", Responses!O50)","v":""},{"$f":"IF(ISBLANK(Responses!P50), \"\", Responses!P50)","v":""},{"$f":"IF(ISBLANK(Responses!Q50), \"\", Responses!Q50)","v":""},{"$f":"IF(ISBLANK(Responses!R50), \"\", Responses!R50)","v":""},{"$f":"IF(ISBLANK(Responses!S50), \"\", Responses!S50)","v":""},{"$f":"IF(ISBLANK(Responses!T50), \"\", Responses!T50)","v":""},{"$error":"#N/A"},{"$error":"#N/A"},{"$f":"IF(ISBLANK(C50),0,VLOOKUP(C50,LUTs!$A$6:$B$8,2))","v":{"$error":"#N/A"}},{"$f":"IF(ISBLANK(D50),0,VLOOKUP(D50,LUTs!$A$6:$B$8,2))","v":{"$error":"#N/A"}},{"$f":"IF(ISBLANK(E50),0,VLOOKUP(E50,LUTs!$A$6:$B$8,2))","v":{"$error":"#N/A"}},{"$f":"IF(ISBLANK(F50),0,VLOOKUP(F50,LUTs!$A$6:$B$8,2))","v":{"$error":"#N/A"}},{"$f":"IF(ISBLANK(G50),0,VLOOKUP(G50,LUTs!$A$6:$B$8,2))","v":{"$error":"#N/A"}},{"$f":"IF(ISBLANK(H50),0,VLOOKUP(H50,LUTs!$A$6:$B$8,2))","v":{"$error":"#N/A"}},{"$f":"IF(ISBLANK(I50),0,VLOOKUP(I50,LUTs!$A$6:$B$8,2))","v":{"$error":"#N/A"}}]
[{"$f":"IF(ISBLANK(Responses!A51), \"\", Responses!A51)","v":""},{"$f":"IF(ISBLANK(Responses!B51), \"\", Responses!B51)","v":""},{"$f":"IF(ISBLANK(Responses!N51), \"\", Responses!N51)","v":""},{"$f":"IF(ISBLANK(Responses!O51), \"\", Responses!O51)","v":""},{"$f":"IF(ISBLANK(Responses!P51), \"\", Responses!P51)","v":""},{"$f":"IF(ISBLANK(Responses!Q51), \"\", Responses!Q51)","v":""},{"$f":"IF(ISBLANK(Responses!R51), \"\", Responses!R51)","v":""},{"$f":"IF(ISBLANK(Responses!S51), \"\", Responses!S51)","v":""},{"$f":"IF(ISBLANK(Responses!T51), \"\", Responses!T51)","v":""},{"$error":"#N/A"},{"$error":"#N/A"},{"$f":"IF(ISBLANK(C51),0,VLOOKUP(C51,LUTs!$A$6:$B$8,2))","v":{"$error":"#N/A"}},{"$f":"IF(ISBLANK(D51),0,VLOOKUP(D51,LUTs!$A$6:$B$8,2))","v":{"$error":"#N/A"}},{"$f":"IF(ISBLANK(E51),0,VLOOKUP(E51,LUTs!$A$6:$B$8,2))","v":{"$error":"#N/A"}},{"$f":"IF(ISBLANK(F51),0,VLOOKUP(F51,LUTs!$A$6:$B$8,2))","v":{"$error":"#N/A"}},{"$f":"IF(ISBLANK(G51),0,VLOOKUP(G51,LUTs!$A$6:$B$8,2))","v":{"$error":"#N/A"}},{"$f":"IF(ISBLANK(H51),0,VLOOKUP(H51,LUTs!$A$6:$B$8,2))","v":{"$error":"#N/A"}},{"$f":"IF(ISBLANK(I51),0,VLOOKUP(I51,LUTs!$A$6:$B$8,2))","v":{"$error":"#N/A"}}]
[{"$f":"IF(ISBLANK(Responses!A52), \"\", Responses!A52)","v":""},{"$f":"IF(ISBLANK(Responses!B52), \"\", Responses!B52)","v":""},{"$f":"IF(ISBLANK(Responses!N52), \"\", Responses!N52)","v":""},{"$f":"IF(ISBLANK(Responses!O52), \"\", Responses!O52)","v":""},{"$f":"IF(ISBLANK(Responses!P52), \"\", Responses!P52)","v":""},{"$f":"IF(ISBLANK(Responses!Q52), \"\", Responses!Q52)","v":""},{"$f":"IF(ISBLANK(Responses!R52), \"\", Responses!R52)","v":""},{"$f":"IF(ISBLANK(Responses!S52), \"\", Responses!S52)","v":""},{"$f":"IF(ISBLANK(Responses!T52), \"\", Responses!T52)","v":""},{"$error":"#N/A"},{"$error":"#N/A"},{"$f":"IF(ISBLANK(C52),0,VLOOKUP(C52,LUTs!$A$6:$B$8,2))","v":{"$error":"#N/A"}},{"$f":"IF(ISBLANK(D52),0,VLOOKUP(D52,LUTs!$A$6:$B$8,2))","v":{"$error":"#N/A"}},{"$f":"IF(ISBLANK(E52),0,VLOOKUP(E52,LUTs!$A$6:$B$8,2))","v":{"$error":"#N/A"}},{"$f":"IF(ISBLANK(F52),0,VLOOKUP(F52,LUTs!$A$6:$B$8,2))","v":{"$error":"#N/A"}},{"$f":"IF(ISBLANK(G52),0,VLOOKUP(G52,LUTs!$A$6:$B$8,2))","v":{"$error":"#N/A"}},{"$f":"IF(ISBLANK(H52),0,VLOOKUP(H52,LUTs!$A$6:$B$8,2))","v":{"$error":"#N/A"}},{"$f":"IF(ISBLANK(I52),0,VLOOKUP(I52,LUTs!$A$6:$B$8,2))","v":{"$error":"#N/A"}}]
[{"$f":"IF(ISBLANK(Responses!A53), \"\", Responses!A53)","v":""},{"$f":"IF(ISBLANK(Responses!B53), \"\", Responses!B53)","v":""},{"$f":"IF(ISBLANK(Responses!N53), \"\", Responses!N53)","v":""},{"$f":"IF(ISBLANK(Responses!O53), \"\", Responses!O53)","v":""},{"$f":"IF(ISBLANK(Responses!P53), \"\", Responses!P53)","v":""},{"$f":"IF(ISBLANK(Responses!Q53), \"\", Responses!Q53)","v":""},{"$f":"IF(ISBLANK(Responses!R53), \"\", Responses!R53)","v":""},{"$f":"IF(ISBLANK(Responses!S53), \"\", Responses!S53)","v":""},{"$f":"IF(ISBLANK(Responses!T53), \"\", Responses!T53)","v":""},{"$error":"#N/A"},{"$error":"#N/A"},{"$f":"IF(ISBLANK(C53),0,VLOOKUP(C53,LUTs!$A$6:$B$8,2))","v":{"$error":"#N/A"}},{"$f":"IF(ISBLANK(D53),0,VLOOKUP(D53,LUTs!$A$6:$B$8,2))","v":{"$error":"#N/A"}},{"$f":"IF(ISBLANK(E53),0,VLOOKUP(E53,LUTs!$A$6:$B$8,2))","v":{"$error":"#N/A"}},{"$f":"IF(ISBLANK(F53),0,VLOOKUP(F53,LUTs!$A$6:$B$8,2))","v":{"$error":"#N/A"}},{"$f":"IF(ISBLANK(G53),0,VLOOKUP(G53,LUTs!$A$6:$B$8,2))","v":{"$error":"#N/A"}},{"$f":"IF(ISBLANK(H53),0,VLOOKUP(H53,LUTs!$A$6:$B$8,2))","v":{"$error":"#N/A"}},{"$f":"IF(ISBLANK(I53),0,VLOOKUP(I53,LUTs!$A$6:$B$8,2))","v":{"$error":"#N/A"}}]
[{"$f":"IF(ISBLANK(Responses!A54), \"\", Responses!A54)","v":""},{"$f":"IF(ISBLANK(Responses!B54), \"\", Responses!B54)","v":""},{"$f":"IF(ISBLANK(Responses!N54), \"\", Responses!N54)","v":""},{"$f":"IF(ISBLANK(Responses!O54), \"\", Responses!O54)","v":""},{"$f":"IF(ISBLANK(Responses!P54), \"\", Responses!P54)","v":""},{"$f":"IF(ISBLANK(Responses!Q54), \"\", Responses!Q54)","v":""},{"$f":"IF(ISBLANK(Responses!R54), \"\", Responses!R54)","v":""},{"$f":"IF(ISBLANK(Responses!S54), \"\", Responses!S54)","v":""},{"$f":"IF(ISBLANK(Responses!T54), \"\", Responses!T54)","v":""},{"$error":"#N/A"},{"$error":"#N/A"},{"$f":"IF(ISBLANK(C54),0,VLOOKUP(C54,LUTs!$A$6:$B$8,2))","v":{"$error":"#N/A"}},{"$f":"IF(ISBLANK(D54),0,VLOOKUP(D54,LUTs!$A$6:$B$8,2))","v":{"$error":"#N/A"}},{"$f":"IF(ISBLANK(E54),0,VLOOKUP(E54,LUTs!$A$6:$B$8,2))","v":{"$error":"#N/A"}},{"$f":"IF(ISBLANK(F54),0,VLOOKUP(F54,LUTs!$A$6:$B$8,2))","v":{"$error":"#N/A"}},{"$f":"IF(ISBLANK(G54),0,VLOOKUP(G54,LUTs!$A$6:$B$8,2))","v":{"$error":"#N/A"}},{"$f":"IF(ISBLANK(H54),0,VLOOKUP(H54,LUTs!$A$6:$B$8,2))","v":{"$error":"#N/A"}},{"$f":"IF(ISBLANK(I54),0,VLOOKUP(I54,LUTs!$A$6:$B$8,2))","v":{"$error":"#N/A"}}]
[{"$f":"IF(ISBLANK(Responses!A55), \"\", Responses!A55)","v":""},{"$f":"IF(ISBLANK(Responses!B55), \"\", Responses!B55)","v":""},{"$f":"IF(ISBLANK(Responses!N55), \"\", Responses!N55)","v":""},{"$f":"IF(ISBLANK(Responses!O55), \"\", Responses!O55)","v":""},{"$f":"IF(ISBLANK(Responses!P55), \"\", Responses!P55)","v":""},{"$f":"IF(ISBLANK(Responses!Q55), \"\", Responses!Q55)","v":""},{"$f":"IF(ISBLANK(Responses!R55), \"\", Responses!R55)","v":""},{"$f":"IF(ISBLANK(Responses!S55), \"\", Responses!S55)","v":""},{"$f":"IF(ISBLANK(Responses!T55), \"\", Responses!T55)","v":""},{"$error":"#N/A"},{"$error":"#N/A"},{"$f":"IF(ISBLANK(C55),0,VLOOKUP(C55,LUTs!$A$6:$B$8,2))","v":{"$error":"#N/A"}},{"$f":"IF(ISBLANK(D55),0,VLOOKUP(D55,LUTs!$A$6:$B$8,2))","v":{"$error":"#N/A"}},{"$f":"IF(ISBLANK(E55),0,VLOOKUP(E55,LUTs!$A$6:$B$8,2))","v":{"$error":"#N/A"}},{"$f":"IF(ISBLANK(F55),0,VLOOKUP(F55,LUTs!$A$6:$B$8,2))","v":{"$error":"#N/A"}},{"$f":"IF(ISBLANK(G55),0,VLOOKUP(G55,LUTs!$A$6:$B$8,2))","v":{"$error":"#N/A"}},{"$f":"IF(ISBLANK(H55),0,VLOOKUP(H55,LUTs!$A$6:$B$8,2))","v":{"$error":"#N/A"}},{"$f":"IF(ISBLANK(I55),0,VLOOKUP(I55,LUTs!$A$6:$B$8,2))","v":{"$error":"#N/A"}}]
[{"$f":"IF(ISBLANK(Responses!A56), \"\", Responses!A56)","v":""},{"$f":"IF(ISBLANK(Responses!B56), \"\", Responses!B56)","v":""},{"$f":"IF(ISBLANK(Responses!N56), \"\", Responses!N56)","v":""},{"$f":"IF(ISBLANK(Responses!O56), \"\", Responses!O56)","v":""},{"$f":"IF(ISBLANK(Responses!P56), \"\", Responses!P56)","v":""},{"$f":"IF(ISBLANK(Responses!Q56), \"\", Responses!Q56)","v":""},{"$f":"IF(ISBLANK(Responses!R56), \"\", Responses!R56)","v":""},{"$f":"IF(ISBLANK(Responses!S56), \"\", Responses!S56)","v":""},{"$f":"IF(ISBLANK(Responses!T56), \"\", Responses!T56)","v":""},{"$error":"#N/A"},{"$error":"#N/A"},{"$f":"IF(ISBLANK(C56),0,VLOOKUP(C56,LUTs!$A$6:$B$8,2))","v":{"$error":"#N/A"}},{"$f":"IF(ISBLANK(D56),0,VLOOKUP(D56,LUTs!$A$6:$B$8,2))","v":{"$error":"#N/A"}},{"$f":"IF(ISBLANK(E56),0,VLOOKUP(E56,LUTs!$A$6:$B$8,2))","v":{"$error":"#N/A"}},{"$f":"IF(ISBLANK(F56),0,VLOOKUP(F56,LUTs!$A$6:$B$8,2))","v":{"$error":"#N/A"}},{"$f":"IF(ISBLANK(G56),0,VLOOKUP(G56,LUTs!$A$6:$B$8,2))","v":{"$error":"#N/A"}},{"$f":"IF(ISBLANK(H56),0,VLOOKUP(H56,LUTs!$A$6:$B$8,2))","v":{"$error":"#N/A"}},{"$f":"IF(ISBLANK(I56),0,VLOOKUP(I56,LUTs!$A$6:$B$8,2))","v":{"$error":"#N/A"}}]
[{"$f":"IF(ISBLANK(Responses!A57), \"\", Responses!A57)","v":""},{"$f":"IF(ISBLANK(Responses!B57), \"\", Responses!B57)","v":""},{"$f":"IF(ISBLANK(Responses!N57), \"\", Responses!N57)","v":""},{"$f":"IF(ISBLANK(Responses!O57), \"\", Responses!O57)","v":""},{"$f":"IF(ISBLANK(Responses!P57), \"\", Responses!P57)","v":""},{"$f":"IF(ISBLANK(Responses!Q57), \"\", Responses!Q57)","v":""},{"$f":"IF(ISBLANK(Responses!R57), \"\", Responses!R57)","v":""},{"$f":"IF(ISBLANK(Responses!S57), \"\", Responses!S57)","v":""},{"$f":"IF(ISBLANK(Responses!T57), \"\", Responses!T57)","v":""},{"$error":"#N/A"},{"$error":"#N/A"},{"$f":"IF(ISBLANK(C57),0,VLOOKUP(C57,LUTs!$A$6:$B$8,2))","v":{"$error":"#N/A"}},{"$f":"IF(ISBLANK(D57),0,VLOOKUP(D57,LUTs!$A$6:$B$8,2))","v":{"$error":"#N/A"}},{"$f":"IF(ISBLANK(E57),0,VLOOKUP(E57,LUTs!$A$6:$B$8,2))","v":{"$error":"#N/A"}},{"$f":"IF(ISBLANK(F57),0,VLOOKUP(F57,LUTs!$A$6:$B$8,2))","v":{"$error":"#N/A"}},{"$f":"IF(ISBLANK(G57),0,VLOOKUP(G57,LUTs!$A$6:$B$8,2))","v":{"$error":"#N/A"}},{"$f":"IF(ISBLANK(H57),0,VLOOKUP(H57,LUTs!$A$6:$B$8,2))","v":{"$error":"#N/A"}},{"$f":"IF(ISBLANK(I57),0,VLOOKUP(I57,LUTs!$A$6:$B$8,2))","v":{"$error":"#N/A"}}]
[{"$f":"IF(ISBLANK(Responses!A58), \"\", Responses!A58)","v":""},{"$f":"IF(ISBLANK(Responses!B58), \"\", Responses!B58)","v":""},{"$f":"IF(ISBLANK(Responses!N58), \"\", Responses!N58)","v":""},{"$f":"IF(ISBLANK(Responses!O58), \"\", Responses!O58)","v":""},{"$f":"IF(ISBLANK(Responses!P58), \"\", Responses!P58)","v":""},{"$f":"IF(ISBLANK(Responses!Q58), \"\", Responses!Q58)","v":""},{"$f":"IF(ISBLANK(Responses!R58), \"\", Responses!R58)","v":""},{"$f":"IF(ISBLANK(Responses!S58), \"\", Responses!S58)","v":""},{"$f":"IF(ISBLANK(Responses!T58), \"\", Responses!T58)","v":""},{"$error":"#N/A"},{"$error":"#N/A"},{"$f":"IF(ISBLANK(C58),0,VLOOKUP(C58,LUTs!$A$6:$B$8,2))","v":{"$error":"#N/A"}},{"$f":"IF(ISBLANK(D58),0,VLOOKUP(D58,LUTs!$A$6:$B$8,2))","v":{"$error":"#N/A"}},{"$f":"IF(ISBLANK(E58),0,VLOOKUP(E58,LUTs!$A$6:$B$8,2))","v":{"$error":"#N/A"}},{"$f":"IF(ISBLANK(F58),0,VLOOKUP(F58,LUTs!$A$6:$B$8,2))","v":{"$error":"#N/A"}},{"$f":"IF(ISBLANK(G58),0,VLOOKUP(G58,LUTs!$A$6:$B$8,2))","v":{"$error":"#N/A"}},{"$f":"IF(ISBLANK(H58),0,VLOOKUP(H58,LUTs!$A$6:$B$8,2))","v":{"$error":"#N/A"}},{"$f":"IF(ISBLANK(I58),0,VLOOKUP(I58,LUTs!$A$6:$B$8,2))","v":{"$error":"#N/A"}}]
[{"$f":"IF(ISBLANK(Responses!A59), \"\", Responses!A59)","v":""},{"$f":"IF(ISBLANK(Responses!B59), \"\", Responses!B59)","v":""},{"$f":"IF(ISBLANK(Responses!N59), \"\", Responses!N59)","v":""},{"$f":"IF(ISBLANK(Responses!O59), \"\", Responses!O59)","v":""},{"$f":"IF(ISBLANK(Responses!P59), \"\", Responses!P59)","v":""},{"$f":"IF(ISBLANK(Responses!Q59), \"\", Responses!Q59)","v":""},{"$f":"IF(ISBLANK(Responses!R59), \"\", Responses!R59)","v":""},{"$f":"IF(ISBLANK(Responses!S59), \"\", Responses!S59)","v":""},{"$f":"IF(ISBLANK(Responses!T59), \"\", Responses!T59)","v":""},{"$error":"#N/A"},{"$error":"#N/A"},{"$f":"IF(ISBLANK(C59),0,VLOOKUP(C59,LUTs!$A$6:$B$8,2))","v":{"$error":"#N/A"}},{"$f":"IF(ISBLANK(D59),0,VLOOKUP(D59,LUTs!$A$6:$B$8,2))","v":{"$error":"#N/A"}},{"$f":"IF(ISBLANK(E59),0,VLOOKUP(E59,LUTs!$A$6:$B$8,2))","v":{"$error":"#N/A"}},{"$f":"IF(ISBLANK(F59),0,VLOOKUP(F59,LUTs!$A$6:$B$8,2))","v":{"$error":"#N/A"}},{"$f":"IF(ISBLANK(G59),0,VLOOKUP(G59,LUTs!$A$6:$B$8,2))","v":{"$error":"#N/A"}},{"$f":"IF(ISBLANK(H59),0,VLOOKUP(H59,LUTs!$A$6:$B$8,2))","v":{"$error":"#N/A"}},{"$f":"IF(ISBLANK(I59),0,VLOOKUP(I59,LUTs!$A$6:$B$8,2))","v":{"$error":"#N/A"}}]
[{"$f":"IF(ISBLANK(Responses!A60), \"\", Responses!A60)","v":""},{"$f":"IF(ISBLANK(Responses!B60), \"\", Responses!B60)","v":""},{"$f":"IF(ISBLANK(Responses!N60), \"\", Responses!N60)","v":""},{"$f":"IF(ISBLANK(Responses!O60), \"\", Responses!O60)","v":""},{"$f":"IF(ISBLANK(Responses!P60), \"\", Responses!P60)","v":""},{"$f":"IF(ISBLANK(Responses!Q60), \"\", Responses!Q60)","v":""},{"$f":"IF(ISBLANK(Responses!R60), \"\", Responses!R60)","v":""},{"$f":"IF(ISBLANK(Responses!S60), \"\", Responses!S60)","v":""},{"$f":"IF(ISBLANK(Responses!T60), \"\", Responses!T60)","v":""},{"$error":"#N/A"},{"$error":"#N/A"},{"$f":"IF(ISBLANK(C60),0,VLOOKUP(C60,LUTs!$A$6:$B$8,2))","v":{"$error":"#N/A"}},{"$f":"IF(ISBLANK(D60),0,VLOOKUP(D60,LUTs!$A$6:$B$8,2))","v":{"$error":"#N/A"}},{"$f":"IF(ISBLANK(E60),0,VLOOKUP(E60,LUTs!$A$6:$B$8,2))","v":{"$error":"#N/A"}},{"$f":"IF(ISBLANK(F60),0,VLOOKUP(F60,LUTs!$A$6:$B$8,2))","v":{"$error":"#N/A"}},{"$f":"IF(ISBLANK(G60),0,VLOOKUP(G60,LUTs!$A$6:$B$8,2))","v":{"$error":"#N/A"}},{"$f":"IF(ISBLANK(H60),0,VLOOKUP(H60,LUTs!$A$6:$B$8,2))","v":{"$error":"#N/A"}},{"$f":"IF(ISBLANK(I60),0,VLOOKUP(I60,LUTs!$A$6:$B$8,2))","v":{"$error":"#N/A"}}]
[{"$f":"IF(ISBLANK(Responses!A61), \"\", Responses!A61)","v":""},{"$f":"IF(ISBLANK(Responses!B61), \"\", Responses!B61)","v":""},{"$f":"IF(ISBLANK(Responses!N61), \"\", Responses!N61)","v":""},{"$f":"IF(ISBLANK(Responses!O61), \"\", Responses!O61)","v":""},{"$f":"IF(ISBLANK(Responses!P61), \"\", Responses!P61)","v":""},{"$f":"IF(ISBLANK(Responses!Q61), \"\", Responses!Q61)","v":""},{"$f":"IF(ISBLANK(Responses!R61), \"\", Responses!R61)","v":""},{"$f":"IF(ISBLANK(Responses!S61), \"\", Responses!S61)","v":""},{"$f":"IF(ISBLANK(Responses!T61), \"\", Responses!T61)","v":""},{"$error":"#N/A"},{"$error":"#N/A"},{"$f":"IF(ISBLANK(C61),0,VLOOKUP(C61,LUTs!$A$6:$B$8,2))","v":{"$error":"#N/A"}},{"$f":"IF(ISBLANK(D61),0,VLOOKUP(D61,LUTs!$A$6:$B$8,2))","v":{"$error":"#N/A"}},{"$f":"IF(ISBLANK(E61),0,VLOOKUP(E61,LUTs!$A$6:$B$8,2))","v":{"$error":"#N/A"}},{"$f":"IF(ISBLANK(F61),0,VLOOKUP(F61,LUTs!$A$6:$B$8,2))","v":{"$error":"#N/A"}},{"$f":"IF(ISBLANK(G61),0,VLOOKUP(G61,LUTs!$A$6:$B$8,2))","v":{"$error":"#N/A"}},{"$f":"IF(ISBLANK(H61),0,VLOOKUP(H61,LUTs!$A$6:$B$8,2))","v":{"$error":"#N/A"}},{"$f":"IF(ISBLANK(I61),0,VLOOKUP(I61,LUTs!$A$6:$B$8,2))","v":{"$error":"#N/A"}}]
[{"$f":"IF(ISBLANK(Responses!A62), \"\", Responses!A62)","v":""},{"$f":"IF(ISBLANK(Responses!B62), \"\", Responses!B62)","v":""},{"$f":"IF(ISBLANK(Responses!N62), \"\", Responses!N62)","v":""},{"$f":"IF(ISBLANK(Responses!O62), \"\", Responses!O62)","v":""},{"$f":"IF(ISBLANK(Responses!P62), \"\", Responses!P62)","v":""},{"$f":"IF(ISBLANK(Responses!Q62), \"\", Responses!Q62)","v":""},{"$f":"IF(ISBLANK(Responses!R62), \"\", Responses!R62)","v":""},{"$f":"IF(ISBLANK(Responses!S62), \"\", Responses!S62)","v":""},{"$f":"IF(ISBLANK(Responses!T62), \"\", Responses!T62)","v":""},{"$error":"#N/A"},{"$error":"#N/A"},{"$f":"IF(ISBLANK(C62),0,VLOOKUP(C62,LUTs!$A$6:$B$8,2))","v":{"$error":"#N/A"}},{"$f":"IF(ISBLANK(D62),0,VLOOKUP(D62,LUTs!$A$6:$B$8,2))","v":{"$error":"#N/A"}},{"$f":"IF(ISBLANK(E62),0,VLOOKUP(E62,LUTs!$A$6:$B$8,2))","v":{"$error":"#N/A"}},{"$f":"IF(ISBLANK(F62),0,VLOOKUP(F62,LUTs!$A$6:$B$8,2))","v":{"$error":"#N/A"}},{"$f":"IF(ISBLANK(G62),0,VLOOKUP(G62,LUTs!$A$6:$B$8,2))","v":{"$error":"#N/A"}},{"$f":"IF(ISBLANK(H62),0,VLOOKUP(H62,LUTs!$A$6:$B$8,2))","v":{"$error":"#N/A"}},{"$f":"IF(ISBLANK(I62),0,VLOOKUP(I62,LUTs!$A$6:$B$8,2))","v":{"$error":"#N/A"}}]
[{"$f":"IF(ISBLANK(Responses!A63), \"\", Responses!A63)","v":""},{"$f":"IF(ISBLANK(Responses!B63), \"\", Responses!B63)","v":""},{"$f":"IF(ISBLANK(Responses!N63), \"\", Responses!N63)","v":""},{"$f":"IF(ISBLANK(Responses!O63), \"\", Responses!O63)","v":""},{"$f":"IF(ISBLANK(Responses!P63), \"\", Responses!P63)","v":""},{"$f":"IF(ISBLANK(Responses!Q63), \"\", Responses!Q63)","v":""},{"$f":"IF(ISBLANK(Responses!R63), \"\", Responses!R63)","v":""},{"$f":"IF(ISBLANK(Responses!S63), \"\", Responses!S63)","v":""},{"$f":"IF(ISBLANK(Responses!T63), \"\", Responses!T63)","v":""},{"$error":"#N/A"},{"$error":"#N/A"},{"$f":"IF(ISBLANK(C63),0,VLOOKUP(C63,LUTs!$A$6:$B$8,2))","v":{"$error":"#N/A"}},{"$f":"IF(ISBLANK(D63),0,VLOOKUP(D63,LUTs!$A$6:$B$8,2))","v":{"$error":"#N/A"}},{"$f":"IF(ISBLANK(E63),0,VLOOKUP(E63,LUTs!$A$6:$B$8,2))","v":{"$error":"#N/A"}},{"$f":"IF(ISBLANK(F63),0,VLOOKUP(F63,LUTs!$A$6:$B$8,2))","v":{"$error":"#N/A"}},{"$f":"IF(ISBLANK(G63),0,VLOOKUP(G63,LUTs!$A$6:$B$8,2))","v":{"$error":"#N/A"}},{"$f":"IF(ISBLANK(H63),0,VLOOKUP(H63,LUTs!$A$6:$B$8,2))","v":{"$error":"#N/A"}},{"$f":"IF(ISBLANK(I63),0,VLOOKUP(I63,LUTs!$A$6:$B$8,2))","v":{"$error":"#N/A"}}]
[{"$f":"IF(ISBLANK(Responses!A64), \"\", Responses!A64)","v":""},{"$f":"IF(ISBLANK(Responses!B64), \"\", Responses!B64)","v":""},{"$f":"IF(ISBLANK(Responses!N64), \"\", Responses!N64)","v":""},{"$f":"IF(ISBLANK(Responses!O64), \"\", Responses!O64)","v":""},{"$f":"IF(ISBLANK(Responses!P64), \"\", Responses!P64)","v":""},{"$f":"IF(ISBLANK(Responses!Q64), \"\", Responses!Q64)","v":""},{"$f":"IF(ISBLANK(Responses!R64), \"\", Responses!R64)","v":""},{"$f":"IF(ISBLANK(Responses!S64), \"\", Responses!S64)","v":""},{"$f":"IF(ISBLANK(Responses!T64), \"\", Responses!T64)","v":""},{"$error":"#N/A"},{"$error":"#N/A"},{"$f":"IF(ISBLANK(C64),0,VLOOKUP(C64,LUTs!$A$6:$B$8,2))","v":{"$error":"#N/A"}},{"$f":"IF(ISBLANK(D64),0,VLOOKUP(D64,LUTs!$A$6:$B$8,2))","v":{"$error":"#N/A"}},{"$f":"IF(ISBLANK(E64),0,VLOOKUP(E64,LUTs!$A$6:$B$8,2))","v":{"$error":"#N/A"}},{"$f":"IF(ISBLANK(F64),0,VLOOKUP(F64,LUTs!$A$6:$B$8,2))","v":{"$error":"#N/A"}},{"$f":"IF(ISBLANK(G64),0,VLOOKUP(G64,LUTs!$A$6:$B$8,2))","v":{"$error":"#N/A"}},{"$f":"IF(ISBLANK(H64),0,VLOOKUP(H64,LUTs!$A$6:$B$8,2))","v":{"$error":"#N/A"}},{"$f":"IF(ISBLANK(I64),0,VLOOKUP(I64,LUTs!$A$6:$B$8,2))","v":{"$error":"#N/A"}}]
[{"$f":"IF(ISBLANK(Responses!A65), \"\", Responses!A65)","v":""},{"$f":"IF(ISBLANK(Responses!B65), \"\", Responses!B65)","v":""},{"$f":"IF(ISBLANK(Responses!N65), \"\", Responses!N65)","v":""},{"$f":"IF(ISBLANK(Responses!O65), \"\", Responses!O65)","v":""},{"$f":"IF(ISBLANK(Responses!P65), \"\", Responses!P65)","v":""},{"$f":"IF(ISBLANK(Responses!Q65), \"\", Responses!Q65)","v":""},{"$f":"IF(ISBLANK(Responses!R65), \"\", Responses!R65)","v":""},{"$f":"IF(ISBLANK(Responses!S65), \"\", Responses!S65)","v":""},{"$f":"IF(ISBLANK(Responses!T65), \"\", Responses!T65)","v":""},{"$error":"#N/A"},{"$error":"#N/A"},{"$f":"IF(ISBLANK(C65),0,VLOOKUP(C65,LUTs!$A$6:$B$8,2))","v":{"$error":"#N/A"}},{"$f":"IF(ISBLANK(D65),0,VLOOKUP(D65,LUTs!$A$6:$B$8,2))","v":{"$error":"#N/A"}},{"$f":"IF(ISBLANK(E65),0,VLOOKUP(E65,LUTs!$A$6:$B$8,2))","v":{"$error":"#N/A"}},{"$f":"IF(ISBLANK(F65),0,VLOOKUP(F65,LUTs!$A$6:$B$8,2))","v":{"$error":"#N/A"}},{"$f":"IF(ISBLANK(G65),0,VLOOKUP(G65,LUTs!$A$6:$B$8,2))","v":{"$error":"#N/A"}},{"$f":"IF(ISBLANK(H65),0,VLOOKUP(H65,LUTs!$A$6:$B$8,2))","v":{"$error":"#N/A"}},{"$f":"IF(ISBLANK(I65),0,VLOOKUP(I65,LUTs!$A$6:$B$8,2))","v":{"$error":"#N/A"}}]
[{"$f":"IF(ISBLANK(Responses!A66), \"\", Responses!A66)","v":""},{"$f":"IF(ISBLANK(Responses!B66), \"\", Responses!B66)","v":""},{"$f":"IF(ISBLANK(Responses!N66), \"\", Responses!N66)","v":""},{"$f":"IF(ISBLANK(Responses!O66), \"\", Responses!O66)","v":""},{"$f":"IF(ISBLANK(Responses!P66), \"\", Responses!P66)","v":""},{"$f":"IF(ISBLANK(Responses!Q66), \"\", Responses!Q66)","v":""},{"$f":"IF(ISBLANK(Responses!R66), \"\", Responses!R66)","v":""},{"$f":"IF(ISBLANK(Responses!S66), \"\", Responses!S66)","v":""},{"$f":"IF(ISBLANK(Responses!T66), \"\", Responses!T66)","v":""},{"$error":"#N/A"},{"$error":"#N/A"},{"$f":"IF(ISBLANK(C66),0,VLOOKUP(C66,LUTs!$A$6:$B$8,2))","v":{"$error":"#N/A"}},{"$f":"IF(ISBLANK(D66),0,VLOOKUP(D66,LUTs!$A$6:$B$8,2))","v":{"$error":"#N/A"}},{"$f":"IF(ISBLANK(E66),0,VLOOKUP(E66,LUTs!$A$6:$B$8,2))","v":{"$error":"#N/A"}},{"$f":"IF(ISBLANK(F66),0,VLOOKUP(F66,LUTs!$A$6:$B$8,2))","v":{"$error":"#N/A"}},{"$f":"IF(ISBLANK(G66),0,VLOOKUP(G66,LUTs!$A$6:$B$8,2))","v":{"$error":"#N/A"}},{"$f":"IF(ISBLANK(H66),0,VLOOKUP(H66,LUTs!$A$6:$B$8,2))","v":{"$error":"#N/A"}},{"$f":"IF(ISBLANK(I66),0,VLOOKUP(I66,LUTs!$A$6:$B$8,2))","v":{"$error":"#N/A"}}]
[{"$f":"IF(ISBLANK(Responses!A67), \"\", Responses!A67)","v":""},{"$f":"IF(ISBLANK(Responses!B67), \"\", Responses!B67)","v":""},{"$f":"IF(ISBLANK(Responses!N67), \"\", Responses!N67)","v":""},{"$f":"IF(ISBLANK(Responses!O67), \"\", Responses!O67)","v":""},{"$f":"IF(ISBLANK(Responses!P67), \"\", Responses!P67)","v":""},{"$f":"IF(ISBLANK(Responses!Q67), \"\", Responses!Q67)","v":""},{"$f":"IF(ISBLANK(Responses!R67), \"\", Responses!R67)","v":""},{"$f":"IF(ISBLANK(Responses!S67), \"\", Responses!S67)","v":""},{"$f":"IF(ISBLANK(Responses!T67), \"\", Responses!T67)","v":""},{"$error":"#N/A"},{"$error":"#N/A"},{"$f":"IF(ISBLANK(C67),0,VLOOKUP(C67,LUTs!$A$6:$B$8,2))","v":{"$error":"#N/A"}},{"$f":"IF(ISBLANK(D67),0,VLOOKUP(D67,LUTs!$A$6:$B$8,2))","v":{"$error":"#N/A"}},{"$f":"IF(ISBLANK(E67),0,VLOOKUP(E67,LUTs!$A$6:$B$8,2))","v":{"$error":"#N/A"}},{"$f":"IF(ISBLANK(F67),0,VLOOKUP(F67,LUTs!$A$6:$B$8,2))","v":{"$error":"#N/A"}},{"$f":"IF(ISBLANK(G67),0,VLOOKUP(G67,LUTs!$A$6:$B$8,2))","v":{"$error":"#N/A"}},{"$f":"IF(ISBLANK(H67),0,VLOOKUP(H67,LUTs!$A$6:$B$8,2))","v":{"$error":"#N/A"}},{"$f":"IF(ISBLANK(I67),0,VLOOKUP(I67,LUTs!$A$6:$B$8,2))","v":{"$error":"#N/A"}}]
[{"$f":"IF(ISBLANK(Responses!A68), \"\", Responses!A68)","v":""},{"$f":"IF(ISBLANK(Responses!B68), \"\", Responses!B68)","v":""},{"$f":"IF(ISBLANK(Responses!N68), \"\", Responses!N68)","v":""},{"$f":"IF(ISBLANK(Responses!O68), \"\", Responses!O68)","v":""},{"$f":"IF(ISBLANK(Responses!P68), \"\", Responses!P68)","v":""},{"$f":"IF(ISBLANK(Responses!Q68), \"\", Responses!Q68)","v":""},{"$f":"IF(ISBLANK(Responses!R68), \"\", Responses!R68)","v":""},{"$f":"IF(ISBLANK(Responses!S68), \"\", Responses!S68)","v":""},{"$f":"IF(ISBLANK(Responses!T68), \"\", Responses!T68)","v":""},{"$error":"#N/A"},{"$error":"#N/A"},{"$f":"IF(ISBLANK(C68),0,VLOOKUP(C68,LUTs!$A$6:$B$8,2))","v":{"$error":"#N/A"}},{"$f":"IF(ISBLANK(D68),0,VLOOKUP(D68,LUTs!$A$6:$B$8,2))","v":{"$error":"#N/A"}},{"$f":"IF(ISBLANK(E68),0,VLOOKUP(E68,LUTs!$A$6:$B$8,2))","v":{"$error":"#N/A"}},{"$f":"IF(ISBLANK(F68),0,VLOOKUP(F68,LUTs!$A$6:$B$8,2))","v":{"$error":"#N/A"}},{"$f":"IF(ISBLANK(G68),0,VLOOKUP(G68,LUTs!$A$6:$B$8,2))","v":{"$error":"#N/A"}},{"$f":"IF(ISBLANK(H68),0,VLOOKUP(H68,LUTs!$A$6:$B$8,2))","v":{"$error":"#N/A"}},{"$f":"IF(ISBLANK(I68),0,VLOOKUP(I68,LUTs!$A$6:$B$8,2))","v":{"$error":"#N/A"}}]
[{"$f":"IF(ISBLANK(Responses!A69), \"\", Responses!A69)","v":""},{"$f":"IF(ISBLANK(Responses!B69), \"\", Responses!B69)","v":""},{"$f":"IF(ISBLANK(Responses!N69), \"\", Responses!N69)","v":""},{"$f":"IF(ISBLANK(Responses!O69), \"\", Responses!O69)","v":""},{"$f":"IF(ISBLANK(Responses!P69), \"\", Responses!P69)","v":""},{"$f":"IF(ISBLANK(Responses!Q69), \"\", Responses!Q69)","v":""},{"$f":"IF(ISBLANK(Responses!R69), \"\", Responses!R69)","v":""},{"$f":"IF(ISBLANK(Responses!S69), \"\", Responses!S69)","v":""},{"$f":"IF(ISBLANK(Responses!T69), \"\", Responses!T69)","v":""},{"$error":"#N/A"},{"$error":"#N/A"},{"$f":"IF(ISBLANK(C69),0,VLOOKUP(C69,LUTs!$A$6:$B$8,2))","v":{"$error":"#N/A"}},{"$f":"IF(ISBLANK(D69),0,VLOOKUP(D69,LUTs!$A$6:$B$8,2))","v":{"$error":"#N/A"}},{"$f":"IF(ISBLANK(E69),0,VLOOKUP(E69,LUTs!$A$6:$B$8,2))","v":{"$error":"#N/A"}},{"$f":"IF(ISBLANK(F69),0,VLOOKUP(F69,LUTs!$A$6:$B$8,2))","v":{"$error":"#N/A"}},{"$f":"IF(ISBLANK(G69),0,VLOOKUP(G69,LUTs!$A$6:$B$8,2))","v":{"$error":"#N/A"}},{"$f":"IF(ISBLANK(H69),0,VLOOKUP(H69,LUTs!$A$6:$B$8,2))","v":{"$error":"#N/A"}},{"$f":"IF(ISBLANK(I69),0,VLOOKUP(I69,LUTs!$A$6:$B$8,2))","v":{"$error":"#N/A"}}]
[{"$f":"IF(ISBLANK(Responses!A70), \"\", Responses!A70)","v":""},{"$f":"IF(ISBLANK(Responses!B70), \"\", Responses!B70)","v":""},{"$f":"IF(ISBLANK(Responses!N70), \"\", Responses!N70)","v":""},{"$f":"IF(ISBLANK(Responses!O70), \"\", Responses!O70)","v":""},{"$f":"IF(ISBLANK(Responses!P70), \"\", Responses!P70)","v":""},{"$f":"IF(ISBLANK(Responses!Q70), \"\", Responses!Q70)","v":""},{"$f":"IF(ISBLANK(Responses!R70), \"\", Responses!R70)","v":""},{"$f":"IF(ISBLANK(Responses!S70), \"\", Responses!S70)","v":""},{"$f":"IF(ISBLANK(Responses!T70), \"\", Responses!T70)","v":""},{"$error":"#N/A"},{"$error":"#N/A"},{"$f":"IF(ISBLANK(C70),0,VLOOKUP(C70,LUTs!$A$6:$B$8,2))","v":{"$error":"#N/A"}},{"$f":"IF(ISBLANK(D70),0,VLOOKUP(D70,LUTs!$A$6:$B$8,2))","v":{"$error":"#N/A"}},{"$f":"IF(ISBLANK(E70),0,VLOOKUP(E70,LUTs!$A$6:$B$8,2))","v":{"$error":"#N/A"}},{"$f":"IF(ISBLANK(F70),0,VLOOKUP(F70,LUTs!$A$6:$B$8,2))","v":{"$error":"#N/A"}},{"$f":"IF(ISBLANK(G70),0,VLOOKUP(G70,LUTs!$A$6:$B$8,2))","v":{"$error":"#N/A"}},{"$f":"IF(ISBLANK(H70),0,VLOOKUP(H70,LUTs!$A$6:$B$8,2))","v":{"$error":"#N/A"}},{"$f":"IF(ISBLANK(I70),0,VLOOKUP(I70,LUTs!$A$6:$B$8,2))","v":{"$error":"#N/A"}}]
[{"$f":"IF(ISBLANK(Responses!A71), \"\", Responses!A71)","v":""},{"$f":"IF(ISBLANK(Responses!B71), \"\", Responses!B71)","v":""},{"$f":"IF(ISBLANK(Responses!N71), \"\", Responses!N71)","v":""},{"$f":"IF(ISBLANK(Responses!O71), \"\", Responses!O71)","v":""},{"$f":"IF(ISBLANK(Responses!P71), \"\", Responses!P71)","v":""},{"$f":"IF(ISBLANK(Responses!Q71), \"\", Responses!Q71)","v":""},{"$f":"IF(ISBLANK(Responses!R71), \"\", Responses!R71)","v":""},{"$f":"IF(ISBLANK(Responses!S71), \"\", Responses!S71)","v":""},{"$f":"IF(ISBLANK(Responses!T71), \"\", Responses!T71)","v":""},{"$error":"#N/A"},{"$error":"#N/A"},{"$f":"IF(ISBLANK(C71),0,VLOOKUP(C71,LUTs!$A$6:$B$8,2))","v":{"$error":"#N/A"}},{"$f":"IF(ISBLANK(D71),0,VLOOKUP(D71,LUTs!$A$6:$B$8,2))","v":{"$error":"#N/A"}},{"$f":"IF(ISBLANK(E71),0,VLOOKUP(E71,LUTs!$A$6:$B$8,2))","v":{"$error":"#N/A"}},{"$f":"IF(ISBLANK(F71),0,VLOOKUP(F71,LUTs!$A$6:$B$8,2))","v":{"$error":"#N/A"}},{"$f":"IF(ISBLANK(G71),0,VLOOKUP(G71,LUTs!$A$6:$B$8,2))","v":{"$error":"#N/A"}},{"$f":"IF(ISBLANK(H71),0,VLOOKUP(H71,LUTs!$A$6:$B$8,2))","v":{"$error":"#N/A"}},{"$f":"IF(ISBLANK(I71),0,VLOOKUP(I71,LUTs!$A$6:$B$8,2))","v":{"$error":"#N/A"}}]
[{"$f":"IF(ISBLANK(Responses!A72), \"\", Responses!A72)","v":""},{"$f":"IF(ISBLANK(Responses!B72), \"\", Responses!B72)","v":""},{"$f":"IF(ISBLANK(Responses!N72), \"\", Responses!N72)","v":""},{"$f":"IF(ISBLANK(Responses!O72), \"\", Responses!O72)","v":""},{"$f":"IF(ISBLANK(Responses!P72), \"\", Responses!P72)","v":""},{"$f":"IF(ISBLANK(Responses!Q72), \"\", Responses!Q72)","v":""},{"$f":"IF(ISBLANK(Responses!R72), \"\", Responses!R72)","v":""},{"$f":"IF(ISBLANK(Responses!S72), \"\", Responses!S72)","v":""},{"$f":"IF(ISBLANK(Responses!T72), \"\", Responses!T72)","v":""},{"$error":"#N/A"},{"$error":"#N/A"},{"$f":"IF(ISBLANK(C72),0,VLOOKUP(C72,LUTs!$A$6:$B$8,2))","v":{"$error":"#N/A"}},{"$f":"IF(ISBLANK(D72),0,VLOOKUP(D72,LUTs!$A$6:$B$8,2))","v":{"$error":"#N/A"}},{"$f":"IF(ISBLANK(E72),0,VLOOKUP(E72,LUTs!$A$6:$B$8,2))","v":{"$error":"#N/A"}},{"$f":"IF(ISBLANK(F72),0,VLOOKUP(F72,LUTs!$A$6:$B$8,2))","v":{"$error":"#N/A"}},{"$f":"IF(ISBLANK(G72),0,VLOOKUP(G72,LUTs!$A$6:$B$8,2))","v":{"$error":"#N/A"}},{"$f":"IF(ISBLANK(H72),0,VLOOKUP(H72,LUTs!$A$6:$B$8,2))","v":{"$error":"#N/A"}},{"$f":"IF(ISBLANK(I72),0,VLOOKUP(I72,LUTs!$A$6:$B$8,2))","v":{"$error":"#N/A"}}]
[{"$f":"IF(ISBLANK(Responses!A73), \"\", Responses!A73)","v":""},{"$f":"IF(ISBLANK(Responses!B73), \"\", Responses!B73)","v":""},{"$f":"IF(ISBLANK(Responses!N73), \"\", Responses!N73)","v":""},{"$f":"IF(ISBLANK(Responses!O73), \"\", Responses!O73)","v":""},{"$f":"IF(ISBLANK(Responses!P73), \"\", Responses!P73)","v":""},{"$f":"IF(ISBLANK(Responses!Q73), \"\", Responses!Q73)","v":""},{"$f":"IF(ISBLANK(Responses!R73), \"\", Responses!R73)","v":""},{"$f":"IF(ISBLANK(Responses!S73), \"\", Responses!S73)","v":""},{"$f":"IF(ISBLANK(Responses!T73), \"\", Responses!T73)","v":""},{"$error":"#N/A"},{"$error":"#N/A"},{"$f":"IF(ISBLANK(C73),0,VLOOKUP(C73,LUTs!$A$6:$B$8,2))","v":{"$error":"#N/A"}},{"$f":"IF(ISBLANK(D73),0,VLOOKUP(D73,LUTs!$A$6:$B$8,2))","v":{"$error":"#N/A"}},{"$f":"IF(ISBLANK(E73),0,VLOOKUP(E73,LUTs!$A$6:$B$8,2))","v":{"$error":"#N/A"}},{"$f":"IF(ISBLANK(F73),0,VLOOKUP(F73,LUTs!$A$6:$B$8,2))","v":{"$error":"#N/A"}},{"$f":"IF(ISBLANK(G73),0,VLOOKUP(G73,LUTs!$A$6:$B$8,2))","v":{"$error":"#N/A"}},{"$f":"IF(ISBLANK(H73),0,VLOOKUP(H73,LUTs!$A$6:$B$8,2))","v":{"$error":"#N/A"}},{"$f":"IF(ISBLANK(I73),0,VLOOKUP(I73,LUTs!$A$6:$B$8,2))","v":{"$error":"#N/A"}}]
[{"$f":"IF(ISBLANK(Responses!A74), \"\", Responses!A74)","v":""},{"$f":"IF(ISBLANK(Responses!B74), \"\", Responses!B74)","v":""},{"$f":"IF(ISBLANK(Responses!N74), \"\", Responses!N74)","v":""},{"$f":"IF(ISBLANK(Responses!O74), \"\", Responses!O74)","v":""},{"$f":"IF(ISBLANK(Responses!P74), \"\", Responses!P74)","v":""},{"$f":"IF(ISBLANK(Responses!Q74), \"\", Responses!Q74)","v":""},{"$f":"IF(ISBLANK(Responses!R74), \"\", Responses!R74)","v":""},{"$f":"IF(ISBLANK(Responses!S74), \"\", Responses!S74)","v":""},{"$f":"IF(ISBLANK(Responses!T74), \"\", Responses!T74)","v":""},{"$error":"#N/A"},{"$error":"#N/A"},{"$f":"IF(ISBLANK(C74),0,VLOOKUP(C74,LUTs!$A$6:$B$8,2))","v":{"$error":"#N/A"}},{"$f":"IF(ISBLANK(D74),0,VLOOKUP(D74,LUTs!$A$6:$B$8,2))","v":{"$error":"#N/A"}},{"$f":"IF(ISBLANK(E74),0,VLOOKUP(E74,LUTs!$A$6:$B$8,2))","v":{"$error":"#N/A"}},{"$f":"IF(ISBLANK(F74),0,VLOOKUP(F74,LUTs!$A$6:$B$8,2))","v":{"$error":"#N/A"}},{"$f":"IF(ISBLANK(G74),0,VLOOKUP(G74,LUTs!$A$6:$B$8,2))","v":{"$error":"#N/A"}},{"$f":"IF(ISBLANK(H74),0,VLOOKUP(H74,LUTs!$A$6:$B$8,2))","v":{"$error":"#N/A"}},{"$f":"IF(ISBLANK(I74),0,VLOOKUP(I74,LUTs!$A$6:$B$8,2))","v":{"$error":"#N/A"}}]
[{"$f":"IF(ISBLANK(Responses!A75), \"\", Responses!A75)","v":""},{"$f":"IF(ISBLANK(Responses!B75), \"\", Responses!B75)","v":""},{"$f":"IF(ISBLANK(Responses!N75), \"\", Responses!N75)","v":""},{"$f":"IF(ISBLANK(Responses!O75), \"\", Responses!O75)","v":""},{"$f":"IF(ISBLANK(Responses!P75), \"\", Responses!P75)","v":""},{"$f":"IF(ISBLANK(Responses!Q75), \"\", Responses!Q75)","v":""},{"$f":"IF(ISBLANK(Responses!R75), \"\", Responses!R75)","v":""},{"$f":"IF(ISBLANK(Responses!S75), \"\", Responses!S75)","v":""},{"$f":"IF(ISBLANK(Responses!T75), \"\", Responses!T75)","v":""},{"$error":"#N/A"},{"$error":"#N/A"},{"$f":"IF(ISBLANK(C75),0,VLOOKUP(C75,LUTs!$A$6:$B$8,2))","v":{"$error":"#N/A"}},{"$f":"IF(ISBLANK(D75),0,VLOOKUP(D75,LUTs!$A$6:$B$8,2))","v":{"$error":"#N/A"}},{"$f":"IF(ISBLANK(E75),0,VLOOKUP(E75,LUTs!$A$6:$B$8,2))","v":{"$error":"#N/A"}},{"$f":"IF(ISBLANK(F75),0,VLOOKUP(F75,LUTs!$A$6:$B$8,2))","v":{"$error":"#N/A"}},{"$f":"IF(ISBLANK(G75),0,VLOOKUP(G75,LUTs!$A$6:$B$8,2))","v":{"$error":"#N/A"}},{"$f":"IF(ISBLANK(H75),0,VLOOKUP(H75,LUTs!$A$6:$B$8,2))","v":{"$error":"#N/A"}},{"$f":"IF(ISBLANK(I75),0,VLOOKUP(I75,LUTs!$A$6:$B$8,2))","v":{"$error":"#N/A"}}]
[{"$f":"IF(ISBLANK(Responses!A76), \"\", Responses!A76)","v":""},{"$f":"IF(ISBLANK(Responses!B76), \"\", Responses!B76)","v":""},{"$f":"IF(ISBLANK(Responses!N76), \"\", Responses!N76)","v":""},{"$f":"IF(ISBLANK(Responses!O76), \"\", Responses!O76)","v":""},{"$f":"IF(ISBLANK(Responses!P76), \"\", Responses!P76)","v":""},{"$f":"IF(ISBLANK(Responses!Q76), \"\", Responses!Q76)","v":""},{"$f":"IF(ISBLANK(Responses!R76), \"\", Responses!R76)","v":""},{"$f":"IF(ISBLANK(Responses!S76), \"\", Responses!S76)","v":""},{"$f":"IF(ISBLANK(Responses!T76), \"\", Responses!T76)","v":""},{"$error":"#N/A"},{"$error":"#N/A"},{"$f":"IF(ISBLANK(C76),0,VLOOKUP(C76,LUTs!$A$6:$B$8,2))","v":{"$error":"#N/A"}},{"$f":"IF(ISBLANK(D76),0,VLOOKUP(D76,LUTs!$A$6:$B$8,2))","v":{"$error":"#N/A"}},{"$f":"IF(ISBLANK(E76),0,VLOOKUP(E76,LUTs!$A$6:$B$8,2))","v":{"$error":"#N/A"}},{"$f":"IF(ISBLANK(F76),0,VLOOKUP(F76,LUTs!$A$6:$B$8,2))","v":{"$error":"#N/A"}},{"$f":"IF(ISBLANK(G76),0,VLOOKUP(G76,LUTs!$A$6:$B$8,2))","v":{"$error":"#N/A"}},{"$f":"IF(ISBLANK(H76),0,VLOOKUP(H76,LUTs!$A$6:$B$8,2))","v":{"$error":"#N/A"}},{"$f":"IF(ISBLANK(I76),0,VLOOKUP(I76,LUTs!$A$6:$B$8,2))","v":{"$error":"#N/A"}}]
[{"$f":"IF(ISBLANK(Responses!A77), \"\", Responses!A77)","v":""},{"$f":"IF(ISBLANK(Responses!B77), \"\", Responses!B77)","v":""},{"$f":"IF(ISBLANK(Responses!N77), \"\", Responses!N77)","v":""},{"$f":"IF(ISBLANK(Responses!O77), \"\", Responses!O77)","v":""},{"$f":"IF(ISBLANK(Responses!P77), \"\", Responses!P77)","v":""},{"$f":"IF(ISBLANK(Responses!Q77), \"\", Responses!Q77)","v":""},{"$f":"IF(ISBLANK(Responses!R77), \"\", Responses!R77)","v":""},{"$f":"IF(ISBLANK(Responses!S77), \"\", Responses!S77)","v":""},{"$f":"IF(ISBLANK(Responses!T77), \"\", Responses!T77)","v":""},{"$error":"#N/A"},{"$error":"#N/A"},{"$f":"IF(ISBLANK(C77),0,VLOOKUP(C77,LUTs!$A$6:$B$8,2))","v":{"$error":"#N/A"}},{"$f":"IF(ISBLANK(D77),0,VLOOKUP(D77,LUTs!$A$6:$B$8,2))","v":{"$error":"#N/A"}},{"$f":"IF(ISBLANK(E77),0,VLOOKUP(E77,LUTs!$A$6:$B$8,2))","v":{"$error":"#N/A"}},{"$f":"IF(ISBLANK(F77),0,VLOOKUP(F77,LUTs!$A$6:$B$8,2))","v":{"$error":"#N/A"}},{"$f":"IF(ISBLANK(G77),0,VLOOKUP(G77,LUTs!$A$6:$B$8,2))","v":{"$error":"#N/A"}},{"$f":"IF(ISBLANK(H77),0,VLOOKUP(H77,LUTs!$A$6:$B$8,2))","v":{"$error":"#N/A"}},{"$f":"IF(ISBLANK(I77),0,VLOOKUP(I77,LUTs!$A$6:$B$8,2))","v":{"$error":"#N/A"}}]
[{"$f":"IF(ISBLANK(Responses!A78), \"\", Responses!A78)","v":""},{"$f":"IF(ISBLANK(Responses!B78), \"\", Responses!B78)","v":""},{"$f":"IF(ISBLANK(Responses!N78), \"\", Responses!N78)","v":""},{"$f":"IF(ISBLANK(Responses!O78), \"\", Responses!O78)","v":""},{"$f":"IF(ISBLANK(Responses!P78), \"\", Responses!P78)","v":""},{"$f":"IF(ISBLANK(Responses!Q78), \"\", Responses!Q78)","v":""},{"$f":"IF(ISBLANK(Responses!R78), \"\", Responses!R78)","v":""},{"$f":"IF(ISBLANK(Responses!S78), \"\", Responses!S78)","v":""},{"$f":"IF(ISBLANK(Responses!T78), \"\", Responses!T78)","v":""},{"$error":"#N/A"},{"$error":"#N/A"},{"$f":"IF(ISBLANK(C78),0,VLOOKUP(C78,LUTs!$A$6:$B$8,2))","v":{"$error":"#N/A"}},{"$f":"IF(ISBLANK(D78),0,VLOOKUP(D78,LUTs!$A$6:$B$8,2))","v":{"$error":"#N/A"}},{"$f":"IF(ISBLANK(E78),0,VLOOKUP(E78,LUTs!$A$6:$B$8,2))","v":{"$error":"#N/A"}},{"$f":"IF(ISBLANK(F78),0,VLOOKUP(F78,LUTs!$A$6:$B$8,2))","v":{"$error":"#N/A"}},{"$f":"IF(ISBLANK(G78),0,VLOOKUP(G78,LUTs!$A$6:$B$8,2))","v":{"$error":"#N/A"}},{"$f":"IF(ISBLANK(H78),0,VLOOKUP(H78,LUTs!$A$6:$B$8,2))","v":{"$error":"#N/A"}},{"$f":"IF(ISBLANK(I78),0,VLOOKUP(I78,LUTs!$A$6:$B$8,2))","v":{"$error":"#N/A"}}]
[{"$f":"IF(ISBLANK(Responses!A79), \"\", Responses!A79)","v":""},{"$f":"IF(ISBLANK(Responses!B79), \"\", Responses!B79)","v":""},{"$f":"IF(ISBLANK(Responses!N79), \"\", Responses!N79)","v":""},{"$f":"IF(ISBLANK(Responses!O79), \"\", Responses!O79)","v":""},{"$f":"IF(ISBLANK(Responses!P79), \"\", Responses!P79)","v":""},{"$f":"IF(ISBLANK(Responses!Q79), \"\", Responses!Q79)","v":""},{"$f":"IF(ISBLANK(Responses!R79), \"\", Responses!R79)","v":""},{"$f":"IF(ISBLANK(Responses!S79), \"\", Responses!S79)","v":""},{"$f":"IF(ISBLANK(Responses!T79), \"\", Responses!T79)","v":""},{"$error":"#N/A"},{"$error":"#N/A"},{"$f":"IF(ISBLANK(C79),0,VLOOKUP(C79,LUTs!$A$6:$B$8,2))","v":{"$error":"#N/A"}},{"$f":"IF(ISBLANK(D79),0,VLOOKUP(D79,LUTs!$A$6:$B$8,2))","v":{"$error":"#N/A"}},{"$f":"IF(ISBLANK(E79),0,VLOOKUP(E79,LUTs!$A$6:$B$8,2))","v":{"$error":"#N/A"}},{"$f":"IF(ISBLANK(F79),0,VLOOKUP(F79,LUTs!$A$6:$B$8,2))","v":{"$error":"#N/A"}},{"$f":"IF(ISBLANK(G79),0,VLOOKUP(G79,LUTs!$A$6:$B$8,2))","v":{"$error":"#N/A"}},{"$f":"IF(ISBLANK(H79),0,VLOOKUP(H79,LUTs!$A$6:$B$8,2))","v":{"$error":"#N/A"}},{"$f":"IF(ISBLANK(I79),0,VLOOKUP(I79,LUTs!$A$6:$B$8,2))","v":{"$error":"#N/A"}}]
[{"$f":"IF(ISBLANK(Responses!A80), \"\", Responses!A80)","v":""},{"$f":"IF(ISBLANK(Responses!B80), \"\", Responses!B80)","v":""},{"$f":"IF(ISBLANK(Responses!N80), \"\", Responses!N80)","v":""},{"$f":"IF(ISBLANK(Responses!O80), \"\", Responses!O80)","v":""},{"$f":"IF(ISBLANK(Responses!P80), \"\", Responses!P80)","v":""},{"$f":"IF(ISBLANK(Responses!Q80), \"\", Responses!Q80)","v":""},{"$f":"IF(ISBLANK(Responses!R80), \"\", Responses!R80)","v":""},{"$f":"IF(ISBLANK(Responses!S80), \"\", Responses!S80)","v":""},{"$f":"IF(ISBLANK(Responses!T80), \"\", Responses!T80)","v":""},{"$error":"#N/A"},{"$error":"#N/A"},{"$f":"IF(ISBLANK(C80),0,VLOOKUP(C80,LUTs!$A$6:$B$8,2))","v":{"$error":"#N/A"}},{"$f":"IF(ISBLANK(D80),0,VLOOKUP(D80,LUTs!$A$6:$B$8,2))","v":{"$error":"#N/A"}},{"$f":"IF(ISBLANK(E80),0,VLOOKUP(E80,LUTs!$A$6:$B$8,2))","v":{"$error":"#N/A"}},{"$f":"IF(ISBLANK(F80),0,VLOOKUP(F80,LUTs!$A$6:$B$8,2))","v":{"$error":"#N/A"}},{"$f":"IF(ISBLANK(G80),0,VLOOKUP(G80,LUTs!$A$6:$B$8,2))","v":{"$error":"#N/A"}},{"$f":"IF(ISBLANK(H80),0,VLOOKUP(H80,LUTs!$A$6:$B$8,2))","v":{"$error":"#N/A"}},{"$f":"IF(ISBLANK(I80),0,VLOOKUP(I80,LUTs!$A$6:$B$8,2))","v":{"$error":"#N/A"}}]
[{"$f":"IF(ISBLANK(Responses!A81), \"\", Responses!A81)","v":""},{"$f":"IF(ISBLANK(Responses!B81), \"\", Responses!B81)","v":""},{"$f":"IF(ISBLANK(Responses!N81), \"\", Responses!N81)","v":""},{"$f":"IF(ISBLANK(Responses!O81), \"\", Responses!O81)","v":""},{"$f":"IF(ISBLANK(Responses!P81), \"\", Responses!P81)","v":""},{"$f":"IF(ISBLANK(Responses!Q81), \"\", Responses!Q81)","v":""},{"$f":"IF(ISBLANK(Responses!R81), \"\", Responses!R81)","v":""},{"$f":"IF(ISBLANK(Responses!S81), \"\", Responses!S81)","v":""},{"$f":"IF(ISBLANK(Responses!T81), \"\", Responses!T81)","v":""},{"$error":"#N/A"},{"$error":"#N/A"},{"$f":"IF(ISBLANK(C81),0,VLOOKUP(C81,LUTs!$A$6:$B$8,2))","v":{"$error":"#N/A"}},{"$f":"IF(ISBLANK(D81),0,VLOOKUP(D81,LUTs!$A$6:$B$8,2))","v":{"$error":"#N/A"}},{"$f":"IF(ISBLANK(E81),0,VLOOKUP(E81,LUTs!$A$6:$B$8,2))","v":{"$error":"#N/A"}},{"$f":"IF(ISBLANK(F81),0,VLOOKUP(F81,LUTs!$A$6:$B$8,2))","v":{"$error":"#N/A"}},{"$f":"IF(ISBLANK(G81),0,VLOOKUP(G81,LUTs!$A$6:$B$8,2))","v":{"$error":"#N/A"}},{"$f":"IF(ISBLANK(H81),0,VLOOKUP(H81,LUTs!$A$6:$B$8,2))","v":{"$error":"#N/A"}},{"$f":"IF(ISBLANK(I81),0,VLOOKUP(I81,LUTs!$A$6:$B$8,2))","v":{"$error":"#N/A"}}]
[{"$f":"IF(ISBLANK(Responses!A82), \"\", Responses!A82)","v":""},{"$f":"IF(ISBLANK(Responses!B82), \"\", Responses!B82)","v":""},{"$f":"IF(ISBLANK(Responses!N82), \"\", Responses!N82)","v":""},{"$f":"IF(ISBLANK(Responses!O82), \"\", Responses!O82)","v":""},{"$f":"IF(ISBLANK(Responses!P82), \"\", Responses!P82)","v":""},{"$f":"IF(ISBLANK(Responses!Q82), \"\", Responses!Q82)","v":""},{"$f":"IF(ISBLANK(Responses!R82), \"\", Responses!R82)","v":""},{"$f":"IF(ISBLANK(Responses!S82), \"\", Responses!S82)","v":""},{"$f":"IF(ISBLANK(Responses!T82), \"\", Responses!T82)","v":""},{"$error":"#N/A"},{"$error":"#N/A"},{"$f":"IF(ISBLANK(C82),0,VLOOKUP(C82,LUTs!$A$6:$B$8,2))","v":{"$error":"#N/A"}},{"$f":"IF(ISBLANK(D82),0,VLOOKUP(D82,LUTs!$A$6:$B$8,2))","v":{"$error":"#N/A"}},{"$f":"IF(ISBLANK(E82),0,VLOOKUP(E82,LUTs!$A$6:$B$8,2))","v":{"$error":"#N/A"}},{"$f":"IF(ISBLANK(F82),0,VLOOKUP(F82,LUTs!$A$6:$B$8,2))","v":{"$error":"#N/A"}},{"$f":"IF(ISBLANK(G82),0,VLOOKUP(G82,LUTs!$A$6:$B$8,2))","v":{"$error":"#N/A"}},{"$f":"IF(ISBLANK(H82),0,VLOOKUP(H82,LUTs!$A$6:$B$8,2))","v":{"$error":"#N/A"}},{"$f":"IF(ISBLANK(I82),0,VLOOKUP(I82,LUTs!$A$6:$B$8,2))","v":{"$error":"#N/A"}}]
[{"$f":"IF(ISBLANK(Responses!A83), \"\", Responses!A83)","v":""},{"$f":"IF(ISBLANK(Responses!B83), \"\", Responses!B83)","v":""},{"$f":"IF(ISBLANK(Responses!N83), \"\", Responses!N83)","v":""},{"$f":"IF(ISBLANK(Responses!O83), \"\", Responses!O83)","v":""},{"$f":"IF(ISBLANK(Responses!P83), \"\", Responses!P83)","v":""},{"$f":"IF(ISBLANK(Responses!Q83), \"\", Responses!Q83)","v":""},{"$f":"IF(ISBLANK(Responses!R83), \"\", Responses!R83)","v":""},{"$f":"IF(ISBLANK(Responses!S83), \"\", Responses!S83)","v":""},{"$f":"IF(ISBLANK(Responses!T83), \"\", Responses!T83)","v":""},{"$error":"#N/A"},{"$error":"#N/A"},{"$f":"IF(ISBLANK(C83),0,VLOOKUP(C83,LUTs!$A$6:$B$8,2))","v":{"$error":"#N/A"}},{"$f":"IF(ISBLANK(D83),0,VLOOKUP(D83,LUTs!$A$6:$B$8,2))","v":{"$error":"#N/A"}},{"$f":"IF(ISBLANK(E83),0,VLOOKUP(E83,LUTs!$A$6:$B$8,2))","v":{"$error":"#N/A"}},{"$f":"IF(ISBLANK(F83),0,VLOOKUP(F83,LUTs!$A$6:$B$8,2))","v":{"$error":"#N/A"}},{"$f":"IF(ISBLANK(G83),0,VLOOKUP(G83,LUTs!$A$6:$B$8,2))","v":{"$error":"#N/A"}},{"$f":"IF(ISBLANK(H83),0,VLOOKUP(H83,LUTs!$A$6:$B$8,2))","v":{"$error":"#N/A"}},{"$f":"IF(ISBLANK(I83),0,VLOOKUP(I83,LUTs!$A$6:$B$8,2))","v":{"$error":"#N/A"}}]
[{"$f":"IF(ISBLANK(Responses!A84), \"\", Responses!A84)","v":""},{"$f":"IF(ISBLANK(Responses!B84), \"\", Responses!B84)","v":""},{"$f":"IF(ISBLANK(Responses!N84), \"\", Responses!N84)","v":""},{"$f":"IF(ISBLANK(Responses!O84), \"\", Responses!O84)","v":""},{"$f":"IF(ISBLANK(Responses!P84), \"\", Responses!P84)","v":""},{"$f":"IF(ISBLANK(Responses!Q84), \"\", Responses!Q84)","v":""},{"$f":"IF(ISBLANK(Responses!R84), \"\", Responses!R84)","v":""},{"$f":"IF(ISBLANK(Responses!S84), \"\", Responses!S84)","v":""},{"$f":"IF(ISBLANK(Responses!T84), \"\", Responses!T84)","v":""},{"$error":"#N/A"},{"$error":"#N/A"},{"$f":"IF(ISBLANK(C84),0,VLOOKUP(C84,LUTs!$A$6:$B$8,2))","v":{"$error":"#N/A"}},{"$f":"IF(ISBLANK(D84),0,VLOOKUP(D84,LUTs!$A$6:$B$8,2))","v":{"$error":"#N/A"}},{"$f":"IF(ISBLANK(E84),0,VLOOKUP(E84,LUTs!$A$6:$B$8,2))","v":{"$error":"#N/A"}},{"$f":"IF(ISBLANK(F84),0,VLOOKUP(F84,LUTs!$A$6:$B$8,2))","v":{"$error":"#N/A"}},{"$f":"IF(ISBLANK(G84),0,VLOOKUP(G84,LUTs!$A$6:$B$8,2))","v":{"$error":"#N/A"}},{"$f":"IF(ISBLANK(H84),0,VLOOKUP(H84,LUTs!$A$6:$B$8,2))","v":{"$error":"#N/A"}},{"$f":"IF(ISBLANK(I84),0,VLOOKUP(I84,LUTs!$A$6:$B$8,2))","v":{"$error":"#N/A"}}]
[{"$f":"IF(ISBLANK(Responses!A85), \"\", Responses!A85)","v":""},{"$f":"IF(ISBLANK(Responses!B85), \"\", Responses!B85)","v":""},{"$f":"IF(ISBLANK(Responses!N85), \"\", Responses!N85)","v":""},{"$f":"IF(ISBLANK(Responses!O85), \"\", Responses!O85)","v":""},{"$f":"IF(ISBLANK(Responses!P85), \"\", Responses!P85)","v":""},{"$f":"IF(ISBLANK(Responses!Q85), \"\", Responses!Q85)","v":""},{"$f":"IF(ISBLANK(Responses!R85), \"\", Responses!R85)","v":""},{"$f":"IF(ISBLANK(Responses!S85), \"\", Responses!S85)","v":""},{"$f":"IF(ISBLANK(Responses!T85), \"\", Responses!T85)","v":""},{"$error":"#N/A"},{"$error":"#N/A"},{"$f":"IF(ISBLANK(C85),0,VLOOKUP(C85,LUTs!$A$6:$B$8,2))","v":{"$error":"#N/A"}},{"$f":"IF(ISBLANK(D85),0,VLOOKUP(D85,LUTs!$A$6:$B$8,2))","v":{"$error":"#N/A"}},{"$f":"IF(ISBLANK(E85),0,VLOOKUP(E85,LUTs!$A$6:$B$8,2))","v":{"$error":"#N/A"}},{"$f":"IF(ISBLANK(F85),0,VLOOKUP(F85,LUTs!$A$6:$B$8,2))","v":{"$error":"#N/A"}},{"$f":"IF(ISBLANK(G85),0,VLOOKUP(G85,LUTs!$A$6:$B$8,2))","v":{"$error":"#N/A"}},{"$f":"IF(ISBLANK(H85),0,VLOOKUP(H85,LUTs!$A$6:$B$8,2))","v":{"$error":"#N/A"}},{"$f":"IF(ISBLANK(I85),0,VLOOKUP(I85,LUTs!$A$6:$B$8,2))","v":{"$error":"#N/A"}}]
[{"$f":"IF(ISBLANK(Responses!A86), \"\", Responses!A86)","v":""},{"$f":"IF(ISBLANK(Responses!B86), \"\", Responses!B86)","v":""},{"$f":"IF(ISBLANK(Responses!N86), \"\", Responses!N86)","v":""},{"$f":"IF(ISBLANK(Responses!O86), \"\", Responses!O86)","v":""},{"$f":"IF(ISBLANK(Responses!P86), \"\", Responses!P86)","v":""},{"$f":"IF(ISBLANK(Responses!Q86), \"\", Responses!Q86)","v":""},{"$f":"IF(ISBLANK(Responses!R86), \"\", Responses!R86)","v":""},{"$f":"IF(ISBLANK(Responses!S86), \"\", Responses!S86)","v":""},{"$f":"IF(ISBLANK(Responses!T86), \"\", Responses!T86)","v":""},{"$error":"#N/A"},{"$error":"#N/A"},{"$f":"IF(ISBLANK(C86),0,VLOOKUP(C86,LUTs!$A$6:$B$8,2))","v":{"$error":"#N/A"}},{"$f":"IF(ISBLANK(D86),0,VLOOKUP(D86,LUTs!$A$6:$B$8,2))","v":{"$error":"#N/A"}},{"$f":"IF(ISBLANK(E86),0,VLOOKUP(E86,LUTs!$A$6:$B$8,2))","v":{"$error":"#N/A"}},{"$f":"IF(ISBLANK(F86),0,VLOOKUP(F86,LUTs!$A$6:$B$8,2))","v":{"$error":"#N/A"}},{"$f":"IF(ISBLANK(G86),0,VLOOKUP(G86,LUTs!$A$6:$B$8,2))","v":{"$error":"#N/A"}},{"$f":"IF(ISBLANK(H86),0,VLOOKUP(H86,LUTs!$A$6:$B$8,2))","v":{"$error":"#N/A"}},{"$f":"IF(ISBLANK(I86),0,VLOOKUP(I86,LUTs!$A$6:$B$8,2))","v":{"$error":"#N/A"}}]
[{"$f":"IF(ISBLANK(Responses!A87), \"\", Responses!A87)","v":""},{"$f":"IF(ISBLANK(Responses!B87), \"\", Responses!B87)","v":""},{"$f":"IF(ISBLANK(Responses!N87), \"\", Responses!N87)","v":""},{"$f":"IF(ISBLANK(Responses!O87), \"\", Responses!O87)","v":""},{"$f":"IF(ISBLANK(Responses!P87), \"\", Responses!P87)","v":""},{"$f":"IF(ISBLANK(Responses!Q87), \"\", Responses!Q87)","v":""},{"$f":"IF(ISBLANK(Responses!R87), \"\", Responses!R87)","v":""},{"$f":"IF(ISBLANK(Responses!S87), \"\", Responses!S87)","v":""},{"$f":"IF(ISBLANK(Responses!T87), \"\", Responses!T87)","v":""},{"$error":"#N/A"},{"$error":"#N/A"},{"$f":"IF(ISBLANK(C87),0,VLOOKUP(C87,LUTs!$A$6:$B$8,2))","v":{"$error":"#N/A"}},{"$f":"IF(ISBLANK(D87),0,VLOOKUP(D87,LUTs!$A$6:$B$8,2))","v":{"$error":"#N/A"}},{"$f":"IF(ISBLANK(E87),0,VLOOKUP(E87,LUTs!$A$6:$B$8,2))","v":{"$error":"#N/A"}},{"$f":"IF(ISBLANK(F87),0,VLOOKUP(F87,LUTs!$A$6:$B$8,2))","v":{"$error":"#N/A"}},{"$f":"IF(ISBLANK(G87),0,VLOOKUP(G87,LUTs!$A$6:$B$8,2))","v":{"$error":"#N/A"}},{"$f":"IF(ISBLANK(H87),0,VLOOKUP(H87,LUTs!$A$6:$B$8,2))","v":{"$error":"#N/A"}},{"$f":"IF(ISBLANK(I87),0,VLOOKUP(I87,LUTs!$A$6:$B$8,2))","v":{"$error":"#N/A"}}]
[{"$f":"IF(ISBLANK(Responses!A88), \"\", Responses!A88)","v":""},{"$f":"IF(ISBLANK(Responses!B88), \"\", Responses!B88)","v":""},{"$f":"IF(ISBLANK(Responses!N88), \"\", Responses!N88)","v":""},{"$f":"IF(ISBLANK(Responses!O88), \"\", Responses!O88)","v":""},{"$f":"IF(ISBLANK(Responses!P88), \"\", Responses!P88)","v":""},{"$f":"IF(ISBLANK(Responses!Q88), \"\", Responses!Q88)","v":""},{"$f":"IF(ISBLANK(Responses!R88), \"\", Responses!R88)","v":""},{"$f":"IF(ISBLANK(Responses!S88), \"\", Responses!S88)","v":""},{"$f":"IF(ISBLANK(Responses!T88), \"\", Responses!T88)","v":""},{"$error":"#N/A"},{"$error":"#N/A"},{"$f":"IF(ISBLANK(C88),0,VLOOKUP(C88,LUTs!$A$6:$B$8,2))","v":{"$error":"#N/A"}},{"$f":"IF(ISBLANK(D88),0,VLOOKUP(D88,LUTs!$A$6:$B$8,2))","v":{"$error":"#N/A"}},{"$f":"IF(ISBLANK(E88),0,VLOOKUP(E88,LUTs!$A$6:$B$8,2))","v":{"$error":"#N/A"}},{"$f":"IF(ISBLANK(F88),0,VLOOKUP(F88,LUTs!$A$6:$B$8,2))","v":{"$error":"#N/A"}},{"$f":"IF(ISBLANK(G88),0,VLOOKUP(G88,LUTs!$A$6:$B$8,2))","v":{"$error":"#N/A"}},{"$f":"IF(ISBLANK(H88),0,VLOOKUP(H88,LUTs!$A$6:$B$8,2))","v":{"$error":"#N/A"}},{"$f":"IF(ISBLANK(I88),0,VLOOKUP(I88,LUTs!$A$6:$B$8,2))","v":{"$error":"#N/A"}}]
[{"$f":"IF(ISBLANK(Responses!A89), \"\", Responses!A89)","v":""},{"$f":"IF(ISBLANK(Responses!B89), \"\", Responses!B89)","v":""},{"$f":"IF(ISBLANK(Responses!N89), \"\", Responses!N89)","v":""},{"$f":"IF(ISBLANK(Responses!O89), \"\", Responses!O89)","v":""},{"$f":"IF(ISBLANK(Responses!P89), \"\", Responses!P89)","v":""},{"$f":"IF(ISBLANK(Responses!Q89), \"\", Responses!Q89)","v":""},{"$f":"IF(ISBLANK(Responses!R89), \"\", Responses!R89)","v":""},{"$f":"IF(ISBLANK(Responses!S89), \"\", Responses!S89)","v":""},{"$f":"IF(ISBLANK(Responses!T89), \"\", Responses!T89)","v":""},{"$error":"#N/A"},{"$error":"#N/A"},{"$f":"IF(ISBLANK(C89),0,VLOOKUP(C89,LUTs!$A$6:$B$8,2))","v":{"$error":"#N/A"}},{"$f":"IF(ISBLANK(D89),0,VLOOKUP(D89,LUTs!$A$6:$B$8,2))","v":{"$error":"#N/A"}},{"$f":"IF(ISBLANK(E89),0,VLOOKUP(E89,LUTs!$A$6:$B$8,2))","v":{"$error":"#N/A"}},{"$f":"IF(ISBLANK(F89),0,VLOOKUP(F89,LUTs!$A$6:$B$8,2))","v":{"$error":"#N/A"}},{"$f":"IF(ISBLANK(G89),0,VLOOKUP(G89,LUTs!$A$6:$B$8,2))","v":{"$error":"#N/A"}},{"$f":"IF(ISBLANK(H89),0,VLOOKUP(H89,LUTs!$A$6:$B$8,2))","v":{"$error":"#N/A"}},{"$f":"IF(ISBLANK(I89),0,VLOOKUP(I89,LUTs!$A$6:$B$8,2))","v":{"$error":"#N/A"}}]
[{"$f":"IF(ISBLANK(Responses!A90), \"\", Responses!A90)","v":""},{"$f":"IF(ISBLANK(Responses!B90), \"\", Responses!B90)","v":""},{"$f":"IF(ISBLANK(Responses!N90), \"\", Responses!N90)","v":""},{"$f":"IF(ISBLANK(Responses!O90), \"\", Responses!O90)","v":""},{"$f":"IF(ISBLANK(Responses!P90), \"\", Responses!P90)","v":""},{"$f":"IF(ISBLANK(Responses!Q90), \"\", Responses!Q90)","v":""},{"$f":"IF(ISBLANK(Responses!R90), \"\", Responses!R90)","v":""},{"$f":"IF(ISBLANK(Responses!S90), \"\", Responses!S90)","v":""},{"$f":"IF(ISBLANK(Responses!T90), \"\", Responses!T90)","v":""},{"$error":"#N/A"},{"$error":"#N/A"},{"$f":"IF(ISBLANK(C90),0,VLOOKUP(C90,LUTs!$A$6:$B$8,2))","v":{"$error":"#N/A"}},{"$f":"IF(ISBLANK(D90),0,VLOOKUP(D90,LUTs!$A$6:$B$8,2))","v":{"$error":"#N/A"}},{"$f":"IF(ISBLANK(E90),0,VLOOKUP(E90,LUTs!$A$6:$B$8,2))","v":{"$error":"#N/A"}},{"$f":"IF(ISBLANK(F90),0,VLOOKUP(F90,LUTs!$A$6:$B$8,2))","v":{"$error":"#N/A"}},{"$f":"IF(ISBLANK(G90),0,VLOOKUP(G90,LUTs!$A$6:$B$8,2))","v":{"$error":"#N/A"}},{"$f":"IF(ISBLANK(H90),0,VLOOKUP(H90,LUTs!$A$6:$B$8,2))","v":{"$error":"#N/A"}},{"$f":"IF(ISBLANK(I90),0,VLOOKUP(I90,LUTs!$A$6:$B$8,2))","v":{"$error":"#N/A"}}]
[{"$f":"IF(ISBLANK(Responses!A91), \"\", Responses!A91)","v":""},{"$f":"IF(ISBLANK(Responses!B91), \"\", Responses!B91)","v":""},{"$f":"IF(ISBLANK(Responses!N91), \"\", Responses!N91)","v":""},{"$f":"IF(ISBLANK(Responses!O91), \"\", Responses!O91)","v":""},{"$f":"IF(ISBLANK(Responses!P91), \"\", Responses!P91)","v":""},{"$f":"IF(ISBLANK(Responses!Q91), \"\", Responses!Q91)","v":""},{"$f":"IF(ISBLANK(Responses!R91), \"\", Responses!R91)","v":""},{"$f":"IF(ISBLANK(Responses!S91), \"\", Responses!S91)","v":""},{"$f":"IF(ISBLANK(Responses!T91), \"\", Responses!T91)","v":""},{"$error":"#N/A"},{"$error":"#N/A"},{"$f":"IF(ISBLANK(C91),0,VLOOKUP(C91,LUTs!$A$6:$B$8,2))","v":{"$error":"#N/A"}},{"$f":"IF(ISBLANK(D91),0,VLOOKUP(D91,LUTs!$A$6:$B$8,2))","v":{"$error":"#N/A"}},{"$f":"IF(ISBLANK(E91),0,VLOOKUP(E91,LUTs!$A$6:$B$8,2))","v":{"$error":"#N/A"}},{"$f":"IF(ISBLANK(F91),0,VLOOKUP(F91,LUTs!$A$6:$B$8,2))","v":{"$error":"#N/A"}},{"$f":"IF(ISBLANK(G91),0,VLOOKUP(G91,LUTs!$A$6:$B$8,2))","v":{"$error":"#N/A"}},{"$f":"IF(ISBLANK(H91),0,VLOOKUP(H91,LUTs!$A$6:$B$8,2))","v":{"$error":"#N/A"}},{"$f":"IF(ISBLANK(I91),0,VLOOKUP(I91,LUTs!$A$6:$B$8,2))","v":{"$error":"#N/A"}}]
[{"$f":"IF(ISBLANK(Responses!A92), \"\", Responses!A92)","v":""},{"$f":"IF(ISBLANK(Responses!B92), \"\", Responses!B92)","v":""},{"$f":"IF(ISBLANK(Responses!N92), \"\", Responses!N92)","v":""},{"$f":"IF(ISBLANK(Responses!O92), \"\", Responses!O92)","v":""},{"$f":"IF(ISBLANK(Responses!P92), \"\", Responses!P92)","v":""},{"$f":"IF(ISBLANK(Responses!Q92), \"\", Responses!Q92)","v":""},{"$f":"IF(ISBLANK(Responses!R92), \"\", Responses!R92)","v":""},{"$f":"IF(ISBLANK(Responses!S92), \"\", Responses!S92)","v":""},{"$f":"IF(ISBLANK(Responses!T92), \"\", Responses!T92)","v":""},{"$error":"#N/A"},{"$error":"#N/A"},{"$f":"IF(ISBLANK(C92),0,VLOOKUP(C92,LUTs!$A$6:$B$8,2))","v":{"$error":"#N/A"}},{"$f":"IF(ISBLANK(D92),0,VLOOKUP(D92,LUTs!$A$6:$B$8,2))","v":{"$error":"#N/A"}},{"$f":"IF(ISBLANK(E92),0,VLOOKUP(E92,LUTs!$A$6:$B$8,2))","v":{"$error":"#N/A"}},{"$f":"IF(ISBLANK(F92),0,VLOOKUP(F92,LUTs!$A$6:$B$8,2))","v":{"$error":"#N/A"}},{"$f":"IF(ISBLANK(G92),0,VLOOKUP(G92,LUTs!$A$6:$B$8,2))","v":{"$error":"#N/A"}},{"$f":"IF(ISBLANK(H92),0,VLOOKUP(H92,LUTs!$A$6:$B$8,2))","v":{"$error":"#N/A"}},{"$f":"IF(ISBLANK(I92),0,VLOOKUP(I92,LUTs!$A$6:$B$8,2))","v":{"$error":"#N/A"}}]
[{"$f":"IF(ISBLANK(Responses!A93), \"\", Responses!A93)","v":""},{"$f":"IF(ISBLANK(Responses!B93), \"\", Responses!B93)","v":""},{"$f":"IF(ISBLANK(Responses!N93), \"\", Responses!N93)","v":""},{"$f":"IF(ISBLANK(Responses!O93), \"\", Responses!O93)","v":""},{"$f":"IF(ISBLANK(Responses!P93), \"\", Responses!P93)","v":""},{"$f":"IF(ISBLANK(Responses!Q93), \"\", Responses!Q93)","v":""},{"$f":"IF(ISBLANK(Responses!R93), \"\", Responses!R93)","v":""},{"$f":"IF(ISBLANK(Responses!S93), \"\", Responses!S93)","v":""},{"$f":"IF(ISBLANK(Responses!T93), \"\", Responses!T93)","v":""},{"$error":"#N/A"},{"$error":"#N/A"},{"$f":"IF(ISBLANK(C93),0,VLOOKUP(C93,LUTs!$A$6:$B$8,2))","v":{"$error":"#N/A"}},{"$f":"IF(ISBLANK(D93),0,VLOOKUP(D93,LUTs!$A$6:$B$8,2))","v":{"$error":"#N/A"}},{"$f":"IF(ISBLANK(E93),0,VLOOKUP(E93,LUTs!$A$6:$B$8,2))","v":{"$error":"#N/A"}},{"$f":"IF(ISBLANK(F93),0,VLOOKUP(F93,LUTs!$A$6:$B$8,2))","v":{"$error":"#N/A"}},{"$f":"IF(ISBLANK(G93),0,VLOOKUP(G93,LUTs!$A$6:$B$8,2))","v":{"$error":"#N/A"}},{"$f":"IF(ISBLANK(H93),0,VLOOKUP(H93,LUTs!$A$6:$B$8,2))","v":{"$error":"#N/A"}},{"$f":"IF(ISBLANK(I93),0,VLOOKUP(I93,LUTs!$A$6:$B$8,2))","v":{"$error":"#N/A"}}]
[{"$f":"IF(ISBLANK(Responses!A94), \"\", Responses!A94)","v":""},{"$f":"IF(ISBLANK(Responses!B94), \"\", Responses!B94)","v":""},{"$f":"IF(ISBLANK(Responses!N94), \"\", Responses!N94)","v":""},{"$f":"IF(ISBLANK(Responses!O94), \"\", Responses!O94)","v":""},{"$f":"IF(ISBLANK(Responses!P94), \"\", Responses!P94)","v":""},{"$f":"IF(ISBLANK(Responses!Q94), \"\", Responses!Q94)","v":""},{"$f":"IF(ISBLANK(Responses!R94), \"\", Responses!R94)","v":""},{"$f":"IF(ISBLANK(Responses!S94), \"\", Responses!S94)","v":""},{"$f":"IF(ISBLANK(Responses!T94), \"\", Responses!T94)","v":""},{"$error":"#N/A"},{"$error":"#N/A"},{"$f":"IF(ISBLANK(C94),0,VLOOKUP(C94,LUTs!$A$6:$B$8,2))","v":{"$error":"#N/A"}},{"$f":"IF(ISBLANK(D94),0,VLOOKUP(D94,LUTs!$A$6:$B$8,2))","v":{"$error":"#N/A"}},{"$f":"IF(ISBLANK(E94),0,VLOOKUP(E94,LUTs!$A$6:$B$8,2))","v":{"$error":"#N/A"}},{"$f":"IF(ISBLANK(F94),0,VLOOKUP(F94,LUTs!$A$6:$B$8,2))","v":{"$error":"#N/A"}},{"$f":"IF(ISBLANK(G94),0,VLOOKUP(G94,LUTs!$A$6:$B$8,2))","v":{"$error":"#N/A"}},{"$f":"IF(ISBLANK(H94),0,VLOOKUP(H94,LUTs!$A$6:$B$8,2))","v":{"$error":"#N/A"}},{"$f":"IF(ISBLANK(I94),0,VLOOKUP(I94,LUTs!$A$6:$B$8,2))","v":{"$error":"#N/A"}}]
[{"$f":"IF(ISBLANK(Responses!A95), \"\", Responses!A95)","v":""},{"$f":"IF(ISBLANK(Responses!B95), \"\", Responses!B95)","v":""},{"$f":"IF(ISBLANK(Responses!N95), \"\", Responses!N95)","v":""},{"$f":"IF(ISBLANK(Responses!O95), \"\", Responses!O95)","v":""},{"$f":"IF(ISBLANK(Responses!P95), \"\", Responses!P95)","v":""},{"$f":"IF(ISBLANK(Responses!Q95), \"\", Responses!Q95)","v":""},{"$f":"IF(ISBLANK(Responses!R95), \"\", Responses!R95)","v":""},{"$f":"IF(ISBLANK(Responses!S95), \"\", Responses!S95)","v":""},{"$f":"IF(ISBLANK(Responses!T95), \"\", Responses!T95)","v":""},{"$error":"#N/A"},{"$error":"#N/A"},{"$f":"IF(ISBLANK(C95),0,VLOOKUP(C95,LUTs!$A$6:$B$8,2))","v":{"$error":"#N/A"}},{"$f":"IF(ISBLANK(D95),0,VLOOKUP(D95,LUTs!$A$6:$B$8,2))","v":{"$error":"#N/A"}},{"$f":"IF(ISBLANK(E95),0,VLOOKUP(E95,LUTs!$A$6:$B$8,2))","v":{"$error":"#N/A"}},{"$f":"IF(ISBLANK(F95),0,VLOOKUP(F95,LUTs!$A$6:$B$8,2))","v":{"$error":"#N/A"}},{"$f":"IF(ISBLANK(G95),0,VLOOKUP(G95,LUTs!$A$6:$B$8,2))","v":{"$error":"#N/A"}},{"$f":"IF(ISBLANK(H95),0,VLOOKUP(H95,LUTs!$A$6:$B$8,2))","v":{"$error":"#N/A"}},{"$f":"IF(ISBLANK(I95),0,VLOOKUP(I95,LUTs!$A$6:$B$8,2))","v":{"$error":"#N/A"}}]
[{"$f":"IF(ISBLANK(Responses!A96), \"\", Responses!A96)","v":""},{"$f":"IF(ISBLANK(Responses!B96), \"\", Responses!B96)","v":""},{"$f":"IF(ISBLANK(Responses!N96), \"\", Responses!N96)","v":""},{"$f":"IF(ISBLANK(Responses!O96), \"\", Responses!O96)","v":""},{"$f":"IF(ISBLANK(Responses!P96), \"\", Responses!P96)","v":""},{"$f":"IF(ISBLANK(Responses!Q96), \"\", Responses!Q96)","v":""},{"$f":"IF(ISBLANK(Responses!R96), \"\", Responses!R96)","v":""},{"$f":"IF(ISBLANK(Responses!S96), \"\", Responses!S96)","v":""},{"$f":"IF(ISBLANK(Responses!T96), \"\", Responses!T96)","v":""},{"$error":"#N/A"},{"$error":"#N/A"},{"$f":"IF(ISBLANK(C96),0,VLOOKUP(C96,LUTs!$A$6:$B$8,2))","v":{"$error":"#N/A"}},{"$f":"IF(ISBLANK(D96),0,VLOOKUP(D96,LUTs!$A$6:$B$8,2))","v":{"$error":"#N/A"}},{"$f":"IF(ISBLANK(E96),0,VLOOKUP(E96,LUTs!$A$6:$B$8,2))","v":{"$error":"#N/A"}},{"$f":"IF(ISBLANK(F96),0,VLOOKUP(F96,LUTs!$A$6:$B$8,2))","v":{"$error":"#N/A"}},{"$f":"IF(ISBLANK(G96),0,VLOOKUP(G96,LUTs!$A$6:$B$8,2))","v":{"$error":"#N/A"}},{"$f":"IF(ISBLANK(H96),0,VLOOKUP(H96,LUTs!$A$6:$B$8,2))","v":{"$error":"#N/A"}},{"$f":"IF(ISBLANK(I96),0,VLOOKUP(I96,LUTs!$A$6:$B$8,2))","v":{"$error":"#N/A"}}]
[{"$f":"IF(ISBLANK(Responses!A97), \"\", Responses!A97)","v":""},{"$f":"IF(ISBLANK(Responses!B97), \"\", Responses!B97)","v":""},{"$f":"IF(ISBLANK(Responses!N97), \"\", Responses!N97)","v":""},{"$f":"IF(ISBLANK(Responses!O97), \"\", Responses!O97)","v":""},{"$f":"IF(ISBLANK(Responses!P97), \"\", Responses!P97)","v":""},{"$f":"IF(ISBLANK(Responses!Q97), \"\", Responses!Q97)","v":""},{"$f":"IF(ISBLANK(Responses!R97), \"\", Responses!R97)","v":""},{"$f":"IF(ISBLANK(Responses!S97), \"\", Responses!S97)","v":""},{"$f":"IF(ISBLANK(Responses!T97), \"\", Responses!T97)","v":""},{"$error":"#N/A"},{"$error":"#N/A"},{"$f":"IF(ISBLANK(C97),0,VLOOKUP(C97,LUTs!$A$6:$B$8,2))","v":{"$error":"#N/A"}},{"$f":"IF(ISBLANK(D97),0,VLOOKUP(D97,LUTs!$A$6:$B$8,2))","v":{"$error":"#N/A"}},{"$f":"IF(ISBLANK(E97),0,VLOOKUP(E97,LUTs!$A$6:$B$8,2))","v":{"$error":"#N/A"}},{"$f":"IF(ISBLANK(F97),0,VLOOKUP(F97,LUTs!$A$6:$B$8,2))","v":{"$error":"#N/A"}},{"$f":"IF(ISBLANK(G97),0,VLOOKUP(G97,LUTs!$A$6:$B$8,2))","v":{"$error":"#N/A"}},{"$f":"IF(ISBLANK(H97),0,VLOOKUP(H97,LUTs!$A$6:$B$8,2))","v":{"$error":"#N/A"}},{"$f":"IF(ISBLANK(I97),0,VLOOKUP(I97,LUTs!$A$6:$B$8,2))","v":{"$error":"#N/A"}}]
[{"$f":"IF(ISBLANK(Responses!A98), \"\", Responses!A98)","v":""},{"$f":"IF(ISBLANK(Responses!B98), \"\", Responses!B98)","v":""},{"$f":"IF(ISBLANK(Responses!N98), \"\", Responses!N98)","v":""},{"$f":"IF(ISBLANK(Responses!O98), \"\", Responses!O98)","v":""},{"$f":"IF(ISBLANK(Responses!P98), \"\", Responses!P98)","v":""},{"$f":"IF(ISBLANK(Responses!Q98), \"\", Responses!Q98)","v":""},{"$f":"IF(ISBLANK(Responses!R98), \"\", Responses!R98)","v":""},{"$f":"IF(ISBLANK(Responses!S98), \"\", Responses!S98)","v":""},{"$f":"IF(ISBLANK(Responses!T98), \"\", Responses!T98)","v":""},{"$error":"#N/A"},{"$error":"#N/A"},{"$f":"IF(ISBLANK(C98),0,VLOOKUP(C98,LUTs!$A$6:$B$8,2))","v":{"$error":"#N/A"}},{"$f":"IF(ISBLANK(D98),0,VLOOKUP(D98,LUTs!$A$6:$B$8,2))","v":{"$error":"#N/A"}},{"$f":"IF(ISBLANK(E98),0,VLOOKUP(E98,LUTs!$A$6:$B$8,2))","v":{"$error":"#N/A"}},{"$f":"IF(ISBLANK(F98),0,VLOOKUP(F98,LUTs!$A$6:$B$8,2))","v":{"$error":"#N/A"}},{"$f":"IF(ISBLANK(G98),0,VLOOKUP(G98,LUTs!$A$6:$B$8,2))","v":{"$error":"#N/A"}},{"$f":"IF(ISBLANK(H98),0,VLOOKUP(H98,LUTs!$A$6:$B$8,2))","v":{"$error":"#N/A"}},{"$f":"IF(ISBLANK(I98),0,VLOOKUP(I98,LUTs!$A$6:$B$8,2))","v":{"$error":"#N/A"}}]
[{"$f":"IF(ISBLANK(Responses!A99), \"\", Responses!A99)","v":""},{"$f":"IF(ISBLANK(Responses!B99), \"\", Responses!B99)","v":""},{"$f":"IF(ISBLANK(Responses!N99), \"\", Responses!N99)","v":""},{"$f":"IF(ISBLANK(Responses!O99), \"\", Responses!O99)","v":""},{"$f":"IF(ISBLANK(Responses!P99), \"\", Responses!P99)","v":""},{"$f":"IF(ISBLANK(Responses!Q99), \"\", Responses!Q99)","v":""},{"$f":"IF(ISBLANK(Responses!R99), \"\", Responses!R99)","v":""},{"$f":"IF(ISBLANK(Responses!S99), \"\", Responses!S99)","v":""},{"$f":"IF(ISBLANK(Responses!T99), \"\", Responses!T99)","v":""},{"$error":"#N/A"},{"$error":"#N/A"},{"$f":"IF(ISBLANK(C99),0,VLOOKUP(C99,LUTs!$A$6:$B$8,2))","v":{"$error":"#N/A"}},{"$f":"IF(ISBLANK(D99),0,VLOOKUP(D99,LUTs!$A$6:$B$8,2))","v":{"$error":"#N/A"}},{"$f":"IF(ISBLANK(E99),0,VLOOKUP(E99,LUTs!$A$6:$B$8,2))","v":{"$error":"#N/A"}},{"$f":"IF(ISBLANK(F99),0,VLOOKUP(F99,LUTs!$A$6:$B$8,2))","v":{"$error":"#N/A"}},{"$f":"IF(ISBLANK(G99),0,VLOOKUP(G99,LUTs!$A$6:$B$8,2))","v":{"$error":"#N/A"}},{"$f":"IF(ISBLANK(H99),0,VLOOKUP(H99,LUTs!$A$6:$B$8,2))","v":{"$error":"#N/A"}},{"$f":"IF(ISBLANK(I99),0,VLOOKUP(I99,LUTs!$A$6:$B$8,2))","v":{"$error":"#N/A"}}]
[{"$f":"IF(ISBLANK(Responses!A100), \"\", Responses!A100)","v":""},{"$f":"IF(ISBLANK(Responses!B100), \"\", Responses!B100)","v":""},{"$f":"IF(ISBLANK(Responses!N100), \"\", Responses!N100)","v":""},{"$f":"IF(ISBLANK(Responses!O100), \"\", Responses!O100)","v":""},{"$f":"IF(ISBLANK(Responses!P100), \"\", Responses!P100)","v":""},{"$f":"IF(ISBLANK(Responses!Q100), \"\", Responses!Q100)","v":""},{"$f":"IF(ISBLANK(Responses!R100), \"\", Responses!R100)","v":""},{"$f":"IF(ISBLANK(Responses!S100), \"\", Responses!S100)","v":""},{"$f":"IF(ISBLANK(Responses!T100), \"\", Responses!T100)","v":""},{"$error":"#N/A"},{"$error":"#N/A"},{"$f":"IF(ISBLANK(C100),0,VLOOKUP(C100,LUTs!$A$6:$B$8,2))","v":{"$error":"#N/A"}},{"$f":"IF(ISBLANK(D100),0,VLOOKUP(D100,LUTs!$A$6:$B$8,2))","v":{"$error":"#N/A"}},{"$f":"IF(ISBLANK(E100),0,VLOOKUP(E100,LUTs!$A$6:$B$8,2))","v":{"$error":"#N/A"}},{"$f":"IF(ISBLANK(F100),0,VLOOKUP(F100,LUTs!$A$6:$B$8,2))","v":{"$error":"#N/A"}},{"$f":"IF(ISBLANK(G100),0,VLOOKUP(G100,LUTs!$A$6:$B$8,2))","v":{"$error":"#N/A"}},{"$f":"IF(ISBLANK(H100),0,VLOOKUP(H100,LUTs!$A$6:$B$8,2))","v":{"$error":"#N/A"}},{"$f":"IF(ISBLANK(I100),0,VLOOKUP(I100,LUTs!$A$6:$B$8,2))","v":{"$error":"#N/A"}}]
[{"$f":"IF(ISBLANK(Responses!A101), \"\", Responses!A101)","v":""},{"$f":"IF(ISBLANK(Responses!B101), \"\", Responses!B101)","v":""},{"$f":"IF(ISBLANK(Responses!N101), \"\", Responses!N101)","v":""},{"$f":"IF(ISBLANK(Responses!O101), \"\", Responses!O101)","v":""},{"$f":"IF(ISBLANK(Responses!P101), \"\", Responses!P101)","v":""},{"$f":"IF(ISBLANK(Responses!Q101), \"\", Responses!Q101)","v":""},{"$f":"IF(ISBLANK(Responses!R101), \"\", Responses!R101)","v":""},{"$f":"IF(ISBLANK(Responses!S101), \"\", Responses!S101)","v":""},{"$f":"IF(ISBLANK(Responses!T101), \"\", Responses!T101)","v":""},{"$error":"#N/A"},{"$error":"#N/A"},{"$f":"IF(ISBLANK(C101),0,VLOOKUP(C101,LUTs!$A$6:$B$8,2))","v":{"$error":"#N/A"}},{"$f":"IF(ISBLANK(D101),0,VLOOKUP(D101,LUTs!$A$6:$B$8,2))","v":{"$error":"#N/A"}},{"$f":"IF(ISBLANK(E101),0,VLOOKUP(E101,LUTs!$A$6:$B$8,2))","v":{"$error":"#N/A"}},{"$f":"IF(ISBLANK(F101),0,VLOOKUP(F101,LUTs!$A$6:$B$8,2))","v":{"$error":"#N/A"}},{"$f":"IF(ISBLANK(G101),0,VLOOKUP(G101,LUTs!$A$6:$B$8,2))","v":{"$error":"#N/A"}},{"$f":"IF(ISBLANK(H101),0,VLOOKUP(H101,LUTs!$A$6:$B$8,2))","v":{"$error":"#N/A"}},{"$f":"IF(ISBLANK(I101),0,VLOOKUP(I101,LUTs!$A$6:$B$8,2))","v":{"$error":"#N/A"}}]
[{"$f":"IF(ISBLANK(Responses!A102), \"\", Responses!A102)","v":""},{"$f":"IF(ISBLANK(Responses!B102), \"\", Responses!B102)","v":""},{"$f":"IF(ISBLANK(Responses!N102), \"\", Responses!N102)","v":""},{"$f":"IF(ISBLANK(Responses!O102), \"\", Responses!O102)","v":""},{"$f":"IF(ISBLANK(Responses!P102), \"\", Responses!P102)","v":""},{"$f":"IF(ISBLANK(Responses!Q102), \"\", Responses!Q102)","v":""},{"$f":"IF(ISBLANK(Responses!R102), \"\", Responses!R102)","v":""},{"$f":"IF(ISBLANK(Responses!S102), \"\", Responses!S102)","v":""},{"$f":"IF(ISBLANK(Responses!T102), \"\", Responses!T102)","v":""},{"$error":"#N/A"},{"$error":"#N/A"},{"$f":"IF(ISBLANK(C102),0,VLOOKUP(C102,LUTs!$A$6:$B$8,2))","v":{"$error":"#N/A"}},{"$f":"IF(ISBLANK(D102),0,VLOOKUP(D102,LUTs!$A$6:$B$8,2))","v":{"$error":"#N/A"}},{"$f":"IF(ISBLANK(E102),0,VLOOKUP(E102,LUTs!$A$6:$B$8,2))","v":{"$error":"#N/A"}},{"$f":"IF(ISBLANK(F102),0,VLOOKUP(F102,LUTs!$A$6:$B$8,2))","v":{"$error":"#N/A"}},{"$f":"IF(ISBLANK(G102),0,VLOOKUP(G102,LUTs!$A$6:$B$8,2))","v":{"$error":"#N/A"}},{"$f":"IF(ISBLANK(H102),0,VLOOKUP(H102,LUTs!$A$6:$B$8,2))","v":{"$error":"#N/A"}},{"$f":"IF(ISBLANK(I102),0,VLOOKUP(I102,LUTs!$A$6:$B$8,2))","v":{"$error":"#N/A"}}]
[{"$f":"IF(ISBLANK(Responses!A103), \"\", Responses!A103)","v":""},{"$f":"IF(ISBLANK(Responses!B103), \"\", Responses!B103)","v":""},{"$f":"IF(ISBLANK(Responses!N103), \"\", Responses!N103)","v":""},{"$f":"IF(ISBLANK(Responses!O103), \"\", Responses!O103)","v":""},{"$f":"IF(ISBLANK(Responses!P103), \"\", Responses!P103)","v":""},{"$f":"IF(ISBLANK(Responses!Q103), \"\", Responses!Q103)","v":""},{"$f":"IF(ISBLANK(Responses!R103), \"\", Responses!R103)","v":""},{"$f":"IF(ISBLANK(Responses!S103), \"\", Responses!S103)","v":""},{"$f":"IF(ISBLANK(Responses!T103), \"\", Responses!T103)","v":""},{"$error":"#N/A"},{"$error":"#N/A"},{"$f":"IF(ISBLANK(C103),0,VLOOKUP(C103,LUTs!$A$6:$B$8,2))","v":{"$error":"#N/A"}},{"$f":"IF(ISBLANK(D103),0,VLOOKUP(D103,LUTs!$A$6:$B$8,2))","v":{"$error":"#N/A"}},{"$f":"IF(ISBLANK(E103),0,VLOOKUP(E103,LUTs!$A$6:$B$8,2))","v":{"$error":"#N/A"}},{"$f":"IF(ISBLANK(F103),0,VLOOKUP(F103,LUTs!$A$6:$B$8,2))","v":{"$error":"#N/A"}},{"$f":"IF(ISBLANK(G103),0,VLOOKUP(G103,LUTs!$A$6:$B$8,2))","v":{"$error":"#N/A"}},{"$f":"IF(ISBLANK(H103),0,VLOOKUP(H103,LUTs!$A$6:$B$8,2))","v":{"$error":"#N/A"}},{"$f":"IF(ISBLANK(I103),0,VLOOKUP(I103,LUTs!$A$6:$B$8,2))","v":{"$error":"#N/A"}}]
[{"$f":"IF(ISBLANK(Responses!A104), \"\", Responses!A104)","v":""},{"$f":"IF(ISBLANK(Responses!B104), \"\", Responses!B104)","v":""},{"$f":"IF(ISBLANK(Responses!N104), \"\", Responses!N104)","v":""},{"$f":"IF(ISBLANK(Responses!O104), \"\", Responses!O104)","v":""},{"$f":"IF(ISBLANK(Responses!P104), \"\", Responses!P104)","v":""},{"$f":"IF(ISBLANK(Responses!Q104), \"\", Responses!Q104)","v":""},{"$f":"IF(ISBLANK(Responses!R104), \"\", Responses!R104)","v":""},{"$f":"IF(ISBLANK(Responses!S104), \"\", Responses!S104)","v":""},{"$f":"IF(ISBLANK(Responses!T104), \"\", Responses!T104)","v":""},{"$error":"#N/A"},{"$error":"#N/A"},{"$f":"IF(ISBLANK(C104),0,VLOOKUP(C104,LUTs!$A$6:$B$8,2))","v":{"$error":"#N/A"}},{"$f":"IF(ISBLANK(D104),0,VLOOKUP(D104,LUTs!$A$6:$B$8,2))","v":{"$error":"#N/A"}},{"$f":"IF(ISBLANK(E104),0,VLOOKUP(E104,LUTs!$A$6:$B$8,2))","v":{"$error":"#N/A"}},{"$f":"IF(ISBLANK(F104),0,VLOOKUP(F104,LUTs!$A$6:$B$8,2))","v":{"$error":"#N/A"}},{"$f":"IF(ISBLANK(G104),0,VLOOKUP(G104,LUTs!$A$6:$B$8,2))","v":{"$error":"#N/A"}},{"$f":"IF(ISBLANK(H104),0,VLOOKUP(H104,LUTs!$A$6:$B$8,2))","v":{"$error":"#N/A"}},{"$f":"IF(ISBLANK(I104),0,VLOOKUP(I104,LUTs!$A$6:$B$8,2))","v":{"$error":"#N/A"}}]
[{"$f":"IF(ISBLANK(Responses!A105), \"\", Responses!A105)","v":""},{"$f":"IF(ISBLANK(Responses!B105), \"\", Responses!B105)","v":""},{"$f":"IF(ISBLANK(Responses!N105), \"\", Responses!N105)","v":""},{"$f":"IF(ISBLANK(Responses!O105), \"\", Responses!O105)","v":""},{"$f":"IF(ISBLANK(Responses!P105), \"\", Responses!P105)","v":""},{"$f":"IF(ISBLANK(Responses!Q105), \"\", Responses!Q105)","v":""},{"$f":"IF(ISBLANK(Responses!R105), \"\", Responses!R105)","v":""},{"$f":"IF(ISBLANK(Responses!S105), \"\", Responses!S105)","v":""},{"$f":"IF(ISBLANK(Responses!T105), \"\", Responses!T105)","v":""},{"$error":"#N/A"},{"$error":"#N/A"},{"$f":"IF(ISBLANK(C105),0,VLOOKUP(C105,LUTs!$A$6:$B$8,2))","v":{"$error":"#N/A"}},{"$f":"IF(ISBLANK(D105),0,VLOOKUP(D105,LUTs!$A$6:$B$8,2))","v":{"$error":"#N/A"}},{"$f":"IF(ISBLANK(E105),0,VLOOKUP(E105,LUTs!$A$6:$B$8,2))","v":{"$error":"#N/A"}},{"$f":"IF(ISBLANK(F105),0,VLOOKUP(F105,LUTs!$A$6:$B$8,2))","v":{"$error":"#N/A"}},{"$f":"IF(ISBLANK(G105),0,VLOOKUP(G105,LUTs!$A$6:$B$8,2))","v":{"$error":"#N/A"}},{"$f":"IF(ISBLANK(H105),0,VLOOKUP(H105,LUTs!$A$6:$B$8,2))","v":{"$error":"#N/A"}},{"$f":"IF(ISBLANK(I105),0,VLOOKUP(I105,LUTs!$A$6:$B$8,2))","v":{"$error":"#N/A"}}]
[{"$f":"IF(ISBLANK(Responses!A106), \"\", Responses!A106)","v":""},{"$f":"IF(ISBLANK(Responses!B106), \"\", Responses!B106)","v":""},{"$f":"IF(ISBLANK(Responses!N106), \"\", Responses!N106)","v":""},{"$f":"IF(ISBLANK(Responses!O106), \"\", Responses!O106)","v":""},{"$f":"IF(ISBLANK(Responses!P106), \"\", Responses!P106)","v":""},{"$f":"IF(ISBLANK(Responses!Q106), \"\", Responses!Q106)","v":""},{"$f":"IF(ISBLANK(Responses!R106), \"\", Responses!R106)","v":""},{"$f":"IF(ISBLANK(Responses!S106), \"\", Responses!S106)","v":""},{"$f":"IF(ISBLANK(Responses!T106), \"\", Responses!T106)","v":""},{"$error":"#N/A"},{"$error":"#N/A"},{"$f":"IF(ISBLANK(C106),0,VLOOKUP(C106,LUTs!$A$6:$B$8,2))","v":{"$error":"#N/A"}},{"$f":"IF(ISBLANK(D106),0,VLOOKUP(D106,LUTs!$A$6:$B$8,2))","v":{"$error":"#N/A"}},{"$f":"IF(ISBLANK(E106),0,VLOOKUP(E106,LUTs!$A$6:$B$8,2))","v":{"$error":"#N/A"}},{"$f":"IF(ISBLANK(F106),0,VLOOKUP(F106,LUTs!$A$6:$B$8,2))","v":{"$error":"#N/A"}},{"$f":"IF(ISBLANK(G106),0,VLOOKUP(G106,LUTs!$A$6:$B$8,2))","v":{"$error":"#N/A"}},{"$f":"IF(ISBLANK(H106),0,VLOOKUP(H106,LUTs!$A$6:$B$8,2))","v":{"$error":"#N/A"}},{"$f":"IF(ISBLANK(I106),0,VLOOKUP(I106,LUTs!$A$6:$B$8,2))","v":{"$error":"#N/A"}}]
[{"$f":"IF(ISBLANK(Responses!A107), \"\", Responses!A107)","v":""},{"$f":"IF(ISBLANK(Responses!B107), \"\", Responses!B107)","v":""},{"$f":"IF(ISBLANK(Responses!N107), \"\", Responses!N107)","v":""},{"$f":"IF(ISBLANK(Responses!O107), \"\", Responses!O107)","v":""},{"$f":"IF(ISBLANK(Responses!P107), \"\", Responses!P107)","v":""},{"$f":"IF(ISBLANK(Responses!Q107), \"\", Responses!Q107)","v":""},{"$f":"IF(ISBLANK(Responses!R107), \"\", Responses!R107)","v":""},{"$f":"IF(ISBLANK(Responses!S107), \"\", Responses!S107)","v":""},{"$f":"IF(ISBLANK(Responses!T107), \"\", Responses!T107)","v":""},{"$error":"#N/A"},{"$error":"#N/A"},{"$f":"IF(ISBLANK(C107),0,VLOOKUP(C107,LUTs!$A$6:$B$8,2))","v":{"$error":"#N/A"}},{"$f":"IF(ISBLANK(D107),0,VLOOKUP(D107,LUTs!$A$6:$B$8,2))","v":{"$error":"#N/A"}},{"$f":"IF(ISBLANK(E107),0,VLOOKUP(E107,LUTs!$A$6:$B$8,2))","v":{"$error":"#N/A"}},{"$f":"IF(ISBLANK(F107),0,VLOOKUP(F107,LUTs!$A$6:$B$8,2))","v":{"$error":"#N/A"}},{"$f":"IF(ISBLANK(G107),0,VLOOKUP(G107,LUTs!$A$6:$B$8,2))","v":{"$error":"#N/A"}},{"$f":"IF(ISBLANK(H107),0,VLOOKUP(H107,LUTs!$A$6:$B$8,2))","v":{"$error":"#N/A"}},{"$f":"IF(ISBLANK(I107),0,VLOOKUP(I107,LUTs!$A$6:$B$8,2))","v":{"$error":"#N/A"}}]
[{"$f":"IF(ISBLANK(Responses!A108), \"\", Responses!A108)","v":""},{"$f":"IF(ISBLANK(Responses!B108), \"\", Responses!B108)","v":""},{"$f":"IF(ISBLANK(Responses!N108), \"\", Responses!N108)","v":""},{"$f":"IF(ISBLANK(Responses!O108), \"\", Responses!O108)","v":""},{"$f":"IF(ISBLANK(Responses!P108), \"\", Responses!P108)","v":""},{"$f":"IF(ISBLANK(Responses!Q108), \"\", Responses!Q108)","v":""},{"$f":"IF(ISBLANK(Responses!R108), \"\", Responses!R108)","v":""},{"$f":"IF(ISBLANK(Responses!S108), \"\", Responses!S108)","v":""},{"$f":"IF(ISBLANK(Responses!T108), \"\", Responses!T108)","v":""},{"$error":"#N/A"},{"$error":"#N/A"},{"$f":"IF(ISBLANK(C108),0,VLOOKUP(C108,LUTs!$A$6:$B$8,2))","v":{"$error":"#N/A"}},{"$f":"IF(ISBLANK(D108),0,VLOOKUP(D108,LUTs!$A$6:$B$8,2))","v":{"$error":"#N/A"}},{"$f":"IF(ISBLANK(E108),0,VLOOKUP(E108,LUTs!$A$6:$B$8,2))","v":{"$error":"#N/A"}},{"$f":"IF(ISBLANK(F108),0,VLOOKUP(F108,LUTs!$A$6:$B$8,2))","v":{"$error":"#N/A"}},{"$f":"IF(ISBLANK(G108),0,VLOOKUP(G108,LUTs!$A$6:$B$8,2))","v":{"$error":"#N/A"}},{"$f":"IF(ISBLANK(H108),0,VLOOKUP(H108,LUTs!$A$6:$B$8,2))","v":{"$error":"#N/A"}},{"$f":"IF(ISBLANK(I108),0,VLOOKUP(I108,LUTs!$A$6:$B$8,2))","v":{"$error":"#N/A"}}]
[{"$f":"IF(ISBLANK(Responses!A109), \"\", Responses!A109)","v":""},{"$f":"IF(ISBLANK(Responses!B109), \"\", Responses!B109)","v":""},{"$f":"IF(ISBLANK(Responses!N109), \"\", Responses!N109)","v":""},{"$f":"IF(ISBLANK(Responses!O109), \"\", Responses!O109)","v":""},{"$f":"IF(ISBLANK(Responses!P109), \"\", Responses!P109)","v":""},{"$f":"IF(ISBLANK(Responses!Q109), \"\", Responses!Q109)","v":""},{"$f":"IF(ISBLANK(Responses!R109), \"\", Responses!R109)","v":""},{"$f":"IF(ISBLANK(Responses!S109), \"\", Responses!S109)","v":""},{"$f":"IF(ISBLANK(Responses!T109), \"\", Responses!T109)","v":""}]
[{"$f":"IF(ISBLANK(Responses!A110), \"\", Responses!A110)","v":""},{"$f":"IF(ISBLANK(Responses!B110), \"\", Responses!B110)","v":""},{"$f":"IF(ISBLANK(Responses!N110), \"\", Responses!N110)","v":""},{"$f":"IF(ISBLANK(Responses!O110), \"\", Responses!O110)","v":""},{"$f":"IF(ISBLANK(Responses!P110), \"\", Responses!P110)","v":""},{"$f":"IF(ISBLANK(Responses!Q110), \"\", Responses!Q110)","v":""},{"$f":"IF(ISBLANK(Responses!R110), \"\", Responses!R110)","v":""},{"$f":"IF(ISBLANK(Responses!S110), \"\", Responses!S110)","v":""},{"$f":"IF(ISBLANK(Responses!T110), \"\", Responses!T110)","v":""}]
[{"$f":"IF(ISBLANK(Responses!A111), \"\", Responses!A111)","v":""},{"$f":"IF(ISBLANK(Responses!B111), \"\", Responses!B111)","v":""},{"$f":"IF(ISBLANK(Responses!N111), \"\", Responses!N111)","v":""},{"$f":"IF(ISBLANK(Responses!O111), \"\", Responses!O111)","v":""},{"$f":"IF(ISBLANK(Responses!P111), \"\", Responses!P111)","v":""},{"$f":"IF(ISBLANK(Responses!Q111), \"\", Responses!Q111)","v":""},{"$f":"IF(ISBLANK(Responses!R111), \"\", Responses!R111)","v":""},{"$f":"IF(ISBLANK(Responses!S111), \"\", Responses!S111)","v":""},{"$f":"IF(ISBLANK(Responses!T111), \"\", Responses!T111)","v":""}]
[{"$f":"IF(ISBLANK(Responses!A112), \"\", Responses!A112)","v":""},{"$f":"IF(ISBLANK(Responses!B112), \"\", Responses!B112)","v":""},{"$f":"IF(ISBLANK(Responses!N112), \"\", Responses!N112)","v":""},{"$f":"IF(ISBLANK(Responses!O112), \"\", Responses!O112)","v":""},{"$f":"IF(ISBLANK(Responses!P112), \"\", Responses!P112)","v":""},{"$f":"IF(ISBLANK(Responses!Q112), \"\", Responses!Q112)","v":""},{"$f":"IF(ISBLANK(Responses!R112), \"\", Responses!R112)","v":""},{"$f":"IF(ISBLANK(Responses!S112), \"\", Responses!S112)","v":""},{"$f":"IF(ISBLANK(Responses!T112), \"\", Responses!T112)","v":""}]
[{"$f":"IF(ISBLANK(Responses!A113), \"\", Responses!A113)","v":""},{"$f":"IF(ISBLANK(Responses!B113), \"\", Responses!B113)","v":""},{"$f":"IF(ISBLANK(Responses!N113), \"\", Responses!N113)","v":""},{"$f":"IF(ISBLANK(Responses!O113), \"\", Responses!O113)","v":""},{"$f":"IF(ISBLANK(Responses!P113), \"\", Responses!P113)","v":""},{"$f":"IF(ISBLANK(Responses!Q113), \"\", Responses!Q113)","v":""},{"$f":"IF(ISBLANK(Responses!R113), \"\", Responses!R113)","v":""},{"$f":"IF(ISBLANK(Responses!S113), \"\", Responses!S113)","v":""},{"$f":"IF(ISBLANK(Responses!T113), \"\", Responses!T113)","v":""}]
[{"$f":"IF(ISBLANK(Responses!A114), \"\", Responses!A114)","v":""},{"$f":"IF(ISBLANK(Responses!B114), \"\", Responses!B114)","v":""},{"$f":"IF(ISBLANK(Responses!N114), \"\", Responses!N114)","v":""},{"$f":"IF(ISBLANK(Responses!O114), \"\", Responses!O114)","v":""},{"$f":"IF(ISBLANK(Responses!P114), \"\", Responses!P114)","v":""},{"$f":"IF(ISBLANK(Responses!Q114), \"\", Responses!Q114)","v":""},{"$f":"IF(ISBLANK(Responses!R114), \"\", Responses!R114)","v":""},{"$f":"IF(ISBLANK(Responses!S114), \"\", Responses!S114)","v":""},{"$f":"IF(ISBLANK(Responses!T114), \"\", Responses!T114)","v":""}]
[{"$f":"IF(ISBLANK(Responses!A115), \"\", Responses!A115)","v":""},{"$f":"IF(ISBLANK(Responses!B115), \"\", Responses!B115)","v":""},{"$f":"IF(ISBLANK(Responses!N115), \"\", Responses!N115)","v":""},{"$f":"IF(ISBLANK(Responses!O115), \"\", Responses!O115)","v":""},{"$f":"IF(ISBLANK(Responses!P115), \"\", Responses!P115)","v":""},{"$f":"IF(ISBLANK(Responses!Q115), \"\", Responses!Q115)","v":""},{"$f":"IF(ISBLANK(Responses!R115), \"\", Responses!R115)","v":""},{"$f":"IF(ISBLANK(Responses!S115), \"\", Responses!S115)","v":""},{"$f":"IF(ISBLANK(Responses!T115), \"\", Responses!T115)","v":""}]
[{"$f":"IF(ISBLANK(Responses!A116), \"\", Responses!A116)","v":""},{"$f":"IF(ISBLANK(Responses!B116), \"\", Responses!B116)","v":""},{"$f":"IF(ISBLANK(Responses!N116), \"\", Responses!N116)","v":""},{"$f":"IF(ISBLANK(Responses!O116), \"\", Responses!O116)","v":""},{"$f":"IF(ISBLANK(Responses!P116), \"\", Responses!P116)","v":""},{"$f":"IF(ISBLANK(Responses!Q116), \"\", Responses!Q116)","v":""},{"$f":"IF(ISBLANK(Responses!R116), \"\", Responses!R116)","v":""},{"$f":"IF(ISBLANK(Responses!S116), \"\", Responses!S116)","v":""},{"$f":"IF(ISBLANK(Responses!T116), \"\", Responses!T116)","v":""}]
[{"$f":"IF(ISBLANK(Responses!A117), \"\", Responses!A117)","v":""},{"$f":"IF(ISBLANK(Responses!B117), \"\", Responses!B117)","v":""},{"$f":"IF(ISBLANK(Responses!N117), \"\", Responses!N117)","v":""},{"$f":"IF(ISBLANK(Responses!O117), \"\", Responses!O117)","v":""},{"$f":"IF(ISBLANK(Responses!P117), \"\", Responses!P117)","v":""},{"$f":"IF(ISBLANK(Responses!Q117), \"\", Responses!Q117)","v":""},{"$f":"IF(ISBLANK(Responses!R117), \"\", Responses!R117)","v":""},{"$f":"IF(ISBLANK(Responses!S117), \"\", Responses!S117)","v":""},{"$f":"IF(ISBLANK(Responses!T117), \"\", Responses!T117)","v":""}]
[{"$f":"IF(ISBLANK(Responses!A118), \"\", Responses!A118)","v":""},{"$f":"IF(ISBLANK(Responses!B118), \"\", Responses!B118)","v":""},{"$f":"IF(ISBLANK(Responses!N118), \"\", Responses!N118)","v":""},{"$f":"IF(ISBLANK(Responses!O118), \"\", Responses!O118)","v":""},{"$f":"IF(ISBLANK(Responses!P118), \"\", Responses!P118)","v":""},{"$f":"IF(ISBLANK(Responses!Q118), \"\", Responses!Q118)","v":""},{"$f":"IF(ISBLANK(Responses!R118), \"\", Responses!R118)","v":""},{"$f":"IF(ISBLANK(Responses!S118), \"\", Responses!S118)","v":""},{"$f":"IF(ISBLANK(Responses!T118), \"\", Responses!T118)","v":""}]
[{"$f":"IF(ISBLANK(Responses!A119), \"\", Responses!A119)","v":""},{"$f":"IF(ISBLANK(Responses!B119), \"\", Responses!B119)","v":""},{"$f":"IF(ISBLANK(Responses!N119), \"\", Responses!N119)","v":""},{"$f":"IF(ISBLANK(Responses!O119), \"\", Responses!O119)","v":""},{"$f":"IF(ISBLANK(Responses!P119), \"\", Responses!P119)","v":""},{"$f":"IF(ISBLANK(Responses!Q119), \"\", Responses!Q119)","v":""},{"$f":"IF(ISBLANK(Responses!R119), \"\", Responses!R119)","v":""},{"$f":"IF(ISBLANK(Responses!S119), \"\", Responses!S119)","v":""},{"$f":"IF(ISBLANK(Responses!T119), \"\", Responses!T119)","v":""}]
[{"$f":"IF(ISBLANK(Responses!A120), \"\", Responses!A120)","v":""},{"$f":"IF(ISBLANK(Responses!B120), \"\", Responses!B120)","v":""},{"$f":"IF(ISBLANK(Responses!N120), \"\", Responses!N120)","v":""},{"$f":"IF(ISBLANK(Responses!O120), \"\", Responses!O120)","v":""},{"$f":"IF(ISBLANK(Responses!P120), \"\", Responses!P120)","v":""},{"$f":"IF(ISBLANK(Responses!Q120), \"\", Responses!Q120)","v":""},{"$f":"IF(ISBLANK(Responses!R120), \"\", Responses!R120)","v":""},{"$f":"IF(ISBLANK(Responses!S120), \"\", Responses!S120)","v":""},{"$f":"IF(ISBLANK(Responses!T120), \"\", Responses!T120)","v":""}]
[{"$f":"IF(ISBLANK(Responses!A121), \"\", Responses!A121)","v":""},{"$f":"IF(ISBLANK(Responses!B121), \"\", Responses!B121)","v":""},{"$f":"IF(ISBLANK(Responses!N121), \"\", Responses!N121)","v":""},{"$f":"IF(ISBLANK(Responses!O121), \"\", Responses!O121)","v":""},{"$f":"IF(ISBLANK(Responses!P121), \"\", Responses!P121)","v":""},{"$f":"IF(ISBLANK(Responses!Q121), \"\", Responses!Q121)","v":""},{"$f":"IF(ISBLANK(Responses!R121), \"\", Responses!R121)","v":""},{"$f":"IF(ISBLANK(Responses!S121), \"\", Responses!S121)","v":""},{"$f":"IF(ISBLANK(Responses!T121), \"\", Responses!T121)","v":""}]
[{"$f":"IF(ISBLANK(Responses!A122), \"\", Responses!A122)","v":""},{"$f":"IF(ISBLANK(Responses!B122), \"\", Responses!B122)","v":""},{"$f":"IF(ISBLANK(Responses!N122), \"\", Responses!N122)","v":""},{"$f":"IF(ISBLANK(Responses!O122), \"\", Responses!O122)","v":""},{"$f":"IF(ISBLANK(Responses!P122), \"\", Responses!P122)","v":""},{"$f":"IF(ISBLANK(Responses!Q122), \"\", Responses!Q122)","v":""},{"$f":"IF(ISBLANK(Responses!R122), \"\", Responses!R122)","v":""},{"$f":"IF(ISBLANK(Responses!S122), \"\", Responses!S122)","v":""},{"$f":"IF(ISBLANK(Responses!T122), \"\", Responses!T122)","v":""}]
[{"$f":"IF(ISBLANK(Responses!A123), \"\", Responses!A123)","v":""},{"$f":"IF(ISBLANK(Responses!B123), \"\", Responses!B123)","v":""},{"$f":"IF(ISBLANK(Responses!N123), \"\", Responses!N123)","v":""},{"$f":"IF(ISBLANK(Responses!O123), \"\", Responses!O123)","v":""},{"$f":"IF(ISBLANK(Responses!P123), \"\", Responses!P123)","v":""},{"$f":"IF(ISBLANK(Responses!Q123), \"\", Responses!Q123)","v":""},{"$f":"IF(ISBLANK(Responses!R123), \"\", Responses!R123)","v":""},{"$f":"IF(ISBLANK(Responses!S123), \"\", Responses!S123)","v":""},{"$f":"IF(ISBLANK(Responses!T123), \"\", Responses!T123)","v":""}]
[{"$f":"IF(ISBLANK(Responses!A124), \"\", Responses!A124)","v":""},{"$f":"IF(ISBLANK(Responses!B124), \"\", Responses!B124)","v":""},{"$f":"IF(ISBLANK(Responses!N124), \"\", Responses!N124)","v":""},{"$f":"IF(ISBLANK(Responses!O124), \"\", Responses!O124)","v":""},{"$f":"IF(ISBLANK(Responses!P124), \"\", Responses!P124)","v":""},{"$f":"IF(ISBLANK(Responses!Q124), \"\", Responses!Q124)","v":""},{"$f":"IF(ISBLANK(Responses!R124), \"\", Responses!R124)","v":""},{"$f":"IF(ISBLANK(Responses!S124), \"\", Responses!S124)","v":""},{"$f":"IF(ISBLANK(Responses!T124), \"\", Responses!T124)","v":""}]
[{"$f":"IF(ISBLANK(Responses!A125), \"\", Responses!A125)","v":""},{"$f":"IF(ISBLANK(Responses!B125), \"\", Responses!B125)","v":""},{"$f":"IF(ISBLANK(Responses!N125), \"\", Responses!N125)","v":""},{"$f":"IF(ISBLANK(Responses!O125), \"\", Responses!O125)","v":""},{"$f":"IF(ISBLANK(Responses!P125), \"\", Responses!P125)","v":""},{"$f":"IF(ISBLANK(Responses!Q125), \"\", Responses!Q125)","v":""},{"$f":"IF(ISBLANK(Responses!R125), \"\", Responses!R125)","v":""},{"$f":"IF(ISBLANK(Responses!S125), \"\", Responses!S125)","v":""},{"$f":"IF(ISBLANK(Responses!T125), \"\", Responses!T125)","v":""}]
[{"$f":"IF(ISBLANK(Responses!A126), \"\", Responses!A126)","v":""},{"$f":"IF(ISBLANK(Responses!B126), \"\", Responses!B126)","v":""},{"$f":"IF(ISBLANK(Responses!N126), \"\", Responses!N126)","v":""},{"$f":"IF(ISBLANK(Responses!O126), \"\", Responses!O126)","v":""},{"$f":"IF(ISBLANK(Responses!P126), \"\", Responses!P126)","v":""},{"$f":"IF(ISBLANK(Responses!Q126), \"\", Responses!Q126)","v":""},{"$f":"IF(ISBLANK(Responses!R126), \"\", Responses!R126)","v":""},{"$f":"IF(ISBLANK(Responses!S126), \"\", Responses!S126)","v":""},{"$f":"IF(ISBLANK(Responses!T126), \"\", Responses!T126)","v":""}]
[{"$f":"IF(ISBLANK(Responses!A127), \"\", Responses!A127)","v":""},{"$f":"IF(ISBLANK(Responses!B127), \"\", Responses!B127)","v":""},{"$f":"IF(ISBLANK(Responses!N127), \"\", Responses!N127)","v":""},{"$f":"IF(ISBLANK(Responses!O127), \"\", Responses!O127)","v":""},{"$f":"IF(ISBLANK(Responses!P127), \"\", Responses!P127)","v":""},{"$f":"IF(ISBLANK(Responses!Q127), \"\", Responses!Q127)","v":""},{"$f":"IF(ISBLANK(Responses!R127), \"\", Responses!R127)","v":""},{"$f":"IF(ISBLANK(Responses!S127), \"\", Responses!S127)","v":""},{"$f":"IF(ISBLANK(Responses!T127), \"\", Responses!T127)","v":""}]
[{"$f":"IF(ISBLANK(Responses!A128), \"\", Responses!A128)","v":""},{"$f":"IF(ISBLANK(Responses!B128), \"\", Responses!B128)","v":""},{"$f":"IF(ISBLANK(Responses!N128), \"\", Responses!N128)","v":""},{"$f":"IF(ISBLANK(Responses!O128), \"\", Responses!O128)","v":""},{"$f":"IF(ISBLANK(Responses!P128), \"\", Responses!P128)","v":""},{"$f":"IF(ISBLANK(Responses!Q128), \"\", Responses!Q128)","v":""},{"$f":"IF(ISBLANK(Responses!R128), \"\", Responses!R128)","v":""},{"$f":"IF(ISBLANK(Responses!S128), \"\", Responses!S128)","v":""},{"$f":"IF(ISBLANK(Responses!T128), \"\", Responses!T128)","v":""}]
[{"$f":"IF(ISBLANK(Responses!A129), \"\", Responses!A129)","v":""},{"$f":"IF(ISBLANK(Responses!B129), \"\", Responses!B129)","v":""},{"$f":"IF(ISBLANK(Responses!N129), \"\", Responses!N129)","v":""},{"$f":"IF(ISBLANK(Responses!O129), \"\", Responses!O129)","v":""},{"$f":"IF(ISBLANK(Responses!P129), \"\", Responses!P129)","v":""},{"$f":"IF(ISBLANK(Responses!Q129), \"\", Responses!Q129)","v":""},{"$f":"IF(ISBLANK(Responses!R129), \"\", Responses!R129)","v":""},{"$f":"IF(ISBLANK(Responses!S129), \"\", Responses!S129)","v":""},{"$f":"IF(ISBLANK(Responses!T129), \"\", Responses!T129)","v":""}]
[{"$f":"IF(ISBLANK(Responses!A130), \"\", Responses!A130)","v":""},{"$f":"IF(ISBLANK(Responses!B130), \"\", Responses!B130)","v":""},{"$f":"IF(ISBLANK(Responses!N130), \"\", Responses!N130)","v":""},{"$f":"IF(ISBLANK(Responses!O130), \"\", Responses!O130)","v":""},{"$f":"IF(ISBLANK(Responses!P130), \"\", Responses!P130)","v":""},{"$f":"IF(ISBLANK(Responses!Q130), \"\", Responses!Q130)","v":""},{"$f":"IF(ISBLANK(Responses!R130), \"\", Responses!R130)","v":""},{"$f":"IF(ISBLANK(Responses!S130), \"\", Responses!S130)","v":""},{"$f":"IF(ISBLANK(Responses!T130), \"\", Responses!T130)","v":""}]
[{"$f":"IF(ISBLANK(Responses!A131), \"\", Responses!A131)","v":""},{"$f":"IF(ISBLANK(Responses!B131), \"\", Responses!B131)","v":""},{"$f":"IF(ISBLANK(Responses!N131), \"\", Responses!N131)","v":""},{"$f":"IF(ISBLANK(Responses!O131), \"\", Responses!O131)","v":""},{"$f":"IF(ISBLANK(Responses!P131), \"\", Responses!P131)","v":""},{"$f":"IF(ISBLANK(Responses!Q131), \"\", Responses!Q131)","v":""},{"$f":"IF(ISBLANK(Responses!R131), \"\", Responses!R131)","v":""},{"$f":"IF(ISBLANK(Responses!S131), \"\", Responses!S131)","v":""},{"$f":"IF(ISBLANK(Responses!T131), \"\", Responses!T131)","v":""}]
[{"$f":"IF(ISBLANK(Responses!A132), \"\", Responses!A132)","v":""},{"$f":"IF(ISBLANK(Responses!B132), \"\", Responses!B132)","v":""},{"$f":"IF(ISBLANK(Responses!N132), \"\", Responses!N132)","v":""},{"$f":"IF(ISBLANK(Responses!O132), \"\", Responses!O132)","v":""},{"$f":"IF(ISBLANK(Responses!P132), \"\", Responses!P132)","v":""},{"$f":"IF(ISBLANK(Responses!Q132), \"\", Responses!Q132)","v":""},{"$f":"IF(ISBLANK(Responses!R132), \"\", Responses!R132)","v":""},{"$f":"IF(ISBLANK(Responses!S132), \"\", Responses!S132)","v":""},{"$f":"IF(ISBLANK(Responses!T132), \"\", Responses!T132)","v":""}]
[{"$f":"IF(ISBLANK(Responses!A133), \"\", Responses!A133)","v":""},{"$f":"IF(ISBLANK(Responses!B133), \"\", Responses!B133)","v":""},{"$f":"IF(ISBLANK(Responses!N133), \"\", Responses!N133)","v":""},{"$f":"IF(ISBLANK(Responses!O133), \"\", Responses!O133)","v":""},{"$f":"IF(ISBLANK(Responses!P133), \"\", Responses!P133)","v":""},{"$f":"IF(ISBLANK(Responses!Q133), \"\", Responses!Q133)","v":""},{"$f":"IF(ISBLANK(Responses!R133), \"\", Responses!R133)","v":""},{"$f":"IF(ISBLANK(Responses!S133), \"\", Responses!S133)","v":""},{"$f":"IF(ISBLANK(Responses!T133), \"\", Responses!T133)","v":""}]
[{"$f":"IF(ISBLANK(Responses!A134), \"\", Responses!A134)","v":""},{"$f":"IF(ISBLANK(Responses!B134), \"\", Responses!B134)","v":""},{"$f":"IF(ISBLANK(Responses!N134), \"\", Responses!N134)","v":""},{"$f":"IF(ISBLANK(Responses!O134), \"\", Responses!O134)","v":""},{"$f":"IF(ISBLANK(Responses!P134), \"\", Responses!P134)","v":""},{"$f":"IF(ISBLANK(Responses!Q134), \"\", Responses!Q134)","v":""},{"$f":"IF(ISBLANK(Responses!R134), \"\", Responses!R134)","v":""},{"$f":"IF(ISBLANK(Responses!S134), \"\", Responses!S134)","v":""},{"$f":"IF(ISBLANK(Responses!T134), \"\", Responses!T134)","v":""}]
[{"$f":"IF(ISBLANK(Responses!A135), \"\", Responses!A135)","v":""},{"$f":"IF(ISBLANK(Responses!B135), \"\", Responses!B135)","v":""},{"$f":"IF(ISBLANK(Responses!N135), \"\", Responses!N135)","v":""},{"$f":"IF(ISBLANK(Responses!O135), \"\", Responses!O135)","v":""},{"$f":"IF(ISBLANK(Responses!P135), \"\", Responses!P135)","v":""},{"$f":"IF(ISBLANK(Responses!Q135), \"\", Responses!Q135)","v":""},{"$f":"IF(ISBLANK(Responses!R135), \"\", Responses!R135)","v":""},{"$f":"IF(ISBLANK(Responses!S135), \"\", Responses!S135)","v":""},{"$f":"IF(ISBLANK(Responses!T135), \"\", Responses!T135)","v":""}]
[{"$f":"IF(ISBLANK(Responses!A136), \"\", Responses!A136)","v":""},{"$f":"IF(ISBLANK(Responses!B136), \"\", Responses!B136)","v":""},{"$f":"IF(ISBLANK(Responses!N136), \"\", Responses!N136)","v":""},{"$f":"IF(ISBLANK(Responses!O136), \"\", Responses!O136)","v":""},{"$f":"IF(ISBLANK(Responses!P136), \"\", Responses!P136)","v":""},{"$f":"IF(ISBLANK(Responses!Q136), \"\", Responses!Q136)","v":""},{"$f":"IF(ISBLANK(Responses!R136), \"\", Responses!R136)","v":""},{"$f":"IF(ISBLANK(Responses!S136), \"\", Responses!S136)","v":""},{"$f":"IF(ISBLANK(Responses!T136), \"\", Responses!T136)","v":""}]
[{"$f":"IF(ISBLANK(Responses!A137), \"\", Responses!A137)","v":""},{"$f":"IF(ISBLANK(Responses!B137), \"\", Responses!B137)","v":""},{"$f":"IF(ISBLANK(Responses!N137), \"\", Responses!N137)","v":""},{"$f":"IF(ISBLANK(Responses!O137), \"\", Responses!O137)","v":""},{"$f":"IF(ISBLANK(Responses!P137), \"\", Responses!P137)","v":""},{"$f":"IF(ISBLANK(Responses!Q137), \"\", Responses!Q137)","v":""},{"$f":"IF(ISBLANK(Responses!R137), \"\", Responses!R137)","v":""},{"$f":"IF(ISBLANK(Responses!S137), \"\", Responses!S137)","v":""},{"$f":"IF(ISBLANK(Responses!T137), \"\", Responses!T137)","v":""}]
[{"$f":"IF(ISBLANK(Responses!A138), \"\", Responses!A138)","v":""},{"$f":"IF(ISBLANK(Responses!B138), \"\", Responses!B138)","v":""},{"$f":"IF(ISBLANK(Responses!N138), \"\", Responses!N138)","v":""},{"$f":"IF(ISBLANK(Responses!O138), \"\", Responses!O138)","v":""},{"$f":"IF(ISBLANK(Responses!P138), \"\", Responses!P138)","v":""},{"$f":"IF(ISBLANK(Responses!Q138), \"\", Responses!Q138)","v":""},{"$f":"IF(ISBLANK(Responses!R138), \"\", Responses!R138)","v":""},{"$f":"IF(ISBLANK(Responses!S138), \"\", Responses!S138)","v":""},{"$f":"IF(ISBLANK(Responses!T138), \"\", Responses!T138)","v":""}]
[{"$f":"IF(ISBLANK(Responses!A139), \"\", Responses!A139)","v":""},{"$f":"IF(ISBLANK(Responses!B139), \"\", Responses!B139)","v":""},{"$f":"IF(ISBLANK(Responses!N139), \"\", Responses!N139)","v":""},{"$f":"IF(ISBLANK(Responses!O139), \"\", Responses!O139)","v":""},{"$f":"IF(ISBLANK(Responses!P139), \"\", Responses!P139)","v":""},{"$f":"IF(ISBLANK(Responses!Q139), \"\", Responses!Q139)","v":""},{"$f":"IF(ISBLANK(Responses!R139), \"\", Responses!R139)","v":""},{"$f":"IF(ISBLANK(Responses!S139), \"\", Responses!S139)","v":""},{"$f":"IF(ISBLANK(Responses!T139), \"\", Responses!T139)","v":""}]
[{"$f":"IF(ISBLANK(Responses!A140), \"\", Responses!A140)","v":""},{"$f":"IF(ISBLANK(Responses!B140), \"\", Responses!B140)","v":""},{"$f":"IF(ISBLANK(Responses!N140), \"\", Responses!N140)","v":""},{"$f":"IF(ISBLANK(Responses!O140), \"\", Responses!O140)","v":""},{"$f":"IF(ISBLANK(Responses!P140), \"\", Responses!P140)","v":""},{"$f":"IF(ISBLANK(Responses!Q140), \"\", Responses!Q140)","v":""},{"$f":"IF(ISBLANK(Responses!R140), \"\", Responses!R140)","v":""},{"$f":"IF(ISBLANK(Responses!S140), \"\", Responses!S140)","v":""},{"$f":"IF(ISBLANK(Responses!T140), \"\", Responses!T140)","v":""}]
[{"$f":"IF(ISBLANK(Responses!A141), \"\", Responses!A141)","v":""},{"$f":"IF(ISBLANK(Responses!B141), \"\", Responses!B141)","v":""},{"$f":"IF(ISBLANK(Responses!N141), \"\", Responses!N141)","v":""},{"$f":"IF(ISBLANK(Responses!O141), \"\", Responses!O141)","v":""},{"$f":"IF(ISBLANK(Responses!P141), \"\", Responses!P141)","v":""},{"$f":"IF(ISBLANK(Responses!Q141), \"\", Responses!Q141)","v":""},{"$f":"IF(ISBLANK(Responses!R141), \"\", Responses!R141)","v":""},{"$f":"IF(ISBLANK(Responses!S141), \"\", Responses!S141)","v":""},{"$f":"IF(ISBLANK(Responses!T141), \"\", Responses!T141)","v":""}]
[{"$f":"IF(ISBLANK(Responses!A142), \"\", Responses!A142)","v":""},{"$f":"IF(ISBLANK(Responses!B142), \"\", Responses!B142)","v":""},{"$f":"IF(ISBLANK(Responses!N142), \"\", Responses!N142)","v":""},{"$f":"IF(ISBLANK(Responses!O142), \"\", Responses!O142)","v":""},{"$f":"IF(ISBLANK(Responses!P142), \"\", Responses!P142)","v":""},{"$f":"IF(ISBLANK(Responses!Q142), \"\", Responses!Q142)","v":""},{"$f":"IF(ISBLANK(Responses!R142), \"\", Responses!R142)","v":""},{"$f":"IF(ISBLANK(Responses!S142), \"\", Responses!S142)","v":""},{"$f":"IF(ISBLANK(Responses!T142), \"\", Responses!T142)","v":""}]
[{"$f":"IF(ISBLANK(Responses!A143), \"\", Responses!A143)","v":""},{"$f":"IF(ISBLANK(Responses!B143), \"\", Responses!B143)","v":""},{"$f":"IF(ISBLANK(Responses!N143), \"\", Responses!N143)","v":""},{"$f":"IF(ISBLANK(Responses!O143), \"\", Responses!O143)","v":""},{"$f":"IF(ISBLANK(Responses!P143), \"\", Responses!P143)","v":""},{"$f":"IF(ISBLANK(Responses!Q143), \"\", Responses!Q143)","v":""},{"$f":"IF(ISBLANK(Responses!R143), \"\", Responses!R143)","v":""},{"$f":"IF(ISBLANK(Responses!S143), \"\", Responses!S143)","v":""},{"$f":"IF(ISBLANK(Responses!T143), \"\", Responses!T143)","v":""}]
[{"$f":"IF(ISBLANK(Responses!A144), \"\", Responses!A144)","v":""},{"$f":"IF(ISBLANK(Responses!B144), \"\", Responses!B144)","v":""},{"$f":"IF(ISBLANK(Responses!N144), \"\", Responses!N144)","v":""},{"$f":"IF(ISBLANK(Responses!O144), \"\", Responses!O144)","v":""},{"$f":"IF(ISBLANK(Responses!P144), \"\", Responses!P144)","v":""},{"$f":"IF(ISBLANK(Responses!Q144), \"\", Responses!Q144)","v":""},{"$f":"IF(ISBLANK(Responses!R144), \"\", Responses!R144)","v":""},{"$f":"IF(ISBLANK(Responses!S144), \"\", Responses!S144)","v":""},{"$f":"IF(ISBLANK(Responses!T144), \"\", Responses!T144)","v":""}]
[{"$f":"IF(ISBLANK(Responses!A145), \"\", Responses!A145)","v":""},{"$f":"IF(ISBLANK(Responses!B145), \"\", Responses!B145)","v":""},{"$f":"IF(ISBLANK(Responses!N145), \"\", Responses!N145)","v":""},{"$f":"IF(ISBLANK(Responses!O145), \"\", Responses!O145)","v":""},{"$f":"IF(ISBLANK(Responses!P145), \"\", Responses!P145)","v":""},{"$f":"IF(ISBLANK(Responses!Q145), \"\", Responses!Q145)","v":""},{"$f":"IF(ISBLANK(Responses!R145), \"\", Responses!R145)","v":""},{"$f":"IF(ISBLANK(Responses!S145), \"\", Responses!S145)","v":""},{"$f":"IF(ISBLANK(Responses!T145), \"\", Responses!T145)","v":""}]
[{"$f":"IF(ISBLANK(Responses!A146), \"\", Responses!A146)","v":""},{"$f":"IF(ISBLANK(Responses!B146), \"\", Responses!B146)","v":""},{"$f":"IF(ISBLANK(Responses!N146), \"\", Responses!N146)","v":""},{"$f":"IF(ISBLANK(Responses!O146), \"\", Responses!O146)","v":""},{"$f":"IF(ISBLANK(Responses!P146), \"\", Responses!P146)","v":""},{"$f":"IF(ISBLANK(Responses!Q146), \"\", Responses!Q146)","v":""},{"$f":"IF(ISBLANK(Responses!R146), \"\", Responses!R146)","v":""},{"$f":"IF(ISBLANK(Responses!S146), \"\", Responses!S146)","v":""},{"$f":"IF(ISBLANK(Responses!T146), \"\", Responses!T146)","v":""}]
[{"$f":"IF(ISBLANK(Responses!A147), \"\", Responses!A147)","v":""},{"$f":"IF(ISBLANK(Responses!B147), \"\", Responses!B147)","v":""},{"$f":"IF(ISBLANK(Responses!N147), \"\", Responses!N147)","v":""},{"$f":"IF(ISBLANK(Responses!O147), \"\", Responses!O147)","v":""},{"$f":"IF(ISBLANK(Responses!P147), \"\", Responses!P147)","v":""},{"$f":"IF(ISBLANK(Responses!Q147), \"\", Responses!Q147)","v":""},{"$f":"IF(ISBLANK(Responses!R147), \"\", Responses!R147)","v":""},{"$f":"IF(ISBLANK(Responses!S147), \"\", Responses!S147)","v":""},{"$f":"IF(ISBLANK(Responses!T147), \"\", Responses!T147)","v":""}]
[{"$f":"IF(ISBLANK(Responses!A148), \"\", Responses!A148)","v":""},{"$f":"IF(ISBLANK(Responses!B148), \"\", Responses!B148)","v":""},{"$f":"IF(ISBLANK(Responses!N148), \"\", Responses!N148)","v":""},{"$f":"IF(ISBLANK(Responses!O148), \"\", Responses!O148)","v":""},{"$f":"IF(ISBLANK(Responses!P148), \"\", Responses!P148)","v":""},{"$f":"IF(ISBLANK(Responses!Q148), \"\", Responses!Q148)","v":""},{"$f":"IF(ISBLANK(Responses!R148), \"\", Responses!R148)","v":""},{"$f":"IF(ISBLANK(Responses!S148), \"\", Responses!S148)","v":""},{"$f":"IF(ISBLANK(Responses!T148), \"\", Responses!T148)","v":""}]
[{"$f":"IF(ISBLANK(Responses!A149), \"\", Responses!A149)","v":""},{"$f":"IF(ISBLANK(Responses!B149), \"\", Responses!B149)","v":""},{"$f":"IF(ISBLANK(Responses!N149), \"\", Responses!N149)","v":""},{"$f":"IF(ISBLANK(Responses!O149), \"\", Responses!O149)","v":""},{"$f":"IF(ISBLANK(Responses!P149), \"\", Responses!P149)","v":""},{"$f":"IF(ISBLANK(Responses!Q149), \"\", Responses!Q149)","v":""},{"$f":"IF(ISBLANK(Responses!R149), \"\", Responses!R149)","v":""},{"$f":"IF(ISBLANK(Responses!S149), \"\", Responses!S149)","v":""},{"$f":"IF(ISBLANK(Responses!T149), \"\", Responses!T149)","v":""}]
[{"$f":"IF(ISBLANK(Responses!A150), \"\", Responses!A150)","v":""},{"$f":"IF(ISBLANK(Responses!B150), \"\", Responses!B150)","v":""},{"$f":"IF(ISBLANK(Responses!N150), \"\", Responses!N150)","v":""},{"$f":"IF(ISBLANK(Responses!O150), \"\", Responses!O150)","v":""},{"$f":"IF(ISBLANK(Responses!P150), \"\", Responses!P150)","v":""},{"$f":"IF(ISBLANK(Responses!Q150), \"\", Responses!Q150)","v":""},{"$f":"IF(ISBLANK(Responses!R150), \"\", Responses!R150)","v":""},{"$f":"IF(ISBLANK(Responses!S150), \"\", Responses!S150)","v":""},{"$f":"IF(ISBLANK(Responses!T150), \"\", Responses!T150)","v":""}]
[{"$f":"IF(ISBLANK(Responses!A151), \"\", Responses!A151)","v":""},{"$f":"IF(ISBLANK(Responses!B151), \"\", Responses!B151)","v":""},{"$f":"IF(ISBLANK(Responses!N151), \"\", Responses!N151)","v":""},{"$f":"IF(ISBLANK(Responses!O151), \"\", Responses!O151)","v":""},{"$f":"IF(ISBLANK(Responses!P151), \"\", Responses!P151)","v":""},{"$f":"IF(ISBLANK(Responses!Q151), \"\", Responses!Q151)","v":""},{"$f":"IF(ISBLANK(Responses!R151), \"\", Responses!R151)","v":""},{"$f":"IF(ISBLANK(Responses!S151), \"\", Responses!S151)","v":""},{"$f":"IF(ISBLANK(Responses!T151), \"\", Responses!T151)","v":""}]
[{"$f":"IF(ISBLANK(Responses!A152), \"\", Responses!A152)","v":""},{"$f":"IF(ISBLANK(Responses!B152), \"\", Responses!B152)","v":""},{"$f":"IF(ISBLANK(Responses!N152), \"\", Responses!N152)","v":""},{"$f":"IF(ISBLANK(Responses!O152), \"\", Responses!O152)","v":""},{"$f":"IF(ISBLANK(Responses!P152), \"\", Responses!P152)","v":""},{"$f":"IF(ISBLANK(Responses!Q152), \"\", Responses!Q152)","v":""},{"$f":"IF(ISBLANK(Responses!R152), \"\", Responses!R152)","v":""},{"$f":"IF(ISBLANK(Responses!S152), \"\", Responses!S152)","v":""},{"$f":"IF(ISBLANK(Responses!T152), \"\", Responses!T152)","v":""}]
[{"$f":"IF(ISBLANK(Responses!A153), \"\", Responses!A153)","v":""},{"$f":"IF(ISBLANK(Responses!B153), \"\", Responses!B153)","v":""},{"$f":"IF(ISBLANK(Responses!N153), \"\", Responses!N153)","v":""},{"$f":"IF(ISBLANK(Responses!O153), \"\", Responses!O153)","v":""},{"$f":"IF(ISBLANK(Responses!P153), \"\", Responses!P153)","v":""},{"$f":"IF(ISBLANK(Responses!Q153), \"\", Responses!Q153)","v":""},{"$f":"IF(ISBLANK(Responses!R153), \"\", Responses!R153)","v":""},{"$f":"IF(ISBLANK(Responses!S153), \"\", Responses!S153)","v":""},{"$f":"IF(ISBLANK(Responses!T153), \"\", Responses!T153)","v":""}]
[{"$f":"IF(ISBLANK(Responses!A154), \"\", Responses!A154)","v":""},{"$f":"IF(ISBLANK(Responses!B154), \"\", Responses!B154)","v":""},{"$f":"IF(ISBLANK(Responses!N154), \"\", Responses!N154)","v":""},{"$f":"IF(ISBLANK(Responses!O154), \"\", Responses!O154)","v":""},{"$f":"IF(ISBLANK(Responses!P154), \"\", Responses!P154)","v":""},{"$f":"IF(ISBLANK(Responses!Q154), \"\", Responses!Q154)","v":""},{"$f":"IF(ISBLANK(Responses!R154), \"\", Responses!R154)","v":""},{"$f":"IF(ISBLANK(Responses!S154), \"\", Responses!S154)","v":""},{"$f":"IF(ISBLANK(Responses!T154), \"\", Responses!T154)","v":""}]
[{"$f":"IF(ISBLANK(Responses!A155), \"\", Responses!A155)","v":""},{"$f":"IF(ISBLANK(Responses!B155), \"\", Responses!B155)","v":""},{"$f":"IF(ISBLANK(Responses!N155), \"\", Responses!N155)","v":""},{"$f":"IF(ISBLANK(Responses!O155), \"\", Responses!O155)","v":""},{"$f":"IF(ISBLANK(Responses!P155), \"\", Responses!P155)","v":""},{"$f":"IF(ISBLANK(Responses!Q155), \"\", Responses!Q155)","v":""},{"$f":"IF(ISBLANK(Responses!R155), \"\", Responses!R155)","v":""},{"$f":"IF(ISBLANK(Responses!S155), \"\", Responses!S155)","v":""},{"$f":"IF(ISBLANK(Responses!T155), \"\", Responses!T155)","v":""}]
[{"$f":"IF(ISBLANK(Responses!A156), \"\", Responses!A156)","v":""},{"$f":"IF(ISBLANK(Responses!B156), \"\", Responses!B156)","v":""},{"$f":"IF(ISBLANK(Responses!N156), \"\", Responses!N156)","v":""},{"$f":"IF(ISBLANK(Responses!O156), \"\", Responses!O156)","v":""},{"$f":"IF(ISBLANK(Responses!P156), \"\", Responses!P156)","v":""},{"$f":"IF(ISBLANK(Responses!Q156), \"\", Responses!Q156)","v":""},{"$f":"IF(ISBLANK(Responses!R156), \"\", Responses!R156)","v":""},{"$f":"IF(ISBLANK(Responses!S156), \"\", Responses!S156)","v":""},{"$f":"IF(ISBLANK(Responses!T156), \"\", Responses!T156)","v":""}]
[{"$f":"IF(ISBLANK(Responses!A157), \"\", Responses!A157)","v":""},{"$f":"IF(ISBLANK(Responses!B157), \"\", Responses!B157)","v":""},{"$f":"IF(ISBLANK(Responses!N157), \"\", Responses!N157)","v":""},{"$f":"IF(ISBLANK(Responses!O157), \"\", Responses!O157)","v":""},{"$f":"IF(ISBLANK(Responses!P157), \"\", Responses!P157)","v":""},{"$f":"IF(ISBLANK(Responses!Q157), \"\", Responses!Q157)","v":""},{"$f":"IF(ISBLANK(Responses!R157), \"\", Responses!R157)","v":""},{"$f":"IF(ISBLANK(Responses!S157), \"\", Responses!S157)","v":""},{"$f":"IF(ISBLANK(Responses!T157), \"\", Responses!T157)","v":""}]
[{"$f":"IF(ISBLANK(Responses!A158), \"\", Responses!A158)","v":""},{"$f":"IF(ISBLANK(Responses!B158), \"\", Responses!B158)","v":""},{"$f":"IF(ISBLANK(Responses!N158), \"\", Responses!N158)","v":""},{"$f":"IF(ISBLANK(Responses!O158), \"\", Responses!O158)","v":""},{"$f":"IF(ISBLANK(Responses!P158), \"\", Responses!P158)","v":""},{"$f":"IF(ISBLANK(Responses!Q158), \"\", Responses!Q158)","v":""},{"$f":"IF(ISBLANK(Responses!R158), \"\", Responses!R158)","v":""},{"$f":"IF(ISBLANK(Responses!S158), \"\", Responses!S158)","v":""},{"$f":"IF(ISBLANK(Responses!T158), \"\", Responses!T158)","v":""}]
[{"$f":"IF(ISBLANK(Responses!A159), \"\", Responses!A159)","v":""},{"$f":"IF(ISBLANK(Responses!B159), \"\", Responses!B159)","v":""},{"$f":"IF(ISBLANK(Responses!N159), \"\", Responses!N159)","v":""},{"$f":"IF(ISBLANK(Responses!O159), \"\", Responses!O159)","v":""},{"$f":"IF(ISBLANK(Responses!P159), \"\", Responses!P159)","v":""},{"$f":"IF(ISBLANK(Responses!Q159), \"\", Responses!Q159)","v":""},{"$f":"IF(ISBLANK(Responses!R159), \"\", Responses!R159)","v":""},{"$f":"IF(ISBLANK(Responses!S159), \"\", Responses!S159)","v":""},{"$f":"IF(ISBLANK(Responses!T159), \"\", Responses!T159)","v":""}]
[{"$f":"IF(ISBLANK(Responses!A160), \"\", Responses!A160)","v":""},{"$f":"IF(ISBLANK(Responses!B160), \"\", Responses!B160)","v":""},{"$f":"IF(ISBLANK(Responses!N160), \"\", Responses!N160)","v":""},{"$f":"IF(ISBLANK(Responses!O160), \"\", Responses!O160)","v":""},{"$f":"IF(ISBLANK(Responses!P160), \"\", Responses!P160)","v":""},{"$f":"IF(ISBLANK(Responses!Q160), \"\", Responses!Q160)","v":""},{"$f":"IF(ISBLANK(Responses!R160), \"\", Responses!R160)","v":""},{"$f":"IF(ISBLANK(Responses!S160), \"\", Responses!S160)","v":""},{"$f":"IF(ISBLANK(Responses!T160), \"\", Responses!T160)","v":""}]
[{"$f":"IF(ISBLANK(Responses!A161), \"\", Responses!A161)","v":""},{"$f":"IF(ISBLANK(Responses!B161), \"\", Responses!B161)","v":""},{"$f":"IF(ISBLANK(Responses!N161), \"\", Responses!N161)","v":""},{"$f":"IF(ISBLANK(Responses!O161), \"\", Responses!O161)","v":""},{"$f":"IF(ISBLANK(Responses!P161), \"\", Responses!P161)","v":""},{"$f":"IF(ISBLANK(Responses!Q161), \"\", Responses!Q161)","v":""},{"$f":"IF(ISBLANK(Responses!R161), \"\", Responses!R161)","v":""},{"$f":"IF(ISBLANK(Responses!S161), \"\", Responses!S161)","v":""},{"$f":"IF(ISBLANK(Responses!T161), \"\", Responses!T161)","v":""}]
[{"$f":"IF(ISBLANK(Responses!A162), \"\", Responses!A162)","v":""},{"$f":"IF(ISBLANK(Responses!B162), \"\", Responses!B162)","v":""},{"$f":"IF(ISBLANK(Responses!N162), \"\", Responses!N162)","v":""},{"$f":"IF(ISBLANK(Responses!O162), \"\", Responses!O162)","v":""},{"$f":"IF(ISBLANK(Responses!P162), \"\", Responses!P162)","v":""},{"$f":"IF(ISBLANK(Responses!Q162), \"\", Responses!Q162)","v":""},{"$f":"IF(ISBLANK(Responses!R162), \"\", Responses!R162)","v":""},{"$f":"IF(ISBLANK(Responses!S162), \"\", Responses!S162)","v":""},{"$f":"IF(ISBLANK(Responses!T162), \"\", Responses!T162)","v":""}]
[{"$f":"IF(ISBLANK(Responses!A163), \"\", Responses!A163)","v":""},{"$f":"IF(ISBLANK(Responses!B163), \"\", Responses!B163)","v":""},{"$f":"IF(ISBLANK(Responses!N163), \"\", Responses!N163)","v":""},{"$f":"IF(ISBLANK(Responses!O163), \"\", Responses!O163)","v":""},{"$f":"IF(ISBLANK(Responses!P163), \"\", Responses!P163)","v":""},{"$f":"IF(ISBLANK(Responses!Q163), \"\", Responses!Q163)","v":""},{"$f":"IF(ISBLANK(Responses!R163), \"\", Responses!R163)","v":""},{"$f":"IF(ISBLANK(Responses!S163), \"\", Responses!S163)","v":""},{"$f":"IF(ISBLANK(Responses!T163), \"\", Responses!T163)","v":""}]
[{"$f":"IF(ISBLANK(Responses!A164), \"\", Responses!A164)","v":""},{"$f":"IF(ISBLANK(Responses!B164), \"\", Responses!B164)","v":""},{"$f":"IF(ISBLANK(Responses!N164), \"\", Responses!N164)","v":""},{"$f":"IF(ISBLANK(Responses!O164), \"\", Responses!O164)","v":""},{"$f":"IF(ISBLANK(Responses!P164), \"\", Responses!P164)","v":""},{"$f":"IF(ISBLANK(Responses!Q164), \"\", Responses!Q164)","v":""},{"$f":"IF(ISBLANK(Responses!R164), \"\", Responses!R164)","v":""},{"$f":"IF(ISBLANK(Responses!S164), \"\", Responses!S164)","v":""},{"$f":"IF(ISBLANK(Responses!T164), \"\", Responses!T164)","v":""}]
[{"$f":"IF(ISBLANK(Responses!A165), \"\", Responses!A165)","v":""},{"$f":"IF(ISBLANK(Responses!B165), \"\", Responses!B165)","v":""},{"$f":"IF(ISBLANK(Responses!N165), \"\", Responses!N165)","v":""},{"$f":"IF(ISBLANK(Responses!O165), \"\", Responses!O165)","v":""},{"$f":"IF(ISBLANK(Responses!P165), \"\", Responses!P165)","v":""},{"$f":"IF(ISBLANK(Responses!Q165), \"\", Responses!Q165)","v":""},{"$f":"IF(ISBLANK(Responses!R165), \"\", Responses!R165)","v":""},{"$f":"IF(ISBLANK(Responses!S165), \"\", Responses!S165)","v":""},{"$f":"IF(ISBLANK(Responses!T165), \"\", Responses!T165)","v":""}]
[{"$f":"IF(ISBLANK(Responses!A166), \"\", Responses!A166)","v":""},{"$f":"IF(ISBLANK(Responses!B166), \"\", Responses!B166)","v":""},{"$f":"IF(ISBLANK(Responses!N166), \"\", Responses!N166)","v":""},{"$f":"IF(ISBLANK(Responses!O166), \"\", Responses!O166)","v":""},{"$f":"IF(ISBLANK(Responses!P166), \"\", Responses!P166)","v":""},{"$f":"IF(ISBLANK(Responses!Q166), \"\", Responses!Q166)","v":""},{"$f":"IF(ISBLANK(Responses!R166), \"\", Responses!R166)","v":""},{"$f":"IF(ISBLANK(Responses!S166), \"\", Responses!S166)","v":""},{"$f":"IF(ISBLANK(Responses!T166), \"\", Responses!T166)","v":""}]
[{"$f":"IF(ISBLANK(Responses!A167), \"\", Responses!A167)","v":""},{"$f":"IF(ISBLANK(Responses!B167), \"\", Responses!B167)","v":""},{"$f":"IF(ISBLANK(Responses!N167), \"\", Responses!N167)","v":""},{"$f":"IF(ISBLANK(Responses!O167), \"\", Responses!O167)","v":""},{"$f":"IF(ISBLANK(Responses!P167), \"\", Responses!P167)","v":""},{"$f":"IF(ISBLANK(Responses!Q167), \"\", Responses!Q167)","v":""},{"$f":"IF(ISBLANK(Responses!R167), \"\", Responses!R167)","v":""},{"$f":"IF(ISBLANK(Responses!S167), \"\", Responses!S167)","v":""},{"$f":"IF(ISBLANK(Responses!T167), \"\", Responses!T167)","v":""}]
[{"$f":"IF(ISBLANK(Responses!A168), \"\", Responses!A168)","v":""},{"$f":"IF(ISBLANK(Responses!B168), \"\", Responses!B168)","v":""},{"$f":"IF(ISBLANK(Responses!N168), \"\", Responses!N168)","v":""},{"$f":"IF(ISBLANK(Responses!O168), \"\", Responses!O168)","v":""},{"$f":"IF(ISBLANK(Responses!P168), \"\", Responses!P168)","v":""},{"$f":"IF(ISBLANK(Responses!Q168), \"\", Responses!Q168)","v":""},{"$f":"IF(ISBLANK(Responses!R168), \"\", Responses!R168)","v":""},{"$f":"IF(ISBLANK(Responses!S168), \"\", Responses!S168)","v":""},{"$f":"IF(ISBLANK(Responses!T168), \"\", Responses!T168)","v":""}]
[{"$f":"IF(ISBLANK(Responses!A169), \"\", Responses!A169)","v":""},{"$f":"IF(ISBLANK(Responses!B169), \"\", Responses!B169)","v":""},{"$f":"IF(ISBLANK(Responses!N169), \"\", Responses!N169)","v":""},{"$f":"IF(ISBLANK(Responses!O169), \"\", Responses!O169)","v":""},{"$f":"IF(ISBLANK(Responses!P169), \"\", Responses!P169)","v":""},{"$f":"IF(ISBLANK(Responses!Q169), \"\", Responses!Q169)","v":""},{"$f":"IF(ISBLANK(Responses!R169), \"\", Responses!R169)","v":""},{"$f":"IF(ISBLANK(Responses!S169), \"\", Responses!S169)","v":""},{"$f":"IF(ISBLANK(Responses!T169), \"\", Responses!T169)","v":""}]
[{"$f":"IF(ISBLANK(Responses!A170), \"\", Responses!A170)","v":""},{"$f":"IF(ISBLANK(Responses!B170), \"\", Responses!B170)","v":""},{"$f":"IF(ISBLANK(Responses!N170), \"\", Responses!N170)","v":""},{"$f":"IF(ISBLANK(Responses!O170), \"\", Responses!O170)","v":""},{"$f":"IF(ISBLANK(Responses!P170), \"\", Responses!P170)","v":""},{"$f":"IF(ISBLANK(Responses!Q170), \"\", Responses!Q170)","v":""},{"$f":"IF(ISBLANK(Responses!R170), \"\", Responses!R170)","v":""},{"$f":"IF(ISBLANK(Responses!S170), \"\", Responses!S170)","v":""},{"$f":"IF(ISBLANK(Responses!T170), \"\", Responses!T170)","v":""}]
[{"$f":"IF(ISBLANK(Responses!A171), \"\", Responses!A171)","v":""},{"$f":"IF(ISBLANK(Responses!B171), \"\", Responses!B171)","v":""},{"$f":"IF(ISBLANK(Responses!N171), \"\", Responses!N171)","v":""},{"$f":"IF(ISBLANK(Responses!O171), \"\", Responses!O171)","v":""},{"$f":"IF(ISBLANK(Responses!P171), \"\", Responses!P171)","v":""},{"$f":"IF(ISBLANK(Responses!Q171), \"\", Responses!Q171)","v":""},{"$f":"IF(ISBLANK(Responses!R171), \"\", Responses!R171)","v":""},{"$f":"IF(ISBLANK(Responses!S171), \"\", Responses!S171)","v":""},{"$f":"IF(ISBLANK(Responses!T171), \"\", Responses!T171)","v":""}]
[{"$f":"IF(ISBLANK(Responses!A172), \"\", Responses!A172)","v":""},{"$f":"IF(ISBLANK(Responses!B172), \"\", Responses!B172)","v":""},{"$f":"IF(ISBLANK(Responses!N172), \"\", Responses!N172)","v":""},{"$f":"IF(ISBLANK(Responses!O172), \"\", Responses!O172)","v":""},{"$f":"IF(ISBLANK(Responses!P172), \"\", Responses!P172)","v":""},{"$f":"IF(ISBLANK(Responses!Q172), \"\", Responses!Q172)","v":""},{"$f":"IF(ISBLANK(Responses!R172), \"\", Responses!R172)","v":""},{"$f":"IF(ISBLANK(Responses!S172), \"\", Responses!S172)","v":""},{"$f":"IF(ISBLANK(Responses!T172), \"\", Responses!T172)","v":""}]
[{"$f":"IF(ISBLANK(Responses!A173), \"\", Responses!A173)","v":""},{"$f":"IF(ISBLANK(Responses!B173), \"\", Responses!B173)","v":""},{"$f":"IF(ISBLANK(Responses!N173), \"\", Responses!N173)","v":""},{"$f":"IF(ISBLANK(Responses!O173), \"\", Responses!O173)","v":""},{"$f":"IF(ISBLANK(Responses!P173), \"\", Responses!P173)","v":""},{"$f":"IF(ISBLANK(Responses!Q173), \"\", Responses!Q173)","v":""},{"$f":"IF(ISBLANK(Responses!R173), \"\", Responses!R173)","v":""},{"$f":"IF(ISBLANK(Responses!S173), \"\", Responses!S173)","v":""},{"$f":"IF(ISBLANK(Responses!T173), \"\", Responses!T173)","v":""}]
[{"$f":"IF(ISBLANK(Responses!A174), \"\", Responses!A174)","v":""},{"$f":"IF(ISBLANK(Responses!B174), \"\", Responses!B174)","v":""},{"$f":"IF(ISBLANK(Responses!N174), \"\", Responses!N174)","v":""},{"$f":"IF(ISBLANK(Responses!O174), \"\", Responses!O174)","v":""},{"$f":"IF(ISBLANK(Responses!P174), \"\", Responses!P174)","v":""},{"$f":"IF(ISBLANK(Responses!Q174), \"\", Responses!Q174)","v":""},{"$f":"IF(ISBLANK(Responses!R174), \"\", Responses!R174)","v":""},{"$f":"IF(ISBLANK(Responses!S174), \"\", Responses!S174)","v":""},{"$f":"IF(ISBLANK(Responses!T174), \"\", Responses!T174)","v":""}]
[{"$f":"IF(ISBLANK(Responses!A175), \"\", Responses!A175)","v":""},{"$f":"IF(ISBLANK(Responses!B175), \"\", Responses!B175)","v":""},{"$f":"IF(ISBLANK(Responses!N175), \"\", Responses!N175)","v":""},{"$f":"IF(ISBLANK(Responses!O175), \"\", Responses!O175)","v":""},{"$f":"IF(ISBLANK(Responses!P175), \"\", Responses!P175)","v":""},{"$f":"IF(ISBLANK(Responses!Q175), \"\", Responses!Q175)","v":""},{"$f":"IF(ISBLANK(Responses!R175), \"\", Responses!R175)","v":""},{"$f":"IF(ISBLANK(Responses!S175), \"\", Responses!S175)","v":""},{"$f":"IF(ISBLANK(Responses!T175), \"\", Responses!T175)","v":""}]
[{"$f":"IF(ISBLANK(Responses!A176), \"\", Responses!A176)","v":""},{"$f":"IF(ISBLANK(Responses!B176), \"\", Responses!B176)","v":""},{"$f":"IF(ISBLANK(Responses!N176), \"\", Responses!N176)","v":""},{"$f":"IF(ISBLANK(Responses!O176), \"\", Responses!O176)","v":""},{"$f":"IF(ISBLANK(Responses!P176), \"\", Responses!P176)","v":""},{"$f":"IF(ISBLANK(Responses!Q176), \"\", Responses!Q176)","v":""},{"$f":"IF(ISBLANK(Responses!R176), \"\", Responses!R176)","v":""},{"$f":"IF(ISBLANK(Responses!S176), \"\", Responses!S176)","v":""},{"$f":"IF(ISBLANK(Responses!T176), \"\", Responses!T176)","v":""}]
[{"$f":"IF(ISBLANK(Responses!A177), \"\", Responses!A177)","v":""},{"$f":"IF(ISBLANK(Responses!B177), \"\", Responses!B177)","v":""},{"$f":"IF(ISBLANK(Responses!N177), \"\", Responses!N177)","v":""},{"$f":"IF(ISBLANK(Responses!O177), \"\", Responses!O177)","v":""},{"$f":"IF(ISBLANK(Responses!P177), \"\", Responses!P177)","v":""},{"$f":"IF(ISBLANK(Responses!Q177), \"\", Responses!Q177)","v":""},{"$f":"IF(ISBLANK(Responses!R177), \"\", Responses!R177)","v":""},{"$f":"IF(ISBLANK(Responses!S177), \"\", Responses!S177)","v":""},{"$f":"IF(ISBLANK(Responses!T177), \"\", Responses!T177)","v":""}]
[{"$f":"IF(ISBLANK(Responses!A178), \"\", Responses!A178)","v":""},{"$f":"IF(ISBLANK(Responses!B178), \"\", Responses!B178)","v":""},{"$f":"IF(ISBLANK(Responses!N178), \"\", Responses!N178)","v":""},{"$f":"IF(ISBLANK(Responses!O178), \"\", Responses!O178)","v":""},{"$f":"IF(ISBLANK(Responses!P178), \"\", Responses!P178)","v":""},{"$f":"IF(ISBLANK(Responses!Q178), \"\", Responses!Q178)","v":""},{"$f":"IF(ISBLANK(Responses!R178), \"\", Responses!R178)","v":""},{"$f":"IF(ISBLANK(Responses!S178), \"\", Responses!S178)","v":""},{"$f":"IF(ISBLANK(Responses!T178), \"\", Responses!T178)","v":""}]
[{"$f":"IF(ISBLANK(Responses!A179), \"\", Responses!A179)","v":""},{"$f":"IF(ISBLANK(Responses!B179), \"\", Responses!B179)","v":""},{"$f":"IF(ISBLANK(Responses!N179), \"\", Responses!N179)","v":""},{"$f":"IF(ISBLANK(Responses!O179), \"\", Responses!O179)","v":""},{"$f":"IF(ISBLANK(Responses!P179), \"\", Responses!P179)","v":""},{"$f":"IF(ISBLANK(Responses!Q179), \"\", Responses!Q179)","v":""},{"$f":"IF(ISBLANK(Responses!R179), \"\", Responses!R179)","v":""},{"$f":"IF(ISBLANK(Responses!S179), \"\", Responses!S179)","v":""},{"$f":"IF(ISBLANK(Responses!T179), \"\", Responses!T179)","v":""}]
[{"$f":"IF(ISBLANK(Responses!A180), \"\", Responses!A180)","v":""},{"$f":"IF(ISBLANK(Responses!B180), \"\", Responses!B180)","v":""},{"$f":"IF(ISBLANK(Responses!N180), \"\", Responses!N180)","v":""},{"$f":"IF(ISBLANK(Responses!O180), \"\", Responses!O180)","v":""},{"$f":"IF(ISBLANK(Responses!P180), \"\", Responses!P180)","v":""},{"$f":"IF(ISBLANK(Responses!Q180), \"\", Responses!Q180)","v":""},{"$f":"IF(ISBLANK(Responses!R180), \"\", Responses!R180)","v":""},{"$f":"IF(ISBLANK(Responses!S180), \"\", Responses!S180)","v":""},{"$f":"IF(ISBLANK(Responses!T180), \"\", Responses!T180)","v":""}]
[{"$f":"IF(ISBLANK(Responses!A181), \"\", Responses!A181)","v":""},{"$f":"IF(ISBLANK(Responses!B181), \"\", Responses!B181)","v":""},{"$f":"IF(ISBLANK(Responses!N181), \"\", Responses!N181)","v":""},{"$f":"IF(ISBLANK(Responses!O181), \"\", Responses!O181)","v":""},{"$f":"IF(ISBLANK(Responses!P181), \"\", Responses!P181)","v":""},{"$f":"IF(ISBLANK(Responses!Q181), \"\", Responses!Q181)","v":""},{"$f":"IF(ISBLANK(Responses!R181), \"\", Responses!R181)","v":""},{"$f":"IF(ISBLANK(Responses!S181), \"\", Responses!S181)","v":""},{"$f":"IF(ISBLANK(Responses!T181), \"\", Responses!T181)","v":""}]
[{"$f":"IF(ISBLANK(Responses!A182), \"\", Responses!A182)","v":""},{"$f":"IF(ISBLANK(Responses!B182), \"\", Responses!B182)","v":""},{"$f":"IF(ISBLANK(Responses!N182), \"\", Responses!N182)","v":""},{"$f":"IF(ISBLANK(Responses!O182), \"\", Responses!O182)","v":""},{"$f":"IF(ISBLANK(Responses!P182), \"\", Responses!P182)","v":""},{"$f":"IF(ISBLANK(Responses!Q182), \"\", Responses!Q182)","v":""},{"$f":"IF(ISBLANK(Responses!R182), \"\", Responses!R182)","v":""},{"$f":"IF(ISBLANK(Responses!S182), \"\", Responses!S182)","v":""},{"$f":"IF(ISBLANK(Responses!T182), \"\", Responses!T182)","v":""}]
[{"$f":"IF(ISBLANK(Responses!A183), \"\", Responses!A183)","v":""},{"$f":"IF(ISBLANK(Responses!B183), \"\", Responses!B183)","v":""},{"$f":"IF(ISBLANK(Responses!N183), \"\", Responses!N183)","v":""},{"$f":"IF(ISBLANK(Responses!O183), \"\", Responses!O183)","v":""},{"$f":"IF(ISBLANK(Responses!P183), \"\", Responses!P183)","v":""},{"$f":"IF(ISBLANK(Responses!Q183), \"\", Responses!Q183)","v":""},{"$f":"IF(ISBLANK(Responses!R183), \"\", Responses!R183)","v":""},{"$f":"IF(ISBLANK(Responses!S183), \"\", Responses!S183)","v":""},{"$f":"IF(ISBLANK(Responses!T183), \"\", Responses!T183)","v":""}]
[{"$f":"IF(ISBLANK(Responses!A184), \"\", Responses!A184)","v":""},{"$f":"IF(ISBLANK(Responses!B184), \"\", Responses!B184)","v":""},{"$f":"IF(ISBLANK(Responses!N184), \"\", Responses!N184)","v":""},{"$f":"IF(ISBLANK(Responses!O184), \"\", Responses!O184)","v":""},{"$f":"IF(ISBLANK(Responses!P184), \"\", Responses!P184)","v":""},{"$f":"IF(ISBLANK(Responses!Q184), \"\", Responses!Q184)","v":""},{"$f":"IF(ISBLANK(Responses!R184), \"\", Responses!R184)","v":""},{"$f":"IF(ISBLANK(Responses!S184), \"\", Responses!S184)","v":""},{"$f":"IF(ISBLANK(Responses!T184), \"\", Responses!T184)","v":""}]
[{"$f":"IF(ISBLANK(Responses!A185), \"\", Responses!A185)","v":""},{"$f":"IF(ISBLANK(Responses!B185), \"\", Responses!B185)","v":""},{"$f":"IF(ISBLANK(Responses!N185), \"\", Responses!N185)","v":""},{"$f":"IF(ISBLANK(Responses!O185), \"\", Responses!O185)","v":""},{"$f":"IF(ISBLANK(Responses!P185), \"\", Responses!P185)","v":""},{"$f":"IF(ISBLANK(Responses!Q185), \"\", Responses!Q185)","v":""},{"$f":"IF(ISBLANK(Responses!R185), \"\", Responses!R185)","v":""},{"$f":"IF(ISBLANK(Responses!S185), \"\", Responses!S185)","v":""},{"$f":"IF(ISBLANK(Responses!T185), \"\", Responses!T185)","v":""}]
[{"$f":"IF(ISBLANK(Responses!A186), \"\", Responses!A186)","v":""},{"$f":"IF(ISBLANK(Responses!B186), \"\", Responses!B186)","v":""},{"$f":"IF(ISBLANK(Responses!N186), \"\", Responses!N186)","v":""},{"$f":"IF(ISBLANK(Responses!O186), \"\", Responses!O186)","v":""},{"$f":"IF(ISBLANK(Responses!P186), \"\", Responses!P186)","v":""},{"$f":"IF(ISBLANK(Responses!Q186), \"\", Responses!Q186)","v":""},{"$f":"IF(ISBLANK(Responses!R186), \"\", Responses!R186)","v":""},{"$f":"IF(ISBLANK(Responses!S186), \"\", Responses!S186)","v":""},{"$f":"IF(ISBLANK(Responses!T186), \"\", Responses!T186)","v":""}]
[{"$f":"IF(ISBLANK(Responses!A187), \"\", Responses!A187)","v":""},{"$f":"IF(ISBLANK(Responses!B187), \"\", Responses!B187)","v":""},{"$f":"IF(ISBLANK(Responses!N187), \"\", Responses!N187)","v":""},{"$f":"IF(ISBLANK(Responses!O187), \"\", Responses!O187)","v":""},{"$f":"IF(ISBLANK(Responses!P187), \"\", Responses!P187)","v":""},{"$f":"IF(ISBLANK(Responses!Q187), \"\", Responses!Q187)","v":""},{"$f":"IF(ISBLANK(Responses!R187), \"\", Responses!R187)","v":""},{"$f":"IF(ISBLANK(Responses!S187), \"\", Responses!S187)","v":""},{"$f":"IF(ISBLANK(Responses!T187), \"\", Responses!T187)","v":""}]
[{"$f":"IF(ISBLANK(Responses!A188), \"\", Responses!A188)","v":""},{"$f":"IF(ISBLANK(Responses!B188), \"\", Responses!B188)","v":""},{"$f":"IF(ISBLANK(Responses!N188), \"\", Responses!N188)","v":""},{"$f":"IF(ISBLANK(Responses!O188), \"\", Responses!O188)","v":""},{"$f":"IF(ISBLANK(Responses!P188), \"\", Responses!P188)","v":""},{"$f":"IF(ISBLANK(Responses!Q188), \"\", Responses!Q188)","v":""},{"$f":"IF(ISBLANK(Responses!R188), \"\", Responses!R188)","v":""},{"$f":"IF(ISBLANK(Responses!S188), \"\", Responses!S188)","v":""},{"$f":"IF(ISBLANK(Responses!T188), \"\", Responses!T188)","v":""}]
[{"$f":"IF(ISBLANK(Responses!A189), \"\", Responses!A189)","v":""},{"$f":"IF(ISBLANK(Responses!B189), \"\", Responses!B189)","v":""},{"$f":"IF(ISBLANK(Responses!N189), \"\", Responses!N189)","v":""},{"$f":"IF(ISBLANK(Responses!O189), \"\", Responses!O189)","v":""},{"$f":"IF(ISBLANK(Responses!P189), \"\", Responses!P189)","v":""},{"$f":"IF(ISBLANK(Responses!Q189), \"\", Responses!Q189)","v":""},{"$f":"IF(ISBLANK(Responses!R189), \"\", Responses!R189)","v":""},{"$f":"IF(ISBLANK(Responses!S189), \"\", Responses!S189)","v":""},{"$f":"IF(ISBLANK(Responses!T189), \"\", Responses!T189)","v":""}]
[{"$f":"IF(ISBLANK(Responses!A190), \"\", Responses!A190)","v":""},{"$f":"IF(ISBLANK(Responses!B190), \"\", Responses!B190)","v":""},{"$f":"IF(ISBLANK(Responses!N190), \"\", Responses!N190)","v":""},{"$f":"IF(ISBLANK(Responses!O190), \"\", Responses!O190)","v":""},{"$f":"IF(ISBLANK(Responses!P190), \"\", Responses!P190)","v":""},{"$f":"IF(ISBLANK(Responses!Q190), \"\", Responses!Q190)","v":""},{"$f":"IF(ISBLANK(Responses!R190), \"\", Responses!R190)","v":""},{"$f":"IF(ISBLANK(Responses!S190), \"\", Responses!S190)","v":""},{"$f":"IF(ISBLANK(Responses!T190), \"\", Responses!T190)","v":""}]
[{"$f":"IF(ISBLANK(Responses!A191), \"\", Responses!A191)","v":""},{"$f":"IF(ISBLANK(Responses!B191), \"\", Responses!B191)","v":""},{"$f":"IF(ISBLANK(Responses!N191), \"\", Responses!N191)","v":""},{"$f":"IF(ISBLANK(Responses!O191), \"\", Responses!O191)","v":""},{"$f":"IF(ISBLANK(Responses!P191), \"\", Responses!P191)","v":""},{"$f":"IF(ISBLANK(Responses!Q191), \"\", Responses!Q191)","v":""},{"$f":"IF(ISBLANK(Responses!R191), \"\", Responses!R191)","v":""},{"$f":"IF(ISBLANK(Responses!S191), \"\", Responses!S191)","v":""},{"$f":"IF(ISBLANK(Responses!T191), \"\", Responses!T191)","v":""}]
[{"$f":"IF(ISBLANK(Responses!A192), \"\", Responses!A192)","v":""},{"$f":"IF(ISBLANK(Responses!B192), \"\", Responses!B192)","v":""},{"$f":"IF(ISBLANK(Responses!N192), \"\", Responses!N192)","v":""},{"$f":"IF(ISBLANK(Responses!O192), \"\", Responses!O192)","v":""},{"$f":"IF(ISBLANK(Responses!P192), \"\", Responses!P192)","v":""},{"$f":"IF(ISBLANK(Responses!Q192), \"\", Responses!Q192)","v":""},{"$f":"IF(ISBLANK(Responses!R192), \"\", Responses!R192)","v":""},{"$f":"IF(ISBLANK(Responses!S192), \"\", Responses!S192)","v":""},{"$f":"IF(ISBLANK(Responses!T192), \"\", Responses!T192)","v":""}]
[{"$f":"IF(ISBLANK(Responses!A193), \"\", Responses!A193)","v":""},{"$f":"IF(ISBLANK(Responses!B193), \"\", Responses!B193)","v":""},{"$f":"IF(ISBLANK(Responses!N193), \"\", Responses!N193)","v":""},{"$f":"IF(ISBLANK(Responses!O193), \"\", Responses!O193)","v":""},{"$f":"IF(ISBLANK(Responses!P193), \"\", Responses!P193)","v":""},{"$f":"IF(ISBLANK(Responses!Q193), \"\", Responses!Q193)","v":""},{"$f":"IF(ISBLANK(Responses!R193), \"\", Responses!R193)","v":""},{"$f":"IF(ISBLANK(Responses!S193), \"\", Responses!S193)","v":""},{"$f":"IF(ISBLANK(Responses!T193), \"\", Responses!T193)","v":""}]
[{"$f":"IF(ISBLANK(Responses!A194), \"\", Responses!A194)","v":""},{"$f":"IF(ISBLANK(Responses!B194), \"\", Responses!B194)","v":""},{"$f":"IF(ISBLANK(Responses!N194), \"\", Responses!N194)","v":""},{"$f":"IF(ISBLANK(Responses!O194), \"\", Responses!O194)","v":""},{"$f":"IF(ISBLANK(Responses!P194), \"\", Responses!P194)","v":""},{"$f":"IF(ISBLANK(Responses!Q194), \"\", Responses!Q194)","v":""},{"$f":"IF(ISBLANK(Responses!R194), \"\", Responses!R194)","v":""},{"$f":"IF(ISBLANK(Responses!S194), \"\", Responses!S194)","v":""},{"$f":"IF(ISBLANK(Responses!T194), \"\", Responses!T194)","v":""}]
[{"$f":"IF(ISBLANK(Responses!A195), \"\", Responses!A195)","v":""},{"$f":"IF(ISBLANK(Responses!B195), \"\", Responses!B195)","v":""},{"$f":"IF(ISBLANK(Responses!N195), \"\", Responses!N195)","v":""},{"$f":"IF(ISBLANK(Responses!O195), \"\", Responses!O195)","v":""},{"$f":"IF(ISBLANK(Responses!P195), \"\", Responses!P195)","v":""},{"$f":"IF(ISBLANK(Responses!Q195), \"\", Responses!Q195)","v":""},{"$f":"IF(ISBLANK(Responses!R195), \"\", Responses!R195)","v":""},{"$f":"IF(ISBLANK(Responses!S195), \"\", Responses!S195)","v":""},{"$f":"IF(ISBLANK(Responses!T195), \"\", Responses!T195)","v":""}]
[{"$f":"IF(ISBLANK(Responses!A196), \"\", Responses!A196)","v":""},{"$f":"IF(ISBLANK(Responses!B196), \"\", Responses!B196)","v":""},{"$f":"IF(ISBLANK(Responses!N196), \"\", Responses!N196)","v":""},{"$f":"IF(ISBLANK(Responses!O196), \"\", Responses!O196)","v":""},{"$f":"IF(ISBLANK(Responses!P196), \"\", Responses!P196)","v":""},{"$f":"IF(ISBLANK(Responses!Q196), \"\", Responses!Q196)","v":""},{"$f":"IF(ISBLANK(Responses!R196), \"\", Responses!R196)","v":""},{"$f":"IF(ISBLANK(Responses!S196), \"\", Responses!S196)","v":""},{"$f":"IF(ISBLANK(Responses!T196), \"\", Responses!T196)","v":""}]
[{"$f":"IF(ISBLANK(Responses!A197), \"\", Responses!A197)","v":""},{"$f":"IF(ISBLANK(Responses!B197), \"\", Responses!B197)","v":""},{"$f":"IF(ISBLANK(Responses!N197), \"\", Responses!N197)","v":""},{"$f":"IF(ISBLANK(Responses!O197), \"\", Responses!O197)","v":""},{"$f":"IF(ISBLANK(Responses!P197), \"\", Responses!P197)","v":""},{"$f":"IF(ISBLANK(Responses!Q197), \"\", Responses!Q197)","v":""},{"$f":"IF(ISBLANK(Responses!R197), \"\", Responses!R197)","v":""},{"$f":"IF(ISBLANK(Responses!S197), \"\", Responses!S197)","v":""},{"$f":"IF(ISBLANK(Responses!T197), \"\", Responses!T197)","v":""}]
[{"$f":"IF(ISBLANK(Responses!A198), \"\", Responses!A198)","v":""},{"$f":"IF(ISBLANK(Responses!B198), \"\", Responses!B198)","v":""},{"$f":"IF(ISBLANK(Responses!N198), \"\", Responses!N198)","v":""},{"$f":"IF(ISBLANK(Responses!O198), \"\", Responses!O198)","v":""},{"$f":"IF(ISBLANK(Responses!P198), \"\", Responses!P198)","v":""},{"$f":"IF(ISBLANK(Responses!Q198), \"\", Responses!Q198)","v":""},{"$f":"IF(ISBLANK(Responses!R198), \"\", Responses!R198)","v":""},{"$f":"IF(ISBLANK(Responses!S198), \"\", Responses!S198)","v":""},{"$f":"IF(ISBLANK(Responses!T198), \"\", Responses!T198)","v":""}]
[{"$f":"IF(ISBLANK(Responses!A199), \"\", Responses!A199)","v":""},{"$f":"IF(ISBLANK(Responses!B199), \"\", Responses!B199)","v":""},{"$f":"IF(ISBLANK(Responses!N199), \"\", Responses!N199)","v":""},{"$f":"IF(ISBLANK(Responses!O199), \"\", Responses!O199)","v":""},{"$f":"IF(ISBLANK(Responses!P199), \"\", Responses!P199)","v":""},{"$f":"IF(ISBLANK(Responses!Q199), \"\", Responses!Q199)","v":""},{"$f":"IF(ISBLANK(Responses!R199), \"\", Responses!R199)","v":""},{"$f":"IF(ISBLANK(Responses!S199), \"\", Responses!S199)","v":""},{"$f":"IF(ISBLANK(Responses!T199), \"\", Responses!T199)","v":""}]
[{"$f":"IF(ISBLANK(Responses!A200), \"\", Responses!A200)","v":""},{"$f":"IF(ISBLANK(Responses!B200), \"\", Responses!B200)","v":""},{"$f":"IF(ISBLANK(Responses!N200), \"\", Responses!N200)","v":""},{"$f":"IF(ISBLANK(Responses!O200), \"\", Responses!O200)","v":""},{"$f":"IF(ISBLANK(Responses!P200), \"\", Responses!P200)","v":""},{"$f":"IF(ISBLANK(Responses!Q200), \"\", Responses!Q200)","v":""},{"$f":"IF(ISBLANK(Responses!R200), \"\", Responses!R200)","v":""},{"$f":"IF(ISBLANK(Responses!S200), \"\", Responses!S200)","v":""},{"$f":"IF(ISBLANK(Responses!T200), \"\", Responses!T200)","v":""}]
[{"$f":"IF(ISBLANK(Responses!A201), \"\", Responses!A201)","v":""},{"$f":"IF(ISBLANK(Responses!B201), \"\", Responses!B201)","v":""},{"$f":"IF(ISBLANK(Responses!N201), \"\", Responses!N201)","v":""},{"$f":"IF(ISBLANK(Responses!O201), \"\", Responses!O201)","v":""},{"$f":"IF(ISBLANK(Responses!P201), \"\", Responses!P201)","v":""},{"$f":"IF(ISBLANK(Responses!Q201), \"\", Responses!Q201)","v":""},{"$f":"IF(ISBLANK(Responses!R201), \"\", Responses!R201)","v":""},{"$f":"IF(ISBLANK(Responses!S201), \"\", Responses!S201)","v":""},{"$f":"IF(ISBLANK(Responses!T201), \"\", Responses!T201)","v":""}]
[{"$f":"IF(ISBLANK(Responses!A202), \"\", Responses!A202)","v":""},{"$f":"IF(ISBLANK(Responses!B202), \"\", Responses!B202)","v":""},{"$f":"IF(ISBLANK(Responses!N202), \"\", Responses!N202)","v":""},{"$f":"IF(ISBLANK(Responses!O202), \"\", Responses!O202)","v":""},{"$f":"IF(ISBLANK(Responses!P202), \"\", Responses!P202)","v":""},{"$f":"IF(ISBLANK(Responses!Q202), \"\", Responses!Q202)","v":""},{"$f":"IF(ISBLANK(Responses!R202), \"\", Responses!R202)","v":""},{"$f":"IF(ISBLANK(Responses!S202), \"\", Responses!S202)","v":""},{"$f":"IF(ISBLANK(Responses!T202), \"\", Responses!T202)","v":""}]
[{"$f":"IF(ISBLANK(Responses!A203), \"\", Responses!A203)","v":""},{"$f":"IF(ISBLANK(Responses!B203), \"\", Responses!B203)","v":""},{"$f":"IF(ISBLANK(Responses!N203), \"\", Responses!N203)","v":""},{"$f":"IF(ISBLANK(Responses!O203), \"\", Responses!O203)","v":""},{"$f":"IF(ISBLANK(Responses!P203), \"\", Responses!P203)","v":""},{"$f":"IF(ISBLANK(Responses!Q203), \"\", Responses!Q203)","v":""},{"$f":"IF(ISBLANK(Responses!R203), \"\", Responses!R203)","v":""},{"$f":"IF(ISBLANK(Responses!S203), \"\", Responses!S203)","v":""},{"$f":"IF(ISBLANK(Responses!T203), \"\", Responses!T203)","v":""}]
[{"$f":"IF(ISBLANK(Responses!A204), \"\", Responses!A204)","v":""},{"$f":"IF(ISBLANK(Responses!B204), \"\", Responses!B204)","v":""},{"$f":"IF(ISBLANK(Responses!N204), \"\", Responses!N204)","v":""},{"$f":"IF(ISBLANK(Responses!O204), \"\", Responses!O204)","v":""},{"$f":"IF(ISBLANK(Responses!P204), \"\", Responses!P204)","v":""},{"$f":"IF(ISBLANK(Responses!Q204), \"\", Responses!Q204)","v":""},{"$f":"IF(ISBLANK(Responses!R204), \"\", Responses!R204)","v":""},{"$f":"IF(ISBLANK(Responses!S204), \"\", Responses!S204)","v":""},{"$f":"IF(ISBLANK(Responses!T204), \"\", Responses!T204)","v":""}]
[{"$f":"IF(ISBLANK(Responses!A205), \"\", Responses!A205)","v":""},{"$f":"IF(ISBLANK(Responses!B205), \"\", Responses!B205)","v":""},{"$f":"IF(ISBLANK(Responses!N205), \"\", Responses!N205)","v":""},{"$f":"IF(ISBLANK(Responses!O205), \"\", Responses!O205)","v":""},{"$f":"IF(ISBLANK(Responses!P205), \"\", Responses!P205)","v":""},{"$f":"IF(ISBLANK(Responses!Q205), \"\", Responses!Q205)","v":""},{"$f":"IF(ISBLANK(Responses!R205), \"\", Responses!R205)","v":""},{"$f":"IF(ISBLANK(Responses!S205), \"\", Responses!S205)","v":""},{"$f":"IF(ISBLANK(Responses!T205), \"\", Responses!T205)","v":""}]
[{"$f":"IF(ISBLANK(Responses!A206), \"\", Responses!A206)","v":""},{"$f":"IF(ISBLANK(Responses!B206), \"\", Responses!B206)","v":""},{"$f":"IF(ISBLANK(Responses!N206), \"\", Responses!N206)","v":""},{"$f":"IF(ISBLANK(Responses!O206), \"\", Responses!O206)","v":""},{"$f":"IF(ISBLANK(Responses!P206), \"\", Responses!P206)","v":""},{"$f":"IF(ISBLANK(Responses!Q206), \"\", Responses!Q206)","v":""},{"$f":"IF(ISBLANK(Responses!R206), \"\", Responses!R206)","v":""},{"$f":"IF(ISBLANK(Responses!S206), \"\", Responses!S206)","v":""},{"$f":"IF(ISBLANK(Responses!T206), \"\", Responses!T206)","v":""}]
[{"$f":"IF(ISBLANK(Responses!A207), \"\", Responses!A207)","v":""},{"$f":"IF(ISBLANK(Responses!B207), \"\", Responses!B207)","v":""},{"$f":"IF(ISBLANK(Responses!N207), \"\", Responses!N207)","v":""},{"$f":"IF(ISBLANK(Responses!O207), \"\", Responses!O207)","v":""},{"$f":"IF(ISBLANK(Responses!P207), \"\", Responses!P207)","v":""},{"$f":"IF(ISBLANK(Responses!Q207), \"\", Responses!Q207)","v":""},{"$f":"IF(ISBLANK(Responses!R207), \"\", Responses!R207)","v":""},{"$f":"IF(ISBLANK(Responses!S207), \"\", Responses!S207)","v":""},{"$f":"IF(ISBLANK(Responses!T207), \"\", Responses!T207)","v":""}]
[{"$f":"IF(ISBLANK(Responses!A208), \"\", Responses!A208)","v":""},{"$f":"IF(ISBLANK(Responses!B208), \"\", Responses!B208)","v":""},{"$f":"IF(ISBLANK(Responses!N208), \"\", Responses!N208)","v":""},{"$f":"IF(ISBLANK(Responses!O208), \"\", Responses!O208)","v":""},{"$f":"IF(ISBLANK(Responses!P208), \"\", Responses!P208)","v":""},{"$f":"IF(ISBLANK(Responses!Q208), \"\", Responses!Q208)","v":""},{"$f":"IF(ISBLANK(Responses!R208), \"\", Responses!R208)","v":""},{"$f":"IF(ISBLANK(Responses!S208), \"\", Responses!S208)","v":""},{"$f":"IF(ISBLANK(Responses!T208), \"\", Responses!T208)","v":""}]
[{"$f":"IF(ISBLANK(Responses!A209), \"\", Responses!A209)","v":""},{"$f":"IF(ISBLANK(Responses!B209), \"\", Responses!B209)","v":""},{"$f":"IF(ISBLANK(Responses!N209), \"\", Responses!N209)","v":""},{"$f":"IF(ISBLANK(Responses!O209), \"\", Responses!O209)","v":""},{"$f":"IF(ISBLANK(Responses!P209), \"\", Responses!P209)","v":""},{"$f":"IF(ISBLANK(Responses!Q209), \"\", Responses!Q209)","v":""},{"$f":"IF(ISBLANK(Responses!R209), \"\", Responses!R209)","v":""},{"$f":"IF(ISBLANK(Responses!S209), \"\", Responses!S209)","v":""},{"$f":"IF(ISBLANK(Responses!T209), \"\", Responses!T209)","v":""}]
[{"$f":"IF(ISBLANK(Responses!A210), \"\", Responses!A210)","v":""},{"$f":"IF(ISBLANK(Responses!B210), \"\", Responses!B210)","v":""},{"$f":"IF(ISBLANK(Responses!N210), \"\", Responses!N210)","v":""},{"$f":"IF(ISBLANK(Responses!O210), \"\", Responses!O210)","v":""},{"$f":"IF(ISBLANK(Responses!P210), \"\", Responses!P210)","v":""},{"$f":"IF(ISBLANK(Responses!Q210), \"\", Responses!Q210)","v":""},{"$f":"IF(ISBLANK(Responses!R210), \"\", Responses!R210)","v":""},{"$f":"IF(ISBLANK(Responses!S210), \"\", Responses!S210)","v":""},{"$f":"IF(ISBLANK(Responses!T210), \"\", Responses!T210)","v":""}]
[{"$f":"IF(ISBLANK(Responses!A211), \"\", Responses!A211)","v":""},{"$f":"IF(ISBLANK(Responses!B211), \"\", Responses!B211)","v":""},{"$f":"IF(ISBLANK(Responses!N211), \"\", Responses!N211)","v":""},{"$f":"IF(ISBLANK(Responses!O211), \"\", Responses!O211)","v":""},{"$f":"IF(ISBLANK(Responses!P211), \"\", Responses!P211)","v":""},{"$f":"IF(ISBLANK(Responses!Q211), \"\", Responses!Q211)","v":""},{"$f":"IF(ISBLANK(Responses!R211), \"\", Responses!R211)","v":""},{"$f":"IF(ISBLANK(Responses!S211), \"\", Responses!S211)","v":""},{"$f":"IF(ISBLANK(Responses!T211), \"\", Responses!T211)","v":""}]
[{"$f":"IF(ISBLANK(Responses!A212), \"\", Responses!A212)","v":""},{"$f":"IF(ISBLANK(Responses!B212), \"\", Responses!B212)","v":""},{"$f":"IF(ISBLANK(Responses!N212), \"\", Responses!N212)","v":""},{"$f":"IF(ISBLANK(Responses!O212), \"\", Responses!O212)","v":""},{"$f":"IF(ISBLANK(Responses!P212), \"\", Responses!P212)","v":""},{"$f":"IF(ISBLANK(Responses!Q212), \"\", Responses!Q212)","v":""},{"$f":"IF(ISBLANK(Responses!R212), \"\", Responses!R212)","v":""},{"$f":"IF(ISBLANK(Responses!S212), \"\", Responses!S212)","v":""},{"$f":"IF(ISBLANK(Responses!T212), \"\", Responses!T212)","v":""}]
[{"$f":"IF(ISBLANK(Responses!A213), \"\", Responses!A213)","v":""},{"$f":"IF(ISBLANK(Responses!B213), \"\", Responses!B213)","v":""},{"$f":"IF(ISBLANK(Responses!N213), \"\", Responses!N213)","v":""},{"$f":"IF(ISBLANK(Responses!O213), \"\", Responses!O213)","v":""},{"$f":"IF(ISBLANK(Responses!P213), \"\", Responses!P213)","v":""},{"$f":"IF(ISBLANK(Responses!Q213), \"\", Responses!Q213)","v":""},{"$f":"IF(ISBLANK(Responses!R213), \"\", Responses!R213)","v":""},{"$f":"IF(ISBLANK(Responses!S213), \"\", Responses!S213)","v":""},{"$f":"IF(ISBLANK(Responses!T213), \"\", Responses!T213)","v":""}]
[{"$f":"IF(ISBLANK(Responses!A214), \"\", Responses!A214)","v":""},{"$f":"IF(ISBLANK(Responses!B214), \"\", Responses!B214)","v":""},{"$f":"IF(ISBLANK(Responses!N214), \"\", Responses!N214)","v":""},{"$f":"IF(ISBLANK(Responses!O214), \"\", Responses!O214)","v":""},{"$f":"IF(ISBLANK(Responses!P214), \"\", Responses!P214)","v":""},{"$f":"IF(ISBLANK(Responses!Q214), \"\", Responses!Q214)","v":""},{"$f":"IF(ISBLANK(Responses!R214), \"\", Responses!R214)","v":""},{"$f":"IF(ISBLANK(Responses!S214), \"\", Responses!S214)","v":""},{"$f":"IF(ISBLANK(Responses!T214), \"\", Responses!T214)","v":""}]
[{"$f":"IF(ISBLANK(Responses!A215), \"\", Responses!A215)","v":""},{"$f":"IF(ISBLANK(Responses!B215), \"\", Responses!B215)","v":""},{"$f":"IF(ISBLANK(Responses!N215), \"\", Responses!N215)","v":""},{"$f":"IF(ISBLANK(Responses!O215), \"\", Responses!O215)","v":""},{"$f":"IF(ISBLANK(Responses!P215), \"\", Responses!P215)","v":""},{"$f":"IF(ISBLANK(Responses!Q215), \"\", Responses!Q215)","v":""},{"$f":"IF(ISBLANK(Responses!R215), \"\", Responses!R215)","v":""},{"$f":"IF(ISBLANK(Responses!S215), \"\", Responses!S215)","v":""},{"$f":"IF(ISBLANK(Responses!T215), \"\", Responses!T215)","v":""}]
[{"$f":"IF(ISBLANK(Responses!A216), \"\", Responses!A216)","v":""},{"$f":"IF(ISBLANK(Responses!B216), \"\", Responses!B216)","v":""},{"$f":"IF(ISBLANK(Responses!N216), \"\", Responses!N216)","v":""},{"$f":"IF(ISBLANK(Responses!O216), \"\", Responses!O216)","v":""},{"$f":"IF(ISBLANK(Responses!P216), \"\", Responses!P216)","v":""},{"$f":"IF(ISBLANK(Responses!Q216), \"\", Responses!Q216)","v":""},{"$f":"IF(ISBLANK(Responses!R216), \"\", Responses!R216)","v":""},{"$f":"IF(ISBLANK(Responses!S216), \"\", Responses!S216)","v":""},{"$f":"IF(ISBLANK(Responses!T216), \"\", Responses!T216)","v":""}]
[{"$f":"IF(ISBLANK(Responses!A217), \"\", Responses!A217)","v":""},{"$f":"IF(ISBLANK(Responses!B217), \"\", Responses!B217)","v":""},{"$f":"IF(ISBLANK(Responses!N217), \"\", Responses!N217)","v":""},{"$f":"IF(ISBLANK(Responses!O217), \"\", Responses!O217)","v":""},{"$f":"IF(ISBLANK(Responses!P217), \"\", Responses!P217)","v":""},{"$f":"IF(ISBLANK(Responses!Q217), \"\", Responses!Q217)","v":""},{"$f":"IF(ISBLANK(Responses!R217), \"\", Responses!R217)","v":""},{"$f":"IF(ISBLANK(Responses!S217), \"\", Responses!S217)","v":""},{"$f":"IF(ISBLANK(Responses!T217), \"\", Responses!T217)","v":""}]
[{"$f":"IF(ISBLANK(Responses!A218), \"\", Responses!A218)","v":""},{"$f":"IF(ISBLANK(Responses!B218), \"\", Responses!B218)","v":""},{"$f":"IF(ISBLANK(Responses!N218), \"\", Responses!N218)","v":""},{"$f":"IF(ISBLANK(Responses!O218), \"\", Responses!O218)","v":""},{"$f":"IF(ISBLANK(Responses!P218), \"\", Responses!P218)","v":""},{"$f":"IF(ISBLANK(Responses!Q218), \"\", Responses!Q218)","v":""},{"$f":"IF(ISBLANK(Responses!R218), \"\", Responses!R218)","v":""},{"$f":"IF(ISBLANK(Responses!S218), \"\", Responses!S218)","v":""},{"$f":"IF(ISBLANK(Responses!T218), \"\", Responses!T218)","v":""}]
[{"$f":"IF(ISBLANK(Responses!A219), \"\", Responses!A219)","v":""},{"$f":"IF(ISBLANK(Responses!B219), \"\", Responses!B219)","v":""},{"$f":"IF(ISBLANK(Responses!N219), \"\", Responses!N219)","v":""},{"$f":"IF(ISBLANK(Responses!O219), \"\", Responses!O219)","v":""},{"$f":"IF(ISBLANK(Responses!P219), \"\", Responses!P219)","v":""},{"$f":"IF(ISBLANK(Responses!Q219), \"\", Responses!Q219)","v":""},{"$f":"IF(ISBLANK(Responses!R219), \"\", Responses!R219)","v":""},{"$f":"IF(ISBLANK(Responses!S219), \"\", Responses!S219)","v":""},{"$f":"IF(ISBLANK(Responses!T219), \"\", Responses!T219)","v":""}]
[{"$f":"IF(ISBLANK(Responses!A220), \"\", Responses!A220)","v":""},{"$f":"IF(ISBLANK(Responses!B220), \"\", Responses!B220)","v":""},{"$f":"IF(ISBLANK(Responses!N220), \"\", Responses!N220)","v":""},{"$f":"IF(ISBLANK(Responses!O220), \"\", Responses!O220)","v":""},{"$f":"IF(ISBLANK(Responses!P220), \"\", Responses!P220)","v":""},{"$f":"IF(ISBLANK(Responses!Q220), \"\", Responses!Q220)","v":""},{"$f":"IF(ISBLANK(Responses!R220), \"\", Responses!R220)","v":""},{"$f":"IF(ISBLANK(Responses!S220), \"\", Responses!S220)","v":""},{"$f":"IF(ISBLANK(Responses!T220), \"\", Responses!T220)","v":""}]
[{"$f":"IF(ISBLANK(Responses!A221), \"\", Responses!A221)","v":""},{"$f":"IF(ISBLANK(Responses!B221), \"\", Responses!B221)","v":""},{"$f":"IF(ISBLANK(Responses!N221), \"\", Responses!N221)","v":""},{"$f":"IF(ISBLANK(Responses!O221), \"\", Responses!O221)","v":""},{"$f":"IF(ISBLANK(Responses!P221), \"\", Responses!P221)","v":""},{"$f":"IF(ISBLANK(Responses!Q221), \"\", Responses!Q221)","v":""},{"$f":"IF(ISBLANK(Responses!R221), \"\", Responses!R221)","v":""},{"$f":"IF(ISBLANK(Responses!S221), \"\", Responses!S221)","v":""},{"$f":"IF(ISBLANK(Responses!T221), \"\", Responses!T221)","v":""}]
[{"$f":"IF(ISBLANK(Responses!A222), \"\", Responses!A222)","v":""},{"$f":"IF(ISBLANK(Responses!B222), \"\", Responses!B222)","v":""},{"$f":"IF(ISBLANK(Responses!N222), \"\", Responses!N222)","v":""},{"$f":"IF(ISBLANK(Responses!O222), \"\", Responses!O222)","v":""},{"$f":"IF(ISBLANK(Responses!P222), \"\", Responses!P222)","v":""},{"$f":"IF(ISBLANK(Responses!Q222), \"\", Responses!Q222)","v":""},{"$f":"IF(ISBLANK(Responses!R222), \"\", Responses!R222)","v":""},{"$f":"IF(ISBLANK(Responses!S222), \"\", Responses!S222)","v":""},{"$f":"IF(ISBLANK(Responses!T222), \"\", Responses!T222)","v":""}]
[{"$f":"IF(ISBLANK(Responses!A223), \"\", Responses!A223)","v":""},{"$f":"IF(ISBLANK(Responses!B223), \"\", Responses!B223)","v":""},{"$f":"IF(ISBLANK(Responses!N223), \"\", Responses!N223)","v":""},{"$f":"IF(ISBLANK(Responses!O223), \"\", Responses!O223)","v":""},{"$f":"IF(ISBLANK(Responses!P223), \"\", Responses!P223)","v":""},{"$f":"IF(ISBLANK(Responses!Q223), \"\", Responses!Q223)","v":""},{"$f":"IF(ISBLANK(Responses!R223), \"\", Responses!R223)","v":""},{"$f":"IF(ISBLANK(Responses!S223), \"\", Responses!S223)","v":""},{"$f":"IF(ISBLANK(Responses!T223), \"\", Responses!T223)","v":""}]
[{"$f":"IF(ISBLANK(Responses!A224), \"\", Responses!A224)","v":""},{"$f":"IF(ISBLANK(Responses!B224), \"\", Responses!B224)","v":""},{"$f":"IF(ISBLANK(Responses!N224), \"\", Responses!N224)","v":""},{"$f":"IF(ISBLANK(Responses!O224), \"\", Responses!O224)","v":""},{"$f":"IF(ISBLANK(Responses!P224), \"\", Responses!P224)","v":""},{"$f":"IF(ISBLANK(Responses!Q224), \"\", Responses!Q224)","v":""},{"$f":"IF(ISBLANK(Responses!R224), \"\", Responses!R224)","v":""},{"$f":"IF(ISBLANK(Responses!S224), \"\", Responses!S224)","v":""},{"$f":"IF(ISBLANK(Responses!T224), \"\", Responses!T224)","v":""}]
[{"$f":"IF(ISBLANK(Responses!A225), \"\", Responses!A225)","v":""},{"$f":"IF(ISBLANK(Responses!B225), \"\", Responses!B225)","v":""},{"$f":"IF(ISBLANK(Responses!N225), \"\", Responses!N225)","v":""},{"$f":"IF(ISBLANK(Responses!O225), \"\", Responses!O225)","v":""},{"$f":"IF(ISBLANK(Responses!P225), \"\", Responses!P225)","v":""},{"$f":"IF(ISBLANK(Responses!Q225), \"\", Responses!Q225)","v":""},{"$f":"IF(ISBLANK(Responses!R225), \"\", Responses!R225)","v":""},{"$f":"IF(ISBLANK(Responses!S225), \"\", Responses!S225)","v":""},{"$f":"IF(ISBLANK(Responses!T225), \"\", Responses!T225)","v":""}]
[{"$f":"IF(ISBLANK(Responses!A226), \"\", Responses!A226)","v":""},{"$f":"IF(ISBLANK(Responses!B226), \"\", Responses!B226)","v":""},{"$f":"IF(ISBLANK(Responses!N226), \"\", Responses!N226)","v":""},{"$f":"IF(ISBLANK(Responses!O226), \"\", Responses!O226)","v":""},{"$f":"IF(ISBLANK(Responses!P226), \"\", Responses!P226)","v":""},{"$f":"IF(ISBLANK(Responses!Q226), \"\", Responses!Q226)","v":""},{"$f":"IF(ISBLANK(Responses!R226), \"\", Responses!R226)","v":""},{"$f":"IF(ISBLANK(Responses!S226), \"\", Responses!S226)","v":""},{"$f":"IF(ISBLANK(Responses!T226), \"\", Responses!T226)","v":""}]
[{"$f":"IF(ISBLANK(Responses!A227), \"\", Responses!A227)","v":""},{"$f":"IF(ISBLANK(Responses!B227), \"\", Responses!B227)","v":""},{"$f":"IF(ISBLANK(Responses!N227), \"\", Responses!N227)","v":""},{"$f":"IF(ISBLANK(Responses!O227), \"\", Responses!O227)","v":""},{"$f":"IF(ISBLANK(Responses!P227), \"\", Responses!P227)","v":""},{"$f":"IF(ISBLANK(Responses!Q227), \"\", Responses!Q227)","v":""},{"$f":"IF(ISBLANK(Responses!R227), \"\", Responses!R227)","v":""},{"$f":"IF(ISBLANK(Responses!S227), \"\", Responses!S227)","v":""},{"$f":"IF(ISBLANK(Responses!T227), \"\", Responses!T227)","v":""}]
[{"$f":"IF(ISBLANK(Responses!A228), \"\", Responses!A228)","v":""},{"$f":"IF(ISBLANK(Responses!B228), \"\", Responses!B228)","v":""},{"$f":"IF(ISBLANK(Responses!N228), \"\", Responses!N228)","v":""},{"$f":"IF(ISBLANK(Responses!O228), \"\", Responses!O228)","v":""},{"$f":"IF(ISBLANK(Responses!P228), \"\", Responses!P228)","v":""},{"$f":"IF(ISBLANK(Responses!Q228), \"\", Responses!Q228)","v":""},{"$f":"IF(ISBLANK(Responses!R228), \"\", Responses!R228)","v":""},{"$f":"IF(ISBLANK(Responses!S228), \"\", Responses!S228)","v":""},{"$f":"IF(ISBLANK(Responses!T228), \"\", Responses!T228)","v":""}]
[{"$f":"IF(ISBLANK(Responses!A229), \"\", Responses!A229)","v":""},{"$f":"IF(ISBLANK(Responses!B229), \"\", Responses!B229)","v":""},{"$f":"IF(ISBLANK(Responses!N229), \"\", Responses!N229)","v":""},{"$f":"IF(ISBLANK(Responses!O229), \"\", Responses!O229)","v":""},{"$f":"IF(ISBLANK(Responses!P229), \"\", Responses!P229)","v":""},{"$f":"IF(ISBLANK(Responses!Q229), \"\", Responses!Q229)","v":""},{"$f":"IF(ISBLANK(Responses!R229), \"\", Responses!R229)","v":""},{"$f":"IF(ISBLANK(Responses!S229), \"\", Responses!S229)","v":""},{"$f":"IF(ISBLANK(Responses!T229), \"\", Responses!T229)","v":""}]
[{"$f":"IF(ISBLANK(Responses!A230), \"\", Responses!A230)","v":""},{"$f":"IF(ISBLANK(Responses!B230), \"\", Responses!B230)","v":""},{"$f":"IF(ISBLANK(Responses!N230), \"\", Responses!N230)","v":""},{"$f":"IF(ISBLANK(Responses!O230), \"\", Responses!O230)","v":""},{"$f":"IF(ISBLANK(Responses!P230), \"\", Responses!P230)","v":""},{"$f":"IF(ISBLANK(Responses!Q230), \"\", Responses!Q230)","v":""},{"$f":"IF(ISBLANK(Responses!R230), \"\", Responses!R230)","v":""},{"$f":"IF(ISBLANK(Responses!S230), \"\", Responses!S230)","v":""},{"$f":"IF(ISBLANK(Responses!T230), \"\", Responses!T230)","v":""}]
[{"$f":"IF(ISBLANK(Responses!A231), \"\", Responses!A231)","v":""},{"$f":"IF(ISBLANK(Responses!B231), \"\", Responses!B231)","v":""},{"$f":"IF(ISBLANK(Responses!N231), \"\", Responses!N231)","v":""},{"$f":"IF(ISBLANK(Responses!O231), \"\", Responses!O231)","v":""},{"$f":"IF(ISBLANK(Responses!P231), \"\", Responses!P231)","v":""},{"$f":"IF(ISBLANK(Responses!Q231), \"\", Responses!Q231)","v":""},{"$f":"IF(ISBLANK(Responses!R231), \"\", Responses!R231)","v":""},{"$f":"IF(ISBLANK(Responses!S231), \"\", Responses!S231)","v":""},{"$f":"IF(ISBLANK(Responses!T231), \"\", Responses!T231)","v":""}]
[{"$f":"IF(ISBLANK(Responses!A232), \"\", Responses!A232)","v":""},{"$f":"IF(ISBLANK(Responses!B232), \"\", Responses!B232)","v":""},{"$f":"IF(ISBLANK(Responses!N232), \"\", Responses!N232)","v":""},{"$f":"IF(ISBLANK(Responses!O232), \"\", Responses!O232)","v":""},{"$f":"IF(ISBLANK(Responses!P232), \"\", Responses!P232)","v":""},{"$f":"IF(ISBLANK(Responses!Q232), \"\", Responses!Q232)","v":""},{"$f":"IF(ISBLANK(Responses!R232), \"\", Responses!R232)","v":""},{"$f":"IF(ISBLANK(Responses!S232), \"\", Responses!S232)","v":""},{"$f":"IF(ISBLANK(Responses!T232), \"\", Responses!T232)","v":""}]
[{"$f":"IF(ISBLANK(Responses!A233), \"\", Responses!A233)","v":""},{"$f":"IF(ISBLANK(Responses!B233), \"\", Responses!B233)","v":""},{"$f":"IF(ISBLANK(Responses!N233), \"\", Responses!N233)","v":""},{"$f":"IF(ISBLANK(Responses!O233), \"\", Responses!O233)","v":""},{"$f":"IF(ISBLANK(Responses!P233), \"\", Responses!P233)","v":""},{"$f":"IF(ISBLANK(Responses!Q233), \"\", Responses!Q233)","v":""},{"$f":"IF(ISBLANK(Responses!R233), \"\", Responses!R233)","v":""},{"$f":"IF(ISBLANK(Responses!S233), \"\", Responses!S233)","v":""},{"$f":"IF(ISBLANK(Responses!T233), \"\", Responses!T233)","v":""}]
[{"$f":"IF(ISBLANK(Responses!A234), \"\", Responses!A234)","v":""},{"$f":"IF(ISBLANK(Responses!B234), \"\", Responses!B234)","v":""},{"$f":"IF(ISBLANK(Responses!N234), \"\", Responses!N234)","v":""},{"$f":"IF(ISBLANK(Responses!O234), \"\", Responses!O234)","v":""},{"$f":"IF(ISBLANK(Responses!P234), \"\", Responses!P234)","v":""},{"$f":"IF(ISBLANK(Responses!Q234), \"\", Responses!Q234)","v":""},{"$f":"IF(ISBLANK(Responses!R234), \"\", Responses!R234)","v":""},{"$f":"IF(ISBLANK(Responses!S234), \"\", Responses!S234)","v":""},{"$f":"IF(ISBLANK(Responses!T234), \"\", Responses!T234)","v":""}]
[{"$f":"IF(ISBLANK(Responses!A235), \"\", Responses!A235)","v":""},{"$f":"IF(ISBLANK(Responses!B235), \"\", Responses!B235)","v":""},{"$f":"IF(ISBLANK(Responses!N235), \"\", Responses!N235)","v":""},{"$f":"IF(ISBLANK(Responses!O235), \"\", Responses!O235)","v":""},{"$f":"IF(ISBLANK(Responses!P235), \"\", Responses!P235)","v":""},{"$f":"IF(ISBLANK(Responses!Q235), \"\", Responses!Q235)","v":""},{"$f":"IF(ISBLANK(Responses!R235), \"\", Responses!R235)","v":""},{"$f":"IF(ISBLANK(Responses!S235), \"\", Responses!S235)","v":""},{"$f":"IF(ISBLANK(Responses!T235), \"\", Responses!T235)","v":""}]
[{"$f":"IF(ISBLANK(Responses!A236), \"\", Responses!A236)","v":""},{"$f":"IF(ISBLANK(Responses!B236), \"\", Responses!B236)","v":""},{"$f":"IF(ISBLANK(Responses!N236), \"\", Responses!N236)","v":""},{"$f":"IF(ISBLANK(Responses!O236), \"\", Responses!O236)","v":""},{"$f":"IF(ISBLANK(Responses!P236), \"\", Responses!P236)","v":""},{"$f":"IF(ISBLANK(Responses!Q236), \"\", Responses!Q236)","v":""},{"$f":"IF(ISBLANK(Responses!R236), \"\", Responses!R236)","v":""},{"$f":"IF(ISBLANK(Responses!S236), \"\", Responses!S236)","v":""},{"$f":"IF(ISBLANK(Responses!T236), \"\", Responses!T236)","v":""}]
[{"$f":"IF(ISBLANK(Responses!A237), \"\", Responses!A237)","v":""},{"$f":"IF(ISBLANK(Responses!B237), \"\", Responses!B237)","v":""},{"$f":"IF(ISBLANK(Responses!N237), \"\", Responses!N237)","v":""},{"$f":"IF(ISBLANK(Responses!O237), \"\", Responses!O237)","v":""},{"$f":"IF(ISBLANK(Responses!P237), \"\", Responses!P237)","v":""},{"$f":"IF(ISBLANK(Responses!Q237), \"\", Responses!Q237)","v":""},{"$f":"IF(ISBLANK(Responses!R237), \"\", Responses!R237)","v":""},{"$f":"IF(ISBLANK(Responses!S237), \"\", Responses!S237)","v":""},{"$f":"IF(ISBLANK(Responses!T237), \"\", Responses!T237)","v":""}]
[{"$f":"IF(ISBLANK(Responses!A238), \"\", Responses!A238)","v":""},{"$f":"IF(ISBLANK(Responses!B238), \"\", Responses!B238)","v":""},{"$f":"IF(ISBLANK(Responses!N238), \"\", Responses!N238)","v":""},{"$f":"IF(ISBLANK(Responses!O238), \"\", Responses!O238)","v":""},{"$f":"IF(ISBLANK(Responses!P238), \"\", Responses!P238)","v":""},{"$f":"IF(ISBLANK(Responses!Q238), \"\", Responses!Q238)","v":""},{"$f":"IF(ISBLANK(Responses!R238), \"\", Responses!R238)","v":""},{"$f":"IF(ISBLANK(Responses!S238), \"\", Responses!S238)","v":""},{"$f":"IF(ISBLANK(Responses!T238), \"\", Responses!T238)","v":""}]
[{"$f":"IF(ISBLANK(Responses!A239), \"\", Responses!A239)","v":""},{"$f":"IF(ISBLANK(Responses!B239), \"\", Responses!B239)","v":""},{"$f":"IF(ISBLANK(Responses!N239), \"\", Responses!N239)","v":""},{"$f":"IF(ISBLANK(Responses!O239), \"\", Responses!O239)","v":""},{"$f":"IF(ISBLANK(Responses!P239), \"\", Responses!P239)","v":""},{"$f":"IF(ISBLANK(Responses!Q239), \"\", Responses!Q239)","v":""},{"$f":"IF(ISBLANK(Responses!R239), \"\", Responses!R239)","v":""},{"$f":"IF(ISBLANK(Responses!S239), \"\", Responses!S239)","v":""},{"$f":"IF(ISBLANK(Responses!T239), \"\", Responses!T239)","v":""}]
[{"$f":"IF(ISBLANK(Responses!A240), \"\", Responses!A240)","v":""},{"$f":"IF(ISBLANK(Responses!B240), \"\", Responses!B240)","v":""},{"$f":"IF(ISBLANK(Responses!N240), \"\", Responses!N240)","v":""},{"$f":"IF(ISBLANK(Responses!O240), \"\", Responses!O240)","v":""},{"$f":"IF(ISBLANK(Responses!P240), \"\", Responses!P240)","v":""},{"$f":"IF(ISBLANK(Responses!Q240), \"\", Responses!Q240)","v":""},{"$f":"IF(ISBLANK(Responses!R240), \"\", Responses!R240)","v":""},{"$f":"IF(ISBLANK(Responses!S240), \"\", Responses!S240)","v":""},{"$f":"IF(ISBLANK(Responses!T240), \"\", Responses!T240)","v":""}]
[{"$f":"IF(ISBLANK(Responses!A241), \"\", Responses!A241)","v":""},{"$f":"IF(ISBLANK(Responses!B241), \"\", Responses!B241)","v":""},{"$f":"IF(ISBLANK(Responses!N241), \"\", Responses!N241)","v":""},{"$f":"IF(ISBLANK(Responses!O241), \"\", Responses!O241)","v":""},{"$f":"IF(ISBLANK(Responses!P241), \"\", Responses!P241)","v":""},{"$f":"IF(ISBLANK(Responses!Q241), \"\", Responses!Q241)","v":""},{"$f":"IF(ISBLANK(Responses!R241), \"\", Responses!R241)","v":""},{"$f":"IF(ISBLANK(Responses!S241), \"\", Responses!S241)","v":""},{"$f":"IF(ISBLANK(Responses!T241), \"\", Responses!T241)","v":""}]
[{"$f":"IF(ISBLANK(Responses!A242), \"\", Responses!A242)","v":""},{"$f":"IF(ISBLANK(Responses!B242), \"\", Responses!B242)","v":""},{"$f":"IF(ISBLANK(Responses!N242), \"\", Responses!N242)","v":""},{"$f":"IF(ISBLANK(Responses!O242), \"\", Responses!O242)","v":""},{"$f":"IF(ISBLANK(Responses!P242), \"\", Responses!P242)","v":""},{"$f":"IF(ISBLANK(Responses!Q242), \"\", Responses!Q242)","v":""},{"$f":"IF(ISBLANK(Responses!R242), \"\", Responses!R242)","v":""},{"$f":"IF(ISBLANK(Responses!S242), \"\", Responses!S242)","v":""},{"$f":"IF(ISBLANK(Responses!T242), \"\", Responses!T242)","v":""}]
[{"$f":"IF(ISBLANK(Responses!A243), \"\", Responses!A243)","v":""},{"$f":"IF(ISBLANK(Responses!B243), \"\", Responses!B243)","v":""},{"$f":"IF(ISBLANK(Responses!N243), \"\", Responses!N243)","v":""},{"$f":"IF(ISBLANK(Responses!O243), \"\", Responses!O243)","v":""},{"$f":"IF(ISBLANK(Responses!P243), \"\", Responses!P243)","v":""},{"$f":"IF(ISBLANK(Responses!Q243), \"\", Responses!Q243)","v":""},{"$f":"IF(ISBLANK(Responses!R243), \"\", Responses!R243)","v":""},{"$f":"IF(ISBLANK(Responses!S243), \"\", Responses!S243)","v":""},{"$f":"IF(ISBLANK(Responses!T243), \"\", Responses!T243)","v":""}]
[{"$f":"IF(ISBLANK(Responses!A244), \"\", Responses!A244)","v":""},{"$f":"IF(ISBLANK(Responses!B244), \"\", Responses!B244)","v":""},{"$f":"IF(ISBLANK(Responses!N244), \"\", Responses!N244)","v":""},{"$f":"IF(ISBLANK(Responses!O244), \"\", Responses!O244)","v":""},{"$f":"IF(ISBLANK(Responses!P244), \"\", Responses!P244)","v":""},{"$f":"IF(ISBLANK(Responses!Q244), \"\", Responses!Q244)","v":""},{"$f":"IF(ISBLANK(Responses!R244), \"\", Responses!R244)","v":""},{"$f":"IF(ISBLANK(Responses!S244), \"\", Responses!S244)","v":""},{"$f":"IF(ISBLANK(Responses!T244), \"\", Responses!T244)","v":""}]
[{"$f":"IF(ISBLANK(Responses!A245), \"\", Responses!A245)","v":""},{"$f":"IF(ISBLANK(Responses!B245), \"\", Responses!B245)","v":""},{"$f":"IF(ISBLANK(Responses!N245), \"\", Responses!N245)","v":""},{"$f":"IF(ISBLANK(Responses!O245), \"\", Responses!O245)","v":""},{"$f":"IF(ISBLANK(Responses!P245), \"\", Responses!P245)","v":""},{"$f":"IF(ISBLANK(Responses!Q245), \"\", Responses!Q245)","v":""},{"$f":"IF(ISBLANK(Responses!R245), \"\", Responses!R245)","v":""},{"$f":"IF(ISBLANK(Responses!S245), \"\", Responses!S245)","v":""},{"$f":"IF(ISBLANK(Responses!T245), \"\", Responses!T245)","v":""}]
[{"$f":"IF(ISBLANK(Responses!A246), \"\", Responses!A246)","v":""},{"$f":"IF(ISBLANK(Responses!B246), \"\", Responses!B246)","v":""},{"$f":"IF(ISBLANK(Responses!N246), \"\", Responses!N246)","v":""},{"$f":"IF(ISBLANK(Responses!O246), \"\", Responses!O246)","v":""},{"$f":"IF(ISBLANK(Responses!P246), \"\", Responses!P246)","v":""},{"$f":"IF(ISBLANK(Responses!Q246), \"\", Responses!Q246)","v":""},{"$f":"IF(ISBLANK(Responses!R246), \"\", Responses!R246)","v":""},{"$f":"IF(ISBLANK(Responses!S246), \"\", Responses!S246)","v":""},{"$f":"IF(ISBLANK(Responses!T246), \"\", Responses!T246)","v":""}]
[{"$f":"IF(ISBLANK(Responses!A247), \"\", Responses!A247)","v":""},{"$f":"IF(ISBLANK(Responses!B247), \"\", Responses!B247)","v":""},{"$f":"IF(ISBLANK(Responses!N247), \"\", Responses!N247)","v":""},{"$f":"IF(ISBLANK(Responses!O247), \"\", Responses!O247)","v":""},{"$f":"IF(ISBLANK(Responses!P247), \"\", Responses!P247)","v":""},{"$f":"IF(ISBLANK(Responses!Q247), \"\", Responses!Q247)","v":""},{"$f":"IF(ISBLANK(Responses!R247), \"\", Responses!R247)","v":""},{"$f":"IF(ISBLANK(Responses!S247), \"\", Responses!S247)","v":""},{"$f":"IF(ISBLANK(Responses!T247), \"\", Responses!T247)","v":""}]
[{"$f":"IF(ISBLANK(Responses!A248), \"\", Responses!A248)","v":""},{"$f":"IF(ISBLANK(Responses!B248), \"\", Responses!B248)","v":""},{"$f":"IF(ISBLANK(Responses!N248), \"\", Responses!N248)","v":""},{"$f":"IF(ISBLANK(Responses!O248), \"\", Responses!O248)","v":""},{"$f":"IF(ISBLANK(Responses!P248), \"\", Responses!P248)","v":""},{"$f":"IF(ISBLANK(Responses!Q248), \"\", Responses!Q248)","v":""},{"$f":"IF(ISBLANK(Responses!R248), \"\", Responses!R248)","v":""},{"$f":"IF(ISBLANK(Responses!S248), \"\", Responses!S248)","v":""},{"$f":"IF(ISBLANK(Responses!T248), \"\", Responses!T248)","v":""}]
[{"$f":"IF(ISBLANK(Responses!A249), \"\", Responses!A249)","v":""},{"$f":"IF(ISBLANK(Responses!B249), \"\", Responses!B249)","v":""},{"$f":"IF(ISBLANK(Responses!N249), \"\", Responses!N249)","v":""},{"$f":"IF(ISBLANK(Responses!O249), \"\", Responses!O249)","v":""},{"$f":"IF(ISBLANK(Responses!P249), \"\", Responses!P249)","v":""},{"$f":"IF(ISBLANK(Responses!Q249), \"\", Responses!Q249)","v":""},{"$f":"IF(ISBLANK(Responses!R249), \"\", Responses!R249)","v":""},{"$f":"IF(ISBLANK(Responses!S249), \"\", Responses!S249)","v":""},{"$f":"IF(ISBLANK(Responses!T249), \"\", Responses!T249)","v":""}]
[{"$f":"IF(ISBLANK(Responses!A250), \"\", Responses!A250)","v":""},{"$f":"IF(ISBLANK(Responses!B250), \"\", Responses!B250)","v":""},{"$f":"IF(ISBLANK(Responses!N250), \"\", Responses!N250)","v":""},{"$f":"IF(ISBLANK(Responses!O250), \"\", Responses!O250)","v":""},{"$f":"IF(ISBLANK(Responses!P250), \"\", Responses!P250)","v":""},{"$f":"IF(ISBLANK(Responses!Q250), \"\", Responses!Q250)","v":""},{"$f":"IF(ISBLANK(Responses!R250), \"\", Responses!R250)","v":""},{"$f":"IF(ISBLANK(Responses!S250), \"\", Responses!S250)","v":""},{"$f":"IF(ISBLANK(Responses!T250), \"\", Responses!T250)","v":""}]
[{"$f":"IF(ISBLANK(Responses!A251), \"\", Responses!A251)","v":""},{"$f":"IF(ISBLANK(Responses!B251), \"\", Responses!B251)","v":""},{"$f":"IF(ISBLANK(Responses!N251), \"\", Responses!N251)","v":""},{"$f":"IF(ISBLANK(Responses!O251), \"\", Responses!O251)","v":""},{"$f":"IF(ISBLANK(Responses!P251), \"\", Responses!P251)","v":""},{"$f":"IF(ISBLANK(Responses!Q251), \"\", Responses!Q251)","v":""},{"$f":"IF(ISBLANK(Responses!R251), \"\", Responses!R251)","v":""},{"$f":"IF(ISBLANK(Responses!S251), \"\", Responses!S251)","v":""},{"$f":"IF(ISBLANK(Responses!T251), \"\", Responses!T251)","v":""}]
[{"$f":"IF(ISBLANK(Responses!A252), \"\", Responses!A252)","v":""},{"$f":"IF(ISBLANK(Responses!B252), \"\", Responses!B252)","v":""},{"$f":"IF(ISBLANK(Responses!N252), \"\", Responses!N252)","v":""},{"$f":"IF(ISBLANK(Responses!O252), \"\", Responses!O252)","v":""},{"$f":"IF(ISBLANK(Responses!P252), \"\", Responses!P252)","v":""},{"$f":"IF(ISBLANK(Responses!Q252), \"\", Responses!Q252)","v":""},{"$f":"IF(ISBLANK(Responses!R252), \"\", Responses!R252)","v":""},{"$f":"IF(ISBLANK(Responses!S252), \"\", Responses!S252)","v":""},{"$f":"IF(ISBLANK(Responses!T252), \"\", Responses!T252)","v":""}]
[{"$f":"IF(ISBLANK(Responses!A253), \"\", Responses!A253)","v":""},{"$f":"IF(ISBLANK(Responses!B253), \"\", Responses!B253)","v":""},{"$f":"IF(ISBLANK(Responses!N253), \"\", Responses!N253)","v":""},{"$f":"IF(ISBLANK(Responses!O253), \"\", Responses!O253)","v":""},{"$f":"IF(ISBLANK(Responses!P253), \"\", Responses!P253)","v":""},{"$f":"IF(ISBLANK(Responses!Q253), \"\", Responses!Q253)","v":""},{"$f":"IF(ISBLANK(Responses!R253), \"\", Responses!R253)","v":""},{"$f":"IF(ISBLANK(Responses!S253), \"\", Responses!S253)","v":""},{"$f":"IF(ISBLANK(Responses!T253), \"\", Responses!T253)","v":""}]
[{"$f":"IF(ISBLANK(Responses!A254), \"\", Responses!A254)","v":""},{"$f":"IF(ISBLANK(Responses!B254), \"\", Responses!B254)","v":""},{"$f":"IF(ISBLANK(Responses!N254), \"\", Responses!N254)","v":""},{"$f":"IF(ISBLANK(Responses!O254), \"\", Responses!O254)","v":""},{"$f":"IF(ISBLANK(Responses!P254), \"\", Responses!P254)","v":""},{"$f":"IF(ISBLANK(Responses!Q254), \"\", Responses!Q254)","v":""},{"$f":"IF(ISBLANK(Responses!R254), \"\", Responses!R254)","v":""},{"$f":"IF(ISBLANK(Responses!S254), \"\", Responses!S254)","v":""},{"$f":"IF(ISBLANK(Responses!T254), \"\", Responses!T254)","v":""}]
[{"$f":"IF(ISBLANK(Responses!A255), \"\", Responses!A255)","v":""},{"$f":"IF(ISBLANK(Responses!B255), \"\", Responses!B255)","v":""},{"$f":"IF(ISBLANK(Responses!N255), \"\", Responses!N255)","v":""},{"$f":"IF(ISBLANK(Responses!O255), \"\", Responses!O255)","v":""},{"$f":"IF(ISBLANK(Responses!P255), \"\", Responses!P255)","v":""},{"$f":"IF(ISBLANK(Responses!Q255), \"\", Responses!Q255)","v":""},{"$f":"IF(ISBLANK(Responses!R255), \"\", Responses!R255)","v":""},{"$f":"IF(ISBLANK(Responses!S255), \"\", Responses!S255)","v":""},{"$f":"IF(ISBLANK(Responses!T255), \"\", Responses!T255)","v":""}]
[{"$f":"IF(ISBLANK(Responses!A256), \"\", Responses!A256)","v":""},{"$f":"IF(ISBLANK(Responses!B256), \"\", Responses!B256)","v":""},{"$f":"IF(ISBLANK(Responses!N256), \"\", Responses!N256)","v":""},{"$f":"IF(ISBLANK(Responses!O256), \"\", Responses!O256)","v":""},{"$f":"IF(ISBLANK(Responses!P256), \"\", Responses!P256)","v":""},{"$f":"IF(ISBLANK(Responses!Q256), \"\", Responses!Q256)","v":""},{"$f":"IF(ISBLANK(Responses!R256), \"\", Responses!R256)","v":""},{"$f":"IF(ISBLANK(Responses!S256), \"\", Responses!S256)","v":""},{"$f":"IF(ISBLANK(Responses!T256), \"\", Responses!T256)","v":""}]
[{"$f":"IF(ISBLANK(Responses!A257), \"\", Responses!A257)","v":""},{"$f":"IF(ISBLANK(Responses!B257), \"\", Responses!B257)","v":""},{"$f":"IF(ISBLANK(Responses!N257), \"\", Responses!N257)","v":""},{"$f":"IF(ISBLANK(Responses!O257), \"\", Responses!O257)","v":""},{"$f":"IF(ISBLANK(Responses!P257), \"\", Responses!P257)","v":""},{"$f":"IF(ISBLANK(Responses!Q257), \"\", Responses!Q257)","v":""},{"$f":"IF(ISBLANK(Responses!R257), \"\", Responses!R257)","v":""},{"$f":"IF(ISBLANK(Responses!S257), \"\", Responses!S257)","v":""},{"$f":"IF(ISBLANK(Responses!T257), \"\", Responses!T257)","v":""}]
[{"$f":"IF(ISBLANK(Responses!A258), \"\", Responses!A258)","v":""},{"$f":"IF(ISBLANK(Responses!B258), \"\", Responses!B258)","v":""},{"$f":"IF(ISBLANK(Responses!N258), \"\", Responses!N258)","v":""},{"$f":"IF(ISBLANK(Responses!O258), \"\", Responses!O258)","v":""},{"$f":"IF(ISBLANK(Responses!P258), \"\", Responses!P258)","v":""},{"$f":"IF(ISBLANK(Responses!Q258), \"\", Responses!Q258)","v":""},{"$f":"IF(ISBLANK(Responses!R258), \"\", Responses!R258)","v":""},{"$f":"IF(ISBLANK(Responses!S258), \"\", Responses!S258)","v":""},{"$f":"IF(ISBLANK(Responses!T258), \"\", Responses!T258)","v":""}]
[{"$f":"IF(ISBLANK(Responses!A259), \"\", Responses!A259)","v":""},{"$f":"IF(ISBLANK(Responses!B259), \"\", Responses!B259)","v":""},{"$f":"IF(ISBLANK(Responses!N259), \"\", Responses!N259)","v":""},{"$f":"IF(ISBLANK(Responses!O259), \"\", Responses!O259)","v":""},{"$f":"IF(ISBLANK(Responses!P259), \"\", Responses!P259)","v":""},{"$f":"IF(ISBLANK(Responses!Q259), \"\", Responses!Q259)","v":""},{"$f":"IF(ISBLANK(Responses!R259), \"\", Responses!R259)","v":""},{"$f":"IF(ISBLANK(Responses!S259), \"\", Responses!S259)","v":""},{"$f":"IF(ISBLANK(Responses!T259), \"\", Responses!T259)","v":""}]
[{"$f":"IF(ISBLANK(Responses!A260), \"\", Responses!A260)","v":""},{"$f":"IF(ISBLANK(Responses!B260), \"\", Responses!B260)","v":""},{"$f":"IF(ISBLANK(Responses!N260), \"\", Responses!N260)","v":""},{"$f":"IF(ISBLANK(Responses!O260), \"\", Responses!O260)","v":""},{"$f":"IF(ISBLANK(Responses!P260), \"\", Responses!P260)","v":""},{"$f":"IF(ISBLANK(Responses!Q260), \"\", Responses!Q260)","v":""},{"$f":"IF(ISBLANK(Responses!R260), \"\", Responses!R260)","v":""},{"$f":"IF(ISBLANK(Responses!S260), \"\", Responses!S260)","v":""},{"$f":"IF(ISBLANK(Responses!T260), \"\", Responses!T260)","v":""}]
[{"$f":"IF(ISBLANK(Responses!A261), \"\", Responses!A261)","v":""},{"$f":"IF(ISBLANK(Responses!B261), \"\", Responses!B261)","v":""},{"$f":"IF(ISBLANK(Responses!N261), \"\", Responses!N261)","v":""},{"$f":"IF(ISBLANK(Responses!O261), \"\", Responses!O261)","v":""},{"$f":"IF(ISBLANK(Responses!P261), \"\", Responses!P261)","v":""},{"$f":"IF(ISBLANK(Responses!Q261), \"\", Responses!Q261)","v":""},{"$f":"IF(ISBLANK(Responses!R261), \"\", Responses!R261)","v":""},{"$f":"IF(ISBLANK(Responses!S261), \"\", Responses!S261)","v":""},{"$f":"IF(ISBLANK(Responses!T261), \"\", Responses!T261)","v":""}]
[{"$f":"IF(ISBLANK(Responses!A262), \"\", Responses!A262)","v":""},{"$f":"IF(ISBLANK(Responses!B262), \"\", Responses!B262)","v":""},{"$f":"IF(ISBLANK(Responses!N262), \"\", Responses!N262)","v":""},{"$f":"IF(ISBLANK(Responses!O262), \"\", Responses!O262)","v":""},{"$f":"IF(ISBLANK(Responses!P262), \"\", Responses!P262)","v":""},{"$f":"IF(ISBLANK(Responses!Q262), \"\", Responses!Q262)","v":""},{"$f":"IF(ISBLANK(Responses!R262), \"\", Responses!R262)","v":""},{"$f":"IF(ISBLANK(Responses!S262), \"\", Responses!S262)","v":""},{"$f":"IF(ISBLANK(Responses!T262), \"\", Responses!T262)","v":""}]
[{"$f":"IF(ISBLANK(Responses!A263), \"\", Responses!A263)","v":""},{"$f":"IF(ISBLANK(Responses!B263), \"\", Responses!B263)","v":""},{"$f":"IF(ISBLANK(Responses!N263), \"\", Responses!N263)","v":""},{"$f":"IF(ISBLANK(Responses!O263), \"\", Responses!O263)","v":""},{"$f":"IF(ISBLANK(Responses!P263), \"\", Responses!P263)","v":""},{"$f":"IF(ISBLANK(Responses!Q263), \"\", Responses!Q263)","v":""},{"$f":"IF(ISBLANK(Responses!R263), \"\", Responses!R263)","v":""},{"$f":"IF(ISBLANK(Responses!S263), \"\", Responses!S263)","v":""},{"$f":"IF(ISBLANK(Responses!T263), \"\", Responses!T263)","v":""}]
[{"$f":"IF(ISBLANK(Responses!A264), \"\", Responses!A264)","v":""},{"$f":"IF(ISBLANK(Responses!B264), \"\", Responses!B264)","v":""},{"$f":"IF(ISBLANK(Responses!N264), \"\", Responses!N264)","v":""},{"$f":"IF(ISBLANK(Responses!O264), \"\", Responses!O264)","v":""},{"$f":"IF(ISBLANK(Responses!P264), \"\", Responses!P264)","v":""},{"$f":"IF(ISBLANK(Responses!Q264), \"\", Responses!Q264)","v":""},{"$f":"IF(ISBLANK(Responses!R264), \"\", Responses!R264)","v":""},{"$f":"IF(ISBLANK(Responses!S264), \"\", Responses!S264)","v":""},{"$f":"IF(ISBLANK(Responses!T264), \"\", Responses!T264)","v":""}]
[{"$f":"IF(ISBLANK(Responses!A265), \"\", Responses!A265)","v":""},{"$f":"IF(ISBLANK(Responses!B265), \"\", Responses!B265)","v":""},{"$f":"IF(ISBLANK(Responses!N265), \"\", Responses!N265)","v":""},{"$f":"IF(ISBLANK(Responses!O265), \"\", Responses!O265)","v":""},{"$f":"IF(ISBLANK(Responses!P265), \"\", Responses!P265)","v":""},{"$f":"IF(ISBLANK(Responses!Q265), \"\", Responses!Q265)","v":""},{"$f":"IF(ISBLANK(Responses!R265), \"\", Responses!R265)","v":""},{"$f":"IF(ISBLANK(Responses!S265), \"\", Responses!S265)","v":""},{"$f":"IF(ISBLANK(Responses!T265), \"\", Responses!T265)","v":""}]
[{"$f":"IF(ISBLANK(Responses!A266), \"\", Responses!A266)","v":""},{"$f":"IF(ISBLANK(Responses!B266), \"\", Responses!B266)","v":""},{"$f":"IF(ISBLANK(Responses!N266), \"\", Responses!N266)","v":""},{"$f":"IF(ISBLANK(Responses!O266), \"\", Responses!O266)","v":""},{"$f":"IF(ISBLANK(Responses!P266), \"\", Responses!P266)","v":""},{"$f":"IF(ISBLANK(Responses!Q266), \"\", Responses!Q266)","v":""},{"$f":"IF(ISBLANK(Responses!R266), \"\", Responses!R266)","v":""},{"$f":"IF(ISBLANK(Responses!S266), \"\", Responses!S266)","v":""},{"$f":"IF(ISBLANK(Responses!T266), \"\", Responses!T266)","v":""}]
[{"$f":"IF(ISBLANK(Responses!A267), \"\", Responses!A267)","v":""},{"$f":"IF(ISBLANK(Responses!B267), \"\", Responses!B267)","v":""},{"$f":"IF(ISBLANK(Responses!N267), \"\", Responses!N267)","v":""},{"$f":"IF(ISBLANK(Responses!O267), \"\", Responses!O267)","v":""},{"$f":"IF(ISBLANK(Responses!P267), \"\", Responses!P267)","v":""},{"$f":"IF(ISBLANK(Responses!Q267), \"\", Responses!Q267)","v":""},{"$f":"IF(ISBLANK(Responses!R267), \"\", Responses!R267)","v":""},{"$f":"IF(ISBLANK(Responses!S267), \"\", Responses!S267)","v":""},{"$f":"IF(ISBLANK(Responses!T267), \"\", Responses!T267)","v":""}]
[{"$f":"IF(ISBLANK(Responses!A268), \"\", Responses!A268)","v":""},{"$f":"IF(ISBLANK(Responses!B268), \"\", Responses!B268)","v":""},{"$f":"IF(ISBLANK(Responses!N268), \"\", Responses!N268)","v":""},{"$f":"IF(ISBLANK(Responses!O268), \"\", Responses!O268)","v":""},{"$f":"IF(ISBLANK(Responses!P268), \"\", Responses!P268)","v":""},{"$f":"IF(ISBLANK(Responses!Q268), \"\", Responses!Q268)","v":""},{"$f":"IF(ISBLANK(Responses!R268), \"\", Responses!R268)","v":""},{"$f":"IF(ISBLANK(Responses!S268), \"\", Responses!S268)","v":""},{"$f":"IF(ISBLANK(Responses!T268), \"\", Responses!T268)","v":""}]
[{"$f":"IF(ISBLANK(Responses!A269), \"\", Responses!A269)","v":""},{"$f":"IF(ISBLANK(Responses!B269), \"\", Responses!B269)","v":""},{"$f":"IF(ISBLANK(Responses!N269), \"\", Responses!N269)","v":""},{"$f":"IF(ISBLANK(Responses!O269), \"\", Responses!O269)","v":""},{"$f":"IF(ISBLANK(Responses!P269), \"\", Responses!P269)","v":""},{"$f":"IF(ISBLANK(Responses!Q269), \"\", Responses!Q269)","v":""},{"$f":"IF(ISBLANK(Responses!R269), \"\", Responses!R269)","v":""},{"$f":"IF(ISBLANK(Responses!S269), \"\", Responses!S269)","v":""},{"$f":"IF(ISBLANK(Responses!T269), \"\", Responses!T269)","v":""}]
[{"$f":"IF(ISBLANK(Responses!A270), \"\", Responses!A270)","v":""},{"$f":"IF(ISBLANK(Responses!B270), \"\", Responses!B270)","v":""},{"$f":"IF(ISBLANK(Responses!N270), \"\", Responses!N270)","v":""},{"$f":"IF(ISBLANK(Responses!O270), \"\", Responses!O270)","v":""},{"$f":"IF(ISBLANK(Responses!P270), \"\", Responses!P270)","v":""},{"$f":"IF(ISBLANK(Responses!Q270), \"\", Responses!Q270)","v":""},{"$f":"IF(ISBLANK(Responses!R270), \"\", Responses!R270)","v":""},{"$f":"IF(ISBLANK(Responses!S270), \"\", Responses!S270)","v":""},{"$f":"IF(ISBLANK(Responses!T270), \"\", Responses!T270)","v":""}]
[{"$f":"IF(ISBLANK(Responses!A271), \"\", Responses!A271)","v":""},{"$f":"IF(ISBLANK(Responses!B271), \"\", Responses!B271)","v":""},{"$f":"IF(ISBLANK(Responses!N271), \"\", Responses!N271)","v":""},{"$f":"IF(ISBLANK(Responses!O271), \"\", Responses!O271)","v":""},{"$f":"IF(ISBLANK(Responses!P271), \"\", Responses!P271)","v":""},{"$f":"IF(ISBLANK(Responses!Q271), \"\", Responses!Q271)","v":""},{"$f":"IF(ISBLANK(Responses!R271), \"\", Responses!R271)","v":""},{"$f":"IF(ISBLANK(Responses!S271), \"\", Responses!S271)","v":""},{"$f":"IF(ISBLANK(Responses!T271), \"\", Responses!T271)","v":""}]
[{"$f":"IF(ISBLANK(Responses!A272), \"\", Responses!A272)","v":""},{"$f":"IF(ISBLANK(Responses!B272), \"\", Responses!B272)","v":""},{"$f":"IF(ISBLANK(Responses!N272), \"\", Responses!N272)","v":""},{"$f":"IF(ISBLANK(Responses!O272), \"\", Responses!O272)","v":""},{"$f":"IF(ISBLANK(Responses!P272), \"\", Responses!P272)","v":""},{"$f":"IF(ISBLANK(Responses!Q272), \"\", Responses!Q272)","v":""},{"$f":"IF(ISBLANK(Responses!R272), \"\", Responses!R272)","v":""},{"$f":"IF(ISBLANK(Responses!S272), \"\", Responses!S272)","v":""},{"$f":"IF(ISBLANK(Responses!T272), \"\", Responses!T272)","v":""}]
[{"$f":"IF(ISBLANK(Responses!A273), \"\", Responses!A273)","v":""},{"$f":"IF(ISBLANK(Responses!B273), \"\", Responses!B273)","v":""},{"$f":"IF(ISBLANK(Responses!N273), \"\", Responses!N273)","v":""},{"$f":"IF(ISBLANK(Responses!O273), \"\", Responses!O273)","v":""},{"$f":"IF(ISBLANK(Responses!P273), \"\", Responses!P273)","v":""},{"$f":"IF(ISBLANK(Responses!Q273), \"\", Responses!Q273)","v":""},{"$f":"IF(ISBLANK(Responses!R273), \"\", Responses!R273)","v":""},{"$f":"IF(ISBLANK(Responses!S273), \"\", Responses!S273)","v":""},{"$f":"IF(ISBLANK(Responses!T273), \"\", Responses!T273)","v":""}]
[{"$f":"IF(ISBLANK(Responses!A274), \"\", Responses!A274)","v":""},{"$f":"IF(ISBLANK(Responses!B274), \"\", Responses!B274)","v":""},{"$f":"IF(ISBLANK(Responses!N274), \"\", Responses!N274)","v":""},{"$f":"IF(ISBLANK(Responses!O274), \"\", Responses!O274)","v":""},{"$f":"IF(ISBLANK(Responses!P274), \"\", Responses!P274)","v":""},{"$f":"IF(ISBLANK(Responses!Q274), \"\", Responses!Q274)","v":""},{"$f":"IF(ISBLANK(Responses!R274), \"\", Responses!R274)","v":""},{"$f":"IF(ISBLANK(Responses!S274), \"\", Responses!S274)","v":""},{"$f":"IF(ISBLANK(Responses!T274), \"\", Responses!T274)","v":""}]
[{"$f":"IF(ISBLANK(Responses!A275), \"\", Responses!A275)","v":""},{"$f":"IF(ISBLANK(Responses!B275), \"\", Responses!B275)","v":""},{"$f":"IF(ISBLANK(Responses!N275), \"\", Responses!N275)","v":""},{"$f":"IF(ISBLANK(Responses!O275), \"\", Responses!O275)","v":""},{"$f":"IF(ISBLANK(Responses!P275), \"\", Responses!P275)","v":""},{"$f":"IF(ISBLANK(Responses!Q275), \"\", Responses!Q275)","v":""},{"$f":"IF(ISBLANK(Responses!R275), \"\", Responses!R275)","v":""},{"$f":"IF(ISBLANK(Responses!S275), \"\", Responses!S275)","v":""},{"$f":"IF(ISBLANK(Responses!T275), \"\", Responses!T275)","v":""}]
[{"$f":"IF(ISBLANK(Responses!A276), \"\", Responses!A276)","v":""},{"$f":"IF(ISBLANK(Responses!B276), \"\", Responses!B276)","v":""},{"$f":"IF(ISBLANK(Responses!N276), \"\", Responses!N276)","v":""},{"$f":"IF(ISBLANK(Responses!O276), \"\", Responses!O276)","v":""},{"$f":"IF(ISBLANK(Responses!P276), \"\", Responses!P276)","v":""},{"$f":"IF(ISBLANK(Responses!Q276), \"\", Responses!Q276)","v":""},{"$f":"IF(ISBLANK(Responses!R276), \"\", Responses!R276)","v":""},{"$f":"IF(ISBLANK(Responses!S276), \"\", Responses!S276)","v":""},{"$f":"IF(ISBLANK(Responses!T276), \"\", Responses!T276)","v":""}]
[{"$f":"IF(ISBLANK(Responses!A277), \"\", Responses!A277)","v":""},{"$f":"IF(ISBLANK(Responses!B277), \"\", Responses!B277)","v":""},{"$f":"IF(ISBLANK(Responses!N277), \"\", Responses!N277)","v":""},{"$f":"IF(ISBLANK(Responses!O277), \"\", Responses!O277)","v":""},{"$f":"IF(ISBLANK(Responses!P277), \"\", Responses!P277)","v":""},{"$f":"IF(ISBLANK(Responses!Q277), \"\", Responses!Q277)","v":""},{"$f":"IF(ISBLANK(Responses!R277), \"\", Responses!R277)","v":""},{"$f":"IF(ISBLANK(Responses!S277), \"\", Responses!S277)","v":""},{"$f":"IF(ISBLANK(Responses!T277), \"\", Responses!T277)","v":""}]
[{"$f":"IF(ISBLANK(Responses!A278), \"\", Responses!A278)","v":""},{"$f":"IF(ISBLANK(Responses!B278), \"\", Responses!B278)","v":""},{"$f":"IF(ISBLANK(Responses!N278), \"\", Responses!N278)","v":""},{"$f":"IF(ISBLANK(Responses!O278), \"\", Responses!O278)","v":""},{"$f":"IF(ISBLANK(Responses!P278), \"\", Responses!P278)","v":""},{"$f":"IF(ISBLANK(Responses!Q278), \"\", Responses!Q278)","v":""},{"$f":"IF(ISBLANK(Responses!R278), \"\", Responses!R278)","v":""},{"$f":"IF(ISBLANK(Responses!S278), \"\", Responses!S278)","v":""},{"$f":"IF(ISBLANK(Responses!T278), \"\", Responses!T278)","v":""}]
[{"$f":"IF(ISBLANK(Responses!A279), \"\", Responses!A279)","v":""},{"$f":"IF(ISBLANK(Responses!B279), \"\", Responses!B279)","v":""},{"$f":"IF(ISBLANK(Responses!N279), \"\", Responses!N279)","v":""},{"$f":"IF(ISBLANK(Responses!O279), \"\", Responses!O279)","v":""},{"$f":"IF(ISBLANK(Responses!P279), \"\", Responses!P279)","v":""},{"$f":"IF(ISBLANK(Responses!Q279), \"\", Responses!Q279)","v":""},{"$f":"IF(ISBLANK(Responses!R279), \"\", Responses!R279)","v":""},{"$f":"IF(ISBLANK(Responses!S279), \"\", Responses!S279)","v":""},{"$f":"IF(ISBLANK(Responses!T279), \"\", Responses!T279)","v":""}]
[{"$f":"IF(ISBLANK(Responses!A280), \"\", Responses!A280)","v":""},{"$f":"IF(ISBLANK(Responses!B280), \"\", Responses!B280)","v":""},{"$f":"IF(ISBLANK(Responses!N280), \"\", Responses!N280)","v":""},{"$f":"IF(ISBLANK(Responses!O280), \"\", Responses!O280)","v":""},{"$f":"IF(ISBLANK(Responses!P280), \"\", Responses!P280)","v":""},{"$f":"IF(ISBLANK(Responses!Q280), \"\", Responses!Q280)","v":""},{"$f":"IF(ISBLANK(Responses!R280), \"\", Responses!R280)","v":""},{"$f":"IF(ISBLANK(Responses!S280), \"\", Responses!S280)","v":""},{"$f":"IF(ISBLANK(Responses!T280), \"\", Responses!T280)","v":""}]
[{"$f":"IF(ISBLANK(Responses!A281), \"\", Responses!A281)","v":""},{"$f":"IF(ISBLANK(Responses!B281), \"\", Responses!B281)","v":""},{"$f":"IF(ISBLANK(Responses!N281), \"\", Responses!N281)","v":""},{"$f":"IF(ISBLANK(Responses!O281), \"\", Responses!O281)","v":""},{"$f":"IF(ISBLANK(Responses!P281), \"\", Responses!P281)","v":""},{"$f":"IF(ISBLANK(Responses!Q281), \"\", Responses!Q281)","v":""},{"$f":"IF(ISBLANK(Responses!R281), \"\", Responses!R281)","v":""},{"$f":"IF(ISBLANK(Responses!S281), \"\", Responses!S281)","v":""},{"$f":"IF(ISBLANK(Responses!T281), \"\", Responses!T281)","v":""}]
[{"$f":"IF(ISBLANK(Responses!A282), \"\", Responses!A282)","v":""},{"$f":"IF(ISBLANK(Responses!B282), \"\", Responses!B282)","v":""},{"$f":"IF(ISBLANK(Responses!N282), \"\", Responses!N282)","v":""},{"$f":"IF(ISBLANK(Responses!O282), \"\", Responses!O282)","v":""},{"$f":"IF(ISBLANK(Responses!P282), \"\", Responses!P282)","v":""},{"$f":"IF(ISBLANK(Responses!Q282), \"\", Responses!Q282)","v":""},{"$f":"IF(ISBLANK(Responses!R282), \"\", Responses!R282)","v":""},{"$f":"IF(ISBLANK(Responses!S282), \"\", Responses!S282)","v":""},{"$f":"IF(ISBLANK(Responses!T282), \"\", Responses!T282)","v":""}]
[{"$f":"IF(ISBLANK(Responses!A283), \"\", Responses!A283)","v":""},{"$f":"IF(ISBLANK(Responses!B283), \"\", Responses!B283)","v":""},{"$f":"IF(ISBLANK(Responses!N283), \"\", Responses!N283)","v":""},{"$f":"IF(ISBLANK(Responses!O283), \"\", Responses!O283)","v":""},{"$f":"IF(ISBLANK(Responses!P283), \"\", Responses!P283)","v":""},{"$f":"IF(ISBLANK(Responses!Q283), \"\", Responses!Q283)","v":""},{"$f":"IF(ISBLANK(Responses!R283), \"\", Responses!R283)","v":""},{"$f":"IF(ISBLANK(Responses!S283), \"\", Responses!S283)","v":""},{"$f":"IF(ISBLANK(Responses!T283), \"\", Responses!T283)","v":""}]
[{"$f":"IF(ISBLANK(Responses!A284), \"\", Responses!A284)","v":""},{"$f":"IF(ISBLANK(Responses!B284), \"\", Responses!B284)","v":""},{"$f":"IF(ISBLANK(Responses!N284), \"\", Responses!N284)","v":""},{"$f":"IF(ISBLANK(Responses!O284), \"\", Responses!O284)","v":""},{"$f":"IF(ISBLANK(Responses!P284), \"\", Responses!P284)","v":""},{"$f":"IF(ISBLANK(Responses!Q284), \"\", Responses!Q284)","v":""},{"$f":"IF(ISBLANK(Responses!R284), \"\", Responses!R284)","v":""},{"$f":"IF(ISBLANK(Responses!S284), \"\", Responses!S284)","v":""},{"$f":"IF(ISBLANK(Responses!T284), \"\", Responses!T284)","v":""}]
[{"$f":"IF(ISBLANK(Responses!A285), \"\", Responses!A285)","v":""},{"$f":"IF(ISBLANK(Responses!B285), \"\", Responses!B285)","v":""},{"$f":"IF(ISBLANK(Responses!N285), \"\", Responses!N285)","v":""},{"$f":"IF(ISBLANK(Responses!O285), \"\", Responses!O285)","v":""},{"$f":"IF(ISBLANK(Responses!P285), \"\", Responses!P285)","v":""},{"$f":"IF(ISBLANK(Responses!Q285), \"\", Responses!Q285)","v":""},{"$f":"IF(ISBLANK(Responses!R285), \"\", Responses!R285)","v":""},{"$f":"IF(ISBLANK(Responses!S285), \"\", Responses!S285)","v":""},{"$f":"IF(ISBLANK(Responses!T285), \"\", Responses!T285)","v":""}]
[{"$f":"IF(ISBLANK(Responses!A286), \"\", Responses!A286)","v":""},{"$f":"IF(ISBLANK(Responses!B286), \"\", Responses!B286)","v":""},{"$f":"IF(ISBLANK(Responses!N286), \"\", Responses!N286)","v":""},{"$f":"IF(ISBLANK(Responses!O286), \"\", Responses!O286)","v":""},{"$f":"IF(ISBLANK(Responses!P286), \"\", Responses!P286)","v":""},{"$f":"IF(ISBLANK(Responses!Q286), \"\", Responses!Q286)","v":""},{"$f":"IF(ISBLANK(Responses!R286), \"\", Responses!R286)","v":""},{"$f":"IF(ISBLANK(Responses!S286), \"\", Responses!S286)","v":""},{"$f":"IF(ISBLANK(Responses!T286), \"\", Responses!T286)","v":""}]
[{"$f":"IF(ISBLANK(Responses!A287), \"\", Responses!A287)","v":""},{"$f":"IF(ISBLANK(Responses!B287), \"\", Responses!B287)","v":""},{"$f":"IF(ISBLANK(Responses!N287), \"\", Responses!N287)","v":""},{"$f":"IF(ISBLANK(Responses!O287), \"\", Responses!O287)","v":""},{"$f":"IF(ISBLANK(Responses!P287), \"\", Responses!P287)","v":""},{"$f":"IF(ISBLANK(Responses!Q287), \"\", Responses!Q287)","v":""},{"$f":"IF(ISBLANK(Responses!R287), \"\", Responses!R287)","v":""},{"$f":"IF(ISBLANK(Responses!S287), \"\", Responses!S287)","v":""},{"$f":"IF(ISBLANK(Responses!T287), \"\", Responses!T287)","v":""}]
[{"$f":"IF(ISBLANK(Responses!A288), \"\", Responses!A288)","v":""},{"$f":"IF(ISBLANK(Responses!B288), \"\", Responses!B288)","v":""},{"$f":"IF(ISBLANK(Responses!N288), \"\", Responses!N288)","v":""},{"$f":"IF(ISBLANK(Responses!O288), \"\", Responses!O288)","v":""},{"$f":"IF(ISBLANK(Responses!P288), \"\", Responses!P288)","v":""},{"$f":"IF(ISBLANK(Responses!Q288), \"\", Responses!Q288)","v":""},{"$f":"IF(ISBLANK(Responses!R288), \"\", Responses!R288)","v":""},{"$f":"IF(ISBLANK(Responses!S288), \"\", Responses!S288)","v":""},{"$f":"IF(ISBLANK(Responses!T288), \"\", Responses!T288)","v":""}]
[{"$f":"IF(ISBLANK(Responses!A289), \"\", Responses!A289)","v":""},{"$f":"IF(ISBLANK(Responses!B289), \"\", Responses!B289)","v":""},{"$f":"IF(ISBLANK(Responses!N289), \"\", Responses!N289)","v":""},{"$f":"IF(ISBLANK(Responses!O289), \"\", Responses!O289)","v":""},{"$f":"IF(ISBLANK(Responses!P289), \"\", Responses!P289)","v":""},{"$f":"IF(ISBLANK(Responses!Q289), \"\", Responses!Q289)","v":""},{"$f":"IF(ISBLANK(Responses!R289), \"\", Responses!R289)","v":""},{"$f":"IF(ISBLANK(Responses!S289), \"\", Responses!S289)","v":""},{"$f":"IF(ISBLANK(Responses!T289), \"\", Responses!T289)","v":""}]
[{"$f":"IF(ISBLANK(Responses!A290), \"\", Responses!A290)","v":""},{"$f":"IF(ISBLANK(Responses!B290), \"\", Responses!B290)","v":""},{"$f":"IF(ISBLANK(Responses!N290), \"\", Responses!N290)","v":""},{"$f":"IF(ISBLANK(Responses!O290), \"\", Responses!O290)","v":""},{"$f":"IF(ISBLANK(Responses!P290), \"\", Responses!P290)","v":""},{"$f":"IF(ISBLANK(Responses!Q290), \"\", Responses!Q290)","v":""},{"$f":"IF(ISBLANK(Responses!R290), \"\", Responses!R290)","v":""},{"$f":"IF(ISBLANK(Responses!S290), \"\", Responses!S290)","v":""},{"$f":"IF(ISBLANK(Responses!T290), \"\", Responses!T290)","v":""}]
[{"$f":"IF(ISBLANK(Responses!A291), \"\", Responses!A291)","v":""},{"$f":"IF(ISBLANK(Responses!B291), \"\", Responses!B291)","v":""},{"$f":"IF(ISBLANK(Responses!N291), \"\", Responses!N291)","v":""},{"$f":"IF(ISBLANK(Responses!O291), \"\", Responses!O291)","v":""},{"$f":"IF(ISBLANK(Responses!P291), \"\", Responses!P291)","v":""},{"$f":"IF(ISBLANK(Responses!Q291), \"\", Responses!Q291)","v":""},{"$f":"IF(ISBLANK(Responses!R291), \"\", Responses!R291)","v":""},{"$f":"IF(ISBLANK(Responses!S291), \"\", Responses!S291)","v":""},{"$f":"IF(ISBLANK(Responses!T291), \"\", Responses!T291)","v":""}]
[{"$f":"IF(ISBLANK(Responses!A292), \"\", Responses!A292)","v":""},{"$f":"IF(ISBLANK(Responses!B292), \"\", Responses!B292)","v":""},{"$f":"IF(ISBLANK(Responses!N292), \"\", Responses!N292)","v":""},{"$f":"IF(ISBLANK(Responses!O292), \"\", Responses!O292)","v":""},{"$f":"IF(ISBLANK(Responses!P292), \"\", Responses!P292)","v":""},{"$f":"IF(ISBLANK(Responses!Q292), \"\", Responses!Q292)","v":""},{"$f":"IF(ISBLANK(Responses!R292), \"\", Responses!R292)","v":""},{"$f":"IF(ISBLANK(Responses!S292), \"\", Responses!S292)","v":""},{"$f":"IF(ISBLANK(Responses!T292), \"\", Responses!T292)","v":""}]
[{"$f":"IF(ISBLANK(Responses!A293), \"\", Responses!A293)","v":""},{"$f":"IF(ISBLANK(Responses!B293), \"\", Responses!B293)","v":""},{"$f":"IF(ISBLANK(Responses!N293), \"\", Responses!N293)","v":""},{"$f":"IF(ISBLANK(Responses!O293), \"\", Responses!O293)","v":""},{"$f":"IF(ISBLANK(Responses!P293), \"\", Responses!P293)","v":""},{"$f":"IF(ISBLANK(Responses!Q293), \"\", Responses!Q293)","v":""},{"$f":"IF(ISBLANK(Responses!R293), \"\", Responses!R293)","v":""},{"$f":"IF(ISBLANK(Responses!S293), \"\", Responses!S293)","v":""},{"$f":"IF(ISBLANK(Responses!T293), \"\", Responses!T293)","v":""}]
[{"$f":"IF(ISBLANK(Responses!A294), \"\", Responses!A294)","v":""},{"$f":"IF(ISBLANK(Responses!B294), \"\", Responses!B294)","v":""},{"$f":"IF(ISBLANK(Responses!N294), \"\", Responses!N294)","v":""},{"$f":"IF(ISBLANK(Responses!O294), \"\", Responses!O294)","v":""},{"$f":"IF(ISBLANK(Responses!P294), \"\", Responses!P294)","v":""},{"$f":"IF(ISBLANK(Responses!Q294), \"\", Responses!Q294)","v":""},{"$f":"IF(ISBLANK(Responses!R294), \"\", Responses!R294)","v":""},{"$f":"IF(ISBLANK(Responses!S294), \"\", Responses!S294)","v":""},{"$f":"IF(ISBLANK(Responses!T294), \"\", Responses!T294)","v":""}]
[{"$f":"IF(ISBLANK(Responses!A295), \"\", Responses!A295)","v":""},{"$f":"IF(ISBLANK(Responses!B295), \"\", Responses!B295)","v":""},{"$f":"IF(ISBLANK(Responses!N295), \"\", Responses!N295)","v":""},{"$f":"IF(ISBLANK(Responses!O295), \"\", Responses!O295)","v":""},{"$f":"IF(ISBLANK(Responses!P295), \"\", Responses!P295)","v":""},{"$f":"IF(ISBLANK(Responses!Q295), \"\", Responses!Q295)","v":""},{"$f":"IF(ISBLANK(Responses!R295), \"\", Responses!R295)","v":""},{"$f":"IF(ISBLANK(Responses!S295), \"\", Responses!S295)","v":""},{"$f":"IF(ISBLANK(Responses!T295), \"\", Responses!T295)","v":""}]
[{"$f":"IF(ISBLANK(Responses!A296), \"\", Responses!A296)","v":""},{"$f":"IF(ISBLANK(Responses!B296), \"\", Responses!B296)","v":""},{"$f":"IF(ISBLANK(Responses!N296), \"\", Responses!N296)","v":""},{"$f":"IF(ISBLANK(Responses!O296), \"\", Responses!O296)","v":""},{"$f":"IF(ISBLANK(Responses!P296), \"\", Responses!P296)","v":""},{"$f":"IF(ISBLANK(Responses!Q296), \"\", Responses!Q296)","v":""},{"$f":"IF(ISBLANK(Responses!R296), \"\", Responses!R296)","v":""},{"$f":"IF(ISBLANK(Responses!S296), \"\", Responses!S296)","v":""},{"$f":"IF(ISBLANK(Responses!T296), \"\", Responses!T296)","v":""}]
[{"$f":"IF(ISBLANK(Responses!A297), \"\", Responses!A297)","v":""},{"$f":"IF(ISBLANK(Responses!B297), \"\", Responses!B297)","v":""},{"$f":"IF(ISBLANK(Responses!N297), \"\", Responses!N297)","v":""},{"$f":"IF(ISBLANK(Responses!O297), \"\", Responses!O297)","v":""},{"$f":"IF(ISBLANK(Responses!P297), \"\", Responses!P297)","v":""},{"$f":"IF(ISBLANK(Responses!Q297), \"\", Responses!Q297)","v":""},{"$f":"IF(ISBLANK(Responses!R297), \"\", Responses!R297)","v":""},{"$f":"IF(ISBLANK(Responses!S297), \"\", Responses!S297)","v":""},{"$f":"IF(ISBLANK(Responses!T297), \"\", Responses!T297)","v":""}]
[{"$f":"IF(ISBLANK(Responses!A298), \"\", Responses!A298)","v":""},{"$f":"IF(ISBLANK(Responses!B298), \"\", Responses!B298)","v":""},{"$f":"IF(ISBLANK(Responses!N298), \"\", Responses!N298)","v":""},{"$f":"IF(ISBLANK(Responses!O298), \"\", Responses!O298)","v":""},{"$f":"IF(ISBLANK(Responses!P298), \"\", Responses!P298)","v":""},{"$f":"IF(ISBLANK(Responses!Q298), \"\", Responses!Q298)","v":""},{"$f":"IF(ISBLANK(Responses!R298), \"\", Responses!R298)","v":""},{"$f":"IF(ISBLANK(Responses!S298), \"\", Responses!S298)","v":""},{"$f":"IF(ISBLANK(Responses!T298), \"\", Responses!T298)","v":""}]
[{"$f":"IF(ISBLANK(Responses!A299), \"\", Responses!A299)","v":""},{"$f":"IF(ISBLANK(Responses!B299), \"\", Responses!B299)","v":""},{"$f":"IF(ISBLANK(Responses!N299), \"\", Responses!N299)","v":""},{"$f":"IF(ISBLANK(Responses!O299), \"\", Responses!O299)","v":""},{"$f":"IF(ISBLANK(Responses!P299), \"\", Responses!P299)","v":""},{"$f":"IF(ISBLANK(Responses!Q299), \"\", Responses!Q299)","v":""},{"$f":"IF(ISBLANK(Responses!R299), \"\", Responses!R299)","v":""},{"$f":"IF(ISBLANK(Responses!S299), \"\", Responses!S299)","v":""},{"$f":"IF(ISBLANK(Responses!T299), \"\", Responses!T299)","v":""}]
[{"$f":"IF(ISBLANK(Responses!A300), \"\", Responses!A300)","v":""},{"$f":"IF(ISBLANK(Responses!B300), \"\", Responses!B300)","v":""},{"$f":"IF(ISBLANK(Responses!N300), \"\", Responses!N300)","v":""},{"$f":"IF(ISBLANK(Responses!O300), \"\", Responses!O300)","v":""},{"$f":"IF(ISBLANK(Responses!P300), \"\", Responses!P300)","v":""},{"$f":"IF(ISBLANK(Responses!Q300), \"\", Responses!Q300)","v":""},{"$f":"IF(ISBLANK(Responses!R300), \"\", Responses!R300)","v":""},{"$f":"IF(ISBLANK(Responses!S300), \"\", Responses!S300)","v":""},{"$f":"IF(ISBLANK(Responses!T300), \"\", Responses!T300)","v":""}]
[{"$f":"IF(ISBLANK(Responses!A301), \"\", Responses!A301)","v":""},{"$f":"IF(ISBLANK(Responses!B301), \"\", Responses!B301)","v":""},{"$f":"IF(ISBLANK(Responses!N301), \"\", Responses!N301)","v":""},{"$f":"IF(ISBLANK(Responses!O301), \"\", Responses!O301)","v":""},{"$f":"IF(ISBLANK(Responses!P301), \"\", Responses!P301)","v":""},{"$f":"IF(ISBLANK(Responses!Q301), \"\", Responses!Q301)","v":""},{"$f":"IF(ISBLANK(Responses!R301), \"\", Responses!R301)","v":""},{"$f":"IF(ISBLANK(Responses!S301), \"\", Responses!S301)","v":""},{"$f":"IF(ISBLANK(Responses!T301), \"\", Responses!T301)","v":""}]
[{"$f":"IF(ISBLANK(Responses!A302), \"\", Responses!A302)","v":""},{"$f":"IF(ISBLANK(Responses!B302), \"\", Responses!B302)","v":""},{"$f":"IF(ISBLANK(Responses!N302), \"\", Responses!N302)","v":""},{"$f":"IF(ISBLANK(Responses!O302), \"\", Responses!O302)","v":""},{"$f":"IF(ISBLANK(Responses!P302), \"\", Responses!P302)","v":""},{"$f":"IF(ISBLANK(Responses!Q302), \"\", Responses!Q302)","v":""},{"$f":"IF(ISBLANK(Responses!R302), \"\", Responses!R302)","v":""},{"$f":"IF(ISBLANK(Responses!S302), \"\", Responses!S302)","v":""},{"$f":"IF(ISBLANK(Responses!T302), \"\", Responses!T302)","v":""}]
[{"$f":"IF(ISBLANK(Responses!A303), \"\", Responses!A303)","v":""},{"$f":"IF(ISBLANK(Responses!B303), \"\", Responses!B303)","v":""},{"$f":"IF(ISBLANK(Responses!N303), \"\", Responses!N303)","v":""},{"$f":"IF(ISBLANK(Responses!O303), \"\", Responses!O303)","v":""},{"$f":"IF(ISBLANK(Responses!P303), \"\", Responses!P303)","v":""},{"$f":"IF(ISBLANK(Responses!Q303), \"\", Responses!Q303)","v":""},{"$f":"IF(ISBLANK(Responses!R303), \"\", Responses!R303)","v":""},{"$f":"IF(ISBLANK(Responses!S303), \"\", Responses!S303)","v":""},{"$f":"IF(ISBLANK(Responses!T303), \"\", Responses!T303)","v":""}]
[{"$f":"IF(ISBLANK(Responses!A304), \"\", Responses!A304)","v":""},{"$f":"IF(ISBLANK(Responses!B304), \"\", Responses!B304)","v":""},{"$f":"IF(ISBLANK(Responses!N304), \"\", Responses!N304)","v":""},{"$f":"IF(ISBLANK(Responses!O304), \"\", Responses!O304)","v":""},{"$f":"IF(ISBLANK(Responses!P304), \"\", Responses!P304)","v":""},{"$f":"IF(ISBLANK(Responses!Q304), \"\", Responses!Q304)","v":""},{"$f":"IF(ISBLANK(Responses!R304), \"\", Responses!R304)","v":""},{"$f":"IF(ISBLANK(Responses!S304), \"\", Responses!S304)","v":""},{"$f":"IF(ISBLANK(Responses!T304), \"\", Responses!T304)","v":""}]
[{"$f":"IF(ISBLANK(Responses!A305), \"\", Responses!A305)","v":""},{"$f":"IF(ISBLANK(Responses!B305), \"\", Responses!B305)","v":""},{"$f":"IF(ISBLANK(Responses!N305), \"\", Responses!N305)","v":""},{"$f":"IF(ISBLANK(Responses!O305), \"\", Responses!O305)","v":""},{"$f":"IF(ISBLANK(Responses!P305), \"\", Responses!P305)","v":""},{"$f":"IF(ISBLANK(Responses!Q305), \"\", Responses!Q305)","v":""},{"$f":"IF(ISBLANK(Responses!R305), \"\", Responses!R305)","v":""},{"$f":"IF(ISBLANK(Responses!S305), \"\", Responses!S305)","v":""},{"$f":"IF(ISBLANK(Responses!T305), \"\", Responses!T305)","v":""}]
[{"$f":"IF(ISBLANK(Responses!A306), \"\", Responses!A306)","v":""},{"$f":"IF(ISBLANK(Responses!B306), \"\", Responses!B306)","v":""},{"$f":"IF(ISBLANK(Responses!N306), \"\", Responses!N306)","v":""},{"$f":"IF(ISBLANK(Responses!O306), \"\", Responses!O306)","v":""},{"$f":"IF(ISBLANK(Responses!P306), \"\", Responses!P306)","v":""},{"$f":"IF(ISBLANK(Responses!Q306), \"\", Responses!Q306)","v":""},{"$f":"IF(ISBLANK(Responses!R306), \"\", Responses!R306)","v":""},{"$f":"IF(ISBLANK(Responses!S306), \"\", Responses!S306)","v":""},{"$f":"IF(ISBLANK(Responses!T306), \"\", Responses!T306)","v":""}]
[{"$f":"IF(ISBLANK(Responses!A307), \"\", Responses!A307)","v":""},{"$f":"IF(ISBLANK(Responses!B307), \"\", Responses!B307)","v":""},{"$f":"IF(ISBLANK(Responses!N307), \"\", Responses!N307)","v":""},{"$f":"IF(ISBLANK(Responses!O307), \"\", Responses!O307)","v":""},{"$f":"IF(ISBLANK(Responses!P307), \"\", Responses!P307)","v":""},{"$f":"IF(ISBLANK(Responses!Q307), \"\", Responses!Q307)","v":""},{"$f":"IF(ISBLANK(Responses!R307), \"\", Responses!R307)","v":""},{"$f":"IF(ISBLANK(Responses!S307), \"\", Responses!S307)","v":""},{"$f":"IF(ISBLANK(Responses!T307), \"\", Responses!T307)","v":""}]
[{"$f":"IF(ISBLANK(Responses!A308), \"\", Responses!A308)","v":""},{"$f":"IF(ISBLANK(Responses!B308), \"\", Responses!B308)","v":""},{"$f":"IF(ISBLANK(Responses!N308), \"\", Responses!N308)","v":""},{"$f":"IF(ISBLANK(Responses!O308), \"\", Responses!O308)","v":""},{"$f":"IF(ISBLANK(Responses!P308), \"\", Responses!P308)","v":""},{"$f":"IF(ISBLANK(Responses!Q308), \"\", Responses!Q308)","v":""},{"$f":"IF(ISBLANK(Responses!R308), \"\", Responses!R308)","v":""},{"$f":"IF(ISBLANK(Responses!S308), \"\", Responses!S308)","v":""},{"$f":"IF(ISBLANK(Responses!T308), \"\", Responses!T308)","v":""}]
[{"$f":"IF(ISBLANK(Responses!A309), \"\", Responses!A309)","v":""},{"$f":"IF(ISBLANK(Responses!B309), \"\", Responses!B309)","v":""},{"$f":"IF(ISBLANK(Responses!N309), \"\", Responses!N309)","v":""},{"$f":"IF(ISBLANK(Responses!O309), \"\", Responses!O309)","v":""},{"$f":"IF(ISBLANK(Responses!P309), \"\", Responses!P309)","v":""},{"$f":"IF(ISBLANK(Responses!Q309), \"\", Responses!Q309)","v":""},{"$f":"IF(ISBLANK(Responses!R309), \"\", Responses!R309)","v":""},{"$f":"IF(ISBLANK(Responses!S309), \"\", Responses!S309)","v":""},{"$f":"IF(ISBLANK(Responses!T309), \"\", Responses!T309)","v":""}]
[{"$f":"IF(ISBLANK(Responses!A310), \"\", Responses!A310)","v":""},{"$f":"IF(ISBLANK(Responses!B310), \"\", Responses!B310)","v":""},{"$f":"IF(ISBLANK(Responses!N310), \"\", Responses!N310)","v":""},{"$f":"IF(ISBLANK(Responses!O310), \"\", Responses!O310)","v":""},{"$f":"IF(ISBLANK(Responses!P310), \"\", Responses!P310)","v":""},{"$f":"IF(ISBLANK(Responses!Q310), \"\", Responses!Q310)","v":""},{"$f":"IF(ISBLANK(Responses!R310), \"\", Responses!R310)","v":""},{"$f":"IF(ISBLANK(Responses!S310), \"\", Responses!S310)","v":""},{"$f":"IF(ISBLANK(Responses!T310), \"\", Responses!T310)","v":""}]
[{"$f":"IF(ISBLANK(Responses!A311), \"\", Responses!A311)","v":""},{"$f":"IF(ISBLANK(Responses!B311), \"\", Responses!B311)","v":""},{"$f":"IF(ISBLANK(Responses!N311), \"\", Responses!N311)","v":""},{"$f":"IF(ISBLANK(Responses!O311), \"\", Responses!O311)","v":""},{"$f":"IF(ISBLANK(Responses!P311), \"\", Responses!P311)","v":""},{"$f":"IF(ISBLANK(Responses!Q311), \"\", Responses!Q311)","v":""},{"$f":"IF(ISBLANK(Responses!R311), \"\", Responses!R311)","v":""},{"$f":"IF(ISBLANK(Responses!S311), \"\", Responses!S311)","v":""},{"$f":"IF(ISBLANK(Responses!T311), \"\", Responses!T311)","v":""}]
[{"$f":"IF(ISBLANK(Responses!A312), \"\", Responses!A312)","v":""},{"$f":"IF(ISBLANK(Responses!B312), \"\", Responses!B312)","v":""},{"$f":"IF(ISBLANK(Responses!N312), \"\", Responses!N312)","v":""},{"$f":"IF(ISBLANK(Responses!O312), \"\", Responses!O312)","v":""},{"$f":"IF(ISBLANK(Responses!P312), \"\", Responses!P312)","v":""},{"$f":"IF(ISBLANK(Responses!Q312), \"\", Responses!Q312)","v":""},{"$f":"IF(ISBLANK(Responses!R312), \"\", Responses!R312)","v":""},{"$f":"IF(ISBLANK(Responses!S312), \"\", Responses!S312)","v":""},{"$f":"IF(ISBLANK(Responses!T312), \"\", Responses!T312)","v":""}]
[{"$f":"IF(ISBLANK(Responses!A313), \"\", Responses!A313)","v":""},{"$f":"IF(ISBLANK(Responses!B313), \"\", Responses!B313)","v":""},{"$f":"IF(ISBLANK(Responses!N313), \"\", Responses!N313)","v":""},{"$f":"IF(ISBLANK(Responses!O313), \"\", Responses!O313)","v":""},{"$f":"IF(ISBLANK(Responses!P313), \"\", Responses!P313)","v":""},{"$f":"IF(ISBLANK(Responses!Q313), \"\", Responses!Q313)","v":""},{"$f":"IF(ISBLANK(Responses!R313), \"\", Responses!R313)","v":""},{"$f":"IF(ISBLANK(Responses!S313), \"\", Responses!S313)","v":""},{"$f":"IF(ISBLANK(Responses!T313), \"\", Responses!T313)","v":""}]
[{"$f":"IF(ISBLANK(Responses!A314), \"\", Responses!A314)","v":""},{"$f":"IF(ISBLANK(Responses!B314), \"\", Responses!B314)","v":""},{"$f":"IF(ISBLANK(Responses!N314), \"\", Responses!N314)","v":""},{"$f":"IF(ISBLANK(Responses!O314), \"\", Responses!O314)","v":""},{"$f":"IF(ISBLANK(Responses!P314), \"\", Responses!P314)","v":""},{"$f":"IF(ISBLANK(Responses!Q314), \"\", Responses!Q314)","v":""},{"$f":"IF(ISBLANK(Responses!R314), \"\", Responses!R314)","v":""},{"$f":"IF(ISBLANK(Responses!S314), \"\", Responses!S314)","v":""},{"$f":"IF(ISBLANK(Responses!T314), \"\", Responses!T314)","v":""}]
[{"$f":"IF(ISBLANK(Responses!A315), \"\", Responses!A315)","v":""},{"$f":"IF(ISBLANK(Responses!B315), \"\", Responses!B315)","v":""},{"$f":"IF(ISBLANK(Responses!N315), \"\", Responses!N315)","v":""},{"$f":"IF(ISBLANK(Responses!O315), \"\", Responses!O315)","v":""},{"$f":"IF(ISBLANK(Responses!P315), \"\", Responses!P315)","v":""},{"$f":"IF(ISBLANK(Responses!Q315), \"\", Responses!Q315)","v":""},{"$f":"IF(ISBLANK(Responses!R315), \"\", Responses!R315)","v":""},{"$f":"IF(ISBLANK(Responses!S315), \"\", Responses!S315)","v":""},{"$f":"IF(ISBLANK(Responses!T315), \"\", Responses!T315)","v":""}]
[{"$f":"IF(ISBLANK(Responses!A316), \"\", Responses!A316)","v":""},{"$f":"IF(ISBLANK(Responses!B316), \"\", Responses!B316)","v":""},{"$f":"IF(ISBLANK(Responses!N316), \"\", Responses!N316)","v":""},{"$f":"IF(ISBLANK(Responses!O316), \"\", Responses!O316)","v":""},{"$f":"IF(ISBLANK(Responses!P316), \"\", Responses!P316)","v":""},{"$f":"IF(ISBLANK(Responses!Q316), \"\", Responses!Q316)","v":""},{"$f":"IF(ISBLANK(Responses!R316), \"\", Responses!R316)","v":""},{"$f":"IF(ISBLANK(Responses!S316), \"\", Responses!S316)","v":""},{"$f":"IF(ISBLANK(Responses!T316), \"\", Responses!T316)","v":""}]
[{"$f":"IF(ISBLANK(Responses!A317), \"\", Responses!A317)","v":""},{"$f":"IF(ISBLANK(Responses!B317), \"\", Responses!B317)","v":""},{"$f":"IF(ISBLANK(Responses!N317), \"\", Responses!N317)","v":""},{"$f":"IF(ISBLANK(Responses!O317), \"\", Responses!O317)","v":""},{"$f":"IF(ISBLANK(Responses!P317), \"\", Responses!P317)","v":""},{"$f":"IF(ISBLANK(Responses!Q317), \"\", Responses!Q317)","v":""},{"$f":"IF(ISBLANK(Responses!R317), \"\", Responses!R317)","v":""},{"$f":"IF(ISBLANK(Responses!S317), \"\", Responses!S317)","v":""},{"$f":"IF(ISBLANK(Responses!T317), \"\", Responses!T317)","v":""}]
[{"$f":"IF(ISBLANK(Responses!A318), \"\", Responses!A318)","v":""},{"$f":"IF(ISBLANK(Responses!B318), \"\", Responses!B318)","v":""},{"$f":"IF(ISBLANK(Responses!N318), \"\", Responses!N318)","v":""},{"$f":"IF(ISBLANK(Responses!O318), \"\", Responses!O318)","v":""},{"$f":"IF(ISBLANK(Responses!P318), \"\", Responses!P318)","v":""},{"$f":"IF(ISBLANK(Responses!Q318), \"\", Responses!Q318)","v":""},{"$f":"IF(ISBLANK(Responses!R318), \"\", Responses!R318)","v":""},{"$f":"IF(ISBLANK(Responses!S318), \"\", Responses!S318)","v":""},{"$f":"IF(ISBLANK(Responses!T318), \"\", Responses!T318)","v":""}]
[{"$f":"IF(ISBLANK(Responses!A319), \"\", Responses!A319)","v":""},{"$f":"IF(ISBLANK(Responses!B319), \"\", Responses!B319)","v":""},{"$f":"IF(ISBLANK(Responses!N319), \"\", Responses!N319)","v":""},{"$f":"IF(ISBLANK(Responses!O319), \"\", Responses!O319)","v":""},{"$f":"IF(ISBLANK(Responses!P319), \"\", Responses!P319)","v":""},{"$f":"IF(ISBLANK(Responses!Q319), \"\", Responses!Q319)","v":""},{"$f":"IF(ISBLANK(Responses!R319), \"\", Responses!R319)","v":""},{"$f":"IF(ISBLANK(Responses!S319), \"\", Responses!S319)","v":""},{"$f":"IF(ISBLANK(Responses!T319), \"\", Responses!T319)","v":""}]
[{"$f":"IF(ISBLANK(Responses!A320), \"\", Responses!A320)","v":""},{"$f":"IF(ISBLANK(Responses!B320), \"\", Responses!B320)","v":""},{"$f":"IF(ISBLANK(Responses!N320), \"\", Responses!N320)","v":""},{"$f":"IF(ISBLANK(Responses!O320), \"\", Responses!O320)","v":""},{"$f":"IF(ISBLANK(Responses!P320), \"\", Responses!P320)","v":""},{"$f":"IF(ISBLANK(Responses!Q320), \"\", Responses!Q320)","v":""},{"$f":"IF(ISBLANK(Responses!R320), \"\", Responses!R320)","v":""},{"$f":"IF(ISBLANK(Responses!S320), \"\", Responses!S320)","v":""},{"$f":"IF(ISBLANK(Responses!T320), \"\", Responses!T320)","v":""}]
[{"$f":"IF(ISBLANK(Responses!A321), \"\", Responses!A321)","v":""},{"$f":"IF(ISBLANK(Responses!B321), \"\", Responses!B321)","v":""},{"$f":"IF(ISBLANK(Responses!N321), \"\", Responses!N321)","v":""},{"$f":"IF(ISBLANK(Responses!O321), \"\", Responses!O321)","v":""},{"$f":"IF(ISBLANK(Responses!P321), \"\", Responses!P321)","v":""},{"$f":"IF(ISBLANK(Responses!Q321), \"\", Responses!Q321)","v":""},{"$f":"IF(ISBLANK(Responses!R321), \"\", Responses!R321)","v":""},{"$f":"IF(ISBLANK(Responses!S321), \"\", Responses!S321)","v":""},{"$f":"IF(ISBLANK(Responses!T321), \"\", Responses!T321)","v":""}]
[{"$f":"IF(ISBLANK(Responses!A322), \"\", Responses!A322)","v":""},{"$f":"IF(ISBLANK(Responses!B322), \"\", Responses!B322)","v":""},{"$f":"IF(ISBLANK(Responses!N322), \"\", Responses!N322)","v":""},{"$f":"IF(ISBLANK(Responses!O322), \"\", Responses!O322)","v":""},{"$f":"IF(ISBLANK(Responses!P322), \"\", Responses!P322)","v":""},{"$f":"IF(ISBLANK(Responses!Q322), \"\", Responses!Q322)","v":""},{"$f":"IF(ISBLANK(Responses!R322), \"\", Responses!R322)","v":""},{"$f":"IF(ISBLANK(Responses!S322), \"\", Responses!S322)","v":""},{"$f":"IF(ISBLANK(Responses!T322), \"\", Responses!T322)","v":""}]
[{"$f":"IF(ISBLANK(Responses!A323), \"\", Responses!A323)","v":""},{"$f":"IF(ISBLANK(Responses!B323), \"\", Responses!B323)","v":""},{"$f":"IF(ISBLANK(Responses!N323), \"\", Responses!N323)","v":""},{"$f":"IF(ISBLANK(Responses!O323), \"\", Responses!O323)","v":""},{"$f":"IF(ISBLANK(Responses!P323), \"\", Responses!P323)","v":""},{"$f":"IF(ISBLANK(Responses!Q323), \"\", Responses!Q323)","v":""},{"$f":"IF(ISBLANK(Responses!R323), \"\", Responses!R323)","v":""},{"$f":"IF(ISBLANK(Responses!S323), \"\", Responses!S323)","v":""},{"$f":"IF(ISBLANK(Responses!T323), \"\", Responses!T323)","v":""}]
[{"$f":"IF(ISBLANK(Responses!A324), \"\", Responses!A324)","v":""},{"$f":"IF(ISBLANK(Responses!B324), \"\", Responses!B324)","v":""},{"$f":"IF(ISBLANK(Responses!N324), \"\", Responses!N324)","v":""},{"$f":"IF(ISBLANK(Responses!O324), \"\", Responses!O324)","v":""},{"$f":"IF(ISBLANK(Responses!P324), \"\", Responses!P324)","v":""},{"$f":"IF(ISBLANK(Responses!Q324), \"\", Responses!Q324)","v":""},{"$f":"IF(ISBLANK(Responses!R324), \"\", Responses!R324)","v":""},{"$f":"IF(ISBLANK(Responses!S324), \"\", Responses!S324)","v":""},{"$f":"IF(ISBLANK(Responses!T324), \"\", Responses!T324)","v":""}]
[{"$f":"IF(ISBLANK(Responses!A325), \"\", Responses!A325)","v":""},{"$f":"IF(ISBLANK(Responses!B325), \"\", Responses!B325)","v":""},{"$f":"IF(ISBLANK(Responses!N325), \"\", Responses!N325)","v":""},{"$f":"IF(ISBLANK(Responses!O325), \"\", Responses!O325)","v":""},{"$f":"IF(ISBLANK(Responses!P325), \"\", Responses!P325)","v":""},{"$f":"IF(ISBLANK(Responses!Q325), \"\", Responses!Q325)","v":""},{"$f":"IF(ISBLANK(Responses!R325), \"\", Responses!R325)","v":""},{"$f":"IF(ISBLANK(Responses!S325), \"\", Responses!S325)","v":""},{"$f":"IF(ISBLANK(Responses!T325), \"\", Responses!T325)","v":""}]
[{"$f":"IF(ISBLANK(Responses!A326), \"\", Responses!A326)","v":""},{"$f":"IF(ISBLANK(Responses!B326), \"\", Responses!B326)","v":""},{"$f":"IF(ISBLANK(Responses!N326), \"\", Responses!N326)","v":""},{"$f":"IF(ISBLANK(Responses!O326), \"\", Responses!O326)","v":""},{"$f":"IF(ISBLANK(Responses!P326), \"\", Responses!P326)","v":""},{"$f":"IF(ISBLANK(Responses!Q326), \"\", Responses!Q326)","v":""},{"$f":"IF(ISBLANK(Responses!R326), \"\", Responses!R326)","v":""},{"$f":"IF(ISBLANK(Responses!S326), \"\", Responses!S326)","v":""},{"$f":"IF(ISBLANK(Responses!T326), \"\", Responses!T326)","v":""}]
[{"$f":"IF(ISBLANK(Responses!A327), \"\", Responses!A327)","v":""},{"$f":"IF(ISBLANK(Responses!B327), \"\", Responses!B327)","v":""},{"$f":"IF(ISBLANK(Responses!N327), \"\", Responses!N327)","v":""},{"$f":"IF(ISBLANK(Responses!O327), \"\", Responses!O327)","v":""},{"$f":"IF(ISBLANK(Responses!P327), \"\", Responses!P327)","v":""},{"$f":"IF(ISBLANK(Responses!Q327), \"\", Responses!Q327)","v":""},{"$f":"IF(ISBLANK(Responses!R327), \"\", Responses!R327)","v":""},{"$f":"IF(ISBLANK(Responses!S327), \"\", Responses!S327)","v":""},{"$f":"IF(ISBLANK(Responses!T327), \"\", Responses!T327)","v":""}]
[{"$f":"IF(ISBLANK(Responses!A328), \"\", Responses!A328)","v":""},{"$f":"IF(ISBLANK(Responses!B328), \"\", Responses!B328)","v":""},{"$f":"IF(ISBLANK(Responses!N328), \"\", Responses!N328)","v":""},{"$f":"IF(ISBLANK(Responses!O328), \"\", Responses!O328)","v":""},{"$f":"IF(ISBLANK(Responses!P328), \"\", Responses!P328)","v":""},{"$f":"IF(ISBLANK(Responses!Q328), \"\", Responses!Q328)","v":""},{"$f":"IF(ISBLANK(Responses!R328), \"\", Responses!R328)","v":""},{"$f":"IF(ISBLANK(Responses!S328), \"\", Responses!S328)","v":""},{"$f":"IF(ISBLANK(Responses!T328), \"\", Responses!T328)","v":""}]
[{"$f":"IF(ISBLANK(Responses!A329), \"\", Responses!A329)","v":""},{"$f":"IF(ISBLANK(Responses!B329), \"\", Responses!B329)","v":""},{"$f":"IF(ISBLANK(Responses!N329), \"\", Responses!N329)","v":""},{"$f":"IF(ISBLANK(Responses!O329), \"\", Responses!O329)","v":""},{"$f":"IF(ISBLANK(Responses!P329), \"\", Responses!P329)","v":""},{"$f":"IF(ISBLANK(Responses!Q329), \"\", Responses!Q329)","v":""},{"$f":"IF(ISBLANK(Responses!R329), \"\", Responses!R329)","v":""},{"$f":"IF(ISBLANK(Responses!S329), \"\", Responses!S329)","v":""},{"$f":"IF(ISBLANK(Responses!T329), \"\", Responses!T329)","v":""}]
[{"$f":"IF(ISBLANK(Responses!A330), \"\", Responses!A330)","v":""},{"$f":"IF(ISBLANK(Responses!B330), \"\", Responses!B330)","v":""},{"$f":"IF(ISBLANK(Responses!N330), \"\", Responses!N330)","v":""},{"$f":"IF(ISBLANK(Responses!O330), \"\", Responses!O330)","v":""},{"$f":"IF(ISBLANK(Responses!P330), \"\", Responses!P330)","v":""},{"$f":"IF(ISBLANK(Responses!Q330), \"\", Responses!Q330)","v":""},{"$f":"IF(ISBLANK(Responses!R330), \"\", Responses!R330)","v":""},{"$f":"IF(ISBLANK(Responses!S330), \"\", Responses!S330)","v":""},{"$f":"IF(ISBLANK(Responses!T330), \"\", Responses!T330)","v":""}]
[{"$f":"IF(ISBLANK(Responses!A331), \"\", Responses!A331)","v":""},{"$f":"IF(ISBLANK(Responses!B331), \"\", Responses!B331)","v":""},{"$f":"IF(ISBLANK(Responses!N331), \"\", Responses!N331)","v":""},{"$f":"IF(ISBLANK(Responses!O331), \"\", Responses!O331)","v":""},{"$f":"IF(ISBLANK(Responses!P331), \"\", Responses!P331)","v":""},{"$f":"IF(ISBLANK(Responses!Q331), \"\", Responses!Q331)","v":""},{"$f":"IF(ISBLANK(Responses!R331), \"\", Responses!R331)","v":""},{"$f":"IF(ISBLANK(Responses!S331), \"\", Responses!S331)","v":""},{"$f":"IF(ISBLANK(Responses!T331), \"\", Responses!T331)","v":""}]
[{"$f":"IF(ISBLANK(Responses!A332), \"\", Responses!A332)","v":""},{"$f":"IF(ISBLANK(Responses!B332), \"\", Responses!B332)","v":""},{"$f":"IF(ISBLANK(Responses!N332), \"\", Responses!N332)","v":""},{"$f":"IF(ISBLANK(Responses!O332), \"\", Responses!O332)","v":""},{"$f":"IF(ISBLANK(Responses!P332), \"\", Responses!P332)","v":""},{"$f":"IF(ISBLANK(Responses!Q332), \"\", Responses!Q332)","v":""},{"$f":"IF(ISBLANK(Responses!R332), \"\", Responses!R332)","v":""},{"$f":"IF(ISBLANK(Responses!S332), \"\", Responses!S332)","v":""},{"$f":"IF(ISBLANK(Responses!T332), \"\", Responses!T332)","v":""}]
[{"$f":"IF(ISBLANK(Responses!A333), \"\", Responses!A333)","v":""},{"$f":"IF(ISBLANK(Responses!B333), \"\", Responses!B333)","v":""},{"$f":"IF(ISBLANK(Responses!N333), \"\", Responses!N333)","v":""},{"$f":"IF(ISBLANK(Responses!O333), \"\", Responses!O333)","v":""},{"$f":"IF(ISBLANK(Responses!P333), \"\", Responses!P333)","v":""},{"$f":"IF(ISBLANK(Responses!Q333), \"\", Responses!Q333)","v":""},{"$f":"IF(ISBLANK(Responses!R333), \"\", Responses!R333)","v":""},{"$f":"IF(ISBLANK(Responses!S333), \"\", Responses!S333)","v":""},{"$f":"IF(ISBLANK(Responses!T333), \"\", Responses!T333)","v":""}]
[{"$f":"IF(ISBLANK(Responses!A334), \"\", Responses!A334)","v":""},{"$f":"IF(ISBLANK(Responses!B334), \"\", Responses!B334)","v":""},{"$f":"IF(ISBLANK(Responses!N334), \"\", Responses!N334)","v":""},{"$f":"IF(ISBLANK(Responses!O334), \"\", Responses!O334)","v":""},{"$f":"IF(ISBLANK(Responses!P334), \"\", Responses!P334)","v":""},{"$f":"IF(ISBLANK(Responses!Q334), \"\", Responses!Q334)","v":""},{"$f":"IF(ISBLANK(Responses!R334), \"\", Responses!R334)","v":""},{"$f":"IF(ISBLANK(Responses!S334), \"\", Responses!S334)","v":""},{"$f":"IF(ISBLANK(Responses!T334), \"\", Responses!T334)","v":""}]
[{"$f":"IF(ISBLANK(Responses!A335), \"\", Responses!A335)","v":""},{"$f":"IF(ISBLANK(Responses!B335), \"\", Responses!B335)","v":""},{"$f":"IF(ISBLANK(Responses!N335), \"\", Responses!N335)","v":""},{"$f":"IF(ISBLANK(Responses!O335), \"\", Responses!O335)","v":""},{"$f":"IF(ISBLANK(Responses!P335), \"\", Responses!P335)","v":""},{"$f":"IF(ISBLANK(Responses!Q335), \"\", Responses!Q335)","v":""},{"$f":"IF(ISBLANK(Responses!R335), \"\", Responses!R335)","v":""},{"$f":"IF(ISBLANK(Responses!S335), \"\", Responses!S335)","v":""},{"$f":"IF(ISBLANK(Responses!T335), \"\", Responses!T335)","v":""}]
[{"$f":"IF(ISBLANK(Responses!A336), \"\", Responses!A336)","v":""},{"$f":"IF(ISBLANK(Responses!B336), \"\", Responses!B336)","v":""},{"$f":"IF(ISBLANK(Responses!N336), \"\", Responses!N336)","v":""},{"$f":"IF(ISBLANK(Responses!O336), \"\", Responses!O336)","v":""},{"$f":"IF(ISBLANK(Responses!P336), \"\", Responses!P336)","v":""},{"$f":"IF(ISBLANK(Responses!Q336), \"\", Responses!Q336)","v":""},{"$f":"IF(ISBLANK(Responses!R336), \"\", Responses!R336)","v":""},{"$f":"IF(ISBLANK(Responses!S336), \"\", Responses!S336)","v":""},{"$f":"IF(ISBLANK(Responses!T336), \"\", Responses!T336)","v":""}]
[{"$f":"IF(ISBLANK(Responses!A337), \"\", Responses!A337)","v":""},{"$f":"IF(ISBLANK(Responses!B337), \"\", Responses!B337)","v":""},{"$f":"IF(ISBLANK(Responses!N337), \"\", Responses!N337)","v":""},{"$f":"IF(ISBLANK(Responses!O337), \"\", Responses!O337)","v":""},{"$f":"IF(ISBLANK(Responses!P337), \"\", Responses!P337)","v":""},{"$f":"IF(ISBLANK(Responses!Q337), \"\", Responses!Q337)","v":""},{"$f":"IF(ISBLANK(Responses!R337), \"\", Responses!R337)","v":""},{"$f":"IF(ISBLANK(Responses!S337), \"\", Responses!S337)","v":""},{"$f":"IF(ISBLANK(Responses!T337), \"\", Responses!T337)","v":""}]
[{"$f":"IF(ISBLANK(Responses!A338), \"\", Responses!A338)","v":""},{"$f":"IF(ISBLANK(Responses!B338), \"\", Responses!B338)","v":""},{"$f":"IF(ISBLANK(Responses!N338), \"\", Responses!N338)","v":""},{"$f":"IF(ISBLANK(Responses!O338), \"\", Responses!O338)","v":""},{"$f":"IF(ISBLANK(Responses!P338), \"\", Responses!P338)","v":""},{"$f":"IF(ISBLANK(Responses!Q338), \"\", Responses!Q338)","v":""},{"$f":"IF(ISBLANK(Responses!R338), \"\", Responses!R338)","v":""},{"$f":"IF(ISBLANK(Responses!S338), \"\", Responses!S338)","v":""},{"$f":"IF(ISBLANK(Responses!T338), \"\", Responses!T338)","v":""}]
[{"$f":"IF(ISBLANK(Responses!A339), \"\", Responses!A339)","v":""},{"$f":"IF(ISBLANK(Responses!B339), \"\", Responses!B339)","v":""},{"$f":"IF(ISBLANK(Responses!N339), \"\", Responses!N339)","v":""},{"$f":"IF(ISBLANK(Responses!O339), \"\", Responses!O339)","v":""},{"$f":"IF(ISBLANK(Responses!P339), \"\", Responses!P339)","v":""},{"$f":"IF(ISBLANK(Responses!Q339), \"\", Responses!Q339)","v":""},{"$f":"IF(ISBLANK(Responses!R339), \"\", Responses!R339)","v":""},{"$f":"IF(ISBLANK(Responses!S339), \"\", Responses!S339)","v":""},{"$f":"IF(ISBLANK(Responses!T339), \"\", Responses!T339)","v":""}]
[{"$f":"IF(ISBLANK(Responses!A340), \"\", Responses!A340)","v":""},{"$f":"IF(ISBLANK(Responses!B340), \"\", Responses!B340)","v":""},{"$f":"IF(ISBLANK(Responses!N340), \"\", Responses!N340)","v":""},{"$f":"IF(ISBLANK(Responses!O340), \"\", Responses!O340)","v":""},{"$f":"IF(ISBLANK(Responses!P340), \"\", Responses!P340)","v":""},{"$f":"IF(ISBLANK(Responses!Q340), \"\", Responses!Q340)","v":""},{"$f":"IF(ISBLANK(Responses!R340), \"\", Responses!R340)","v":""},{"$f":"IF(ISBLANK(Responses!S340), \"\", Responses!S340)","v":""},{"$f":"IF(ISBLANK(Responses!T340), \"\", Responses!T340)","v":""}]
[{"$f":"IF(ISBLANK(Responses!A341), \"\", Responses!A341)","v":""},{"$f":"IF(ISBLANK(Responses!B341), \"\", Responses!B341)","v":""},{"$f":"IF(ISBLANK(Responses!N341), \"\", Responses!N341)","v":""},{"$f":"IF(ISBLANK(Responses!O341), \"\", Responses!O341)","v":""},{"$f":"IF(ISBLANK(Responses!P341), \"\", Responses!P341)","v":""},{"$f":"IF(ISBLANK(Responses!Q341), \"\", Responses!Q341)","v":""},{"$f":"IF(ISBLANK(Responses!R341), \"\", Responses!R341)","v":""},{"$f":"IF(ISBLANK(Responses!S341), \"\", Responses!S341)","v":""},{"$f":"IF(ISBLANK(Responses!T341), \"\", Responses!T341)","v":""}]
[{"$f":"IF(ISBLANK(Responses!A342), \"\", Responses!A342)","v":""},{"$f":"IF(ISBLANK(Responses!B342), \"\", Responses!B342)","v":""},{"$f":"IF(ISBLANK(Responses!N342), \"\", Responses!N342)","v":""},{"$f":"IF(ISBLANK(Responses!O342), \"\", Responses!O342)","v":""},{"$f":"IF(ISBLANK(Responses!P342), \"\", Responses!P342)","v":""},{"$f":"IF(ISBLANK(Responses!Q342), \"\", Responses!Q342)","v":""},{"$f":"IF(ISBLANK(Responses!R342), \"\", Responses!R342)","v":""},{"$f":"IF(ISBLANK(Responses!S342), \"\", Responses!S342)","v":""},{"$f":"IF(ISBLANK(Responses!T342), \"\", Responses!T342)","v":""}]
[{"$f":"IF(ISBLANK(Responses!A343), \"\", Responses!A343)","v":""},{"$f":"IF(ISBLANK(Responses!B343), \"\", Responses!B343)","v":""},{"$f":"IF(ISBLANK(Responses!N343), \"\", Responses!N343)","v":""},{"$f":"IF(ISBLANK(Responses!O343), \"\", Responses!O343)","v":""},{"$f":"IF(ISBLANK(Responses!P343), \"\", Responses!P343)","v":""},{"$f":"IF(ISBLANK(Responses!Q343), \"\", Responses!Q343)","v":""},{"$f":"IF(ISBLANK(Responses!R343), \"\", Responses!R343)","v":""},{"$f":"IF(ISBLANK(Responses!S343), \"\", Responses!S343)","v":""},{"$f":"IF(ISBLANK(Responses!T343), \"\", Responses!T343)","v":""}]
[{"$f":"IF(ISBLANK(Responses!A344), \"\", Responses!A344)","v":""},{"$f":"IF(ISBLANK(Responses!B344), \"\", Responses!B344)","v":""},{"$f":"IF(ISBLANK(Responses!N344), \"\", Responses!N344)","v":""},{"$f":"IF(ISBLANK(Responses!O344), \"\", Responses!O344)","v":""},{"$f":"IF(ISBLANK(Responses!P344), \"\", Responses!P344)","v":""},{"$f":"IF(ISBLANK(Responses!Q344), \"\", Responses!Q344)","v":""},{"$f":"IF(ISBLANK(Responses!R344), \"\", Responses!R344)","v":""},{"$f":"IF(ISBLANK(Responses!S344), \"\", Responses!S344)","v":""},{"$f":"IF(ISBLANK(Responses!T344), \"\", Responses!T344)","v":""}]
[{"$f":"IF(ISBLANK(Responses!A345), \"\", Responses!A345)","v":""},{"$f":"IF(ISBLANK(Responses!B345), \"\", Responses!B345)","v":""},{"$f":"IF(ISBLANK(Responses!N345), \"\", Responses!N345)","v":""},{"$f":"IF(ISBLANK(Responses!O345), \"\", Responses!O345)","v":""},{"$f":"IF(ISBLANK(Responses!P345), \"\", Responses!P345)","v":""},{"$f":"IF(ISBLANK(Responses!Q345), \"\", Responses!Q345)","v":""},{"$f":"IF(ISBLANK(Responses!R345), \"\", Responses!R345)","v":""},{"$f":"IF(ISBLANK(Responses!S345), \"\", Responses!S345)","v":""},{"$f":"IF(ISBLANK(Responses!T345), \"\", Responses!T345)","v":""}]
[{"$f":"IF(ISBLANK(Responses!A346), \"\", Responses!A346)","v":""},{"$f":"IF(ISBLANK(Responses!B346), \"\", Responses!B346)","v":""},{"$f":"IF(ISBLANK(Responses!N346), \"\", Responses!N346)","v":""},{"$f":"IF(ISBLANK(Responses!O346), \"\", Responses!O346)","v":""},{"$f":"IF(ISBLANK(Responses!P346), \"\", Responses!P346)","v":""},{"$f":"IF(ISBLANK(Responses!Q346), \"\", Responses!Q346)","v":""},{"$f":"IF(ISBLANK(Responses!R346), \"\", Responses!R346)","v":""},{"$f":"IF(ISBLANK(Responses!S346), \"\", Responses!S346)","v":""},{"$f":"IF(ISBLANK(Responses!T346), \"\", Responses!T346)","v":""}]
[{"$f":"IF(ISBLANK(Responses!A347), \"\", Responses!A347)","v":""},{"$f":"IF(ISBLANK(Responses!B347), \"\", Responses!B347)","v":""},{"$f":"IF(ISBLANK(Responses!N347), \"\", Responses!N347)","v":""},{"$f":"IF(ISBLANK(Responses!O347), \"\", Responses!O347)","v":""},{"$f":"IF(ISBLANK(Responses!P347), \"\", Responses!P347)","v":""},{"$f":"IF(ISBLANK(Responses!Q347), \"\", Responses!Q347)","v":""},{"$f":"IF(ISBLANK(Responses!R347), \"\", Responses!R347)","v":""},{"$f":"IF(ISBLANK(Responses!S347), \"\", Responses!S347)","v":""},{"$f":"IF(ISBLANK(Responses!T347), \"\", Responses!T347)","v":""}]
[{"$f":"IF(ISBLANK(Responses!A348), \"\", Responses!A348)","v":""},{"$f":"IF(ISBLANK(Responses!B348), \"\", Responses!B348)","v":""},{"$f":"IF(ISBLANK(Responses!N348), \"\", Responses!N348)","v":""},{"$f":"IF(ISBLANK(Responses!O348), \"\", Responses!O348)","v":""},{"$f":"IF(ISBLANK(Responses!P348), \"\", Responses!P348)","v":""},{"$f":"IF(ISBLANK(Responses!Q348), \"\", Responses!Q348)","v":""},{"$f":"IF(ISBLANK(Responses!R348), \"\", Responses!R348)","v":""},{"$f":"IF(ISBLANK(Responses!S348), \"\", Responses!S348)","v":""},{"$f":"IF(ISBLANK(Responses!T348), \"\", Responses!T348)","v":""}]
[{"$f":"IF(ISBLANK(Responses!A349), \"\", Responses!A349)","v":""},{"$f":"IF(ISBLANK(Responses!B349), \"\", Responses!B349)","v":""},{"$f":"IF(ISBLANK(Responses!N349), \"\", Responses!N349)","v":""},{"$f":"IF(ISBLANK(Responses!O349), \"\", Responses!O349)","v":""},{"$f":"IF(ISBLANK(Responses!P349), \"\", Responses!P349)","v":""},{"$f":"IF(ISBLANK(Responses!Q349), \"\", Responses!Q349)","v":""},{"$f":"IF(ISBLANK(Responses!R349), \"\", Responses!R349)","v":""},{"$f":"IF(ISBLANK(Responses!S349), \"\", Responses!S349)","v":""},{"$f":"IF(ISBLANK(Responses!T349), \"\", Responses!T349)","v":""}]
[{"$f":"IF(ISBLANK(Responses!A350), \"\", Responses!A350)","v":""},{"$f":"IF(ISBLANK(Responses!B350), \"\", Responses!B350)","v":""},{"$f":"IF(ISBLANK(Responses!N350), \"\", Responses!N350)","v":""},{"$f":"IF(ISBLANK(Responses!O350), \"\", Responses!O350)","v":""},{"$f":"IF(ISBLANK(Responses!P350), \"\", Responses!P350)","v":""},{"$f":"IF(ISBLANK(Responses!Q350), \"\", Responses!Q350)","v":""},{"$f":"IF(ISBLANK(Responses!R350), \"\", Responses!R350)","v":""},{"$f":"IF(ISBLANK(Responses!S350), \"\", Responses!S350)","v":""},{"$f":"IF(ISBLANK(Responses!T350), \"\", Responses!T350)","v":""}]
[{"$f":"IF(ISBLANK(Responses!A351), \"\", Responses!A351)","v":""},{"$f":"IF(ISBLANK(Responses!B351), \"\", Responses!B351)","v":""},{"$f":"IF(ISBLANK(Responses!N351), \"\", Responses!N351)","v":""},{"$f":"IF(ISBLANK(Responses!O351), \"\", Responses!O351)","v":""},{"$f":"IF(ISBLANK(Responses!P351), \"\", Responses!P351)","v":""},{"$f":"IF(ISBLANK(Responses!Q351), \"\", Responses!Q351)","v":""},{"$f":"IF(ISBLANK(Responses!R351), \"\", Responses!R351)","v":""},{"$f":"IF(ISBLANK(Responses!S351), \"\", Responses!S351)","v":""},{"$f":"IF(ISBLANK(Responses!T351), \"\", Responses!T351)","v":""}]
[{"$f":"IF(ISBLANK(Responses!A352), \"\", Responses!A352)","v":""},{"$f":"IF(ISBLANK(Responses!B352), \"\", Responses!B352)","v":""},{"$f":"IF(ISBLANK(Responses!N352), \"\", Responses!N352)","v":""},{"$f":"IF(ISBLANK(Responses!O352), \"\", Responses!O352)","v":""},{"$f":"IF(ISBLANK(Responses!P352), \"\", Responses!P352)","v":""},{"$f":"IF(ISBLANK(Responses!Q352), \"\", Responses!Q352)","v":""},{"$f":"IF(ISBLANK(Responses!R352), \"\", Responses!R352)","v":""},{"$f":"IF(ISBLANK(Responses!S352), \"\", Responses!S352)","v":""},{"$f":"IF(ISBLANK(Responses!T352), \"\", Responses!T352)","v":""}]
[{"$f":"IF(ISBLANK(Responses!A353), \"\", Responses!A353)","v":""},{"$f":"IF(ISBLANK(Responses!B353), \"\", Responses!B353)","v":""},{"$f":"IF(ISBLANK(Responses!N353), \"\", Responses!N353)","v":""},{"$f":"IF(ISBLANK(Responses!O353), \"\", Responses!O353)","v":""},{"$f":"IF(ISBLANK(Responses!P353), \"\", Responses!P353)","v":""},{"$f":"IF(ISBLANK(Responses!Q353), \"\", Responses!Q353)","v":""},{"$f":"IF(ISBLANK(Responses!R353), \"\", Responses!R353)","v":""},{"$f":"IF(ISBLANK(Responses!S353), \"\", Responses!S353)","v":""},{"$f":"IF(ISBLANK(Responses!T353), \"\", Responses!T353)","v":""}]
[{"$f":"IF(ISBLANK(Responses!A354), \"\", Responses!A354)","v":""},{"$f":"IF(ISBLANK(Responses!B354), \"\", Responses!B354)","v":""},{"$f":"IF(ISBLANK(Responses!N354), \"\", Responses!N354)","v":""},{"$f":"IF(ISBLANK(Responses!O354), \"\", Responses!O354)","v":""},{"$f":"IF(ISBLANK(Responses!P354), \"\", Responses!P354)","v":""},{"$f":"IF(ISBLANK(Responses!Q354), \"\", Responses!Q354)","v":""},{"$f":"IF(ISBLANK(Responses!R354), \"\", Responses!R354)","v":""},{"$f":"IF(ISBLANK(Responses!S354), \"\", Responses!S354)","v":""},{"$f":"IF(ISBLANK(Responses!T354), \"\", Responses!T354)","v":""}]
[{"$f":"IF(ISBLANK(Responses!A355), \"\", Responses!A355)","v":""},{"$f":"IF(ISBLANK(Responses!B355), \"\", Responses!B355)","v":""},{"$f":"IF(ISBLANK(Responses!N355), \"\", Responses!N355)","v":""},{"$f":"IF(ISBLANK(Responses!O355), \"\", Responses!O355)","v":""},{"$f":"IF(ISBLANK(Responses!P355), \"\", Responses!P355)","v":""},{"$f":"IF(ISBLANK(Responses!Q355), \"\", Responses!Q355)","v":""},{"$f":"IF(ISBLANK(Responses!R355), \"\", Responses!R355)","v":""},{"$f":"IF(ISBLANK(Responses!S355), \"\", Responses!S355)","v":""},{"$f":"IF(ISBLANK(Responses!T355), \"\", Responses!T355)","v":""}]
[{"$f":"IF(ISBLANK(Responses!A356), \"\", Responses!A356)","v":""},{"$f":"IF(ISBLANK(Responses!B356), \"\", Responses!B356)","v":""},{"$f":"IF(ISBLANK(Responses!N356), \"\", Responses!N356)","v":""},{"$f":"IF(ISBLANK(Responses!O356), \"\", Responses!O356)","v":""},{"$f":"IF(ISBLANK(Responses!P356), \"\", Responses!P356)","v":""},{"$f":"IF(ISBLANK(Responses!Q356), \"\", Responses!Q356)","v":""},{"$f":"IF(ISBLANK(Responses!R356), \"\", Responses!R356)","v":""},{"$f":"IF(ISBLANK(Responses!S356), \"\", Responses!S356)","v":""},{"$f":"IF(ISBLANK(Responses!T356), \"\", Responses!T356)","v":""}]
[{"$f":"IF(ISBLANK(Responses!A357), \"\", Responses!A357)","v":""},{"$f":"IF(ISBLANK(Responses!B357), \"\", Responses!B357)","v":""},{"$f":"IF(ISBLANK(Responses!N357), \"\", Responses!N357)","v":""},{"$f":"IF(ISBLANK(Responses!O357), \"\", Responses!O357)","v":""},{"$f":"IF(ISBLANK(Responses!P357), \"\", Responses!P357)","v":""},{"$f":"IF(ISBLANK(Responses!Q357), \"\", Responses!Q357)","v":""},{"$f":"IF(ISBLANK(Responses!R357), \"\", Responses!R357)","v":""},{"$f":"IF(ISBLANK(Responses!S357), \"\", Responses!S357)","v":""},{"$f":"IF(ISBLANK(Responses!T357), \"\", Responses!T357)","v":""}]
[{"$f":"IF(ISBLANK(Responses!A358), \"\", Responses!A358)","v":""},{"$f":"IF(ISBLANK(Responses!B358), \"\", Responses!B358)","v":""},{"$f":"IF(ISBLANK(Responses!N358), \"\", Responses!N358)","v":""},{"$f":"IF(ISBLANK(Responses!O358), \"\", Responses!O358)","v":""},{"$f":"IF(ISBLANK(Responses!P358), \"\", Responses!P358)","v":""},{"$f":"IF(ISBLANK(Responses!Q358), \"\", Responses!Q358)","v":""},{"$f":"IF(ISBLANK(Responses!R358), \"\", Responses!R358)","v":""},{"$f":"IF(ISBLANK(Responses!S358), \"\", Responses!S358)","v":""},{"$f":"IF(ISBLANK(Responses!T358), \"\", Responses!T358)","v":""}]
[{"$f":"IF(ISBLANK(Responses!A359), \"\", Responses!A359)","v":""},{"$f":"IF(ISBLANK(Responses!B359), \"\", Responses!B359)","v":""},{"$f":"IF(ISBLANK(Responses!N359), \"\", Responses!N359)","v":""},{"$f":"IF(ISBLANK(Responses!O359), \"\", Responses!O359)","v":""},{"$f":"IF(ISBLANK(Responses!P359), \"\", Responses!P359)","v":""},{"$f":"IF(ISBLANK(Responses!Q359), \"\", Responses!Q359)","v":""},{"$f":"IF(ISBLANK(Responses!R359), \"\", Responses!R359)","v":""},{"$f":"IF(ISBLANK(Responses!S359), \"\", Responses!S359)","v":""},{"$f":"IF(ISBLANK(Responses!T359), \"\", Responses!T359)","v":""}]
[{"$f":"IF(ISBLANK(Responses!A360), \"\", Responses!A360)","v":""},{"$f":"IF(ISBLANK(Responses!B360), \"\", Responses!B360)","v":""},{"$f":"IF(ISBLANK(Responses!N360), \"\", Responses!N360)","v":""},{"$f":"IF(ISBLANK(Responses!O360), \"\", Responses!O360)","v":""},{"$f":"IF(ISBLANK(Responses!P360), \"\", Responses!P360)","v":""},{"$f":"IF(ISBLANK(Responses!Q360), \"\", Responses!Q360)","v":""},{"$f":"IF(ISBLANK(Responses!R360), \"\", Responses!R360)","v":""},{"$f":"IF(ISBLANK(Responses!S360), \"\", Responses!S360)","v":""},{"$f":"IF(ISBLANK(Responses!T360), \"\", Responses!T360)","v":""}]
[{"$f":"IF(ISBLANK(Responses!A361), \"\", Responses!A361)","v":""},{"$f":"IF(ISBLANK(Responses!B361), \"\", Responses!B361)","v":""},{"$f":"IF(ISBLANK(Responses!N361), \"\", Responses!N361)","v":""},{"$f":"IF(ISBLANK(Responses!O361), \"\", Responses!O361)","v":""},{"$f":"IF(ISBLANK(Responses!P361), \"\", Responses!P361)","v":""},{"$f":"IF(ISBLANK(Responses!Q361), \"\", Responses!Q361)","v":""},{"$f":"IF(ISBLANK(Responses!R361), \"\", Responses!R361)","v":""},{"$f":"IF(ISBLANK(Responses!S361), \"\", Responses!S361)","v":""},{"$f":"IF(ISBLANK(Responses!T361), \"\", Responses!T361)","v":""}]
[{"$f":"IF(ISBLANK(Responses!A362), \"\", Responses!A362)","v":""},{"$f":"IF(ISBLANK(Responses!B362), \"\", Responses!B362)","v":""},{"$f":"IF(ISBLANK(Responses!N362), \"\", Responses!N362)","v":""},{"$f":"IF(ISBLANK(Responses!O362), \"\", Responses!O362)","v":""},{"$f":"IF(ISBLANK(Responses!P362), \"\", Responses!P362)","v":""},{"$f":"IF(ISBLANK(Responses!Q362), \"\", Responses!Q362)","v":""},{"$f":"IF(ISBLANK(Responses!R362), \"\", Responses!R362)","v":""},{"$f":"IF(ISBLANK(Responses!S362), \"\", Responses!S362)","v":""},{"$f":"IF(ISBLANK(Responses!T362), \"\", Responses!T362)","v":""}]
[{"$f":"IF(ISBLANK(Responses!A363), \"\", Responses!A363)","v":""},{"$f":"IF(ISBLANK(Responses!B363), \"\", Responses!B363)","v":""},{"$f":"IF(ISBLANK(Responses!N363), \"\", Responses!N363)","v":""},{"$f":"IF(ISBLANK(Responses!O363), \"\", Responses!O363)","v":""},{"$f":"IF(ISBLANK(Responses!P363), \"\", Responses!P363)","v":""},{"$f":"IF(ISBLANK(Responses!Q363), \"\", Responses!Q363)","v":""},{"$f":"IF(ISBLANK(Responses!R363), \"\", Responses!R363)","v":""},{"$f":"IF(ISBLANK(Responses!S363), \"\", Responses!S363)","v":""},{"$f":"IF(ISBLANK(Responses!T363), \"\", Responses!T363)","v":""}]
[{"$f":"IF(ISBLANK(Responses!A364), \"\", Responses!A364)","v":""},{"$f":"IF(ISBLANK(Responses!B364), \"\", Responses!B364)","v":""},{"$f":"IF(ISBLANK(Responses!N364), \"\", Responses!N364)","v":""},{"$f":"IF(ISBLANK(Responses!O364), \"\", Responses!O364)","v":""},{"$f":"IF(ISBLANK(Responses!P364), \"\", Responses!P364)","v":""},{"$f":"IF(ISBLANK(Responses!Q364), \"\", Responses!Q364)","v":""},{"$f":"IF(ISBLANK(Responses!R364), \"\", Responses!R364)","v":""},{"$f":"IF(ISBLANK(Responses!S364), \"\", Responses!S364)","v":""},{"$f":"IF(ISBLANK(Responses!T364), \"\", Responses!T364)","v":""}]
[{"$f":"IF(ISBLANK(Responses!A365), \"\", Responses!A365)","v":""},{"$f":"IF(ISBLANK(Responses!B365), \"\", Responses!B365)","v":""},{"$f":"IF(ISBLANK(Responses!N365), \"\", Responses!N365)","v":""},{"$f":"IF(ISBLANK(Responses!O365), \"\", Responses!O365)","v":""},{"$f":"IF(ISBLANK(Responses!P365), \"\", Responses!P365)","v":""},{"$f":"IF(ISBLANK(Responses!Q365), \"\", Responses!Q365)","v":""},{"$f":"IF(ISBLANK(Responses!R365), \"\", Responses!R365)","v":""},{"$f":"IF(ISBLANK(Responses!S365), \"\", Responses!S365)","v":""},{"$f":"IF(ISBLANK(Responses!T365), \"\", Responses!T365)","v":""}]
[{"$f":"IF(ISBLANK(Responses!A366), \"\", Responses!A366)","v":""},{"$f":"IF(ISBLANK(Responses!B366), \"\", Responses!B366)","v":""},{"$f":"IF(ISBLANK(Responses!N366), \"\", Responses!N366)","v":""},{"$f":"IF(ISBLANK(Responses!O366), \"\", Responses!O366)","v":""},{"$f":"IF(ISBLANK(Responses!P366), \"\", Responses!P366)","v":""},{"$f":"IF(ISBLANK(Responses!Q366), \"\", Responses!Q366)","v":""},{"$f":"IF(ISBLANK(Responses!R366), \"\", Responses!R366)","v":""},{"$f":"IF(ISBLANK(Responses!S366), \"\", Responses!S366)","v":""},{"$f":"IF(ISBLANK(Responses!T366), \"\", Responses!T366)","v":""}]
[{"$f":"IF(ISBLANK(Responses!A367), \"\", Responses!A367)","v":""},{"$f":"IF(ISBLANK(Responses!B367), \"\", Responses!B367)","v":""},{"$f":"IF(ISBLANK(Responses!N367), \"\", Responses!N367)","v":""},{"$f":"IF(ISBLANK(Responses!O367), \"\", Responses!O367)","v":""},{"$f":"IF(ISBLANK(Responses!P367), \"\", Responses!P367)","v":""},{"$f":"IF(ISBLANK(Responses!Q367), \"\", Responses!Q367)","v":""},{"$f":"IF(ISBLANK(Responses!R367), \"\", Responses!R367)","v":""},{"$f":"IF(ISBLANK(Responses!S367), \"\", Responses!S367)","v":""},{"$f":"IF(ISBLANK(Responses!T367), \"\", Responses!T367)","v":""}]
[{"$f":"IF(ISBLANK(Responses!A368), \"\", Responses!A368)","v":""},{"$f":"IF(ISBLANK(Responses!B368), \"\", Responses!B368)","v":""},{"$f":"IF(ISBLANK(Responses!N368), \"\", Responses!N368)","v":""},{"$f":"IF(ISBLANK(Responses!O368), \"\", Responses!O368)","v":""},{"$f":"IF(ISBLANK(Responses!P368), \"\", Responses!P368)","v":""},{"$f":"IF(ISBLANK(Responses!Q368), \"\", Responses!Q368)","v":""},{"$f":"IF(ISBLANK(Responses!R368), \"\", Responses!R368)","v":""},{"$f":"IF(ISBLANK(Responses!S368), \"\", Responses!S368)","v":""},{"$f":"IF(ISBLANK(Responses!T368), \"\", Responses!T368)","v":""}]
[{"$f":"IF(ISBLANK(Responses!A369), \"\", Responses!A369)","v":""},{"$f":"IF(ISBLANK(Responses!B369), \"\", Responses!B369)","v":""},{"$f":"IF(ISBLANK(Responses!N369), \"\", Responses!N369)","v":""},{"$f":"IF(ISBLANK(Responses!O369), \"\", Responses!O369)","v":""},{"$f":"IF(ISBLANK(Responses!P369), \"\", Responses!P369)","v":""},{"$f":"IF(ISBLANK(Responses!Q369), \"\", Responses!Q369)","v":""},{"$f":"IF(ISBLANK(Responses!R369), \"\", Responses!R369)","v":""},{"$f":"IF(ISBLANK(Responses!S369), \"\", Responses!S369)","v":""},{"$f":"IF(ISBLANK(Responses!T369), \"\", Responses!T369)","v":""}]
[{"$f":"IF(ISBLANK(Responses!A370), \"\", Responses!A370)","v":""},{"$f":"IF(ISBLANK(Responses!B370), \"\", Responses!B370)","v":""},{"$f":"IF(ISBLANK(Responses!N370), \"\", Responses!N370)","v":""},{"$f":"IF(ISBLANK(Responses!O370), \"\", Responses!O370)","v":""},{"$f":"IF(ISBLANK(Responses!P370), \"\", Responses!P370)","v":""},{"$f":"IF(ISBLANK(Responses!Q370), \"\", Responses!Q370)","v":""},{"$f":"IF(ISBLANK(Responses!R370), \"\", Responses!R370)","v":""},{"$f":"IF(ISBLANK(Responses!S370), \"\", Responses!S370)","v":""},{"$f":"IF(ISBLANK(Responses!T370), \"\", Responses!T370)","v":""}]
[{"$f":"IF(ISBLANK(Responses!A371), \"\", Responses!A371)","v":""},{"$f":"IF(ISBLANK(Responses!B371), \"\", Responses!B371)","v":""},{"$f":"IF(ISBLANK(Responses!N371), \"\", Responses!N371)","v":""},{"$f":"IF(ISBLANK(Responses!O371), \"\", Responses!O371)","v":""},{"$f":"IF(ISBLANK(Responses!P371), \"\", Responses!P371)","v":""},{"$f":"IF(ISBLANK(Responses!Q371), \"\", Responses!Q371)","v":""},{"$f":"IF(ISBLANK(Responses!R371), \"\", Responses!R371)","v":""},{"$f":"IF(ISBLANK(Responses!S371), \"\", Responses!S371)","v":""},{"$f":"IF(ISBLANK(Responses!T371), \"\", Responses!T371)","v":""}]
[{"$f":"IF(ISBLANK(Responses!A372), \"\", Responses!A372)","v":""},{"$f":"IF(ISBLANK(Responses!B372), \"\", Responses!B372)","v":""},{"$f":"IF(ISBLANK(Responses!N372), \"\", Responses!N372)","v":""},{"$f":"IF(ISBLANK(Responses!O372), \"\", Responses!O372)","v":""},{"$f":"IF(ISBLANK(Responses!P372), \"\", Responses!P372)","v":""},{"$f":"IF(ISBLANK(Responses!Q372), \"\", Responses!Q372)","v":""},{"$f":"IF(ISBLANK(Responses!R372), \"\", Responses!R372)","v":""},{"$f":"IF(ISBLANK(Responses!S372), \"\", Responses!S372)","v":""},{"$f":"IF(ISBLANK(Responses!T372), \"\", Responses!T372)","v":""}]
[{"$f":"IF(ISBLANK(Responses!A373), \"\", Responses!A373)","v":""},{"$f":"IF(ISBLANK(Responses!B373), \"\", Responses!B373)","v":""},{"$f":"IF(ISBLANK(Responses!N373), \"\", Responses!N373)","v":""},{"$f":"IF(ISBLANK(Responses!O373), \"\", Responses!O373)","v":""},{"$f":"IF(ISBLANK(Responses!P373), \"\", Responses!P373)","v":""},{"$f":"IF(ISBLANK(Responses!Q373), \"\", Responses!Q373)","v":""},{"$f":"IF(ISBLANK(Responses!R373), \"\", Responses!R373)","v":""},{"$f":"IF(ISBLANK(Responses!S373), \"\", Responses!S373)","v":""},{"$f":"IF(ISBLANK(Responses!T373), \"\", Responses!T373)","v":""}]
[{"$f":"IF(ISBLANK(Responses!A374), \"\", Responses!A374)","v":""},{"$f":"IF(ISBLANK(Responses!B374), \"\", Responses!B374)","v":""},{"$f":"IF(ISBLANK(Responses!N374), \"\", Responses!N374)","v":""},{"$f":"IF(ISBLANK(Responses!O374), \"\", Responses!O374)","v":""},{"$f":"IF(ISBLANK(Responses!P374), \"\", Responses!P374)","v":""},{"$f":"IF(ISBLANK(Responses!Q374), \"\", Responses!Q374)","v":""},{"$f":"IF(ISBLANK(Responses!R374), \"\", Responses!R374)","v":""},{"$f":"IF(ISBLANK(Responses!S374), \"\", Responses!S374)","v":""},{"$f":"IF(ISBLANK(Responses!T374), \"\", Responses!T374)","v":""}]
[{"$f":"IF(ISBLANK(Responses!A375), \"\", Responses!A375)","v":""},{"$f":"IF(ISBLANK(Responses!B375), \"\", Responses!B375)","v":""},{"$f":"IF(ISBLANK(Responses!N375), \"\", Responses!N375)","v":""},{"$f":"IF(ISBLANK(Responses!O375), \"\", Responses!O375)","v":""},{"$f":"IF(ISBLANK(Responses!P375), \"\", Responses!P375)","v":""},{"$f":"IF(ISBLANK(Responses!Q375), \"\", Responses!Q375)","v":""},{"$f":"IF(ISBLANK(Responses!R375), \"\", Responses!R375)","v":""},{"$f":"IF(ISBLANK(Responses!S375), \"\", Responses!S375)","v":""},{"$f":"IF(ISBLANK(Responses!T375), \"\", Responses!T375)","v":""}]
[{"$f":"IF(ISBLANK(Responses!A376), \"\", Responses!A376)","v":""},{"$f":"IF(ISBLANK(Responses!B376), \"\", Responses!B376)","v":""},{"$f":"IF(ISBLANK(Responses!N376), \"\", Responses!N376)","v":""},{"$f":"IF(ISBLANK(Responses!O376), \"\", Responses!O376)","v":""},{"$f":"IF(ISBLANK(Responses!P376), \"\", Responses!P376)","v":""},{"$f":"IF(ISBLANK(Responses!Q376), \"\", Responses!Q376)","v":""},{"$f":"IF(ISBLANK(Responses!R376), \"\", Responses!R376)","v":""},{"$f":"IF(ISBLANK(Responses!S376), \"\", Responses!S376)","v":""},{"$f":"IF(ISBLANK(Responses!T376), \"\", Responses!T376)","v":""}]
[{"$f":"IF(ISBLANK(Responses!A377), \"\", Responses!A377)","v":""},{"$f":"IF(ISBLANK(Responses!B377), \"\", Responses!B377)","v":""},{"$f":"IF(ISBLANK(Responses!N377), \"\", Responses!N377)","v":""},{"$f":"IF(ISBLANK(Responses!O377), \"\", Responses!O377)","v":""},{"$f":"IF(ISBLANK(Responses!P377), \"\", Responses!P377)","v":""},{"$f":"IF(ISBLANK(Responses!Q377), \"\", Responses!Q377)","v":""},{"$f":"IF(ISBLANK(Responses!R377), \"\", Responses!R377)","v":""},{"$f":"IF(ISBLANK(Responses!S377), \"\", Responses!S377)","v":""},{"$f":"IF(ISBLANK(Responses!T377), \"\", Responses!T377)","v":""}]
[{"$f":"IF(ISBLANK(Responses!A378), \"\", Responses!A378)","v":""},{"$f":"IF(ISBLANK(Responses!B378), \"\", Responses!B378)","v":""},{"$f":"IF(ISBLANK(Responses!N378), \"\", Responses!N378)","v":""},{"$f":"IF(ISBLANK(Responses!O378), \"\", Responses!O378)","v":""},{"$f":"IF(ISBLANK(Responses!P378), \"\", Responses!P378)","v":""},{"$f":"IF(ISBLANK(Responses!Q378), \"\", Responses!Q378)","v":""},{"$f":"IF(ISBLANK(Responses!R378), \"\", Responses!R378)","v":""},{"$f":"IF(ISBLANK(Responses!S378), \"\", Responses!S378)","v":""},{"$f":"IF(ISBLANK(Responses!T378), \"\", Responses!T378)","v":""}]
[{"$f":"IF(ISBLANK(Responses!A379), \"\", Responses!A379)","v":""},{"$f":"IF(ISBLANK(Responses!B379), \"\", Responses!B379)","v":""},{"$f":"IF(ISBLANK(Responses!N379), \"\", Responses!N379)","v":""},{"$f":"IF(ISBLANK(Responses!O379), \"\", Responses!O379)","v":""},{"$f":"IF(ISBLANK(Responses!P379), \"\", Responses!P379)","v":""},{"$f":"IF(ISBLANK(Responses!Q379), \"\", Responses!Q379)","v":""},{"$f":"IF(ISBLANK(Responses!R379), \"\", Responses!R379)","v":""},{"$f":"IF(ISBLANK(Responses!S379), \"\", Responses!S379)","v":""},{"$f":"IF(ISBLANK(Responses!T379), \"\", Responses!T379)","v":""}]
[{"$f":"IF(ISBLANK(Responses!A380), \"\", Responses!A380)","v":""},{"$f":"IF(ISBLANK(Responses!B380), \"\", Responses!B380)","v":""},{"$f":"IF(ISBLANK(Responses!N380), \"\", Responses!N380)","v":""},{"$f":"IF(ISBLANK(Responses!O380), \"\", Responses!O380)","v":""},{"$f":"IF(ISBLANK(Responses!P380), \"\", Responses!P380)","v":""},{"$f":"IF(ISBLANK(Responses!Q380), \"\", Responses!Q380)","v":""},{"$f":"IF(ISBLANK(Responses!R380), \"\", Responses!R380)","v":""},{"$f":"IF(ISBLANK(Responses!S380), \"\", Responses!S380)","v":""},{"$f":"IF(ISBLANK(Responses!T380), \"\", Responses!T380)","v":""}]
[{"$f":"IF(ISBLANK(Responses!A381), \"\", Responses!A381)","v":""},{"$f":"IF(ISBLANK(Responses!B381), \"\", Responses!B381)","v":""},{"$f":"IF(ISBLANK(Responses!N381), \"\", Responses!N381)","v":""},{"$f":"IF(ISBLANK(Responses!O381), \"\", Responses!O381)","v":""},{"$f":"IF(ISBLANK(Responses!P381), \"\", Responses!P381)","v":""},{"$f":"IF(ISBLANK(Responses!Q381), \"\", Responses!Q381)","v":""},{"$f":"IF(ISBLANK(Responses!R381), \"\", Responses!R381)","v":""},{"$f":"IF(ISBLANK(Responses!S381), \"\", Responses!S381)","v":""},{"$f":"IF(ISBLANK(Responses!T381), \"\", Responses!T381)","v":""}]
[{"$f":"IF(ISBLANK(Responses!A382), \"\", Responses!A382)","v":""},{"$f":"IF(ISBLANK(Responses!B382), \"\", Responses!B382)","v":""},{"$f":"IF(ISBLANK(Responses!N382), \"\", Responses!N382)","v":""},{"$f":"IF(ISBLANK(Responses!O382), \"\", Responses!O382)","v":""},{"$f":"IF(ISBLANK(Responses!P382), \"\", Responses!P382)","v":""},{"$f":"IF(ISBLANK(Responses!Q382), \"\", Responses!Q382)","v":""},{"$f":"IF(ISBLANK(Responses!R382), \"\", Responses!R382)","v":""},{"$f":"IF(ISBLANK(Responses!S382), \"\", Responses!S382)","v":""},{"$f":"IF(ISBLANK(Responses!T382), \"\", Responses!T382)","v":""}]
[{"$f":"IF(ISBLANK(Responses!A383), \"\", Responses!A383)","v":""},{"$f":"IF(ISBLANK(Responses!B383), \"\", Responses!B383)","v":""},{"$f":"IF(ISBLANK(Responses!N383), \"\", Responses!N383)","v":""},{"$f":"IF(ISBLANK(Responses!O383), \"\", Responses!O383)","v":""},{"$f":"IF(ISBLANK(Responses!P383), \"\", Responses!P383)","v":""},{"$f":"IF(ISBLANK(Responses!Q383), \"\", Responses!Q383)","v":""},{"$f":"IF(ISBLANK(Responses!R383), \"\", Responses!R383)","v":""},{"$f":"IF(ISBLANK(Responses!S383), \"\", Responses!S383)","v":""},{"$f":"IF(ISBLANK(Responses!T383), \"\", Responses!T383)","v":""}]
[{"$f":"IF(ISBLANK(Responses!A384), \"\", Responses!A384)","v":""},{"$f":"IF(ISBLANK(Responses!B384), \"\", Responses!B384)","v":""},{"$f":"IF(ISBLANK(Responses!N384), \"\", Responses!N384)","v":""},{"$f":"IF(ISBLANK(Responses!O384), \"\", Responses!O384)","v":""},{"$f":"IF(ISBLANK(Responses!P384), \"\", Responses!P384)","v":""},{"$f":"IF(ISBLANK(Responses!Q384), \"\", Responses!Q384)","v":""},{"$f":"IF(ISBLANK(Responses!R384), \"\", Responses!R384)","v":""},{"$f":"IF(ISBLANK(Responses!S384), \"\", Responses!S384)","v":""},{"$f":"IF(ISBLANK(Responses!T384), \"\", Responses!T384)","v":""}]
[{"$f":"IF(ISBLANK(Responses!A385), \"\", Responses!A385)","v":""},{"$f":"IF(ISBLANK(Responses!B385), \"\", Responses!B385)","v":""},{"$f":"IF(ISBLANK(Responses!N385), \"\", Responses!N385)","v":""},{"$f":"IF(ISBLANK(Responses!O385), \"\", Responses!O385)","v":""},{"$f":"IF(ISBLANK(Responses!P385), \"\", Responses!P385)","v":""},{"$f":"IF(ISBLANK(Responses!Q385), \"\", Responses!Q385)","v":""},{"$f":"IF(ISBLANK(Responses!R385), \"\", Responses!R385)","v":""},{"$f":"IF(ISBLANK(Responses!S385), \"\", Responses!S385)","v":""},{"$f":"IF(ISBLANK(Responses!T385), \"\", Responses!T385)","v":""}]
[{"$f":"IF(ISBLANK(Responses!A386), \"\", Responses!A386)","v":""},{"$f":"IF(ISBLANK(Responses!B386), \"\", Responses!B386)","v":""},{"$f":"IF(ISBLANK(Responses!N386), \"\", Responses!N386)","v":""},{"$f":"IF(ISBLANK(Responses!O386), \"\", Responses!O386)","v":""},{"$f":"IF(ISBLANK(Responses!P386), \"\", Responses!P386)","v":""},{"$f":"IF(ISBLANK(Responses!Q386), \"\", Responses!Q386)","v":""},{"$f":"IF(ISBLANK(Responses!R386), \"\", Responses!R386)","v":""},{"$f":"IF(ISBLANK(Responses!S386), \"\", Responses!S386)","v":""},{"$f":"IF(ISBLANK(Responses!T386), \"\", Responses!T386)","v":""}]
[{"$f":"IF(ISBLANK(Responses!A387), \"\", Responses!A387)","v":""},{"$f":"IF(ISBLANK(Responses!B387), \"\", Responses!B387)","v":""},{"$f":"IF(ISBLANK(Responses!N387), \"\", Responses!N387)","v":""},{"$f":"IF(ISBLANK(Responses!O387), \"\", Responses!O387)","v":""},{"$f":"IF(ISBLANK(Responses!P387), \"\", Responses!P387)","v":""},{"$f":"IF(ISBLANK(Responses!Q387), \"\", Responses!Q387)","v":""},{"$f":"IF(ISBLANK(Responses!R387), \"\", Responses!R387)","v":""},{"$f":"IF(ISBLANK(Responses!S387), \"\", Responses!S387)","v":""},{"$f":"IF(ISBLANK(Responses!T387), \"\", Responses!T387)","v":""}]
[{"$f":"IF(ISBLANK(Responses!A388), \"\", Responses!A388)","v":""},{"$f":"IF(ISBLANK(Responses!B388), \"\", Responses!B388)","v":""},{"$f":"IF(ISBLANK(Responses!N388), \"\", Responses!N388)","v":""},{"$f":"IF(ISBLANK(Responses!O388), \"\", Responses!O388)","v":""},{"$f":"IF(ISBLANK(Responses!P388), \"\", Responses!P388)","v":""},{"$f":"IF(ISBLANK(Responses!Q388), \"\", Responses!Q388)","v":""},{"$f":"IF(ISBLANK(Responses!R388), \"\", Responses!R388)","v":""},{"$f":"IF(ISBLANK(Responses!S388), \"\", Responses!S388)","v":""},{"$f":"IF(ISBLANK(Responses!T388), \"\", Responses!T388)","v":""}]
[{"$f":"IF(ISBLANK(Responses!A389), \"\", Responses!A389)","v":""},{"$f":"IF(ISBLANK(Responses!B389), \"\", Responses!B389)","v":""},{"$f":"IF(ISBLANK(Responses!N389), \"\", Responses!N389)","v":""},{"$f":"IF(ISBLANK(Responses!O389), \"\", Responses!O389)","v":""},{"$f":"IF(ISBLANK(Responses!P389), \"\", Responses!P389)","v":""},{"$f":"IF(ISBLANK(Responses!Q389), \"\", Responses!Q389)","v":""},{"$f":"IF(ISBLANK(Responses!R389), \"\", Responses!R389)","v":""},{"$f":"IF(ISBLANK(Responses!S389), \"\", Responses!S389)","v":""},{"$f":"IF(ISBLANK(Responses!T389), \"\", Responses!T389)","v":""}]
[{"$f":"IF(ISBLANK(Responses!A390), \"\", Responses!A390)","v":""},{"$f":"IF(ISBLANK(Responses!B390), \"\", Responses!B390)","v":""},{"$f":"IF(ISBLANK(Responses!N390), \"\", Responses!N390)","v":""},{"$f":"IF(ISBLANK(Responses!O390), \"\", Responses!O390)","v":""},{"$f":"IF(ISBLANK(Responses!P390), \"\", Responses!P390)","v":""},{"$f":"IF(ISBLANK(Responses!Q390), \"\", Responses!Q390)","v":""},{"$f":"IF(ISBLANK(Responses!R390), \"\", Responses!R390)","v":""},{"$f":"IF(ISBLANK(Responses!S390), \"\", Responses!S390)","v":""},{"$f":"IF(ISBLANK(Responses!T390), \"\", Responses!T390)","v":""}]
[{"$f":"IF(ISBLANK(Responses!A391), \"\", Responses!A391)","v":""},{"$f":"IF(ISBLANK(Responses!B391), \"\", Responses!B391)","v":""},{"$f":"IF(ISBLANK(Responses!N391), \"\", Responses!N391)","v":""},{"$f":"IF(ISBLANK(Responses!O391), \"\", Responses!O391)","v":""},{"$f":"IF(ISBLANK(Responses!P391), \"\", Responses!P391)","v":""},{"$f":"IF(ISBLANK(Responses!Q391), \"\", Responses!Q391)","v":""},{"$f":"IF(ISBLANK(Responses!R391), \"\", Responses!R391)","v":""},{"$f":"IF(ISBLANK(Responses!S391), \"\", Responses!S391)","v":""},{"$f":"IF(ISBLANK(Responses!T391), \"\", Responses!T391)","v":""}]
[{"$f":"IF(ISBLANK(Responses!A392), \"\", Responses!A392)","v":""},{"$f":"IF(ISBLANK(Responses!B392), \"\", Responses!B392)","v":""},{"$f":"IF(ISBLANK(Responses!N392), \"\", Responses!N392)","v":""},{"$f":"IF(ISBLANK(Responses!O392), \"\", Responses!O392)","v":""},{"$f":"IF(ISBLANK(Responses!P392), \"\", Responses!P392)","v":""},{"$f":"IF(ISBLANK(Responses!Q392), \"\", Responses!Q392)","v":""},{"$f":"IF(ISBLANK(Responses!R392), \"\", Responses!R392)","v":""},{"$f":"IF(ISBLANK(Responses!S392), \"\", Responses!S392)","v":""},{"$f":"IF(ISBLANK(Responses!T392), \"\", Responses!T392)","v":""}]
[{"$f":"IF(ISBLANK(Responses!A393), \"\", Responses!A393)","v":""},{"$f":"IF(ISBLANK(Responses!B393), \"\", Responses!B393)","v":""},{"$f":"IF(ISBLANK(Responses!N393), \"\", Responses!N393)","v":""},{"$f":"IF(ISBLANK(Responses!O393), \"\", Responses!O393)","v":""},{"$f":"IF(ISBLANK(Responses!P393), \"\", Responses!P393)","v":""},{"$f":"IF(ISBLANK(Responses!Q393), \"\", Responses!Q393)","v":""},{"$f":"IF(ISBLANK(Responses!R393), \"\", Responses!R393)","v":""},{"$f":"IF(ISBLANK(Responses!S393), \"\", Responses!S393)","v":""},{"$f":"IF(ISBLANK(Responses!T393), \"\", Responses!T393)","v":""}]
[{"$f":"IF(ISBLANK(Responses!A394), \"\", Responses!A394)","v":""},{"$f":"IF(ISBLANK(Responses!B394), \"\", Responses!B394)","v":""},{"$f":"IF(ISBLANK(Responses!N394), \"\", Responses!N394)","v":""},{"$f":"IF(ISBLANK(Responses!O394), \"\", Responses!O394)","v":""},{"$f":"IF(ISBLANK(Responses!P394), \"\", Responses!P394)","v":""},{"$f":"IF(ISBLANK(Responses!Q394), \"\", Responses!Q394)","v":""},{"$f":"IF(ISBLANK(Responses!R394), \"\", Responses!R394)","v":""},{"$f":"IF(ISBLANK(Responses!S394), \"\", Responses!S394)","v":""},{"$f":"IF(ISBLANK(Responses!T394), \"\", Responses!T394)","v":""}]
[{"$f":"IF(ISBLANK(Responses!A395), \"\", Responses!A395)","v":""},{"$f":"IF(ISBLANK(Responses!B395), \"\", Responses!B395)","v":""},{"$f":"IF(ISBLANK(Responses!N395), \"\", Responses!N395)","v":""},{"$f":"IF(ISBLANK(Responses!O395), \"\", Responses!O395)","v":""},{"$f":"IF(ISBLANK(Responses!P395), \"\", Responses!P395)","v":""},{"$f":"IF(ISBLANK(Responses!Q395), \"\", Responses!Q395)","v":""},{"$f":"IF(ISBLANK(Responses!R395), \"\", Responses!R395)","v":""},{"$f":"IF(ISBLANK(Responses!S395), \"\", Responses!S395)","v":""},{"$f":"IF(ISBLANK(Responses!T395), \"\", Responses!T395)","v":""}]
[{"$f":"IF(ISBLANK(Responses!A396), \"\", Responses!A396)","v":""},{"$f":"IF(ISBLANK(Responses!B396), \"\", Responses!B396)","v":""},{"$f":"IF(ISBLANK(Responses!N396), \"\", Responses!N396)","v":""},{"$f":"IF(ISBLANK(Responses!O396), \"\", Responses!O396)","v":""},{"$f":"IF(ISBLANK(Responses!P396), \"\", Responses!P396)","v":""},{"$f":"IF(ISBLANK(Responses!Q396), \"\", Responses!Q396)","v":""},{"$f":"IF(ISBLANK(Responses!R396), \"\", Responses!R396)","v":""},{"$f":"IF(ISBLANK(Responses!S396), \"\", Responses!S396)","v":""},{"$f":"IF(ISBLANK(Responses!T396), \"\", Responses!T396)","v":""}]
[{"$f":"IF(ISBLANK(Responses!A397), \"\", Responses!A397)","v":""},{"$f":"IF(ISBLANK(Responses!B397), \"\", Responses!B397)","v":""},{"$f":"IF(ISBLANK(Responses!N397), \"\", Responses!N397)","v":""},{"$f":"IF(ISBLANK(Responses!O397), \"\", Responses!O397)","v":""},{"$f":"IF(ISBLANK(Responses!P397), \"\", Responses!P397)","v":""},{"$f":"IF(ISBLANK(Responses!Q397), \"\", Responses!Q397)","v":""},{"$f":"IF(ISBLANK(Responses!R397), \"\", Responses!R397)","v":""},{"$f":"IF(ISBLANK(Responses!S397), \"\", Responses!S397)","v":""},{"$f":"IF(ISBLANK(Responses!T397), \"\", Responses!T397)","v":""}]
[{"$f":"IF(ISBLANK(Responses!A398), \"\", Responses!A398)","v":""},{"$f":"IF(ISBLANK(Responses!B398), \"\", Responses!B398)","v":""},{"$f":"IF(ISBLANK(Responses!N398), \"\", Responses!N398)","v":""},{"$f":"IF(ISBLANK(Responses!O398), \"\", Responses!O398)","v":""},{"$f":"IF(ISBLANK(Responses!P398), \"\", Responses!P398)","v":""},{"$f":"IF(ISBLANK(Responses!Q398), \"\", Responses!Q398)","v":""},{"$f":"IF(ISBLANK(Responses!R398), \"\", Responses!R398)","v":""},{"$f":"IF(ISBLANK(Responses!S398), \"\", Responses!S398)","v":""},{"$f":"IF(ISBLANK(Responses!T398), \"\", Responses!T398)","v":""}]
[{"$f":"IF(ISBLANK(Responses!A399), \"\", Responses!A399)","v":""},{"$f":"IF(ISBLANK(Responses!B399), \"\", Responses!B399)","v":""},{"$f":"IF(ISBLANK(Responses!N399), \"\", Responses!N399)","v":""},{"$f":"IF(ISBLANK(Responses!O399), \"\", Responses!O399)","v":""},{"$f":"IF(ISBLANK(Responses!P399), \"\", Responses!P399)","v":""},{"$f":"IF(ISBLANK(Responses!Q399), \"\", Responses!Q399)","v":""},{"$f":"IF(ISBLANK(Responses!R399), \"\", Responses!R399)","v":""},{"$f":"IF(ISBLANK(Responses!S399), \"\", Responses!S399)","v":""},{"$f":"IF(ISBLANK(Responses!T399), \"\", Responses!T399)","v":""}]
[{"$f":"IF(ISBLANK(Responses!A400), \"\", Responses!A400)","v":""},{"$f":"IF(ISBLANK(Responses!B400), \"\", Responses!B400)","v":""},{"$f":"IF(ISBLANK(Responses!N400), \"\", Responses!N400)","v":""},{"$f":"IF(ISBLANK(Responses!O400), \"\", Responses!O400)","v":""},{"$f":"IF(ISBLANK(Responses!P400), \"\", Responses!P400)","v":""},{"$f":"IF(ISBLANK(Responses!Q400), \"\", Responses!Q400)","v":""},{"$f":"IF(ISBLANK(Responses!R400), \"\", Responses!R400)","v":""},{"$f":"IF(ISBLANK(Responses!S400), \"\", Responses!S400)","v":""},{"$f":"IF(ISBLANK(Responses!T400), \"\", Responses!T400)","v":""}]
[{"$f":"IF(ISBLANK(Responses!A401), \"\", Responses!A401)","v":""},{"$f":"IF(ISBLANK(Responses!B401), \"\", Responses!B401)","v":""},{"$f":"IF(ISBLANK(Responses!N401), \"\", Responses!N401)","v":""},{"$f":"IF(ISBLANK(Responses!O401), \"\", Responses!O401)","v":""},{"$f":"IF(ISBLANK(Responses!P401), \"\", Responses!P401)","v":""},{"$f":"IF(ISBLANK(Responses!Q401), \"\", Responses!Q401)","v":""},{"$f":"IF(ISBLANK(Responses!R401), \"\", Responses!R401)","v":""},{"$f":"IF(ISBLANK(Responses!S401), \"\", Responses!S401)","v":""},{"$f":"IF(ISBLANK(Responses!T401), \"\", Responses!T401)","v":""}]
[{"$f":"IF(ISBLANK(Responses!A402), \"\", Responses!A402)","v":""},{"$f":"IF(ISBLANK(Responses!B402), \"\", Responses!B402)","v":""},{"$f":"IF(ISBLANK(Responses!N402), \"\", Responses!N402)","v":""},{"$f":"IF(ISBLANK(Responses!O402), \"\", Responses!O402)","v":""},{"$f":"IF(ISBLANK(Responses!P402), \"\", Responses!P402)","v":""},{"$f":"IF(ISBLANK(Responses!Q402), \"\", Responses!Q402)","v":""},{"$f":"IF(ISBLANK(Responses!R402), \"\", Responses!R402)","v":""},{"$f":"IF(ISBLANK(Responses!S402), \"\", Responses!S402)","v":""},{"$f":"IF(ISBLANK(Responses!T402), \"\", Responses!T402)","v":""}]
[{"$f":"IF(ISBLANK(Responses!A403), \"\", Responses!A403)","v":""},{"$f":"IF(ISBLANK(Responses!B403), \"\", Responses!B403)","v":""},{"$f":"IF(ISBLANK(Responses!N403), \"\", Responses!N403)","v":""},{"$f":"IF(ISBLANK(Responses!O403), \"\", Responses!O403)","v":""},{"$f":"IF(ISBLANK(Responses!P403), \"\", Responses!P403)","v":""},{"$f":"IF(ISBLANK(Responses!Q403), \"\", Responses!Q403)","v":""},{"$f":"IF(ISBLANK(Responses!R403), \"\", Responses!R403)","v":""},{"$f":"IF(ISBLANK(Responses!S403), \"\", Responses!S403)","v":""},{"$f":"IF(ISBLANK(Responses!T403), \"\", Responses!T403)","v":""}]
[{"$f":"IF(ISBLANK(Responses!A404), \"\", Responses!A404)","v":""},{"$f":"IF(ISBLANK(Responses!B404), \"\", Responses!B404)","v":""},{"$f":"IF(ISBLANK(Responses!N404), \"\", Responses!N404)","v":""},{"$f":"IF(ISBLANK(Responses!O404), \"\", Responses!O404)","v":""},{"$f":"IF(ISBLANK(Responses!P404), \"\", Responses!P404)","v":""},{"$f":"IF(ISBLANK(Responses!Q404), \"\", Responses!Q404)","v":""},{"$f":"IF(ISBLANK(Responses!R404), \"\", Responses!R404)","v":""},{"$f":"IF(ISBLANK(Responses!S404), \"\", Responses!S404)","v":""},{"$f":"IF(ISBLANK(Responses!T404), \"\", Responses!T404)","v":""}]
[{"$f":"IF(ISBLANK(Responses!A405), \"\", Responses!A405)","v":""},{"$f":"IF(ISBLANK(Responses!B405), \"\", Responses!B405)","v":""},{"$f":"IF(ISBLANK(Responses!N405), \"\", Responses!N405)","v":""},{"$f":"IF(ISBLANK(Responses!O405), \"\", Responses!O405)","v":""},{"$f":"IF(ISBLANK(Responses!P405), \"\", Responses!P405)","v":""},{"$f":"IF(ISBLANK(Responses!Q405), \"\", Responses!Q405)","v":""},{"$f":"IF(ISBLANK(Responses!R405), \"\", Responses!R405)","v":""},{"$f":"IF(ISBLANK(Responses!S405), \"\", Responses!S405)","v":""},{"$f":"IF(ISBLANK(Responses!T405), \"\", Responses!T405)","v":""}]
[{"$f":"IF(ISBLANK(Responses!A406), \"\", Responses!A406)","v":""},{"$f":"IF(ISBLANK(Responses!B406), \"\", Responses!B406)","v":""},{"$f":"IF(ISBLANK(Responses!N406), \"\", Responses!N406)","v":""},{"$f":"IF(ISBLANK(Responses!O406), \"\", Responses!O406)","v":""},{"$f":"IF(ISBLANK(Responses!P406), \"\", Responses!P406)","v":""},{"$f":"IF(ISBLANK(Responses!Q406), \"\", Responses!Q406)","v":""},{"$f":"IF(ISBLANK(Responses!R406), \"\", Responses!R406)","v":""},{"$f":"IF(ISBLANK(Responses!S406), \"\", Responses!S406)","v":""},{"$f":"IF(ISBLANK(Responses!T406), \"\", Responses!T406)","v":""}]
[{"$f":"IF(ISBLANK(Responses!A407), \"\", Responses!A407)","v":""},{"$f":"IF(ISBLANK(Responses!B407), \"\", Responses!B407)","v":""},{"$f":"IF(ISBLANK(Responses!N407), \"\", Responses!N407)","v":""},{"$f":"IF(ISBLANK(Responses!O407), \"\", Responses!O407)","v":""},{"$f":"IF(ISBLANK(Responses!P407), \"\", Responses!P407)","v":""},{"$f":"IF(ISBLANK(Responses!Q407), \"\", Responses!Q407)","v":""},{"$f":"IF(ISBLANK(Responses!R407), \"\", Responses!R407)","v":""},{"$f":"IF(ISBLANK(Responses!S407), \"\", Responses!S407)","v":""},{"$f":"IF(ISBLANK(Responses!T407), \"\", Responses!T407)","v":""}]
[{"$f":"IF(ISBLANK(Responses!A408), \"\", Responses!A408)","v":""},{"$f":"IF(ISBLANK(Responses!B408), \"\", Responses!B408)","v":""},{"$f":"IF(ISBLANK(Responses!N408), \"\", Responses!N408)","v":""},{"$f":"IF(ISBLANK(Responses!O408), \"\", Responses!O408)","v":""},{"$f":"IF(ISBLANK(Responses!P408), \"\", Responses!P408)","v":""},{"$f":"IF(ISBLANK(Responses!Q408), \"\", Responses!Q408)","v":""},{"$f":"IF(ISBLANK(Responses!R408), \"\", Responses!R408)","v":""},{"$f":"IF(ISBLANK(Responses!S408), \"\", Responses!S408)","v":""},{"$f":"IF(ISBLANK(Responses!T408), \"\", Responses!T408)","v":""}]
[{"$f":"IF(ISBLANK(Responses!A409), \"\", Responses!A409)","v":""},{"$f":"IF(ISBLANK(Responses!B409), \"\", Responses!B409)","v":""},{"$f":"IF(ISBLANK(Responses!N409), \"\", Responses!N409)","v":""},{"$f":"IF(ISBLANK(Responses!O409), \"\", Responses!O409)","v":""},{"$f":"IF(ISBLANK(Responses!P409), \"\", Responses!P409)","v":""},{"$f":"IF(ISBLANK(Responses!Q409), \"\", Responses!Q409)","v":""},{"$f":"IF(ISBLANK(Responses!R409), \"\", Responses!R409)","v":""},{"$f":"IF(ISBLANK(Responses!S409), \"\", Responses!S409)","v":""},{"$f":"IF(ISBLANK(Responses!T409), \"\", Responses!T409)","v":""}]
[{"$f":"IF(ISBLANK(Responses!A410), \"\", Responses!A410)","v":""},{"$f":"IF(ISBLANK(Responses!B410), \"\", Responses!B410)","v":""},{"$f":"IF(ISBLANK(Responses!N410), \"\", Responses!N410)","v":""},{"$f":"IF(ISBLANK(Responses!O410), \"\", Responses!O410)","v":""},{"$f":"IF(ISBLANK(Responses!P410), \"\", Responses!P410)","v":""},{"$f":"IF(ISBLANK(Responses!Q410), \"\", Responses!Q410)","v":""},{"$f":"IF(ISBLANK(Responses!R410), \"\", Responses!R410)","v":""},{"$f":"IF(ISBLANK(Responses!S410), \"\", Responses!S410)","v":""},{"$f":"IF(ISBLANK(Responses!T410), \"\", Responses!T410)","v":""}]
[{"$f":"IF(ISBLANK(Responses!A411), \"\", Responses!A411)","v":""},{"$f":"IF(ISBLANK(Responses!B411), \"\", Responses!B411)","v":""},{"$f":"IF(ISBLANK(Responses!N411), \"\", Responses!N411)","v":""},{"$f":"IF(ISBLANK(Responses!O411), \"\", Responses!O411)","v":""},{"$f":"IF(ISBLANK(Responses!P411), \"\", Responses!P411)","v":""},{"$f":"IF(ISBLANK(Responses!Q411), \"\", Responses!Q411)","v":""},{"$f":"IF(ISBLANK(Responses!R411), \"\", Responses!R411)","v":""},{"$f":"IF(ISBLANK(Responses!S411), \"\", Responses!S411)","v":""},{"$f":"IF(ISBLANK(Responses!T411), \"\", Responses!T411)","v":""}]
[{"$f":"IF(ISBLANK(Responses!A412), \"\", Responses!A412)","v":""},{"$f":"IF(ISBLANK(Responses!B412), \"\", Responses!B412)","v":""},{"$f":"IF(ISBLANK(Responses!N412), \"\", Responses!N412)","v":""},{"$f":"IF(ISBLANK(Responses!O412), \"\", Responses!O412)","v":""},{"$f":"IF(ISBLANK(Responses!P412), \"\", Responses!P412)","v":""},{"$f":"IF(ISBLANK(Responses!Q412), \"\", Responses!Q412)","v":""},{"$f":"IF(ISBLANK(Responses!R412), \"\", Responses!R412)","v":""},{"$f":"IF(ISBLANK(Responses!S412), \"\", Responses!S412)","v":""},{"$f":"IF(ISBLANK(Responses!T412), \"\", Responses!T412)","v":""}]
[{"$f":"IF(ISBLANK(Responses!A413), \"\", Responses!A413)","v":""},{"$f":"IF(ISBLANK(Responses!B413), \"\", Responses!B413)","v":""},{"$f":"IF(ISBLANK(Responses!N413), \"\", Responses!N413)","v":""},{"$f":"IF(ISBLANK(Responses!O413), \"\", Responses!O413)","v":""},{"$f":"IF(ISBLANK(Responses!P413), \"\", Responses!P413)","v":""},{"$f":"IF(ISBLANK(Responses!Q413), \"\", Responses!Q413)","v":""},{"$f":"IF(ISBLANK(Responses!R413), \"\", Responses!R413)","v":""},{"$f":"IF(ISBLANK(Responses!S413), \"\", Responses!S413)","v":""},{"$f":"IF(ISBLANK(Responses!T413), \"\", Responses!T413)","v":""}]
[{"$f":"IF(ISBLANK(Responses!A414), \"\", Responses!A414)","v":""},{"$f":"IF(ISBLANK(Responses!B414), \"\", Responses!B414)","v":""},{"$f":"IF(ISBLANK(Responses!N414), \"\", Responses!N414)","v":""},{"$f":"IF(ISBLANK(Responses!O414), \"\", Responses!O414)","v":""},{"$f":"IF(ISBLANK(Responses!P414), \"\", Responses!P414)","v":""},{"$f":"IF(ISBLANK(Responses!Q414), \"\", Responses!Q414)","v":""},{"$f":"IF(ISBLANK(Responses!R414), \"\", Responses!R414)","v":""},{"$f":"IF(ISBLANK(Responses!S414), \"\", Responses!S414)","v":""},{"$f":"IF(ISBLANK(Responses!T414), \"\", Responses!T414)","v":""}]
[{"$f":"IF(ISBLANK(Responses!A415), \"\", Responses!A415)","v":""},{"$f":"IF(ISBLANK(Responses!B415), \"\", Responses!B415)","v":""},{"$f":"IF(ISBLANK(Responses!N415), \"\", Responses!N415)","v":""},{"$f":"IF(ISBLANK(Responses!O415), \"\", Responses!O415)","v":""},{"$f":"IF(ISBLANK(Responses!P415), \"\", Responses!P415)","v":""},{"$f":"IF(ISBLANK(Responses!Q415), \"\", Responses!Q415)","v":""},{"$f":"IF(ISBLANK(Responses!R415), \"\", Responses!R415)","v":""},{"$f":"IF(ISBLANK(Responses!S415), \"\", Responses!S415)","v":""},{"$f":"IF(ISBLANK(Responses!T415), \"\", Responses!T415)","v":""}]
[{"$f":"IF(ISBLANK(Responses!A416), \"\", Responses!A416)","v":""},{"$f":"IF(ISBLANK(Responses!B416), \"\", Responses!B416)","v":""},{"$f":"IF(ISBLANK(Responses!N416), \"\", Responses!N416)","v":""},{"$f":"IF(ISBLANK(Responses!O416), \"\", Responses!O416)","v":""},{"$f":"IF(ISBLANK(Responses!P416), \"\", Responses!P416)","v":""},{"$f":"IF(ISBLANK(Responses!Q416), \"\", Responses!Q416)","v":""},{"$f":"IF(ISBLANK(Responses!R416), \"\", Responses!R416)","v":""},{"$f":"IF(ISBLANK(Responses!S416), \"\", Responses!S416)","v":""},{"$f":"IF(ISBLANK(Responses!T416), \"\", Responses!T416)","v":""}]
[{"$f":"IF(ISBLANK(Responses!A417), \"\", Responses!A417)","v":""},{"$f":"IF(ISBLANK(Responses!B417), \"\", Responses!B417)","v":""},{"$f":"IF(ISBLANK(Responses!N417), \"\", Responses!N417)","v":""},{"$f":"IF(ISBLANK(Responses!O417), \"\", Responses!O417)","v":""},{"$f":"IF(ISBLANK(Responses!P417), \"\", Responses!P417)","v":""},{"$f":"IF(ISBLANK(Responses!Q417), \"\", Responses!Q417)","v":""},{"$f":"IF(ISBLANK(Responses!R417), \"\", Responses!R417)","v":""},{"$f":"IF(ISBLANK(Responses!S417), \"\", Responses!S417)","v":""},{"$f":"IF(ISBLANK(Responses!T417), \"\", Responses!T417)","v":""}]
[{"$f":"IF(ISBLANK(Responses!A418), \"\", Responses!A418)","v":""},{"$f":"IF(ISBLANK(Responses!B418), \"\", Responses!B418)","v":""},{"$f":"IF(ISBLANK(Responses!N418), \"\", Responses!N418)","v":""},{"$f":"IF(ISBLANK(Responses!O418), \"\", Responses!O418)","v":""},{"$f":"IF(ISBLANK(Responses!P418), \"\", Responses!P418)","v":""},{"$f":"IF(ISBLANK(Responses!Q418), \"\", Responses!Q418)","v":""},{"$f":"IF(ISBLANK(Responses!R418), \"\", Responses!R418)","v":""},{"$f":"IF(ISBLANK(Responses!S418), \"\", Responses!S418)","v":""},{"$f":"IF(ISBLANK(Responses!T418), \"\", Responses!T418)","v":""}]
[{"$f":"IF(ISBLANK(Responses!A419), \"\", Responses!A419)","v":""},{"$f":"IF(ISBLANK(Responses!B419), \"\", Responses!B419)","v":""},{"$f":"IF(ISBLANK(Responses!N419), \"\", Responses!N419)","v":""},{"$f":"IF(ISBLANK(Responses!O419), \"\", Responses!O419)","v":""},{"$f":"IF(ISBLANK(Responses!P419), \"\", Responses!P419)","v":""},{"$f":"IF(ISBLANK(Responses!Q419), \"\", Responses!Q419)","v":""},{"$f":"IF(ISBLANK(Responses!R419), \"\", Responses!R419)","v":""},{"$f":"IF(ISBLANK(Responses!S419), \"\", Responses!S419)","v":""},{"$f":"IF(ISBLANK(Responses!T419), \"\", Responses!T419)","v":""}]
[{"$f":"IF(ISBLANK(Responses!A420), \"\", Responses!A420)","v":""},{"$f":"IF(ISBLANK(Responses!B420), \"\", Responses!B420)","v":""},{"$f":"IF(ISBLANK(Responses!N420), \"\", Responses!N420)","v":""},{"$f":"IF(ISBLANK(Responses!O420), \"\", Responses!O420)","v":""},{"$f":"IF(ISBLANK(Responses!P420), \"\", Responses!P420)","v":""},{"$f":"IF(ISBLANK(Responses!Q420), \"\", Responses!Q420)","v":""},{"$f":"IF(ISBLANK(Responses!R420), \"\", Responses!R420)","v":""},{"$f":"IF(ISBLANK(Responses!S420), \"\", Responses!S420)","v":""},{"$f":"IF(ISBLANK(Responses!T420), \"\", Responses!T420)","v":""}]
[{"$f":"IF(ISBLANK(Responses!A421), \"\", Responses!A421)","v":""},{"$f":"IF(ISBLANK(Responses!B421), \"\", Responses!B421)","v":""},{"$f":"IF(ISBLANK(Responses!N421), \"\", Responses!N421)","v":""},{"$f":"IF(ISBLANK(Responses!O421), \"\", Responses!O421)","v":""},{"$f":"IF(ISBLANK(Responses!P421), \"\", Responses!P421)","v":""},{"$f":"IF(ISBLANK(Responses!Q421), \"\", Responses!Q421)","v":""},{"$f":"IF(ISBLANK(Responses!R421), \"\", Responses!R421)","v":""},{"$f":"IF(ISBLANK(Responses!S421), \"\", Responses!S421)","v":""},{"$f":"IF(ISBLANK(Responses!T421), \"\", Responses!T421)","v":""}]
[{"$f":"IF(ISBLANK(Responses!A422), \"\", Responses!A422)","v":""},{"$f":"IF(ISBLANK(Responses!B422), \"\", Responses!B422)","v":""},{"$f":"IF(ISBLANK(Responses!N422), \"\", Responses!N422)","v":""},{"$f":"IF(ISBLANK(Responses!O422), \"\", Responses!O422)","v":""},{"$f":"IF(ISBLANK(Responses!P422), \"\", Responses!P422)","v":""},{"$f":"IF(ISBLANK(Responses!Q422), \"\", Responses!Q422)","v":""},{"$f":"IF(ISBLANK(Responses!R422), \"\", Responses!R422)","v":""},{"$f":"IF(ISBLANK(Responses!S422), \"\", Responses!S422)","v":""},{"$f":"IF(ISBLANK(Responses!T422), \"\", Responses!T422)","v":""}]
[{"$f":"IF(ISBLANK(Responses!A423), \"\", Responses!A423)","v":""},{"$f":"IF(ISBLANK(Responses!B423), \"\", Responses!B423)","v":""},{"$f":"IF(ISBLANK(Responses!N423), \"\", Responses!N423)","v":""},{"$f":"IF(ISBLANK(Responses!O423), \"\", Responses!O423)","v":""},{"$f":"IF(ISBLANK(Responses!P423), \"\", Responses!P423)","v":""},{"$f":"IF(ISBLANK(Responses!Q423), \"\", Responses!Q423)","v":""},{"$f":"IF(ISBLANK(Responses!R423), \"\", Responses!R423)","v":""},{"$f":"IF(ISBLANK(Responses!S423), \"\", Responses!S423)","v":""},{"$f":"IF(ISBLANK(Responses!T423), \"\", Responses!T423)","v":""}]
[{"$f":"IF(ISBLANK(Responses!A424), \"\", Responses!A424)","v":""},{"$f":"IF(ISBLANK(Responses!B424), \"\", Responses!B424)","v":""},{"$f":"IF(ISBLANK(Responses!N424), \"\", Responses!N424)","v":""},{"$f":"IF(ISBLANK(Responses!O424), \"\", Responses!O424)","v":""},{"$f":"IF(ISBLANK(Responses!P424), \"\", Responses!P424)","v":""},{"$f":"IF(ISBLANK(Responses!Q424), \"\", Responses!Q424)","v":""},{"$f":"IF(ISBLANK(Responses!R424), \"\", Responses!R424)","v":""},{"$f":"IF(ISBLANK(Responses!S424), \"\", Responses!S424)","v":""},{"$f":"IF(ISBLANK(Responses!T424), \"\", Responses!T424)","v":""}]
[{"$f":"IF(ISBLANK(Responses!A425), \"\", Responses!A425)","v":""},{"$f":"IF(ISBLANK(Responses!B425), \"\", Responses!B425)","v":""},{"$f":"IF(ISBLANK(Responses!N425), \"\", Responses!N425)","v":""},{"$f":"IF(ISBLANK(Responses!O425), \"\", Responses!O425)","v":""},{"$f":"IF(ISBLANK(Responses!P425), \"\", Responses!P425)","v":""},{"$f":"IF(ISBLANK(Responses!Q425), \"\", Responses!Q425)","v":""},{"$f":"IF(ISBLANK(Responses!R425), \"\", Responses!R425)","v":""},{"$f":"IF(ISBLANK(Responses!S425), \"\", Responses!S425)","v":""},{"$f":"IF(ISBLANK(Responses!T425), \"\", Responses!T425)","v":""}]
[{"$f":"IF(ISBLANK(Responses!A426), \"\", Responses!A426)","v":""},{"$f":"IF(ISBLANK(Responses!B426), \"\", Responses!B426)","v":""},{"$f":"IF(ISBLANK(Responses!N426), \"\", Responses!N426)","v":""},{"$f":"IF(ISBLANK(Responses!O426), \"\", Responses!O426)","v":""},{"$f":"IF(ISBLANK(Responses!P426), \"\", Responses!P426)","v":""},{"$f":"IF(ISBLANK(Responses!Q426), \"\", Responses!Q426)","v":""},{"$f":"IF(ISBLANK(Responses!R426), \"\", Responses!R426)","v":""},{"$f":"IF(ISBLANK(Responses!S426), \"\", Responses!S426)","v":""},{"$f":"IF(ISBLANK(Responses!T426), \"\", Responses!T426)","v":""}]
[{"$f":"IF(ISBLANK(Responses!A427), \"\", Responses!A427)","v":""},{"$f":"IF(ISBLANK(Responses!B427), \"\", Responses!B427)","v":""},{"$f":"IF(ISBLANK(Responses!N427), \"\", Responses!N427)","v":""},{"$f":"IF(ISBLANK(Responses!O427), \"\", Responses!O427)","v":""},{"$f":"IF(ISBLANK(Responses!P427), \"\", Responses!P427)","v":""},{"$f":"IF(ISBLANK(Responses!Q427), \"\", Responses!Q427)","v":""},{"$f":"IF(ISBLANK(Responses!R427), \"\", Responses!R427)","v":""},{"$f":"IF(ISBLANK(Responses!S427), \"\", Responses!S427)","v":""},{"$f":"IF(ISBLANK(Responses!T427), \"\", Responses!T427)","v":""}]
[{"$f":"IF(ISBLANK(Responses!A428), \"\", Responses!A428)","v":""},{"$f":"IF(ISBLANK(Responses!B428), \"\", Responses!B428)","v":""},{"$f":"IF(ISBLANK(Responses!N428), \"\", Responses!N428)","v":""},{"$f":"IF(ISBLANK(Responses!O428), \"\", Responses!O428)","v":""},{"$f":"IF(ISBLANK(Responses!P428), \"\", Responses!P428)","v":""},{"$f":"IF(ISBLANK(Responses!Q428), \"\", Responses!Q428)","v":""},{"$f":"IF(ISBLANK(Responses!R428), \"\", Responses!R428)","v":""},{"$f":"IF(ISBLANK(Responses!S428), \"\", Responses!S428)","v":""},{"$f":"IF(ISBLANK(Responses!T428), \"\", Responses!T428)","v":""}]
[{"$f":"IF(ISBLANK(Responses!A429), \"\", Responses!A429)","v":""},{"$f":"IF(ISBLANK(Responses!B429), \"\", Responses!B429)","v":""},{"$f":"IF(ISBLANK(Responses!N429), \"\", Responses!N429)","v":""},{"$f":"IF(ISBLANK(Responses!O429), \"\", Responses!O429)","v":""},{"$f":"IF(ISBLANK(Responses!P429), \"\", Responses!P429)","v":""},{"$f":"IF(ISBLANK(Responses!Q429), \"\", Responses!Q429)","v":""},{"$f":"IF(ISBLANK(Responses!R429), \"\", Responses!R429)","v":""},{"$f":"IF(ISBLANK(Responses!S429), \"\", Responses!S429)","v":""},{"$f":"IF(ISBLANK(Responses!T429), \"\", Responses!T429)","v":""}]
[{"$f":"IF(ISBLANK(Responses!A430), \"\", Responses!A430)","v":""},{"$f":"IF(ISBLANK(Responses!B430), \"\", Responses!B430)","v":""},{"$f":"IF(ISBLANK(Responses!N430), \"\", Responses!N430)","v":""},{"$f":"IF(ISBLANK(Responses!O430), \"\", Responses!O430)","v":""},{"$f":"IF(ISBLANK(Responses!P430), \"\", Responses!P430)","v":""},{"$f":"IF(ISBLANK(Responses!Q430), \"\", Responses!Q430)","v":""},{"$f":"IF(ISBLANK(Responses!R430), \"\", Responses!R430)","v":""},{"$f":"IF(ISBLANK(Responses!S430), \"\", Responses!S430)","v":""},{"$f":"IF(ISBLANK(Responses!T430), \"\", Responses!T430)","v":""}]
[{"$f":"IF(ISBLANK(Responses!A431), \"\", Responses!A431)","v":""},{"$f":"IF(ISBLANK(Responses!B431), \"\", Responses!B431)","v":""},{"$f":"IF(ISBLANK(Responses!N431), \"\", Responses!N431)","v":""},{"$f":"IF(ISBLANK(Responses!O431), \"\", Responses!O431)","v":""},{"$f":"IF(ISBLANK(Responses!P431), \"\", Responses!P431)","v":""},{"$f":"IF(ISBLANK(Responses!Q431), \"\", Responses!Q431)","v":""},{"$f":"IF(ISBLANK(Responses!R431), \"\", Responses!R431)","v":""},{"$f":"IF(ISBLANK(Responses!S431), \"\", Responses!S431)","v":""},{"$f":"IF(ISBLANK(Responses!T431), \"\", Responses!T431)","v":""}]
[{"$f":"IF(ISBLANK(Responses!A432), \"\", Responses!A432)","v":""},{"$f":"IF(ISBLANK(Responses!B432), \"\", Responses!B432)","v":""},{"$f":"IF(ISBLANK(Responses!N432), \"\", Responses!N432)","v":""},{"$f":"IF(ISBLANK(Responses!O432), \"\", Responses!O432)","v":""},{"$f":"IF(ISBLANK(Responses!P432), \"\", Responses!P432)","v":""},{"$f":"IF(ISBLANK(Responses!Q432), \"\", Responses!Q432)","v":""},{"$f":"IF(ISBLANK(Responses!R432), \"\", Responses!R432)","v":""},{"$f":"IF(ISBLANK(Responses!S432), \"\", Responses!S432)","v":""},{"$f":"IF(ISBLANK(Responses!T432), \"\", Responses!T432)","v":""}]
[{"$f":"IF(ISBLANK(Responses!A433), \"\", Responses!A433)","v":""},{"$f":"IF(ISBLANK(Responses!B433), \"\", Responses!B433)","v":""},{"$f":"IF(ISBLANK(Responses!N433), \"\", Responses!N433)","v":""},{"$f":"IF(ISBLANK(Responses!O433), \"\", Responses!O433)","v":""},{"$f":"IF(ISBLANK(Responses!P433), \"\", Responses!P433)","v":""},{"$f":"IF(ISBLANK(Responses!Q433), \"\", Responses!Q433)","v":""},{"$f":"IF(ISBLANK(Responses!R433), \"\", Responses!R433)","v":""},{"$f":"IF(ISBLANK(Responses!S433), \"\", Responses!S433)","v":""},{"$f":"IF(ISBLANK(Responses!T433), \"\", Responses!T433)","v":""}]
[{"$f":"IF(ISBLANK(Responses!A434), \"\", Responses!A434)","v":""},{"$f":"IF(ISBLANK(Responses!B434), \"\", Responses!B434)","v":""},{"$f":"IF(ISBLANK(Responses!N434), \"\", Responses!N434)","v":""},{"$f":"IF(ISBLANK(Responses!O434), \"\", Responses!O434)","v":""},{"$f":"IF(ISBLANK(Responses!P434), \"\", Responses!P434)","v":""},{"$f":"IF(ISBLANK(Responses!Q434), \"\", Responses!Q434)","v":""},{"$f":"IF(ISBLANK(Responses!R434), \"\", Responses!R434)","v":""},{"$f":"IF(ISBLANK(Responses!S434), \"\", Responses!S434)","v":""},{"$f":"IF(ISBLANK(Responses!T434), \"\", Responses!T434)","v":""}]
[{"$f":"IF(ISBLANK(Responses!A435), \"\", Responses!A435)","v":""},{"$f":"IF(ISBLANK(Responses!B435), \"\", Responses!B435)","v":""},{"$f":"IF(ISBLANK(Responses!N435), \"\", Responses!N435)","v":""},{"$f":"IF(ISBLANK(Responses!O435), \"\", Responses!O435)","v":""},{"$f":"IF(ISBLANK(Responses!P435), \"\", Responses!P435)","v":""},{"$f":"IF(ISBLANK(Responses!Q435), \"\", Responses!Q435)","v":""},{"$f":"IF(ISBLANK(Responses!R435), \"\", Responses!R435)","v":""},{"$f":"IF(ISBLANK(Responses!S435), \"\", Responses!S435)","v":""},{"$f":"IF(ISBLANK(Responses!T435), \"\", Responses!T435)","v":""}]
[{"$f":"IF(ISBLANK(Responses!A436), \"\", Responses!A436)","v":""},{"$f":"IF(ISBLANK(Responses!B436), \"\", Responses!B436)","v":""},{"$f":"IF(ISBLANK(Responses!N436), \"\", Responses!N436)","v":""},{"$f":"IF(ISBLANK(Responses!O436), \"\", Responses!O436)","v":""},{"$f":"IF(ISBLANK(Responses!P436), \"\", Responses!P436)","v":""},{"$f":"IF(ISBLANK(Responses!Q436), \"\", Responses!Q436)","v":""},{"$f":"IF(ISBLANK(Responses!R436), \"\", Responses!R436)","v":""},{"$f":"IF(ISBLANK(Responses!S436), \"\", Responses!S436)","v":""},{"$f":"IF(ISBLANK(Responses!T436), \"\", Responses!T436)","v":""}]
[{"$f":"IF(ISBLANK(Responses!A437), \"\", Responses!A437)","v":""},{"$f":"IF(ISBLANK(Responses!B437), \"\", Responses!B437)","v":""},{"$f":"IF(ISBLANK(Responses!N437), \"\", Responses!N437)","v":""},{"$f":"IF(ISBLANK(Responses!O437), \"\", Responses!O437)","v":""},{"$f":"IF(ISBLANK(Responses!P437), \"\", Responses!P437)","v":""},{"$f":"IF(ISBLANK(Responses!Q437), \"\", Responses!Q437)","v":""},{"$f":"IF(ISBLANK(Responses!R437), \"\", Responses!R437)","v":""},{"$f":"IF(ISBLANK(Responses!S437), \"\", Responses!S437)","v":""},{"$f":"IF(ISBLANK(Responses!T437), \"\", Responses!T437)","v":""}]
[{"$f":"IF(ISBLANK(Responses!A438), \"\", Responses!A438)","v":""},{"$f":"IF(ISBLANK(Responses!B438), \"\", Responses!B438)","v":""},{"$f":"IF(ISBLANK(Responses!N438), \"\", Responses!N438)","v":""},{"$f":"IF(ISBLANK(Responses!O438), \"\", Responses!O438)","v":""},{"$f":"IF(ISBLANK(Responses!P438), \"\", Responses!P438)","v":""},{"$f":"IF(ISBLANK(Responses!Q438), \"\", Responses!Q438)","v":""},{"$f":"IF(ISBLANK(Responses!R438), \"\", Responses!R438)","v":""},{"$f":"IF(ISBLANK(Responses!S438), \"\", Responses!S438)","v":""},{"$f":"IF(ISBLANK(Responses!T438), \"\", Responses!T438)","v":""}]
[{"$f":"IF(ISBLANK(Responses!A439), \"\", Responses!A439)","v":""},{"$f":"IF(ISBLANK(Responses!B439), \"\", Responses!B439)","v":""},{"$f":"IF(ISBLANK(Responses!N439), \"\", Responses!N439)","v":""},{"$f":"IF(ISBLANK(Responses!O439), \"\", Responses!O439)","v":""},{"$f":"IF(ISBLANK(Responses!P439), \"\", Responses!P439)","v":""},{"$f":"IF(ISBLANK(Responses!Q439), \"\", Responses!Q439)","v":""},{"$f":"IF(ISBLANK(Responses!R439), \"\", Responses!R439)","v":""},{"$f":"IF(ISBLANK(Responses!S439), \"\", Responses!S439)","v":""},{"$f":"IF(ISBLANK(Responses!T439), \"\", Responses!T439)","v":""}]
[{"$f":"IF(ISBLANK(Responses!A440), \"\", Responses!A440)","v":""},{"$f":"IF(ISBLANK(Responses!B440), \"\", Responses!B440)","v":""},{"$f":"IF(ISBLANK(Responses!N440), \"\", Responses!N440)","v":""},{"$f":"IF(ISBLANK(Responses!O440), \"\", Responses!O440)","v":""},{"$f":"IF(ISBLANK(Responses!P440), \"\", Responses!P440)","v":""},{"$f":"IF(ISBLANK(Responses!Q440), \"\", Responses!Q440)","v":""},{"$f":"IF(ISBLANK(Responses!R440), \"\", Responses!R440)","v":""},{"$f":"IF(ISBLANK(Responses!S440), \"\", Responses!S440)","v":""},{"$f":"IF(ISBLANK(Responses!T440), \"\", Responses!T440)","v":""}]
[{"$f":"IF(ISBLANK(Responses!A441), \"\", Responses!A441)","v":""},{"$f":"IF(ISBLANK(Responses!B441), \"\", Responses!B441)","v":""},{"$f":"IF(ISBLANK(Responses!N441), \"\", Responses!N441)","v":""},{"$f":"IF(ISBLANK(Responses!O441), \"\", Responses!O441)","v":""},{"$f":"IF(ISBLANK(Responses!P441), \"\", Responses!P441)","v":""},{"$f":"IF(ISBLANK(Responses!Q441), \"\", Responses!Q441)","v":""},{"$f":"IF(ISBLANK(Responses!R441), \"\", Responses!R441)","v":""},{"$f":"IF(ISBLANK(Responses!S441), \"\", Responses!S441)","v":""},{"$f":"IF(ISBLANK(Responses!T441), \"\", Responses!T441)","v":""}]
[{"$f":"IF(ISBLANK(Responses!A442), \"\", Responses!A442)","v":""},{"$f":"IF(ISBLANK(Responses!B442), \"\", Responses!B442)","v":""},{"$f":"IF(ISBLANK(Responses!N442), \"\", Responses!N442)","v":""},{"$f":"IF(ISBLANK(Responses!O442), \"\", Responses!O442)","v":""},{"$f":"IF(ISBLANK(Responses!P442), \"\", Responses!P442)","v":""},{"$f":"IF(ISBLANK(Responses!Q442), \"\", Responses!Q442)","v":""},{"$f":"IF(ISBLANK(Responses!R442), \"\", Responses!R442)","v":""},{"$f":"IF(ISBLANK(Responses!S442), \"\", Responses!S442)","v":""},{"$f":"IF(ISBLANK(Responses!T442), \"\", Responses!T442)","v":""}]
[{"$f":"IF(ISBLANK(Responses!A443), \"\", Responses!A443)","v":""},{"$f":"IF(ISBLANK(Responses!B443), \"\", Responses!B443)","v":""},{"$f":"IF(ISBLANK(Responses!N443), \"\", Responses!N443)","v":""},{"$f":"IF(ISBLANK(Responses!O443), \"\", Responses!O443)","v":""},{"$f":"IF(ISBLANK(Responses!P443), \"\", Responses!P443)","v":""},{"$f":"IF(ISBLANK(Responses!Q443), \"\", Responses!Q443)","v":""},{"$f":"IF(ISBLANK(Responses!R443), \"\", Responses!R443)","v":""},{"$f":"IF(ISBLANK(Responses!S443), \"\", Responses!S443)","v":""},{"$f":"IF(ISBLANK(Responses!T443), \"\", Responses!T443)","v":""}]
[{"$f":"IF(ISBLANK(Responses!A444), \"\", Responses!A444)","v":""},{"$f":"IF(ISBLANK(Responses!B444), \"\", Responses!B444)","v":""},{"$f":"IF(ISBLANK(Responses!N444), \"\", Responses!N444)","v":""},{"$f":"IF(ISBLANK(Responses!O444), \"\", Responses!O444)","v":""},{"$f":"IF(ISBLANK(Responses!P444), \"\", Responses!P444)","v":""},{"$f":"IF(ISBLANK(Responses!Q444), \"\", Responses!Q444)","v":""},{"$f":"IF(ISBLANK(Responses!R444), \"\", Responses!R444)","v":""},{"$f":"IF(ISBLANK(Responses!S444), \"\", Responses!S444)","v":""},{"$f":"IF(ISBLANK(Responses!T444), \"\", Responses!T444)","v":""}]
[{"$f":"IF(ISBLANK(Responses!A445), \"\", Responses!A445)","v":""},{"$f":"IF(ISBLANK(Responses!B445), \"\", Responses!B445)","v":""},{"$f":"IF(ISBLANK(Responses!N445), \"\", Responses!N445)","v":""},{"$f":"IF(ISBLANK(Responses!O445), \"\", Responses!O445)","v":""},{"$f":"IF(ISBLANK(Responses!P445), \"\", Responses!P445)","v":""},{"$f":"IF(ISBLANK(Responses!Q445), \"\", Responses!Q445)","v":""},{"$f":"IF(ISBLANK(Responses!R445), \"\", Responses!R445)","v":""},{"$f":"IF(ISBLANK(Responses!S445), \"\", Responses!S445)","v":""},{"$f":"IF(ISBLANK(Responses!T445), \"\", Responses!T445)","v":""}]
[{"$f":"IF(ISBLANK(Responses!A446), \"\", Responses!A446)","v":""},{"$f":"IF(ISBLANK(Responses!B446), \"\", Responses!B446)","v":""},{"$f":"IF(ISBLANK(Responses!N446), \"\", Responses!N446)","v":""},{"$f":"IF(ISBLANK(Responses!O446), \"\", Responses!O446)","v":""},{"$f":"IF(ISBLANK(Responses!P446), \"\", Responses!P446)","v":""},{"$f":"IF(ISBLANK(Responses!Q446), \"\", Responses!Q446)","v":""},{"$f":"IF(ISBLANK(Responses!R446), \"\", Responses!R446)","v":""},{"$f":"IF(ISBLANK(Responses!S446), \"\", Responses!S446)","v":""},{"$f":"IF(ISBLANK(Responses!T446), \"\", Responses!T446)","v":""}]
[{"$f":"IF(ISBLANK(Responses!A447), \"\", Responses!A447)","v":""},{"$f":"IF(ISBLANK(Responses!B447), \"\", Responses!B447)","v":""},{"$f":"IF(ISBLANK(Responses!N447), \"\", Responses!N447)","v":""},{"$f":"IF(ISBLANK(Responses!O447), \"\", Responses!O447)","v":""},{"$f":"IF(ISBLANK(Responses!P447), \"\", Responses!P447)","v":""},{"$f":"IF(ISBLANK(Responses!Q447), \"\", Responses!Q447)","v":""},{"$f":"IF(ISBLANK(Responses!R447), \"\", Responses!R447)","v":""},{"$f":"IF(ISBLANK(Responses!S447), \"\", Responses!S447)","v":""},{"$f":"IF(ISBLANK(Responses!T447), \"\", Responses!T447)","v":""}]
[{"$f":"IF(ISBLANK(Responses!A448), \"\", Responses!A448)","v":""},{"$f":"IF(ISBLANK(Responses!B448), \"\", Responses!B448)","v":""},{"$f":"IF(ISBLANK(Responses!N448), \"\", Responses!N448)","v":""},{"$f":"IF(ISBLANK(Responses!O448), \"\", Responses!O448)","v":""},{"$f":"IF(ISBLANK(Responses!P448), \"\", Responses!P448)","v":""},{"$f":"IF(ISBLANK(Responses!Q448), \"\", Responses!Q448)","v":""},{"$f":"IF(ISBLANK(Responses!R448), \"\", Responses!R448)","v":""},{"$f":"IF(ISBLANK(Responses!S448), \"\", Responses!S448)","v":""},{"$f":"IF(ISBLANK(Responses!T448), \"\", Responses!T448)","v":""}]
[{"$f":"IF(ISBLANK(Responses!A449), \"\", Responses!A449)","v":""},{"$f":"IF(ISBLANK(Responses!B449), \"\", Responses!B449)","v":""},{"$f":"IF(ISBLANK(Responses!N449), \"\", Responses!N449)","v":""},{"$f":"IF(ISBLANK(Responses!O449), \"\", Responses!O449)","v":""},{"$f":"IF(ISBLANK(Responses!P449), \"\", Responses!P449)","v":""},{"$f":"IF(ISBLANK(Responses!Q449), \"\", Responses!Q449)","v":""},{"$f":"IF(ISBLANK(Responses!R449), \"\", Responses!R449)","v":""},{"$f":"IF(ISBLANK(Responses!S449), \"\", Responses!S449)","v":""},{"$f":"IF(ISBLANK(Responses!T449), \"\", Responses!T449)","v":""}]
[{"$f":"IF(ISBLANK(Responses!A450), \"\", Responses!A450)","v":""},{"$f":"IF(ISBLANK(Responses!B450), \"\", Responses!B450)","v":""},{"$f":"IF(ISBLANK(Responses!N450), \"\", Responses!N450)","v":""},{"$f":"IF(ISBLANK(Responses!O450), \"\", Responses!O450)","v":""},{"$f":"IF(ISBLANK(Responses!P450), \"\", Responses!P450)","v":""},{"$f":"IF(ISBLANK(Responses!Q450), \"\", Responses!Q450)","v":""},{"$f":"IF(ISBLANK(Responses!R450), \"\", Responses!R450)","v":""},{"$f":"IF(ISBLANK(Responses!S450), \"\", Responses!S450)","v":""},{"$f":"IF(ISBLANK(Responses!T450), \"\", Responses!T450)","v":""}]
[{"$f":"IF(ISBLANK(Responses!A451), \"\", Responses!A451)","v":""},{"$f":"IF(ISBLANK(Responses!B451), \"\", Responses!B451)","v":""},{"$f":"IF(ISBLANK(Responses!N451), \"\", Responses!N451)","v":""},{"$f":"IF(ISBLANK(Responses!O451), \"\", Responses!O451)","v":""},{"$f":"IF(ISBLANK(Responses!P451), \"\", Responses!P451)","v":""},{"$f":"IF(ISBLANK(Responses!Q451), \"\", Responses!Q451)","v":""},{"$f":"IF(ISBLANK(Responses!R451), \"\", Responses!R451)","v":""},{"$f":"IF(ISBLANK(Responses!S451), \"\", Responses!S451)","v":""},{"$f":"IF(ISBLANK(Responses!T451), \"\", Responses!T451)","v":""}]
[{"$f":"IF(ISBLANK(Responses!A452), \"\", Responses!A452)","v":""},{"$f":"IF(ISBLANK(Responses!B452), \"\", Responses!B452)","v":""},{"$f":"IF(ISBLANK(Responses!N452), \"\", Responses!N452)","v":""},{"$f":"IF(ISBLANK(Responses!O452), \"\", Responses!O452)","v":""},{"$f":"IF(ISBLANK(Responses!P452), \"\", Responses!P452)","v":""},{"$f":"IF(ISBLANK(Responses!Q452), \"\", Responses!Q452)","v":""},{"$f":"IF(ISBLANK(Responses!R452), \"\", Responses!R452)","v":""},{"$f":"IF(ISBLANK(Responses!S452), \"\", Responses!S452)","v":""},{"$f":"IF(ISBLANK(Responses!T452), \"\", Responses!T452)","v":""}]
[{"$f":"IF(ISBLANK(Responses!A453), \"\", Responses!A453)","v":""},{"$f":"IF(ISBLANK(Responses!B453), \"\", Responses!B453)","v":""},{"$f":"IF(ISBLANK(Responses!N453), \"\", Responses!N453)","v":""},{"$f":"IF(ISBLANK(Responses!O453), \"\", Responses!O453)","v":""},{"$f":"IF(ISBLANK(Responses!P453), \"\", Responses!P453)","v":""},{"$f":"IF(ISBLANK(Responses!Q453), \"\", Responses!Q453)","v":""},{"$f":"IF(ISBLANK(Responses!R453), \"\", Responses!R453)","v":""},{"$f":"IF(ISBLANK(Responses!S453), \"\", Responses!S453)","v":""},{"$f":"IF(ISBLANK(Responses!T453), \"\", Responses!T453)","v":""}]
[{"$f":"IF(ISBLANK(Responses!A454), \"\", Responses!A454)","v":""},{"$f":"IF(ISBLANK(Responses!B454), \"\", Responses!B454)","v":""},{"$f":"IF(ISBLANK(Responses!N454), \"\", Responses!N454)","v":""},{"$f":"IF(ISBLANK(Responses!O454), \"\", Responses!O454)","v":""},{"$f":"IF(ISBLANK(Responses!P454), \"\", Responses!P454)","v":""},{"$f":"IF(ISBLANK(Responses!Q454), \"\", Responses!Q454)","v":""},{"$f":"IF(ISBLANK(Responses!R454), \"\", Responses!R454)","v":""},{"$f":"IF(ISBLANK(Responses!S454), \"\", Responses!S454)","v":""},{"$f":"IF(ISBLANK(Responses!T454), \"\", Responses!T454)","v":""}]
[{"$f":"IF(ISBLANK(Responses!A455), \"\", Responses!A455)","v":""},{"$f":"IF(ISBLANK(Responses!B455), \"\", Responses!B455)","v":""},{"$f":"IF(ISBLANK(Responses!N455), \"\", Responses!N455)","v":""},{"$f":"IF(ISBLANK(Responses!O455), \"\", Responses!O455)","v":""},{"$f":"IF(ISBLANK(Responses!P455), \"\", Responses!P455)","v":""},{"$f":"IF(ISBLANK(Responses!Q455), \"\", Responses!Q455)","v":""},{"$f":"IF(ISBLANK(Responses!R455), \"\", Responses!R455)","v":""},{"$f":"IF(ISBLANK(Responses!S455), \"\", Responses!S455)","v":""},{"$f":"IF(ISBLANK(Responses!T455), \"\", Responses!T455)","v":""}]
[{"$f":"IF(ISBLANK(Responses!A456), \"\", Responses!A456)","v":""},{"$f":"IF(ISBLANK(Responses!B456), \"\", Responses!B456)","v":""},{"$f":"IF(ISBLANK(Responses!N456), \"\", Responses!N456)","v":""},{"$f":"IF(ISBLANK(Responses!O456), \"\", Responses!O456)","v":""},{"$f":"IF(ISBLANK(Responses!P456), \"\", Responses!P456)","v":""},{"$f":"IF(ISBLANK(Responses!Q456), \"\", Responses!Q456)","v":""},{"$f":"IF(ISBLANK(Responses!R456), \"\", Responses!R456)","v":""},{"$f":"IF(ISBLANK(Responses!S456), \"\", Responses!S456)","v":""},{"$f":"IF(ISBLANK(Responses!T456), \"\", Responses!T456)","v":""}]
[{"$f":"IF(ISBLANK(Responses!A457), \"\", Responses!A457)","v":""},{"$f":"IF(ISBLANK(Responses!B457), \"\", Responses!B457)","v":""},{"$f":"IF(ISBLANK(Responses!N457), \"\", Responses!N457)","v":""},{"$f":"IF(ISBLANK(Responses!O457), \"\", Responses!O457)","v":""},{"$f":"IF(ISBLANK(Responses!P457), \"\", Responses!P457)","v":""},{"$f":"IF(ISBLANK(Responses!Q457), \"\", Responses!Q457)","v":""},{"$f":"IF(ISBLANK(Responses!R457), \"\", Responses!R457)","v":""},{"$f":"IF(ISBLANK(Responses!S457), \"\", Responses!S457)","v":""},{"$f":"IF(ISBLANK(Responses!T457), \"\", Responses!T457)","v":""}]
[{"$f":"IF(ISBLANK(Responses!A458), \"\", Responses!A458)","v":""},{"$f":"IF(ISBLANK(Responses!B458), \"\", Responses!B458)","v":""},{"$f":"IF(ISBLANK(Responses!N458), \"\", Responses!N458)","v":""},{"$f":"IF(ISBLANK(Responses!O458), \"\", Responses!O458)","v":""},{"$f":"IF(ISBLANK(Responses!P458), \"\", Responses!P458)","v":""},{"$f":"IF(ISBLANK(Responses!Q458), \"\", Responses!Q458)","v":""},{"$f":"IF(ISBLANK(Responses!R458), \"\", Responses!R458)","v":""},{"$f":"IF(ISBLANK(Responses!S458), \"\", Responses!S458)","v":""},{"$f":"IF(ISBLANK(Responses!T458), \"\", Responses!T458)","v":""}]
[{"$f":"IF(ISBLANK(Responses!A459), \"\", Responses!A459)","v":""},{"$f":"IF(ISBLANK(Responses!B459), \"\", Responses!B459)","v":""},{"$f":"IF(ISBLANK(Responses!N459), \"\", Responses!N459)","v":""},{"$f":"IF(ISBLANK(Responses!O459), \"\", Responses!O459)","v":""},{"$f":"IF(ISBLANK(Responses!P459), \"\", Responses!P459)","v":""},{"$f":"IF(ISBLANK(Responses!Q459), \"\", Responses!Q459)","v":""},{"$f":"IF(ISBLANK(Responses!R459), \"\", Responses!R459)","v":""},{"$f":"IF(ISBLANK(Responses!S459), \"\", Responses!S459)","v":""},{"$f":"IF(ISBLANK(Responses!T459), \"\", Responses!T459)","v":""}]
[{"$f":"IF(ISBLANK(Responses!A460), \"\", Responses!A460)","v":""},{"$f":"IF(ISBLANK(Responses!B460), \"\", Responses!B460)","v":""},{"$f":"IF(ISBLANK(Responses!N460), \"\", Responses!N460)","v":""},{"$f":"IF(ISBLANK(Responses!O460), \"\", Responses!O460)","v":""},{"$f":"IF(ISBLANK(Responses!P460), \"\", Responses!P460)","v":""},{"$f":"IF(ISBLANK(Responses!Q460), \"\", Responses!Q460)","v":""},{"$f":"IF(ISBLANK(Responses!R460), \"\", Responses!R460)","v":""},{"$f":"IF(ISBLANK(Responses!S460), \"\", Responses!S460)","v":""},{"$f":"IF(ISBLANK(Responses!T460), \"\", Responses!T460)","v":""}]
[{"$f":"IF(ISBLANK(Responses!A461), \"\", Responses!A461)","v":""},{"$f":"IF(ISBLANK(Responses!B461), \"\", Responses!B461)","v":""},{"$f":"IF(ISBLANK(Responses!N461), \"\", Responses!N461)","v":""},{"$f":"IF(ISBLANK(Responses!O461), \"\", Responses!O461)","v":""},{"$f":"IF(ISBLANK(Responses!P461), \"\", Responses!P461)","v":""},{"$f":"IF(ISBLANK(Responses!Q461), \"\", Responses!Q461)","v":""},{"$f":"IF(ISBLANK(Responses!R461), \"\", Responses!R461)","v":""},{"$f":"IF(ISBLANK(Responses!S461), \"\", Responses!S461)","v":""},{"$f":"IF(ISBLANK(Responses!T461), \"\", Responses!T461)","v":""}]
[{"$f":"IF(ISBLANK(Responses!A462), \"\", Responses!A462)","v":""},{"$f":"IF(ISBLANK(Responses!B462), \"\", Responses!B462)","v":""},{"$f":"IF(ISBLANK(Responses!N462), \"\", Responses!N462)","v":""},{"$f":"IF(ISBLANK(Responses!O462), \"\", Responses!O462)","v":""},{"$f":"IF(ISBLANK(Responses!P462), \"\", Responses!P462)","v":""},{"$f":"IF(ISBLANK(Responses!Q462), \"\", Responses!Q462)","v":""},{"$f":"IF(ISBLANK(Responses!R462), \"\", Responses!R462)","v":""},{"$f":"IF(ISBLANK(Responses!S462), \"\", Responses!S462)","v":""},{"$f":"IF(ISBLANK(Responses!T462), \"\", Responses!T462)","v":""}]
[{"$f":"IF(ISBLANK(Responses!A463), \"\", Responses!A463)","v":""},{"$f":"IF(ISBLANK(Responses!B463), \"\", Responses!B463)","v":""},{"$f":"IF(ISBLANK(Responses!N463), \"\", Responses!N463)","v":""},{"$f":"IF(ISBLANK(Responses!O463), \"\", Responses!O463)","v":""},{"$f":"IF(ISBLANK(Responses!P463), \"\", Responses!P463)","v":""},{"$f":"IF(ISBLANK(Responses!Q463), \"\", Responses!Q463)","v":""},{"$f":"IF(ISBLANK(Responses!R463), \"\", Responses!R463)","v":""},{"$f":"IF(ISBLANK(Responses!S463), \"\", Responses!S463)","v":""},{"$f":"IF(ISBLANK(Responses!T463), \"\", Responses!T463)","v":""}]
[{"$f":"IF(ISBLANK(Responses!A464), \"\", Responses!A464)","v":""},{"$f":"IF(ISBLANK(Responses!B464), \"\", Responses!B464)","v":""},{"$f":"IF(ISBLANK(Responses!N464), \"\", Responses!N464)","v":""},{"$f":"IF(ISBLANK(Responses!O464), \"\", Responses!O464)","v":""},{"$f":"IF(ISBLANK(Responses!P464), \"\", Responses!P464)","v":""},{"$f":"IF(ISBLANK(Responses!Q464), \"\", Responses!Q464)","v":""},{"$f":"IF(ISBLANK(Responses!R464), \"\", Responses!R464)","v":""},{"$f":"IF(ISBLANK(Responses!S464), \"\", Responses!S464)","v":""},{"$f":"IF(ISBLANK(Responses!T464), \"\", Responses!T464)","v":""}]
[{"$f":"IF(ISBLANK(Responses!A465), \"\", Responses!A465)","v":""},{"$f":"IF(ISBLANK(Responses!B465), \"\", Responses!B465)","v":""},{"$f":"IF(ISBLANK(Responses!N465), \"\", Responses!N465)","v":""},{"$f":"IF(ISBLANK(Responses!O465), \"\", Responses!O465)","v":""},{"$f":"IF(ISBLANK(Responses!P465), \"\", Responses!P465)","v":""},{"$f":"IF(ISBLANK(Responses!Q465), \"\", Responses!Q465)","v":""},{"$f":"IF(ISBLANK(Responses!R465), \"\", Responses!R465)","v":""},{"$f":"IF(ISBLANK(Responses!S465), \"\", Responses!S465)","v":""},{"$f":"IF(ISBLANK(Responses!T465), \"\", Responses!T465)","v":""}]
[{"$f":"IF(ISBLANK(Responses!A466), \"\", Responses!A466)","v":""},{"$f":"IF(ISBLANK(Responses!B466), \"\", Responses!B466)","v":""},{"$f":"IF(ISBLANK(Responses!N466), \"\", Responses!N466)","v":""},{"$f":"IF(ISBLANK(Responses!O466), \"\", Responses!O466)","v":""},{"$f":"IF(ISBLANK(Responses!P466), \"\", Responses!P466)","v":""},{"$f":"IF(ISBLANK(Responses!Q466), \"\", Responses!Q466)","v":""},{"$f":"IF(ISBLANK(Responses!R466), \"\", Responses!R466)","v":""},{"$f":"IF(ISBLANK(Responses!S466), \"\", Responses!S466)","v":""},{"$f":"IF(ISBLANK(Responses!T466), \"\", Responses!T466)","v":""}]
[{"$f":"IF(ISBLANK(Responses!A467), \"\", Responses!A467)","v":""},{"$f":"IF(ISBLANK(Responses!B467), \"\", Responses!B467)","v":""},{"$f":"IF(ISBLANK(Responses!N467), \"\", Responses!N467)","v":""},{"$f":"IF(ISBLANK(Responses!O467), \"\", Responses!O467)","v":""},{"$f":"IF(ISBLANK(Responses!P467), \"\", Responses!P467)","v":""},{"$f":"IF(ISBLANK(Responses!Q467), \"\", Responses!Q467)","v":""},{"$f":"IF(ISBLANK(Responses!R467), \"\", Responses!R467)","v":""},{"$f":"IF(ISBLANK(Responses!S467), \"\", Responses!S467)","v":""},{"$f":"IF(ISBLANK(Responses!T467), \"\", Responses!T467)","v":""}]
[{"$f":"IF(ISBLANK(Responses!A468), \"\", Responses!A468)","v":""},{"$f":"IF(ISBLANK(Responses!B468), \"\", Responses!B468)","v":""},{"$f":"IF(ISBLANK(Responses!N468), \"\", Responses!N468)","v":""},{"$f":"IF(ISBLANK(Responses!O468), \"\", Responses!O468)","v":""},{"$f":"IF(ISBLANK(Responses!P468), \"\", Responses!P468)","v":""},{"$f":"IF(ISBLANK(Responses!Q468), \"\", Responses!Q468)","v":""},{"$f":"IF(ISBLANK(Responses!R468), \"\", Responses!R468)","v":""},{"$f":"IF(ISBLANK(Responses!S468), \"\", Responses!S468)","v":""},{"$f":"IF(ISBLANK(Responses!T468), \"\", Responses!T468)","v":""}]
[{"$f":"IF(ISBLANK(Responses!A469), \"\", Responses!A469)","v":""},{"$f":"IF(ISBLANK(Responses!B469), \"\", Responses!B469)","v":""},{"$f":"IF(ISBLANK(Responses!N469), \"\", Responses!N469)","v":""},{"$f":"IF(ISBLANK(Responses!O469), \"\", Responses!O469)","v":""},{"$f":"IF(ISBLANK(Responses!P469), \"\", Responses!P469)","v":""},{"$f":"IF(ISBLANK(Responses!Q469), \"\", Responses!Q469)","v":""},{"$f":"IF(ISBLANK(Responses!R469), \"\", Responses!R469)","v":""},{"$f":"IF(ISBLANK(Responses!S469), \"\", Responses!S469)","v":""},{"$f":"IF(ISBLANK(Responses!T469), \"\", Responses!T469)","v":""}]
[{"$f":"IF(ISBLANK(Responses!A470), \"\", Responses!A470)","v":""},{"$f":"IF(ISBLANK(Responses!B470), \"\", Responses!B470)","v":""},{"$f":"IF(ISBLANK(Responses!N470), \"\", Responses!N470)","v":""},{"$f":"IF(ISBLANK(Responses!O470), \"\", Responses!O470)","v":""},{"$f":"IF(ISBLANK(Responses!P470), \"\", Responses!P470)","v":""},{"$f":"IF(ISBLANK(Responses!Q470), \"\", Responses!Q470)","v":""},{"$f":"IF(ISBLANK(Responses!R470), \"\", Responses!R470)","v":""},{"$f":"IF(ISBLANK(Responses!S470), \"\", Responses!S470)","v":""},{"$f":"IF(ISBLANK(Responses!T470), \"\", Responses!T470)","v":""}]
[{"$f":"IF(ISBLANK(Responses!A471), \"\", Responses!A471)","v":""},{"$f":"IF(ISBLANK(Responses!B471), \"\", Responses!B471)","v":""},{"$f":"IF(ISBLANK(Responses!N471), \"\", Responses!N471)","v":""},{"$f":"IF(ISBLANK(Responses!O471), \"\", Responses!O471)","v":""},{"$f":"IF(ISBLANK(Responses!P471), \"\", Responses!P471)","v":""},{"$f":"IF(ISBLANK(Responses!Q471), \"\", Responses!Q471)","v":""},{"$f":"IF(ISBLANK(Responses!R471), \"\", Responses!R471)","v":""},{"$f":"IF(ISBLANK(Responses!S471), \"\", Responses!S471)","v":""},{"$f":"IF(ISBLANK(Responses!T471), \"\", Responses!T471)","v":""}]
[{"$f":"IF(ISBLANK(Responses!A472), \"\", Responses!A472)","v":""},{"$f":"IF(ISBLANK(Responses!B472), \"\", Responses!B472)","v":""},{"$f":"IF(ISBLANK(Responses!N472), \"\", Responses!N472)","v":""},{"$f":"IF(ISBLANK(Responses!O472), \"\", Responses!O472)","v":""},{"$f":"IF(ISBLANK(Responses!P472), \"\", Responses!P472)","v":""},{"$f":"IF(ISBLANK(Responses!Q472), \"\", Responses!Q472)","v":""},{"$f":"IF(ISBLANK(Responses!R472), \"\", Responses!R472)","v":""},{"$f":"IF(ISBLANK(Responses!S472), \"\", Responses!S472)","v":""},{"$f":"IF(ISBLANK(Responses!T472), \"\", Responses!T472)","v":""}]
[{"$f":"IF(ISBLANK(Responses!A473), \"\", Responses!A473)","v":""},{"$f":"IF(ISBLANK(Responses!B473), \"\", Responses!B473)","v":""},{"$f":"IF(ISBLANK(Responses!N473), \"\", Responses!N473)","v":""},{"$f":"IF(ISBLANK(Responses!O473), \"\", Responses!O473)","v":""},{"$f":"IF(ISBLANK(Responses!P473), \"\", Responses!P473)","v":""},{"$f":"IF(ISBLANK(Responses!Q473), \"\", Responses!Q473)","v":""},{"$f":"IF(ISBLANK(Responses!R473), \"\", Responses!R473)","v":""},{"$f":"IF(ISBLANK(Responses!S473), \"\", Responses!S473)","v":""},{"$f":"IF(ISBLANK(Responses!T473), \"\", Responses!T473)","v":""}]
[{"$f":"IF(ISBLANK(Responses!A474), \"\", Responses!A474)","v":""},{"$f":"IF(ISBLANK(Responses!B474), \"\", Responses!B474)","v":""},{"$f":"IF(ISBLANK(Responses!N474), \"\", Responses!N474)","v":""},{"$f":"IF(ISBLANK(Responses!O474), \"\", Responses!O474)","v":""},{"$f":"IF(ISBLANK(Responses!P474), \"\", Responses!P474)","v":""},{"$f":"IF(ISBLANK(Responses!Q474), \"\", Responses!Q474)","v":""},{"$f":"IF(ISBLANK(Responses!R474), \"\", Responses!R474)","v":""},{"$f":"IF(ISBLANK(Responses!S474), \"\", Responses!S474)","v":""},{"$f":"IF(ISBLANK(Responses!T474), \"\", Responses!T474)","v":""}]
[{"$f":"IF(ISBLANK(Responses!A475), \"\", Responses!A475)","v":""},{"$f":"IF(ISBLANK(Responses!B475), \"\", Responses!B475)","v":""},{"$f":"IF(ISBLANK(Responses!N475), \"\", Responses!N475)","v":""},{"$f":"IF(ISBLANK(Responses!O475), \"\", Responses!O475)","v":""},{"$f":"IF(ISBLANK(Responses!P475), \"\", Responses!P475)","v":""},{"$f":"IF(ISBLANK(Responses!Q475), \"\", Responses!Q475)","v":""},{"$f":"IF(ISBLANK(Responses!R475), \"\", Responses!R475)","v":""},{"$f":"IF(ISBLANK(Responses!S475), \"\", Responses!S475)","v":""},{"$f":"IF(ISBLANK(Responses!T475), \"\", Responses!T475)","v":""}]
[{"$f":"IF(ISBLANK(Responses!A476), \"\", Responses!A476)","v":""},{"$f":"IF(ISBLANK(Responses!B476), \"\", Responses!B476)","v":""},{"$f":"IF(ISBLANK(Responses!N476), \"\", Responses!N476)","v":""},{"$f":"IF(ISBLANK(Responses!O476), \"\", Responses!O476)","v":""},{"$f":"IF(ISBLANK(Responses!P476), \"\", Responses!P476)","v":""},{"$f":"IF(ISBLANK(Responses!Q476), \"\", Responses!Q476)","v":""},{"$f":"IF(ISBLANK(Responses!R476), \"\", Responses!R476)","v":""},{"$f":"IF(ISBLANK(Responses!S476), \"\", Responses!S476)","v":""},{"$f":"IF(ISBLANK(Responses!T476), \"\", Responses!T476)","v":""}]
[{"$f":"IF(ISBLANK(Responses!A477), \"\", Responses!A477)","v":""},{"$f":"IF(ISBLANK(Responses!B477), \"\", Responses!B477)","v":""},{"$f":"IF(ISBLANK(Responses!N477), \"\", Responses!N477)","v":""},{"$f":"IF(ISBLANK(Responses!O477), \"\", Responses!O477)","v":""},{"$f":"IF(ISBLANK(Responses!P477), \"\", Responses!P477)","v":""},{"$f":"IF(ISBLANK(Responses!Q477), \"\", Responses!Q477)","v":""},{"$f":"IF(ISBLANK(Responses!R477), \"\", Responses!R477)","v":""},{"$f":"IF(ISBLANK(Responses!S477), \"\", Responses!S477)","v":""},{"$f":"IF(ISBLANK(Responses!T477), \"\", Responses!T477)","v":""}]
[{"$f":"IF(ISBLANK(Responses!A478), \"\", Responses!A478)","v":""},{"$f":"IF(ISBLANK(Responses!B478), \"\", Responses!B478)","v":""},{"$f":"IF(ISBLANK(Responses!N478), \"\", Responses!N478)","v":""},{"$f":"IF(ISBLANK(Responses!O478), \"\", Responses!O478)","v":""},{"$f":"IF(ISBLANK(Responses!P478), \"\", Responses!P478)","v":""},{"$f":"IF(ISBLANK(Responses!Q478), \"\", Responses!Q478)","v":""},{"$f":"IF(ISBLANK(Responses!R478), \"\", Responses!R478)","v":""},{"$f":"IF(ISBLANK(Responses!S478), \"\", Responses!S478)","v":""},{"$f":"IF(ISBLANK(Responses!T478), \"\", Responses!T478)","v":""}]
[{"$f":"IF(ISBLANK(Responses!A479), \"\", Responses!A479)","v":""},{"$f":"IF(ISBLANK(Responses!B479), \"\", Responses!B479)","v":""},{"$f":"IF(ISBLANK(Responses!N479), \"\", Responses!N479)","v":""},{"$f":"IF(ISBLANK(Responses!O479), \"\", Responses!O479)","v":""},{"$f":"IF(ISBLANK(Responses!P479), \"\", Responses!P479)","v":""},{"$f":"IF(ISBLANK(Responses!Q479), \"\", Responses!Q479)","v":""},{"$f":"IF(ISBLANK(Responses!R479), \"\", Responses!R479)","v":""},{"$f":"IF(ISBLANK(Responses!S479), \"\", Responses!S479)","v":""},{"$f":"IF(ISBLANK(Responses!T479), \"\", Responses!T479)","v":""}]
[{"$f":"IF(ISBLANK(Responses!A480), \"\", Responses!A480)","v":""},{"$f":"IF(ISBLANK(Responses!B480), \"\", Responses!B480)","v":""},{"$f":"IF(ISBLANK(Responses!N480), \"\", Responses!N480)","v":""},{"$f":"IF(ISBLANK(Responses!O480), \"\", Responses!O480)","v":""},{"$f":"IF(ISBLANK(Responses!P480), \"\", Responses!P480)","v":""},{"$f":"IF(ISBLANK(Responses!Q480), \"\", Responses!Q480)","v":""},{"$f":"IF(ISBLANK(Responses!R480), \"\", Responses!R480)","v":""},{"$f":"IF(ISBLANK(Responses!S480), \"\", Responses!S480)","v":""},{"$f":"IF(ISBLANK(Responses!T480), \"\", Responses!T480)","v":""}]
[{"$f":"IF(ISBLANK(Responses!A481), \"\", Responses!A481)","v":""},{"$f":"IF(ISBLANK(Responses!B481), \"\", Responses!B481)","v":""},{"$f":"IF(ISBLANK(Responses!N481), \"\", Responses!N481)","v":""},{"$f":"IF(ISBLANK(Responses!O481), \"\", Responses!O481)","v":""},{"$f":"IF(ISBLANK(Responses!P481), \"\", Responses!P481)","v":""},{"$f":"IF(ISBLANK(Responses!Q481), \"\", Responses!Q481)","v":""},{"$f":"IF(ISBLANK(Responses!R481), \"\", Responses!R481)","v":""},{"$f":"IF(ISBLANK(Responses!S481), \"\", Responses!S481)","v":""},{"$f":"IF(ISBLANK(Responses!T481), \"\", Responses!T481)","v":""}]
[{"$f":"IF(ISBLANK(Responses!A482), \"\", Responses!A482)","v":""},{"$f":"IF(ISBLANK(Responses!B482), \"\", Responses!B482)","v":""},{"$f":"IF(ISBLANK(Responses!N482), \"\", Responses!N482)","v":""},{"$f":"IF(ISBLANK(Responses!O482), \"\", Responses!O482)","v":""},{"$f":"IF(ISBLANK(Responses!P482), \"\", Responses!P482)","v":""},{"$f":"IF(ISBLANK(Responses!Q482), \"\", Responses!Q482)","v":""},{"$f":"IF(ISBLANK(Responses!R482), \"\", Responses!R482)","v":""},{"$f":"IF(ISBLANK(Responses!S482), \"\", Responses!S482)","v":""},{"$f":"IF(ISBLANK(Responses!T482), \"\", Responses!T482)","v":""}]
[{"$f":"IF(ISBLANK(Responses!A483), \"\", Responses!A483)","v":""},{"$f":"IF(ISBLANK(Responses!B483), \"\", Responses!B483)","v":""},{"$f":"IF(ISBLANK(Responses!N483), \"\", Responses!N483)","v":""},{"$f":"IF(ISBLANK(Responses!O483), \"\", Responses!O483)","v":""},{"$f":"IF(ISBLANK(Responses!P483), \"\", Responses!P483)","v":""},{"$f":"IF(ISBLANK(Responses!Q483), \"\", Responses!Q483)","v":""},{"$f":"IF(ISBLANK(Responses!R483), \"\", Responses!R483)","v":""},{"$f":"IF(ISBLANK(Responses!S483), \"\", Responses!S483)","v":""},{"$f":"IF(ISBLANK(Responses!T483), \"\", Responses!T483)","v":""}]
[{"$f":"IF(ISBLANK(Responses!A484), \"\", Responses!A484)","v":""},{"$f":"IF(ISBLANK(Responses!B484), \"\", Responses!B484)","v":""},{"$f":"IF(ISBLANK(Responses!N484), \"\", Responses!N484)","v":""},{"$f":"IF(ISBLANK(Responses!O484), \"\", Responses!O484)","v":""},{"$f":"IF(ISBLANK(Responses!P484), \"\", Responses!P484)","v":""},{"$f":"IF(ISBLANK(Responses!Q484), \"\", Responses!Q484)","v":""},{"$f":"IF(ISBLANK(Responses!R484), \"\", Responses!R484)","v":""},{"$f":"IF(ISBLANK(Responses!S484), \"\", Responses!S484)","v":""},{"$f":"IF(ISBLANK(Responses!T484), \"\", Responses!T484)","v":""}]
[{"$f":"IF(ISBLANK(Responses!A485), \"\", Responses!A485)","v":""},{"$f":"IF(ISBLANK(Responses!B485), \"\", Responses!B485)","v":""},{"$f":"IF(ISBLANK(Responses!N485), \"\", Responses!N485)","v":""},{"$f":"IF(ISBLANK(Responses!O485), \"\", Responses!O485)","v":""},{"$f":"IF(ISBLANK(Responses!P485), \"\", Responses!P485)","v":""},{"$f":"IF(ISBLANK(Responses!Q485), \"\", Responses!Q485)","v":""},{"$f":"IF(ISBLANK(Responses!R485), \"\", Responses!R485)","v":""},{"$f":"IF(ISBLANK(Responses!S485), \"\", Responses!S485)","v":""},{"$f":"IF(ISBLANK(Responses!T485), \"\", Responses!T485)","v":""}]
[{"$f":"IF(ISBLANK(Responses!A486), \"\", Responses!A486)","v":""},{"$f":"IF(ISBLANK(Responses!B486), \"\", Responses!B486)","v":""},{"$f":"IF(ISBLANK(Responses!N486), \"\", Responses!N486)","v":""},{"$f":"IF(ISBLANK(Responses!O486), \"\", Responses!O486)","v":""},{"$f":"IF(ISBLANK(Responses!P486), \"\", Responses!P486)","v":""},{"$f":"IF(ISBLANK(Responses!Q486), \"\", Responses!Q486)","v":""},{"$f":"IF(ISBLANK(Responses!R486), \"\", Responses!R486)","v":""},{"$f":"IF(ISBLANK(Responses!S486), \"\", Responses!S486)","v":""},{"$f":"IF(ISBLANK(Responses!T486), \"\", Responses!T486)","v":""}]
[{"$f":"IF(ISBLANK(Responses!A487), \"\", Responses!A487)","v":""},{"$f":"IF(ISBLANK(Responses!B487), \"\", Responses!B487)","v":""},{"$f":"IF(ISBLANK(Responses!N487), \"\", Responses!N487)","v":""},{"$f":"IF(ISBLANK(Responses!O487), \"\", Responses!O487)","v":""},{"$f":"IF(ISBLANK(Responses!P487), \"\", Responses!P487)","v":""},{"$f":"IF(ISBLANK(Responses!Q487), \"\", Responses!Q487)","v":""},{"$f":"IF(ISBLANK(Responses!R487), \"\", Responses!R487)","v":""},{"$f":"IF(ISBLANK(Responses!S487), \"\", Responses!S487)","v":""},{"$f":"IF(ISBLANK(Responses!T487), \"\", Responses!T487)","v":""}]
[{"$f":"IF(ISBLANK(Responses!A488), \"\", Responses!A488)","v":""},{"$f":"IF(ISBLANK(Responses!B488), \"\", Responses!B488)","v":""},{"$f":"IF(ISBLANK(Responses!N488), \"\", Responses!N488)","v":""},{"$f":"IF(ISBLANK(Responses!O488), \"\", Responses!O488)","v":""},{"$f":"IF(ISBLANK(Responses!P488), \"\", Responses!P488)","v":""},{"$f":"IF(ISBLANK(Responses!Q488), \"\", Responses!Q488)","v":""},{"$f":"IF(ISBLANK(Responses!R488), \"\", Responses!R488)","v":""},{"$f":"IF(ISBLANK(Responses!S488), \"\", Responses!S488)","v":""},{"$f":"IF(ISBLANK(Responses!T488), \"\", Responses!T488)","v":""}]
[{"$f":"IF(ISBLANK(Responses!A489), \"\", Responses!A489)","v":""},{"$f":"IF(ISBLANK(Responses!B489), \"\", Responses!B489)","v":""},{"$f":"IF(ISBLANK(Responses!N489), \"\", Responses!N489)","v":""},{"$f":"IF(ISBLANK(Responses!O489), \"\", Responses!O489)","v":""},{"$f":"IF(ISBLANK(Responses!P489), \"\", Responses!P489)","v":""},{"$f":"IF(ISBLANK(Responses!Q489), \"\", Responses!Q489)","v":""},{"$f":"IF(ISBLANK(Responses!R489), \"\", Responses!R489)","v":""},{"$f":"IF(ISBLANK(Responses!S489), \"\", Responses!S489)","v":""},{"$f":"IF(ISBLANK(Responses!T489), \"\", Responses!T489)","v":""}]
[{"$f":"IF(ISBLANK(Responses!A490), \"\", Responses!A490)","v":""},{"$f":"IF(ISBLANK(Responses!B490), \"\", Responses!B490)","v":""},{"$f":"IF(ISBLANK(Responses!N490), \"\", Responses!N490)","v":""},{"$f":"IF(ISBLANK(Responses!O490), \"\", Responses!O490)","v":""},{"$f":"IF(ISBLANK(Responses!P490), \"\", Responses!P490)","v":""},{"$f":"IF(ISBLANK(Responses!Q490), \"\", Responses!Q490)","v":""},{"$f":"IF(ISBLANK(Responses!R490), \"\", Responses!R490)","v":""},{"$f":"IF(ISBLANK(Responses!S490), \"\", Responses!S490)","v":""},{"$f":"IF(ISBLANK(Responses!T490), \"\", Responses!T490)","v":""}]
[{"$f":"IF(ISBLANK(Responses!A491), \"\", Responses!A491)","v":""},{"$f":"IF(ISBLANK(Responses!B491), \"\", Responses!B491)","v":""},{"$f":"IF(ISBLANK(Responses!N491), \"\", Responses!N491)","v":""},{"$f":"IF(ISBLANK(Responses!O491), \"\", Responses!O491)","v":""},{"$f":"IF(ISBLANK(Responses!P491), \"\", Responses!P491)","v":""},{"$f":"IF(ISBLANK(Responses!Q491), \"\", Responses!Q491)","v":""},{"$f":"IF(ISBLANK(Responses!R491), \"\", Responses!R491)","v":""},{"$f":"IF(ISBLANK(Responses!S491), \"\", Responses!S491)","v":""},{"$f":"IF(ISBLANK(Responses!T491), \"\", Responses!T491)","v":""}]
[{"$f":"IF(ISBLANK(Responses!A492), \"\", Responses!A492)","v":""},{"$f":"IF(ISBLANK(Responses!B492), \"\", Responses!B492)","v":""},{"$f":"IF(ISBLANK(Responses!N492), \"\", Responses!N492)","v":""},{"$f":"IF(ISBLANK(Responses!O492), \"\", Responses!O492)","v":""},{"$f":"IF(ISBLANK(Responses!P492), \"\", Responses!P492)","v":""},{"$f":"IF(ISBLANK(Responses!Q492), \"\", Responses!Q492)","v":""},{"$f":"IF(ISBLANK(Responses!R492), \"\", Responses!R492)","v":""},{"$f":"IF(ISBLANK(Responses!S492), \"\", Responses!S492)","v":""},{"$f":"IF(ISBLANK(Responses!T492), \"\", Responses!T492)","v":""}]
[{"$f":"IF(ISBLANK(Responses!A493), \"\", Responses!A493)","v":""},{"$f":"IF(ISBLANK(Responses!B493), \"\", Responses!B493)","v":""},{"$f":"IF(ISBLANK(Responses!N493), \"\", Responses!N493)","v":""},{"$f":"IF(ISBLANK(Responses!O493), \"\", Responses!O493)","v":""},{"$f":"IF(ISBLANK(Responses!P493), \"\", Responses!P493)","v":""},{"$f":"IF(ISBLANK(Responses!Q493), \"\", Responses!Q493)","v":""},{"$f":"IF(ISBLANK(Responses!R493), \"\", Responses!R493)","v":""},{"$f":"IF(ISBLANK(Responses!S493), \"\", Responses!S493)","v":""},{"$f":"IF(ISBLANK(Responses!T493), \"\", Responses!T493)","v":""}]
[{"$f":"IF(ISBLANK(Responses!A494), \"\", Responses!A494)","v":""},{"$f":"IF(ISBLANK(Responses!B494), \"\", Responses!B494)","v":""},{"$f":"IF(ISBLANK(Responses!N494), \"\", Responses!N494)","v":""},{"$f":"IF(ISBLANK(Responses!O494), \"\", Responses!O494)","v":""},{"$f":"IF(ISBLANK(Responses!P494), \"\", Responses!P494)","v":""},{"$f":"IF(ISBLANK(Responses!Q494), \"\", Responses!Q494)","v":""},{"$f":"IF(ISBLANK(Responses!R494), \"\", Responses!R494)","v":""},{"$f":"IF(ISBLANK(Responses!S494), \"\", Responses!S494)","v":""},{"$f":"IF(ISBLANK(Responses!T494), \"\", Responses!T494)","v":""}]
[{"$f":"IF(ISBLANK(Responses!A495), \"\", Responses!A495)","v":""},{"$f":"IF(ISBLANK(Responses!B495), \"\", Responses!B495)","v":""},{"$f":"IF(ISBLANK(Responses!N495), \"\", Responses!N495)","v":""},{"$f":"IF(ISBLANK(Responses!O495), \"\", Responses!O495)","v":""},{"$f":"IF(ISBLANK(Responses!P495), \"\", Responses!P495)","v":""},{"$f":"IF(ISBLANK(Responses!Q495), \"\", Responses!Q495)","v":""},{"$f":"IF(ISBLANK(Responses!R495), \"\", Responses!R495)","v":""},{"$f":"IF(ISBLANK(Responses!S495), \"\", Responses!S495)","v":""},{"$f":"IF(ISBLANK(Responses!T495), \"\", Responses!T495)","v":""}]
[{"$f":"IF(ISBLANK(Responses!A496), \"\", Responses!A496)","v":""},{"$f":"IF(ISBLANK(Responses!B496), \"\", Responses!B496)","v":""},{"$f":"IF(ISBLANK(Responses!N496), \"\", Responses!N496)","v":""},{"$f":"IF(ISBLANK(Responses!O496), \"\", Responses!O496)","v":""},{"$f":"IF(ISBLANK(Responses!P496), \"\", Responses!P496)","v":""},{"$f":"IF(ISBLANK(Responses!Q496), \"\", Responses!Q496)","v":""},{"$f":"IF(ISBLANK(Responses!R496), \"\", Responses!R496)","v":""},{"$f":"IF(ISBLANK(Responses!S496), \"\", Responses!S496)","v":""},{"$f":"IF(ISBLANK(Responses!T496), \"\", Responses!T496)","v":""}]
[{"$f":"IF(ISBLANK(Responses!A497), \"\", Responses!A497)","v":""},{"$f":"IF(ISBLANK(Responses!B497), \"\", Responses!B497)","v":""},{"$f":"IF(ISBLANK(Responses!N497), \"\", Responses!N497)","v":""},{"$f":"IF(ISBLANK(Responses!O497), \"\", Responses!O497)","v":""},{"$f":"IF(ISBLANK(Responses!P497), \"\", Responses!P497)","v":""},{"$f":"IF(ISBLANK(Responses!Q497), \"\", Responses!Q497)","v":""},{"$f":"IF(ISBLANK(Responses!R497), \"\", Responses!R497)","v":""},{"$f":"IF(ISBLANK(Responses!S497), \"\", Responses!S497)","v":""},{"$f":"IF(ISBLANK(Responses!T497), \"\", Responses!T497)","v":""}]
[{"$f":"IF(ISBLANK(Responses!A498), \"\", Responses!A498)","v":""},{"$f":"IF(ISBLANK(Responses!B498), \"\", Responses!B498)","v":""},{"$f":"IF(ISBLANK(Responses!N498), \"\", Responses!N498)","v":""},{"$f":"IF(ISBLANK(Responses!O498), \"\", Responses!O498)","v":""},{"$f":"IF(ISBLANK(Responses!P498), \"\", Responses!P498)","v":""},{"$f":"IF(ISBLANK(Responses!Q498), \"\", Responses!Q498)","v":""},{"$f":"IF(ISBLANK(Responses!R498), \"\", Responses!R498)","v":""},{"$f":"IF(ISBLANK(Responses!S498), \"\", Responses!S498)","v":""},{"$f":"IF(ISBLANK(Responses!T498), \"\", Responses!T498)","v":""}]
[{"$f":"IF(ISBLANK(Responses!A499), \"\", Responses!A499)","v":""},{"$f":"IF(ISBLANK(Responses!B499), \"\", Responses!B499)","v":""},{"$f":"IF(ISBLANK(Responses!N499), \"\", Responses!N499)","v":""},{"$f":"IF(ISBLANK(Responses!O499), \"\", Responses!O499)","v":""},{"$f":"IF(ISBLANK(Responses!P499), \"\", Responses!P499)","v":""},{"$f":"IF(ISBLANK(Responses!Q499), \"\", Responses!Q499)","v":""},{"$f":"IF(ISBLANK(Responses!R499), \"\", Responses!R499)","v":""},{"$f":"IF(ISBLANK(Responses!S499), \"\", Responses!S499)","v":""},{"$f":"IF(ISBLANK(Responses!T499), \"\", Responses!T499)","v":""}]
[{"$f":"IF(ISBLANK(Responses!A500), \"\", Responses!A500)","v":""},{"$f":"IF(ISBLANK(Responses!B500), \"\", Responses!B500)","v":""},{"$f":"IF(ISBLANK(Responses!N500), \"\", Responses!N500)","v":""},{"$f":"IF(ISBLANK(Responses!O500), \"\", Responses!O500)","v":""},{"$f":"IF(ISBLANK(Responses!P500), \"\", Responses!P500)","v":""},{"$f":"IF(ISBLANK(Responses!Q500), \"\", Responses!Q500)","v":""},{"$f":"IF(ISBLANK(Responses!R500), \"\", Responses!R500)","v":""},{"$f":"IF(ISBLANK(Responses!S500), \"\", Responses!S500)","v":""},{"$f":"IF(ISBLANK(Responses!T500), \"\", Responses!T500)","v":""}]
[{"$f":"IF(ISBLANK(Responses!A501), \"\", Responses!A501)","v":""},{"$f":"IF(ISBLANK(Responses!B501), \"\", Responses!B501)","v":""},{"$f":"IF(ISBLANK(Responses!N501), \"\", Responses!N501)","v":""},{"$f":"IF(ISBLANK(Responses!O501), \"\", Responses!O501)","v":""},{"$f":"IF(ISBLANK(Responses!P501), \"\", Responses!P501)","v":""},{"$f":"IF(ISBLANK(Responses!Q501), \"\", Responses!Q501)","v":""},{"$f":"IF(ISBLANK(Responses!R501), \"\", Responses!R501)","v":""},{"$f":"IF(ISBLANK(Responses!S501), \"\", Responses!S501)","v":""},{"$f":"IF(ISBLANK(Responses!T501), \"\", Responses!T501)","v":""}]
[{"$f":"IF(ISBLANK(Responses!A502), \"\", Responses!A502)","v":""},{"$f":"IF(ISBLANK(Responses!B502), \"\", Responses!B502)","v":""},{"$f":"IF(ISBLANK(Responses!N502), \"\", Responses!N502)","v":""},{"$f":"IF(ISBLANK(Responses!O502), \"\", Responses!O502)","v":""},{"$f":"IF(ISBLANK(Responses!P502), \"\", Responses!P502)","v":""},{"$f":"IF(ISBLANK(Responses!Q502), \"\", Responses!Q502)","v":""},{"$f":"IF(ISBLANK(Responses!R502), \"\", Responses!R502)","v":""},{"$f":"IF(ISBLANK(Responses!S502), \"\", Responses!S502)","v":""},{"$f":"IF(ISBLANK(Responses!T502), \"\", Responses!T502)","v":""}]
[{"$f":"IF(ISBLANK(Responses!A503), \"\", Responses!A503)","v":""},{"$f":"IF(ISBLANK(Responses!B503), \"\", Responses!B503)","v":""},{"$f":"IF(ISBLANK(Responses!N503), \"\", Responses!N503)","v":""},{"$f":"IF(ISBLANK(Responses!O503), \"\", Responses!O503)","v":""},{"$f":"IF(ISBLANK(Responses!P503), \"\", Responses!P503)","v":""},{"$f":"IF(ISBLANK(Responses!Q503), \"\", Responses!Q503)","v":""},{"$f":"IF(ISBLANK(Responses!R503), \"\", Responses!R503)","v":""},{"$f":"IF(ISBLANK(Responses!S503), \"\", Responses!S503)","v":""},{"$f":"IF(ISBLANK(Responses!T503), \"\", Responses!T503)","v":""}]
[{"$f":"IF(ISBLANK(Responses!A504), \"\", Responses!A504)","v":""},{"$f":"IF(ISBLANK(Responses!B504), \"\", Responses!B504)","v":""},{"$f":"IF(ISBLANK(Responses!N504), \"\", Responses!N504)","v":""},{"$f":"IF(ISBLANK(Responses!O504), \"\", Responses!O504)","v":""},{"$f":"IF(ISBLANK(Responses!P504), \"\", Responses!P504)","v":""},{"$f":"IF(ISBLANK(Responses!Q504), \"\", Responses!Q504)","v":""},{"$f":"IF(ISBLANK(Responses!R504), \"\", Responses!R504)","v":""},{"$f":"IF(ISBLANK(Responses!S504), \"\", Responses!S504)","v":""},{"$f":"IF(ISBLANK(Responses!T504), \"\", Responses!T504)","v":""}]
[{"$f":"IF(ISBLANK(Responses!A505), \"\", Responses!A505)","v":""},{"$f":"IF(ISBLANK(Responses!B505), \"\", Responses!B505)","v":""},{"$f":"IF(ISBLANK(Responses!N505), \"\", Responses!N505)","v":""},{"$f":"IF(ISBLANK(Responses!O505), \"\", Responses!O505)","v":""},{"$f":"IF(ISBLANK(Responses!P505), \"\", Responses!P505)","v":""},{"$f":"IF(ISBLANK(Responses!Q505), \"\", Responses!Q505)","v":""},{"$f":"IF(ISBLANK(Responses!R505), \"\", Responses!R505)","v":""},{"$f":"IF(ISBLANK(Responses!S505), \"\", Responses!S505)","v":""},{"$f":"IF(ISBLANK(Responses!T505), \"\", Responses!T505)","v":""}]
[{"$f":"IF(ISBLANK(Responses!A506), \"\", Responses!A506)","v":""},{"$f":"IF(ISBLANK(Responses!B506), \"\", Responses!B506)","v":""},{"$f":"IF(ISBLANK(Responses!N506), \"\", Responses!N506)","v":""},{"$f":"IF(ISBLANK(Responses!O506), \"\", Responses!O506)","v":""},{"$f":"IF(ISBLANK(Responses!P506), \"\", Responses!P506)","v":""},{"$f":"IF(ISBLANK(Responses!Q506), \"\", Responses!Q506)","v":""},{"$f":"IF(ISBLANK(Responses!R506), \"\", Responses!R506)","v":""},{"$f":"IF(ISBLANK(Responses!S506), \"\", Responses!S506)","v":""},{"$f":"IF(ISBLANK(Responses!T506), \"\", Responses!T506)","v":""}]
[{"$f":"IF(ISBLANK(Responses!A507), \"\", Responses!A507)","v":""},{"$f":"IF(ISBLANK(Responses!B507), \"\", Responses!B507)","v":""},{"$f":"IF(ISBLANK(Responses!N507), \"\", Responses!N507)","v":""},{"$f":"IF(ISBLANK(Responses!O507), \"\", Responses!O507)","v":""},{"$f":"IF(ISBLANK(Responses!P507), \"\", Responses!P507)","v":""},{"$f":"IF(ISBLANK(Responses!Q507), \"\", Responses!Q507)","v":""},{"$f":"IF(ISBLANK(Responses!R507), \"\", Responses!R507)","v":""},{"$f":"IF(ISBLANK(Responses!S507), \"\", Responses!S507)","v":""},{"$f":"IF(ISBLANK(Responses!T507), \"\", Responses!T507)","v":""}]
[{"$f":"IF(ISBLANK(Responses!A508), \"\", Responses!A508)","v":""},{"$f":"IF(ISBLANK(Responses!B508), \"\", Responses!B508)","v":""},{"$f":"IF(ISBLANK(Responses!N508), \"\", Responses!N508)","v":""},{"$f":"IF(ISBLANK(Responses!O508), \"\", Responses!O508)","v":""},{"$f":"IF(ISBLANK(Responses!P508), \"\", Responses!P508)","v":""},{"$f":"IF(ISBLANK(Responses!Q508), \"\", Responses!Q508)","v":""},{"$f":"IF(ISBLANK(Responses!R508), \"\", Responses!R508)","v":""},{"$f":"IF(ISBLANK(Responses!S508), \"\", Responses!S508)","v":""},{"$f":"IF(ISBLANK(Responses!T508), \"\", Responses!T508)","v":""}]
[{"$f":"IF(ISBLANK(Responses!A509), \"\", Responses!A509)","v":""},{"$f":"IF(ISBLANK(Responses!B509), \"\", Responses!B509)","v":""},{"$f":"IF(ISBLANK(Responses!N509), \"\", Responses!N509)","v":""},{"$f":"IF(ISBLANK(Responses!O509), \"\", Responses!O509)","v":""},{"$f":"IF(ISBLANK(Responses!P509), \"\", Responses!P509)","v":""},{"$f":"IF(ISBLANK(Responses!Q509), \"\", Responses!Q509)","v":""},{"$f":"IF(ISBLANK(Responses!R509), \"\", Responses!R509)","v":""},{"$f":"IF(ISBLANK(Responses!S509), \"\", Responses!S509)","v":""},{"$f":"IF(ISBLANK(Responses!T509), \"\", Responses!T509)","v":""}]
[{"$f":"IF(ISBLANK(Responses!A510), \"\", Responses!A510)","v":""},{"$f":"IF(ISBLANK(Responses!B510), \"\", Responses!B510)","v":""},{"$f":"IF(ISBLANK(Responses!N510), \"\", Responses!N510)","v":""},{"$f":"IF(ISBLANK(Responses!O510), \"\", Responses!O510)","v":""},{"$f":"IF(ISBLANK(Responses!P510), \"\", Responses!P510)","v":""},{"$f":"IF(ISBLANK(Responses!Q510), \"\", Responses!Q510)","v":""},{"$f":"IF(ISBLANK(Responses!R510), \"\", Responses!R510)","v":""},{"$f":"IF(ISBLANK(Responses!S510), \"\", Responses!S510)","v":""},{"$f":"IF(ISBLANK(Responses!T510), \"\", Responses!T510)","v":""}]
[{"$f":"IF(ISBLANK(Responses!A511), \"\", Responses!A511)","v":""},{"$f":"IF(ISBLANK(Responses!B511), \"\", Responses!B511)","v":""},{"$f":"IF(ISBLANK(Responses!N511), \"\", Responses!N511)","v":""},{"$f":"IF(ISBLANK(Responses!O511), \"\", Responses!O511)","v":""},{"$f":"IF(ISBLANK(Responses!P511), \"\", Responses!P511)","v":""},{"$f":"IF(ISBLANK(Responses!Q511), \"\", Responses!Q511)","v":""},{"$f":"IF(ISBLANK(Responses!R511), \"\", Responses!R511)","v":""},{"$f":"IF(ISBLANK(Responses!S511), \"\", Responses!S511)","v":""},{"$f":"IF(ISBLANK(Responses!T511), \"\", Responses!T511)","v":""}]
[{"$f":"IF(ISBLANK(Responses!A512), \"\", Responses!A512)","v":""},{"$f":"IF(ISBLANK(Responses!B512), \"\", Responses!B512)","v":""},{"$f":"IF(ISBLANK(Responses!N512), \"\", Responses!N512)","v":""},{"$f":"IF(ISBLANK(Responses!O512), \"\", Responses!O512)","v":""},{"$f":"IF(ISBLANK(Responses!P512), \"\", Responses!P512)","v":""},{"$f":"IF(ISBLANK(Responses!Q512), \"\", Responses!Q512)","v":""},{"$f":"IF(ISBLANK(Responses!R512), \"\", Responses!R512)","v":""},{"$f":"IF(ISBLANK(Responses!S512), \"\", Responses!S512)","v":""},{"$f":"IF(ISBLANK(Responses!T512), \"\", Responses!T512)","v":""}]
[{"$f":"IF(ISBLANK(Responses!A513), \"\", Responses!A513)","v":""},{"$f":"IF(ISBLANK(Responses!B513), \"\", Responses!B513)","v":""},{"$f":"IF(ISBLANK(Responses!N513), \"\", Responses!N513)","v":""},{"$f":"IF(ISBLANK(Responses!O513), \"\", Responses!O513)","v":""},{"$f":"IF(ISBLANK(Responses!P513), \"\", Responses!P513)","v":""},{"$f":"IF(ISBLANK(Responses!Q513), \"\", Responses!Q513)","v":""},{"$f":"IF(ISBLANK(Responses!R513), \"\", Responses!R513)","v":""},{"$f":"IF(ISBLANK(Responses!S513), \"\", Responses!S513)","v":""},{"$f":"IF(ISBLANK(Responses!T513), \"\", Responses!T513)","v":""}]
[{"$f":"IF(ISBLANK(Responses!A514), \"\", Responses!A514)","v":""},{"$f":"IF(ISBLANK(Responses!B514), \"\", Responses!B514)","v":""},{"$f":"IF(ISBLANK(Responses!N514), \"\", Responses!N514)","v":""},{"$f":"IF(ISBLANK(Responses!O514), \"\", Responses!O514)","v":""},{"$f":"IF(ISBLANK(Responses!P514), \"\", Responses!P514)","v":""},{"$f":"IF(ISBLANK(Responses!Q514), \"\", Responses!Q514)","v":""},{"$f":"IF(ISBLANK(Responses!R514), \"\", Responses!R514)","v":""},{"$f":"IF(ISBLANK(Responses!S514), \"\", Responses!S514)","v":""},{"$f":"IF(ISBLANK(Responses!T514), \"\", Responses!T514)","v":""}]
[{"$f":"IF(ISBLANK(Responses!A515), \"\", Responses!A515)","v":""},{"$f":"IF(ISBLANK(Responses!B515), \"\", Responses!B515)","v":""},{"$f":"IF(ISBLANK(Responses!N515), \"\", Responses!N515)","v":""},{"$f":"IF(ISBLANK(Responses!O515), \"\", Responses!O515)","v":""},{"$f":"IF(ISBLANK(Responses!P515), \"\", Responses!P515)","v":""},{"$f":"IF(ISBLANK(Responses!Q515), \"\", Responses!Q515)","v":""},{"$f":"IF(ISBLANK(Responses!R515), \"\", Responses!R515)","v":""},{"$f":"IF(ISBLANK(Responses!S515), \"\", Responses!S515)","v":""},{"$f":"IF(ISBLANK(Responses!T515), \"\", Responses!T515)","v":""}]
[{"$f":"IF(ISBLANK(Responses!A516), \"\", Responses!A516)","v":""},{"$f":"IF(ISBLANK(Responses!B516), \"\", Responses!B516)","v":""},{"$f":"IF(ISBLANK(Responses!N516), \"\", Responses!N516)","v":""},{"$f":"IF(ISBLANK(Responses!O516), \"\", Responses!O516)","v":""},{"$f":"IF(ISBLANK(Responses!P516), \"\", Responses!P516)","v":""},{"$f":"IF(ISBLANK(Responses!Q516), \"\", Responses!Q516)","v":""},{"$f":"IF(ISBLANK(Responses!R516), \"\", Responses!R516)","v":""},{"$f":"IF(ISBLANK(Responses!S516), \"\", Responses!S516)","v":""},{"$f":"IF(ISBLANK(Responses!T516), \"\", Responses!T516)","v":""}]
[{"$f":"IF(ISBLANK(Responses!A517), \"\", Responses!A517)","v":""},{"$f":"IF(ISBLANK(Responses!B517), \"\", Responses!B517)","v":""},{"$f":"IF(ISBLANK(Responses!N517), \"\", Responses!N517)","v":""},{"$f":"IF(ISBLANK(Responses!O517), \"\", Responses!O517)","v":""},{"$f":"IF(ISBLANK(Responses!P517), \"\", Responses!P517)","v":""},{"$f":"IF(ISBLANK(Responses!Q517), \"\", Responses!Q517)","v":""},{"$f":"IF(ISBLANK(Responses!R517), \"\", Responses!R517)","v":""},{"$f":"IF(ISBLANK(Responses!S517), \"\", Responses!S517)","v":""},{"$f":"IF(ISBLANK(Responses!T517), \"\", Responses!T517)","v":""}]
[{"$f":"IF(ISBLANK(Responses!A518), \"\", Responses!A518)","v":""},{"$f":"IF(ISBLANK(Responses!B518), \"\", Responses!B518)","v":""},{"$f":"IF(ISBLANK(Responses!N518), \"\", Responses!N518)","v":""},{"$f":"IF(ISBLANK(Responses!O518), \"\", Responses!O518)","v":""},{"$f":"IF(ISBLANK(Responses!P518), \"\", Responses!P518)","v":""},{"$f":"IF(ISBLANK(Responses!Q518), \"\", Responses!Q518)","v":""},{"$f":"IF(ISBLANK(Responses!R518), \"\", Responses!R518)","v":""},{"$f":"IF(ISBLANK(Responses!S518), \"\", Responses!S518)","v":""},{"$f":"IF(ISBLANK(Responses!T518), \"\", Responses!T518)","v":""}]
[{"$f":"IF(ISBLANK(Responses!A519), \"\", Responses!A519)","v":""},{"$f":"IF(ISBLANK(Responses!B519), \"\", Responses!B519)","v":""},{"$f":"IF(ISBLANK(Responses!N519), \"\", Responses!N519)","v":""},{"$f":"IF(ISBLANK(Responses!O519), \"\", Responses!O519)","v":""},{"$f":"IF(ISBLANK(Responses!P519), \"\", Responses!P519)","v":""},{"$f":"IF(ISBLANK(Responses!Q519), \"\", Responses!Q519)","v":""},{"$f":"IF(ISBLANK(Responses!R519), \"\", Responses!R519)","v":""},{"$f":"IF(ISBLANK(Responses!S519), \"\", Responses!S519)","v":""},{"$f":"IF(ISBLANK(Responses!T519), \"\", Responses!T519)","v":""}]
[{"$f":"IF(ISBLANK(Responses!A520), \"\", Responses!A520)","v":""},{"$f":"IF(ISBLANK(Responses!B520), \"\", Responses!B520)","v":""},{"$f":"IF(ISBLANK(Responses!N520), \"\", Responses!N520)","v":""},{"$f":"IF(ISBLANK(Responses!O520), \"\", Responses!O520)","v":""},{"$f":"IF(ISBLANK(Responses!P520), \"\", Responses!P520)","v":""},{"$f":"IF(ISBLANK(Responses!Q520), \"\", Responses!Q520)","v":""},{"$f":"IF(ISBLANK(Responses!R520), \"\", Responses!R520)","v":""},{"$f":"IF(ISBLANK(Responses!S520), \"\", Responses!S520)","v":""},{"$f":"IF(ISBLANK(Responses!T520), \"\", Responses!T520)","v":""}]
[{"$f":"IF(ISBLANK(Responses!A521), \"\", Responses!A521)","v":""},{"$f":"IF(ISBLANK(Responses!B521), \"\", Responses!B521)","v":""},{"$f":"IF(ISBLANK(Responses!N521), \"\", Responses!N521)","v":""},{"$f":"IF(ISBLANK(Responses!O521), \"\", Responses!O521)","v":""},{"$f":"IF(ISBLANK(Responses!P521), \"\", Responses!P521)","v":""},{"$f":"IF(ISBLANK(Responses!Q521), \"\", Responses!Q521)","v":""},{"$f":"IF(ISBLANK(Responses!R521), \"\", Responses!R521)","v":""},{"$f":"IF(ISBLANK(Responses!S521), \"\", Responses!S521)","v":""},{"$f":"IF(ISBLANK(Responses!T521), \"\", Responses!T521)","v":""}]
[{"$f":"IF(ISBLANK(Responses!A522), \"\", Responses!A522)","v":""},{"$f":"IF(ISBLANK(Responses!B522), \"\", Responses!B522)","v":""},{"$f":"IF(ISBLANK(Responses!N522), \"\", Responses!N522)","v":""},{"$f":"IF(ISBLANK(Responses!O522), \"\", Responses!O522)","v":""},{"$f":"IF(ISBLANK(Responses!P522), \"\", Responses!P522)","v":""},{"$f":"IF(ISBLANK(Responses!Q522), \"\", Responses!Q522)","v":""},{"$f":"IF(ISBLANK(Responses!R522), \"\", Responses!R522)","v":""},{"$f":"IF(ISBLANK(Responses!S522), \"\", Responses!S522)","v":""},{"$f":"IF(ISBLANK(Responses!T522), \"\", Responses!T522)","v":""}]
[{"$f":"IF(ISBLANK(Responses!A523), \"\", Responses!A523)","v":""},{"$f":"IF(ISBLANK(Responses!B523), \"\", Responses!B523)","v":""},{"$f":"IF(ISBLANK(Responses!N523), \"\", Responses!N523)","v":""},{"$f":"IF(ISBLANK(Responses!O523), \"\", Responses!O523)","v":""},{"$f":"IF(ISBLANK(Responses!P523), \"\", Responses!P523)","v":""},{"$f":"IF(ISBLANK(Responses!Q523), \"\", Responses!Q523)","v":""},{"$f":"IF(ISBLANK(Responses!R523), \"\", Responses!R523)","v":""},{"$f":"IF(ISBLANK(Responses!S523), \"\", Responses!S523)","v":""},{"$f":"IF(ISBLANK(Responses!T523), \"\", Responses!T523)","v":""}]
[{"$f":"IF(ISBLANK(Responses!A524), \"\", Responses!A524)","v":""},{"$f":"IF(ISBLANK(Responses!B524), \"\", Responses!B524)","v":""},{"$f":"IF(ISBLANK(Responses!N524), \"\", Responses!N524)","v":""},{"$f":"IF(ISBLANK(Responses!O524), \"\", Responses!O524)","v":""},{"$f":"IF(ISBLANK(Responses!P524), \"\", Responses!P524)","v":""},{"$f":"IF(ISBLANK(Responses!Q524), \"\", Responses!Q524)","v":""},{"$f":"IF(ISBLANK(Responses!R524), \"\", Responses!R524)","v":""},{"$f":"IF(ISBLANK(Responses!S524), \"\", Responses!S524)","v":""},{"$f":"IF(ISBLANK(Responses!T524), \"\", Responses!T524)","v":""}]
[{"$f":"IF(ISBLANK(Responses!A525), \"\", Responses!A525)","v":""},{"$f":"IF(ISBLANK(Responses!B525), \"\", Responses!B525)","v":""},{"$f":"IF(ISBLANK(Responses!N525), \"\", Responses!N525)","v":""},{"$f":"IF(ISBLANK(Responses!O525), \"\", Responses!O525)","v":""},{"$f":"IF(ISBLANK(Responses!P525), \"\", Responses!P525)","v":""},{"$f":"IF(ISBLANK(Responses!Q525), \"\", Responses!Q525)","v":""},{"$f":"IF(ISBLANK(Responses!R525), \"\", Responses!R525)","v":""},{"$f":"IF(ISBLANK(Responses!S525), \"\", Responses!S525)","v":""},{"$f":"IF(ISBLANK(Responses!T525), \"\", Responses!T525)","v":""}]
[{"$f":"IF(ISBLANK(Responses!A526), \"\", Responses!A526)","v":""},{"$f":"IF(ISBLANK(Responses!B526), \"\", Responses!B526)","v":""},{"$f":"IF(ISBLANK(Responses!N526), \"\", Responses!N526)","v":""},{"$f":"IF(ISBLANK(Responses!O526), \"\", Responses!O526)","v":""},{"$f":"IF(ISBLANK(Responses!P526), \"\", Responses!P526)","v":""},{"$f":"IF(ISBLANK(Responses!Q526), \"\", Responses!Q526)","v":""},{"$f":"IF(ISBLANK(Responses!R526), \"\", Responses!R526)","v":""},{"$f":"IF(ISBLANK(Responses!S526), \"\", Responses!S526)","v":""},{"$f":"IF(ISBLANK(Responses!T526), \"\", Responses!T526)","v":""}]
[{"$f":"IF(ISBLANK(Responses!A527), \"\", Responses!A527)","v":""},{"$f":"IF(ISBLANK(Responses!B527), \"\", Responses!B527)","v":""},{"$f":"IF(ISBLANK(Responses!N527), \"\", Responses!N527)","v":""},{"$f":"IF(ISBLANK(Responses!O527), \"\", Responses!O527)","v":""},{"$f":"IF(ISBLANK(Responses!P527), \"\", Responses!P527)","v":""},{"$f":"IF(ISBLANK(Responses!Q527), \"\", Responses!Q527)","v":""},{"$f":"IF(ISBLANK(Responses!R527), \"\", Responses!R527)","v":""},{"$f":"IF(ISBLANK(Responses!S527), \"\", Responses!S527)","v":""},{"$f":"IF(ISBLANK(Responses!T527), \"\", Responses!T527)","v":""}]
[{"$f":"IF(ISBLANK(Responses!A528), \"\", Responses!A528)","v":""},{"$f":"IF(ISBLANK(Responses!B528), \"\", Responses!B528)","v":""},{"$f":"IF(ISBLANK(Responses!N528), \"\", Responses!N528)","v":""},{"$f":"IF(ISBLANK(Responses!O528), \"\", Responses!O528)","v":""},{"$f":"IF(ISBLANK(Responses!P528), \"\", Responses!P528)","v":""},{"$f":"IF(ISBLANK(Responses!Q528), \"\", Responses!Q528)","v":""},{"$f":"IF(ISBLANK(Responses!R528), \"\", Responses!R528)","v":""},{"$f":"IF(ISBLANK(Responses!S528), \"\", Responses!S528)","v":""},{"$f":"IF(ISBLANK(Responses!T528), \"\", Responses!T528)","v":""}]
[{"$f":"IF(ISBLANK(Responses!A529), \"\", Responses!A529)","v":""},{"$f":"IF(ISBLANK(Responses!B529), \"\", Responses!B529)","v":""},{"$f":"IF(ISBLANK(Responses!N529), \"\", Responses!N529)","v":""},{"$f":"IF(ISBLANK(Responses!O529), \"\", Responses!O529)","v":""},{"$f":"IF(ISBLANK(Responses!P529), \"\", Responses!P529)","v":""},{"$f":"IF(ISBLANK(Responses!Q529), \"\", Responses!Q529)","v":""},{"$f":"IF(ISBLANK(Responses!R529), \"\", Responses!R529)","v":""},{"$f":"IF(ISBLANK(Responses!S529), \"\", Responses!S529)","v":""},{"$f":"IF(ISBLANK(Responses!T529), \"\", Responses!T529)","v":""}]
[{"$f":"IF(ISBLANK(Responses!A530), \"\", Responses!A530)","v":""},{"$f":"IF(ISBLANK(Responses!B530), \"\", Responses!B530)","v":""},{"$f":"IF(ISBLANK(Responses!N530), \"\", Responses!N530)","v":""},{"$f":"IF(ISBLANK(Responses!O530), \"\", Responses!O530)","v":""},{"$f":"IF(ISBLANK(Responses!P530), \"\", Responses!P530)","v":""},{"$f":"IF(ISBLANK(Responses!Q530), \"\", Responses!Q530)","v":""},{"$f":"IF(ISBLANK(Responses!R530), \"\", Responses!R530)","v":""},{"$f":"IF(ISBLANK(Responses!S530), \"\", Responses!S530)","v":""},{"$f":"IF(ISBLANK(Responses!T530), \"\", Responses!T530)","v":""}]
[{"$f":"IF(ISBLANK(Responses!A531), \"\", Responses!A531)","v":""},{"$f":"IF(ISBLANK(Responses!B531), \"\", Responses!B531)","v":""},{"$f":"IF(ISBLANK(Responses!N531), \"\", Responses!N531)","v":""},{"$f":"IF(ISBLANK(Responses!O531), \"\", Responses!O531)","v":""},{"$f":"IF(ISBLANK(Responses!P531), \"\", Responses!P531)","v":""},{"$f":"IF(ISBLANK(Responses!Q531), \"\", Responses!Q531)","v":""},{"$f":"IF(ISBLANK(Responses!R531), \"\", Responses!R531)","v":""},{"$f":"IF(ISBLANK(Responses!S531), \"\", Responses!S531)","v":""},{"$f":"IF(ISBLANK(Responses!T531), \"\", Responses!T531)","v":""}]
[{"$f":"IF(ISBLANK(Responses!A532), \"\", Responses!A532)","v":""},{"$f":"IF(ISBLANK(Responses!B532), \"\", Responses!B532)","v":""},{"$f":"IF(ISBLANK(Responses!N532), \"\", Responses!N532)","v":""},{"$f":"IF(ISBLANK(Responses!O532), \"\", Responses!O532)","v":""},{"$f":"IF(ISBLANK(Responses!P532), \"\", Responses!P532)","v":""},{"$f":"IF(ISBLANK(Responses!Q532), \"\", Responses!Q532)","v":""},{"$f":"IF(ISBLANK(Responses!R532), \"\", Responses!R532)","v":""},{"$f":"IF(ISBLANK(Responses!S532), \"\", Responses!S532)","v":""},{"$f":"IF(ISBLANK(Responses!T532), \"\", Responses!T532)","v":""}]
[{"$f":"IF(ISBLANK(Responses!A533), \"\", Responses!A533)","v":""},{"$f":"IF(ISBLANK(Responses!B533), \"\", Responses!B533)","v":""},{"$f":"IF(ISBLANK(Responses!N533), \"\", Responses!N533)","v":""},{"$f":"IF(ISBLANK(Responses!O533), \"\", Responses!O533)","v":""},{"$f":"IF(ISBLANK(Responses!P533), \"\", Responses!P533)","v":""},{"$f":"IF(ISBLANK(Responses!Q533), \"\", Responses!Q533)","v":""},{"$f":"IF(ISBLANK(Responses!R533), \"\", Responses!R533)","v":""},{"$f":"IF(ISBLANK(Responses!S533), \"\", Responses!S533)","v":""},{"$f":"IF(ISBLANK(Responses!T533), \"\", Responses!T533)","v":""}]
[{"$f":"IF(ISBLANK(Responses!A534), \"\", Responses!A534)","v":""},{"$f":"IF(ISBLANK(Responses!B534), \"\", Responses!B534)","v":""},{"$f":"IF(ISBLANK(Responses!N534), \"\", Responses!N534)","v":""},{"$f":"IF(ISBLANK(Responses!O534), \"\", Responses!O534)","v":""},{"$f":"IF(ISBLANK(Responses!P534), \"\", Responses!P534)","v":""},{"$f":"IF(ISBLANK(Responses!Q534), \"\", Responses!Q534)","v":""},{"$f":"IF(ISBLANK(Responses!R534), \"\", Responses!R534)","v":""},{"$f":"IF(ISBLANK(Responses!S534), \"\", Responses!S534)","v":""},{"$f":"IF(ISBLANK(Responses!T534), \"\", Responses!T534)","v":""}]
[{"$f":"IF(ISBLANK(Responses!A535), \"\", Responses!A535)","v":""},{"$f":"IF(ISBLANK(Responses!B535), \"\", Responses!B535)","v":""},{"$f":"IF(ISBLANK(Responses!N535), \"\", Responses!N535)","v":""},{"$f":"IF(ISBLANK(Responses!O535), \"\", Responses!O535)","v":""},{"$f":"IF(ISBLANK(Responses!P535), \"\", Responses!P535)","v":""},{"$f":"IF(ISBLANK(Responses!Q535), \"\", Responses!Q535)","v":""},{"$f":"IF(ISBLANK(Responses!R535), \"\", Responses!R535)","v":""},{"$f":"IF(ISBLANK(Responses!S535), \"\", Responses!S535)","v":""},{"$f":"IF(ISBLANK(Responses!T535), \"\", Responses!T535)","v":""}]
[{"$f":"IF(ISBLANK(Responses!A536), \"\", Responses!A536)","v":""},{"$f":"IF(ISBLANK(Responses!B536), \"\", Responses!B536)","v":""},{"$f":"IF(ISBLANK(Responses!N536), \"\", Responses!N536)","v":""},{"$f":"IF(ISBLANK(Responses!O536), \"\", Responses!O536)","v":""},{"$f":"IF(ISBLANK(Responses!P536), \"\", Responses!P536)","v":""},{"$f":"IF(ISBLANK(Responses!Q536), \"\", Responses!Q536)","v":""},{"$f":"IF(ISBLANK(Responses!R536), \"\", Responses!R536)","v":""},{"$f":"IF(ISBLANK(Responses!S536), \"\", Responses!S536)","v":""},{"$f":"IF(ISBLANK(Responses!T536), \"\", Responses!T536)","v":""}]
[{"$f":"IF(ISBLANK(Responses!A537), \"\", Responses!A537)","v":""},{"$f":"IF(ISBLANK(Responses!B537), \"\", Responses!B537)","v":""},{"$f":"IF(ISBLANK(Responses!N537), \"\", Responses!N537)","v":""},{"$f":"IF(ISBLANK(Responses!O537), \"\", Responses!O537)","v":""},{"$f":"IF(ISBLANK(Responses!P537), \"\", Responses!P537)","v":""},{"$f":"IF(ISBLANK(Responses!Q537), \"\", Responses!Q537)","v":""},{"$f":"IF(ISBLANK(Responses!R537), \"\", Responses!R537)","v":""},{"$f":"IF(ISBLANK(Responses!S537), \"\", Responses!S537)","v":""},{"$f":"IF(ISBLANK(Responses!T537), \"\", Responses!T537)","v":""}]
[{"$f":"IF(ISBLANK(Responses!A538), \"\", Responses!A538)","v":""},{"$f":"IF(ISBLANK(Responses!B538), \"\", Responses!B538)","v":""},{"$f":"IF(ISBLANK(Responses!N538), \"\", Responses!N538)","v":""},{"$f":"IF(ISBLANK(Responses!O538), \"\", Responses!O538)","v":""},{"$f":"IF(ISBLANK(Responses!P538), \"\", Responses!P538)","v":""},{"$f":"IF(ISBLANK(Responses!Q538), \"\", Responses!Q538)","v":""},{"$f":"IF(ISBLANK(Responses!R538), \"\", Responses!R538)","v":""},{"$f":"IF(ISBLANK(Responses!S538), \"\", Responses!S538)","v":""},{"$f":"IF(ISBLANK(Responses!T538), \"\", Responses!T538)","v":""}]
[{"$f":"IF(ISBLANK(Responses!A539), \"\", Responses!A539)","v":""},{"$f":"IF(ISBLANK(Responses!B539), \"\", Responses!B539)","v":""},{"$f":"IF(ISBLANK(Responses!N539), \"\", Responses!N539)","v":""},{"$f":"IF(ISBLANK(Responses!O539), \"\", Responses!O539)","v":""},{"$f":"IF(ISBLANK(Responses!P539), \"\", Responses!P539)","v":""},{"$f":"IF(ISBLANK(Responses!Q539), \"\", Responses!Q539)","v":""},{"$f":"IF(ISBLANK(Responses!R539), \"\", Responses!R539)","v":""},{"$f":"IF(ISBLANK(Responses!S539), \"\", Responses!S539)","v":""},{"$f":"IF(ISBLANK(Responses!T539), \"\", Responses!T539)","v":""}]
[{"$f":"IF(ISBLANK(Responses!A540), \"\", Responses!A540)","v":""},{"$f":"IF(ISBLANK(Responses!B540), \"\", Responses!B540)","v":""},{"$f":"IF(ISBLANK(Responses!N540), \"\", Responses!N540)","v":""},{"$f":"IF(ISBLANK(Responses!O540), \"\", Responses!O540)","v":""},{"$f":"IF(ISBLANK(Responses!P540), \"\", Responses!P540)","v":""},{"$f":"IF(ISBLANK(Responses!Q540), \"\", Responses!Q540)","v":""},{"$f":"IF(ISBLANK(Responses!R540), \"\", Responses!R540)","v":""},{"$f":"IF(ISBLANK(Responses!S540), \"\", Responses!S540)","v":""},{"$f":"IF(ISBLANK(Responses!T540), \"\", Responses!T540)","v":""}]
[{"$f":"IF(ISBLANK(Responses!A541), \"\", Responses!A541)","v":""},{"$f":"IF(ISBLANK(Responses!B541), \"\", Responses!B541)","v":""},{"$f":"IF(ISBLANK(Responses!N541), \"\", Responses!N541)","v":""},{"$f":"IF(ISBLANK(Responses!O541), \"\", Responses!O541)","v":""},{"$f":"IF(ISBLANK(Responses!P541), \"\", Responses!P541)","v":""},{"$f":"IF(ISBLANK(Responses!Q541), \"\", Responses!Q541)","v":""},{"$f":"IF(ISBLANK(Responses!R541), \"\", Responses!R541)","v":""},{"$f":"IF(ISBLANK(Responses!S541), \"\", Responses!S541)","v":""},{"$f":"IF(ISBLANK(Responses!T541), \"\", Responses!T541)","v":""}]
[{"$f":"IF(ISBLANK(Responses!A542), \"\", Responses!A542)","v":""},{"$f":"IF(ISBLANK(Responses!B542), \"\", Responses!B542)","v":""},{"$f":"IF(ISBLANK(Responses!N542), \"\", Responses!N542)","v":""},{"$f":"IF(ISBLANK(Responses!O542), \"\", Responses!O542)","v":""},{"$f":"IF(ISBLANK(Responses!P542), \"\", Responses!P542)","v":""},{"$f":"IF(ISBLANK(Responses!Q542), \"\", Responses!Q542)","v":""},{"$f":"IF(ISBLANK(Responses!R542), \"\", Responses!R542)","v":""},{"$f":"IF(ISBLANK(Responses!S542), \"\", Responses!S542)","v":""},{"$f":"IF(ISBLANK(Responses!T542), \"\", Responses!T542)","v":""}]
[{"$f":"IF(ISBLANK(Responses!A543), \"\", Responses!A543)","v":""},{"$f":"IF(ISBLANK(Responses!B543), \"\", Responses!B543)","v":""},{"$f":"IF(ISBLANK(Responses!N543), \"\", Responses!N543)","v":""},{"$f":"IF(ISBLANK(Responses!O543), \"\", Responses!O543)","v":""},{"$f":"IF(ISBLANK(Responses!P543), \"\", Responses!P543)","v":""},{"$f":"IF(ISBLANK(Responses!Q543), \"\", Responses!Q543)","v":""},{"$f":"IF(ISBLANK(Responses!R543), \"\", Responses!R543)","v":""},{"$f":"IF(ISBLANK(Responses!S543), \"\", Responses!S543)","v":""},{"$f":"IF(ISBLANK(Responses!T543), \"\", Responses!T543)","v":""}]
[{"$f":"IF(ISBLANK(Responses!A544), \"\", Responses!A544)","v":""},{"$f":"IF(ISBLANK(Responses!B544), \"\", Responses!B544)","v":""},{"$f":"IF(ISBLANK(Responses!N544), \"\", Responses!N544)","v":""},{"$f":"IF(ISBLANK(Responses!O544), \"\", Responses!O544)","v":""},{"$f":"IF(ISBLANK(Responses!P544), \"\", Responses!P544)","v":""},{"$f":"IF(ISBLANK(Responses!Q544), \"\", Responses!Q544)","v":""},{"$f":"IF(ISBLANK(Responses!R544), \"\", Responses!R544)","v":""},{"$f":"IF(ISBLANK(Responses!S544), \"\", Responses!S544)","v":""},{"$f":"IF(ISBLANK(Responses!T544), \"\", Responses!T544)","v":""}]
[{"$f":"IF(ISBLANK(Responses!A545), \"\", Responses!A545)","v":""},{"$f":"IF(ISBLANK(Responses!B545), \"\", Responses!B545)","v":""},{"$f":"IF(ISBLANK(Responses!N545), \"\", Responses!N545)","v":""},{"$f":"IF(ISBLANK(Responses!O545), \"\", Responses!O545)","v":""},{"$f":"IF(ISBLANK(Responses!P545), \"\", Responses!P545)","v":""},{"$f":"IF(ISBLANK(Responses!Q545), \"\", Responses!Q545)","v":""},{"$f":"IF(ISBLANK(Responses!R545), \"\", Responses!R545)","v":""},{"$f":"IF(ISBLANK(Responses!S545), \"\", Responses!S545)","v":""},{"$f":"IF(ISBLANK(Responses!T545), \"\", Responses!T545)","v":""}]
[{"$f":"IF(ISBLANK(Responses!A546), \"\", Responses!A546)","v":""},{"$f":"IF(ISBLANK(Responses!B546), \"\", Responses!B546)","v":""},{"$f":"IF(ISBLANK(Responses!N546), \"\", Responses!N546)","v":""},{"$f":"IF(ISBLANK(Responses!O546), \"\", Responses!O546)","v":""},{"$f":"IF(ISBLANK(Responses!P546), \"\", Responses!P546)","v":""},{"$f":"IF(ISBLANK(Responses!Q546), \"\", Responses!Q546)","v":""},{"$f":"IF(ISBLANK(Responses!R546), \"\", Responses!R546)","v":""},{"$f":"IF(ISBLANK(Responses!S546), \"\", Responses!S546)","v":""},{"$f":"IF(ISBLANK(Responses!T546), \"\", Responses!T546)","v":""}]
[{"$f":"IF(ISBLANK(Responses!A547), \"\", Responses!A547)","v":""},{"$f":"IF(ISBLANK(Responses!B547), \"\", Responses!B547)","v":""},{"$f":"IF(ISBLANK(Responses!N547), \"\", Responses!N547)","v":""},{"$f":"IF(ISBLANK(Responses!O547), \"\", Responses!O547)","v":""},{"$f":"IF(ISBLANK(Responses!P547), \"\", Responses!P547)","v":""},{"$f":"IF(ISBLANK(Responses!Q547), \"\", Responses!Q547)","v":""},{"$f":"IF(ISBLANK(Responses!R547), \"\", Responses!R547)","v":""},{"$f":"IF(ISBLANK(Responses!S547), \"\", Responses!S547)","v":""},{"$f":"IF(ISBLANK(Responses!T547), \"\", Responses!T547)","v":""}]
[{"$f":"IF(ISBLANK(Responses!A548), \"\", Responses!A548)","v":""},{"$f":"IF(ISBLANK(Responses!B548), \"\", Responses!B548)","v":""},{"$f":"IF(ISBLANK(Responses!N548), \"\", Responses!N548)","v":""},{"$f":"IF(ISBLANK(Responses!O548), \"\", Responses!O548)","v":""},{"$f":"IF(ISBLANK(Responses!P548), \"\", Responses!P548)","v":""},{"$f":"IF(ISBLANK(Responses!Q548), \"\", Responses!Q548)","v":""},{"$f":"IF(ISBLANK(Responses!R548), \"\", Responses!R548)","v":""},{"$f":"IF(ISBLANK(Responses!S548), \"\", Responses!S548)","v":""},{"$f":"IF(ISBLANK(Responses!T548), \"\", Responses!T548)","v":""}]
[{"$f":"IF(ISBLANK(Responses!A549), \"\", Responses!A549)","v":""},{"$f":"IF(ISBLANK(Responses!B549), \"\", Responses!B549)","v":""},{"$f":"IF(ISBLANK(Responses!N549), \"\", Responses!N549)","v":""},{"$f":"IF(ISBLANK(Responses!O549), \"\", Responses!O549)","v":""},{"$f":"IF(ISBLANK(Responses!P549), \"\", Responses!P549)","v":""},{"$f":"IF(ISBLANK(Responses!Q549), \"\", Responses!Q549)","v":""},{"$f":"IF(ISBLANK(Responses!R549), \"\", Responses!R549)","v":""},{"$f":"IF(ISBLANK(Responses!S549), \"\", Responses!S549)","v":""},{"$f":"IF(ISBLANK(Responses!T549), \"\", Responses!T549)","v":""}]
[{"$f":"IF(ISBLANK(Responses!A550), \"\", Responses!A550)","v":""},{"$f":"IF(ISBLANK(Responses!B550), \"\", Responses!B550)","v":""},{"$f":"IF(ISBLANK(Responses!N550), \"\", Responses!N550)","v":""},{"$f":"IF(ISBLANK(Responses!O550), \"\", Responses!O550)","v":""},{"$f":"IF(ISBLANK(Responses!P550), \"\", Responses!P550)","v":""},{"$f":"IF(ISBLANK(Responses!Q550), \"\", Responses!Q550)","v":""},{"$f":"IF(ISBLANK(Responses!R550), \"\", Responses!R550)","v":""},{"$f":"IF(ISBLANK(Responses!S550), \"\", Responses!S550)","v":""},{"$f":"IF(ISBLANK(Responses!T550), \"\", Responses!T550)","v":""}]
[{"$f":"IF(ISBLANK(Responses!A551), \"\", Responses!A551)","v":""},{"$f":"IF(ISBLANK(Responses!B551), \"\", Responses!B551)","v":""},{"$f":"IF(ISBLANK(Responses!N551), \"\", Responses!N551)","v":""},{"$f":"IF(ISBLANK(Responses!O551), \"\", Responses!O551)","v":""},{"$f":"IF(ISBLANK(Responses!P551), \"\", Responses!P551)","v":""},{"$f":"IF(ISBLANK(Responses!Q551), \"\", Responses!Q551)","v":""},{"$f":"IF(ISBLANK(Responses!R551), \"\", Responses!R551)","v":""},{"$f":"IF(ISBLANK(Responses!S551), \"\", Responses!S551)","v":""},{"$f":"IF(ISBLANK(Responses!T551), \"\", Responses!T551)","v":""}]
[{"$f":"IF(ISBLANK(Responses!A552), \"\", Responses!A552)","v":""},{"$f":"IF(ISBLANK(Responses!B552), \"\", Responses!B552)","v":""},{"$f":"IF(ISBLANK(Responses!N552), \"\", Responses!N552)","v":""},{"$f":"IF(ISBLANK(Responses!O552), \"\", Responses!O552)","v":""},{"$f":"IF(ISBLANK(Responses!P552), \"\", Responses!P552)","v":""},{"$f":"IF(ISBLANK(Responses!Q552), \"\", Responses!Q552)","v":""},{"$f":"IF(ISBLANK(Responses!R552), \"\", Responses!R552)","v":""},{"$f":"IF(ISBLANK(Responses!S552), \"\", Responses!S552)","v":""},{"$f":"IF(ISBLANK(Responses!T552), \"\", Responses!T552)","v":""}]
[{"$f":"IF(ISBLANK(Responses!A553), \"\", Responses!A553)","v":""},{"$f":"IF(ISBLANK(Responses!B553), \"\", Responses!B553)","v":""},{"$f":"IF(ISBLANK(Responses!N553), \"\", Responses!N553)","v":""},{"$f":"IF(ISBLANK(Responses!O553), \"\", Responses!O553)","v":""},{"$f":"IF(ISBLANK(Responses!P553), \"\", Responses!P553)","v":""},{"$f":"IF(ISBLANK(Responses!Q553), \"\", Responses!Q553)","v":""},{"$f":"IF(ISBLANK(Responses!R553), \"\", Responses!R553)","v":""},{"$f":"IF(ISBLANK(Responses!S553), \"\", Responses!S553)","v":""},{"$f":"IF(ISBLANK(Responses!T553), \"\", Responses!T553)","v":""}]
[{"$f":"IF(ISBLANK(Responses!A554), \"\", Responses!A554)","v":""},{"$f":"IF(ISBLANK(Responses!B554), \"\", Responses!B554)","v":""},{"$f":"IF(ISBLANK(Responses!N554), \"\", Responses!N554)","v":""},{"$f":"IF(ISBLANK(Responses!O554), \"\", Responses!O554)","v":""},{"$f":"IF(ISBLANK(Responses!P554), \"\", Responses!P554)","v":""},{"$f":"IF(ISBLANK(Responses!Q554), \"\", Responses!Q554)","v":""},{"$f":"IF(ISBLANK(Responses!R554), \"\", Responses!R554)","v":""},{"$f":"IF(ISBLANK(Responses!S554), \"\", Responses!S554)","v":""},{"$f":"IF(ISBLANK(Responses!T554), \"\", Responses!T554)","v":""}]
[{"$f":"IF(ISBLANK(Responses!A555), \"\", Responses!A555)","v":""},{"$f":"IF(ISBLANK(Responses!B555), \"\", Responses!B555)","v":""},{"$f":"IF(ISBLANK(Responses!N555), \"\", Responses!N555)","v":""},{"$f":"IF(ISBLANK(Responses!O555), \"\", Responses!O555)","v":""},{"$f":"IF(ISBLANK(Responses!P555), \"\", Responses!P555)","v":""},{"$f":"IF(ISBLANK(Responses!Q555), \"\", Responses!Q555)","v":""},{"$f":"IF(ISBLANK(Responses!R555), \"\", Responses!R555)","v":""},{"$f":"IF(ISBLANK(Responses!S555), \"\", Responses!S555)","v":""},{"$f":"IF(ISBLANK(Responses!T555), \"\", Responses!T555)","v":""}]
[{"$f":"IF(ISBLANK(Responses!A556), \"\", Responses!A556)","v":""},{"$f":"IF(ISBLANK(Responses!B556), \"\", Responses!B556)","v":""},{"$f":"IF(ISBLANK(Responses!N556), \"\", Responses!N556)","v":""},{"$f":"IF(ISBLANK(Responses!O556), \"\", Responses!O556)","v":""},{"$f":"IF(ISBLANK(Responses!P556), \"\", Responses!P556)","v":""},{"$f":"IF(ISBLANK(Responses!Q556), \"\", Responses!Q556)","v":""},{"$f":"IF(ISBLANK(Responses!R556), \"\", Responses!R556)","v":""},{"$f":"IF(ISBLANK(Responses!S556), \"\", Responses!S556)","v":""},{"$f":"IF(ISBLANK(Responses!T556), \"\", Responses!T556)","v":""}]
[{"$f":"IF(ISBLANK(Responses!A557), \"\", Responses!A557)","v":""},{"$f":"IF(ISBLANK(Responses!B557), \"\", Responses!B557)","v":""},{"$f":"IF(ISBLANK(Responses!N557), \"\", Responses!N557)","v":""},{"$f":"IF(ISBLANK(Responses!O557), \"\", Responses!O557)","v":""},{"$f":"IF(ISBLANK(Responses!P557), \"\", Responses!P557)","v":""},{"$f":"IF(ISBLANK(Responses!Q557), \"\", Responses!Q557)","v":""},{"$f":"IF(ISBLANK(Responses!R557), \"\", Responses!R557)","v":""},{"$f":"IF(ISBLANK(Responses!S557), \"\", Responses!S557)","v":""},{"$f":"IF(ISBLANK(Responses!T557), \"\", Responses!T557)","v":""}]
[{"$f":"IF(ISBLANK(Responses!A558), \"\", Responses!A558)","v":""},{"$f":"IF(ISBLANK(Responses!B558), \"\", Responses!B558)","v":""},{"$f":"IF(ISBLANK(Responses!N558), \"\", Responses!N558)","v":""},{"$f":"IF(ISBLANK(Responses!O558), \"\", Responses!O558)","v":""},{"$f":"IF(ISBLANK(Responses!P558), \"\", Responses!P558)","v":""},{"$f":"IF(ISBLANK(Responses!Q558), \"\", Responses!Q558)","v":""},{"$f":"IF(ISBLANK(Responses!R558), \"\", Responses!R558)","v":""},{"$f":"IF(ISBLANK(Responses!S558), \"\", Responses!S558)","v":""},{"$f":"IF(ISBLANK(Responses!T558), \"\", Responses!T558)","v":""}]
[{"$f":"IF(ISBLANK(Responses!A559), \"\", Responses!A559)","v":""},{"$f":"IF(ISBLANK(Responses!B559), \"\", Responses!B559)","v":""},{"$f":"IF(ISBLANK(Responses!N559), \"\", Responses!N559)","v":""},{"$f":"IF(ISBLANK(Responses!O559), \"\", Responses!O559)","v":""},{"$f":"IF(ISBLANK(Responses!P559), \"\", Responses!P559)","v":""},{"$f":"IF(ISBLANK(Responses!Q559), \"\", Responses!Q559)","v":""},{"$f":"IF(ISBLANK(Responses!R559), \"\", Responses!R559)","v":""},{"$f":"IF(ISBLANK(Responses!S559), \"\", Responses!S559)","v":""},{"$f":"IF(ISBLANK(Responses!T559), \"\", Responses!T559)","v":""}]
[{"$f":"IF(ISBLANK(Responses!A560), \"\", Responses!A560)","v":""},{"$f":"IF(ISBLANK(Responses!B560), \"\", Responses!B560)","v":""},{"$f":"IF(ISBLANK(Responses!N560), \"\", Responses!N560)","v":""},{"$f":"IF(ISBLANK(Responses!O560), \"\", Responses!O560)","v":""},{"$f":"IF(ISBLANK(Responses!P560), \"\", Responses!P560)","v":""},{"$f":"IF(ISBLANK(Responses!Q560), \"\", Responses!Q560)","v":""},{"$f":"IF(ISBLANK(Responses!R560), \"\", Responses!R560)","v":""},{"$f":"IF(ISBLANK(Responses!S560), \"\", Responses!S560)","v":""},{"$f":"IF(ISBLANK(Responses!T560), \"\", Responses!T560)","v":""}]
[{"$f":"IF(ISBLANK(Responses!A561), \"\", Responses!A561)","v":""},{"$f":"IF(ISBLANK(Responses!B561), \"\", Responses!B561)","v":""},{"$f":"IF(ISBLANK(Responses!N561), \"\", Responses!N561)","v":""},{"$f":"IF(ISBLANK(Responses!O561), \"\", Responses!O561)","v":""},{"$f":"IF(ISBLANK(Responses!P561), \"\", Responses!P561)","v":""},{"$f":"IF(ISBLANK(Responses!Q561), \"\", Responses!Q561)","v":""},{"$f":"IF(ISBLANK(Responses!R561), \"\", Responses!R561)","v":""},{"$f":"IF(ISBLANK(Responses!S561), \"\", Responses!S561)","v":""},{"$f":"IF(ISBLANK(Responses!T561), \"\", Responses!T561)","v":""}]
[{"$f":"IF(ISBLANK(Responses!A562), \"\", Responses!A562)","v":""},{"$f":"IF(ISBLANK(Responses!B562), \"\", Responses!B562)","v":""},{"$f":"IF(ISBLANK(Responses!N562), \"\", Responses!N562)","v":""},{"$f":"IF(ISBLANK(Responses!O562), \"\", Responses!O562)","v":""},{"$f":"IF(ISBLANK(Responses!P562), \"\", Responses!P562)","v":""},{"$f":"IF(ISBLANK(Responses!Q562), \"\", Responses!Q562)","v":""},{"$f":"IF(ISBLANK(Responses!R562), \"\", Responses!R562)","v":""},{"$f":"IF(ISBLANK(Responses!S562), \"\", Responses!S562)","v":""},{"$f":"IF(ISBLANK(Responses!T562), \"\", Responses!T562)","v":""}]
[{"$f":"IF(ISBLANK(Responses!A563), \"\", Responses!A563)","v":""},{"$f":"IF(ISBLANK(Responses!B563), \"\", Responses!B563)","v":""},{"$f":"IF(ISBLANK(Responses!N563), \"\", Responses!N563)","v":""},{"$f":"IF(ISBLANK(Responses!O563), \"\", Responses!O563)","v":""},{"$f":"IF(ISBLANK(Responses!P563), \"\", Responses!P563)","v":""},{"$f":"IF(ISBLANK(Responses!Q563), \"\", Responses!Q563)","v":""},{"$f":"IF(ISBLANK(Responses!R563), \"\", Responses!R563)","v":""},{"$f":"IF(ISBLANK(Responses!S563), \"\", Responses!S563)","v":""},{"$f":"IF(ISBLANK(Responses!T563), \"\", Responses!T563)","v":""}]
[{"$f":"IF(ISBLANK(Responses!A564), \"\", Responses!A564)","v":""},{"$f":"IF(ISBLANK(Responses!B564), \"\", Responses!B564)","v":""},{"$f":"IF(ISBLANK(Responses!N564), \"\", Responses!N564)","v":""},{"$f":"IF(ISBLANK(Responses!O564), \"\", Responses!O564)","v":""},{"$f":"IF(ISBLANK(Responses!P564), \"\", Responses!P564)","v":""},{"$f":"IF(ISBLANK(Responses!Q564), \"\", Responses!Q564)","v":""},{"$f":"IF(ISBLANK(Responses!R564), \"\", Responses!R564)","v":""},{"$f":"IF(ISBLANK(Responses!S564), \"\", Responses!S564)","v":""},{"$f":"IF(ISBLANK(Responses!T564), \"\", Responses!T564)","v":""}]
[{"$f":"IF(ISBLANK(Responses!A565), \"\", Responses!A565)","v":""},{"$f":"IF(ISBLANK(Responses!B565), \"\", Responses!B565)","v":""},{"$f":"IF(ISBLANK(Responses!N565), \"\", Responses!N565)","v":""},{"$f":"IF(ISBLANK(Responses!O565), \"\", Responses!O565)","v":""},{"$f":"IF(ISBLANK(Responses!P565), \"\", Responses!P565)","v":""},{"$f":"IF(ISBLANK(Responses!Q565), \"\", Responses!Q565)","v":""},{"$f":"IF(ISBLANK(Responses!R565), \"\", Responses!R565)","v":""},{"$f":"IF(ISBLANK(Responses!S565), \"\", Responses!S565)","v":""},{"$f":"IF(ISBLANK(Responses!T565), \"\", Responses!T565)","v":""}]
[{"$f":"IF(ISBLANK(Responses!A566), \"\", Responses!A566)","v":""},{"$f":"IF(ISBLANK(Responses!B566), \"\", Responses!B566)","v":""},{"$f":"IF(ISBLANK(Responses!N566), \"\", Responses!N566)","v":""},{"$f":"IF(ISBLANK(Responses!O566), \"\", Responses!O566)","v":""},{"$f":"IF(ISBLANK(Responses!P566), \"\", Responses!P566)","v":""},{"$f":"IF(ISBLANK(Responses!Q566), \"\", Responses!Q566)","v":""},{"$f":"IF(ISBLANK(Responses!R566), \"\", Responses!R566)","v":""},{"$f":"IF(ISBLANK(Responses!S566), \"\", Responses!S566)","v":""},{"$f":"IF(ISBLANK(Responses!T566), \"\", Responses!T566)","v":""}]
[{"$f":"IF(ISBLANK(Responses!A567), \"\", Responses!A567)","v":""},{"$f":"IF(ISBLANK(Responses!B567), \"\", Responses!B567)","v":""},{"$f":"IF(ISBLANK(Responses!N567), \"\", Responses!N567)","v":""},{"$f":"IF(ISBLANK(Responses!O567), \"\", Responses!O567)","v":""},{"$f":"IF(ISBLANK(Responses!P567), \"\", Responses!P567)","v":""},{"$f":"IF(ISBLANK(Responses!Q567), \"\", Responses!Q567)","v":""},{"$f":"IF(ISBLANK(Responses!R567), \"\", Responses!R567)","v":""},{"$f":"IF(ISBLANK(Responses!S567), \"\", Responses!S567)","v":""},{"$f":"IF(ISBLANK(Responses!T567), \"\", Responses!T567)","v":""}]
[{"$f":"IF(ISBLANK(Responses!A568), \"\", Responses!A568)","v":""},{"$f":"IF(ISBLANK(Responses!B568), \"\", Responses!B568)","v":""},{"$f":"IF(ISBLANK(Responses!N568), \"\", Responses!N568)","v":""},{"$f":"IF(ISBLANK(Responses!O568), \"\", Responses!O568)","v":""},{"$f":"IF(ISBLANK(Responses!P568), \"\", Responses!P568)","v":""},{"$f":"IF(ISBLANK(Responses!Q568), \"\", Responses!Q568)","v":""},{"$f":"IF(ISBLANK(Responses!R568), \"\", Responses!R568)","v":""},{"$f":"IF(ISBLANK(Responses!S568), \"\", Responses!S568)","v":""},{"$f":"IF(ISBLANK(Responses!T568), \"\", Responses!T568)","v":""}]
[{"$f":"IF(ISBLANK(Responses!A569), \"\", Responses!A569)","v":""},{"$f":"IF(ISBLANK(Responses!B569), \"\", Responses!B569)","v":""},{"$f":"IF(ISBLANK(Responses!N569), \"\", Responses!N569)","v":""},{"$f":"IF(ISBLANK(Responses!O569), \"\", Responses!O569)","v":""},{"$f":"IF(ISBLANK(Responses!P569), \"\", Responses!P569)","v":""},{"$f":"IF(ISBLANK(Responses!Q569), \"\", Responses!Q569)","v":""},{"$f":"IF(ISBLANK(Responses!R569), \"\", Responses!R569)","v":""},{"$f":"IF(ISBLANK(Responses!S569), \"\", Responses!S569)","v":""},{"$f":"IF(ISBLANK(Responses!T569), \"\", Responses!T569)","v":""}]
[{"$f":"IF(ISBLANK(Responses!A570), \"\", Responses!A570)","v":""},{"$f":"IF(ISBLANK(Responses!B570), \"\", Responses!B570)","v":""},{"$f":"IF(ISBLANK(Responses!N570), \"\", Responses!N570)","v":""},{"$f":"IF(ISBLANK(Responses!O570), \"\", Responses!O570)","v":""},{"$f":"IF(ISBLANK(Responses!P570), \"\", Responses!P570)","v":""},{"$f":"IF(ISBLANK(Responses!Q570), \"\", Responses!Q570)","v":""},{"$f":"IF(ISBLANK(Responses!R570), \"\", Responses!R570)","v":""},{"$f":"IF(ISBLANK(Responses!S570), \"\", Responses!S570)","v":""},{"$f":"IF(ISBLANK(Responses!T570), \"\", Responses!T570)","v":""}]
[{"$f":"IF(ISBLANK(Responses!A571), \"\", Responses!A571)","v":""},{"$f":"IF(ISBLANK(Responses!B571), \"\", Responses!B571)","v":""},{"$f":"IF(ISBLANK(Responses!N571), \"\", Responses!N571)","v":""},{"$f":"IF(ISBLANK(Responses!O571), \"\", Responses!O571)","v":""},{"$f":"IF(ISBLANK(Responses!P571), \"\", Responses!P571)","v":""},{"$f":"IF(ISBLANK(Responses!Q571), \"\", Responses!Q571)","v":""},{"$f":"IF(ISBLANK(Responses!R571), \"\", Responses!R571)","v":""},{"$f":"IF(ISBLANK(Responses!S571), \"\", Responses!S571)","v":""},{"$f":"IF(ISBLANK(Responses!T571), \"\", Responses!T571)","v":""}]
[{"$f":"IF(ISBLANK(Responses!A572), \"\", Responses!A572)","v":""},{"$f":"IF(ISBLANK(Responses!B572), \"\", Responses!B572)","v":""},{"$f":"IF(ISBLANK(Responses!N572), \"\", Responses!N572)","v":""},{"$f":"IF(ISBLANK(Responses!O572), \"\", Responses!O572)","v":""},{"$f":"IF(ISBLANK(Responses!P572), \"\", Responses!P572)","v":""},{"$f":"IF(ISBLANK(Responses!Q572), \"\", Responses!Q572)","v":""},{"$f":"IF(ISBLANK(Responses!R572), \"\", Responses!R572)","v":""},{"$f":"IF(ISBLANK(Responses!S572), \"\", Responses!S572)","v":""},{"$f":"IF(ISBLANK(Responses!T572), \"\", Responses!T572)","v":""}]
[{"$f":"IF(ISBLANK(Responses!A573), \"\", Responses!A573)","v":""},{"$f":"IF(ISBLANK(Responses!B573), \"\", Responses!B573)","v":""},{"$f":"IF(ISBLANK(Responses!N573), \"\", Responses!N573)","v":""},{"$f":"IF(ISBLANK(Responses!O573), \"\", Responses!O573)","v":""},{"$f":"IF(ISBLANK(Responses!P573), \"\", Responses!P573)","v":""},{"$f":"IF(ISBLANK(Responses!Q573), \"\", Responses!Q573)","v":""},{"$f":"IF(ISBLANK(Responses!R573), \"\", Responses!R573)","v":""},{"$f":"IF(ISBLANK(Responses!S573), \"\", Responses!S573)","v":""},{"$f":"IF(ISBLANK(Responses!T573), \"\", Responses!T573)","v":""}]
[{"$f":"IF(ISBLANK(Responses!A574), \"\", Responses!A574)","v":""},{"$f":"IF(ISBLANK(Responses!B574), \"\", Responses!B574)","v":""},{"$f":"IF(ISBLANK(Responses!N574), \"\", Responses!N574)","v":""},{"$f":"IF(ISBLANK(Responses!O574), \"\", Responses!O574)","v":""},{"$f":"IF(ISBLANK(Responses!P574), \"\", Responses!P574)","v":""},{"$f":"IF(ISBLANK(Responses!Q574), \"\", Responses!Q574)","v":""},{"$f":"IF(ISBLANK(Responses!R574), \"\", Responses!R574)","v":""},{"$f":"IF(ISBLANK(Responses!S574), \"\", Responses!S574)","v":""},{"$f":"IF(ISBLANK(Responses!T574), \"\", Responses!T574)","v":""}]
[{"$f":"IF(ISBLANK(Responses!A575), \"\", Responses!A575)","v":""},{"$f":"IF(ISBLANK(Responses!B575), \"\", Responses!B575)","v":""},{"$f":"IF(ISBLANK(Responses!N575), \"\", Responses!N575)","v":""},{"$f":"IF(ISBLANK(Responses!O575), \"\", Responses!O575)","v":""},{"$f":"IF(ISBLANK(Responses!P575), \"\", Responses!P575)","v":""},{"$f":"IF(ISBLANK(Responses!Q575), \"\", Responses!Q575)","v":""},{"$f":"IF(ISBLANK(Responses!R575), \"\", Responses!R575)","v":""},{"$f":"IF(ISBLANK(Responses!S575), \"\", Responses!S575)","v":""},{"$f":"IF(ISBLANK(Responses!T575), \"\", Responses!T575)","v":""}]
[{"$f":"IF(ISBLANK(Responses!A576), \"\", Responses!A576)","v":""},{"$f":"IF(ISBLANK(Responses!B576), \"\", Responses!B576)","v":""},{"$f":"IF(ISBLANK(Responses!N576), \"\", Responses!N576)","v":""},{"$f":"IF(ISBLANK(Responses!O576), \"\", Responses!O576)","v":""},{"$f":"IF(ISBLANK(Responses!P576), \"\", Responses!P576)","v":""},{"$f":"IF(ISBLANK(Responses!Q576), \"\", Responses!Q576)","v":""},{"$f":"IF(ISBLANK(Responses!R576), \"\", Responses!R576)","v":""},{"$f":"IF(ISBLANK(Responses!S576), \"\", Responses!S576)","v":""},{"$f":"IF(ISBLANK(Responses!T576), \"\", Responses!T576)","v":""}]
[{"$f":"IF(ISBLANK(Responses!A577), \"\", Responses!A577)","v":""},{"$f":"IF(ISBLANK(Responses!B577), \"\", Responses!B577)","v":""},{"$f":"IF(ISBLANK(Responses!N577), \"\", Responses!N577)","v":""},{"$f":"IF(ISBLANK(Responses!O577), \"\", Responses!O577)","v":""},{"$f":"IF(ISBLANK(Responses!P577), \"\", Responses!P577)","v":""},{"$f":"IF(ISBLANK(Responses!Q577), \"\", Responses!Q577)","v":""},{"$f":"IF(ISBLANK(Responses!R577), \"\", Responses!R577)","v":""},{"$f":"IF(ISBLANK(Responses!S577), \"\", Responses!S577)","v":""},{"$f":"IF(ISBLANK(Responses!T577), \"\", Responses!T577)","v":""}]
[{"$f":"IF(ISBLANK(Responses!A578), \"\", Responses!A578)","v":""},{"$f":"IF(ISBLANK(Responses!B578), \"\", Responses!B578)","v":""},{"$f":"IF(ISBLANK(Responses!N578), \"\", Responses!N578)","v":""},{"$f":"IF(ISBLANK(Responses!O578), \"\", Responses!O578)","v":""},{"$f":"IF(ISBLANK(Responses!P578), \"\", Responses!P578)","v":""},{"$f":"IF(ISBLANK(Responses!Q578), \"\", Responses!Q578)","v":""},{"$f":"IF(ISBLANK(Responses!R578), \"\", Responses!R578)","v":""},{"$f":"IF(ISBLANK(Responses!S578), \"\", Responses!S578)","v":""},{"$f":"IF(ISBLANK(Responses!T578), \"\", Responses!T578)","v":""}]
[{"$f":"IF(ISBLANK(Responses!A579), \"\", Responses!A579)","v":""},{"$f":"IF(ISBLANK(Responses!B579), \"\", Responses!B579)","v":""},{"$f":"IF(ISBLANK(Responses!N579), \"\", Responses!N579)","v":""},{"$f":"IF(ISBLANK(Responses!O579), \"\", Responses!O579)","v":""},{"$f":"IF(ISBLANK(Responses!P579), \"\", Responses!P579)","v":""},{"$f":"IF(ISBLANK(Responses!Q579), \"\", Responses!Q579)","v":""},{"$f":"IF(ISBLANK(Responses!R579), \"\", Responses!R579)","v":""},{"$f":"IF(ISBLANK(Responses!S579), \"\", Responses!S579)","v":""},{"$f":"IF(ISBLANK(Responses!T579), \"\", Responses!T579)","v":""}]
[{"$f":"IF(ISBLANK(Responses!A580), \"\", Responses!A580)","v":""},{"$f":"IF(ISBLANK(Responses!B580), \"\", Responses!B580)","v":""},{"$f":"IF(ISBLANK(Responses!N580), \"\", Responses!N580)","v":""},{"$f":"IF(ISBLANK(Responses!O580), \"\", Responses!O580)","v":""},{"$f":"IF(ISBLANK(Responses!P580), \"\", Responses!P580)","v":""},{"$f":"IF(ISBLANK(Responses!Q580), \"\", Responses!Q580)","v":""},{"$f":"IF(ISBLANK(Responses!R580), \"\", Responses!R580)","v":""},{"$f":"IF(ISBLANK(Responses!S580), \"\", Responses!S580)","v":""},{"$f":"IF(ISBLANK(Responses!T580), \"\", Responses!T580)","v":""}]
[{"$f":"IF(ISBLANK(Responses!A581), \"\", Responses!A581)","v":""},{"$f":"IF(ISBLANK(Responses!B581), \"\", Responses!B581)","v":""},{"$f":"IF(ISBLANK(Responses!N581), \"\", Responses!N581)","v":""},{"$f":"IF(ISBLANK(Responses!O581), \"\", Responses!O581)","v":""},{"$f":"IF(ISBLANK(Responses!P581), \"\", Responses!P581)","v":""},{"$f":"IF(ISBLANK(Responses!Q581), \"\", Responses!Q581)","v":""},{"$f":"IF(ISBLANK(Responses!R581), \"\", Responses!R581)","v":""},{"$f":"IF(ISBLANK(Responses!S581), \"\", Responses!S581)","v":""},{"$f":"IF(ISBLANK(Responses!T581), \"\", Responses!T581)","v":""}]
[{"$f":"IF(ISBLANK(Responses!A582), \"\", Responses!A582)","v":""},{"$f":"IF(ISBLANK(Responses!B582), \"\", Responses!B582)","v":""},{"$f":"IF(ISBLANK(Responses!N582), \"\", Responses!N582)","v":""},{"$f":"IF(ISBLANK(Responses!O582), \"\", Responses!O582)","v":""},{"$f":"IF(ISBLANK(Responses!P582), \"\", Responses!P582)","v":""},{"$f":"IF(ISBLANK(Responses!Q582), \"\", Responses!Q582)","v":""},{"$f":"IF(ISBLANK(Responses!R582), \"\", Responses!R582)","v":""},{"$f":"IF(ISBLANK(Responses!S582), \"\", Responses!S582)","v":""},{"$f":"IF(ISBLANK(Responses!T582), \"\", Responses!T582)","v":""}]
[{"$f":"IF(ISBLANK(Responses!A583), \"\", Responses!A583)","v":""},{"$f":"IF(ISBLANK(Responses!B583), \"\", Responses!B583)","v":""},{"$f":"IF(ISBLANK(Responses!N583), \"\", Responses!N583)","v":""},{"$f":"IF(ISBLANK(Responses!O583), \"\", Responses!O583)","v":""},{"$f":"IF(ISBLANK(Responses!P583), \"\", Responses!P583)","v":""},{"$f":"IF(ISBLANK(Responses!Q583), \"\", Responses!Q583)","v":""},{"$f":"IF(ISBLANK(Responses!R583), \"\", Responses!R583)","v":""},{"$f":"IF(ISBLANK(Responses!S583), \"\", Responses!S583)","v":""},{"$f":"IF(ISBLANK(Responses!T583), \"\", Responses!T583)","v":""}]
[{"$f":"IF(ISBLANK(Responses!A584), \"\", Responses!A584)","v":""},{"$f":"IF(ISBLANK(Responses!B584), \"\", Responses!B584)","v":""},{"$f":"IF(ISBLANK(Responses!N584), \"\", Responses!N584)","v":""},{"$f":"IF(ISBLANK(Responses!O584), \"\", Responses!O584)","v":""},{"$f":"IF(ISBLANK(Responses!P584), \"\", Responses!P584)","v":""},{"$f":"IF(ISBLANK(Responses!Q584), \"\", Responses!Q584)","v":""},{"$f":"IF(ISBLANK(Responses!R584), \"\", Responses!R584)","v":""},{"$f":"IF(ISBLANK(Responses!S584), \"\", Responses!S584)","v":""},{"$f":"IF(ISBLANK(Responses!T584), \"\", Responses!T584)","v":""}]
[{"$f":"IF(ISBLANK(Responses!A585), \"\", Responses!A585)","v":""},{"$f":"IF(ISBLANK(Responses!B585), \"\", Responses!B585)","v":""},{"$f":"IF(ISBLANK(Responses!N585), \"\", Responses!N585)","v":""},{"$f":"IF(ISBLANK(Responses!O585), \"\", Responses!O585)","v":""},{"$f":"IF(ISBLANK(Responses!P585), \"\", Responses!P585)","v":""},{"$f":"IF(ISBLANK(Responses!Q585), \"\", Responses!Q585)","v":""},{"$f":"IF(ISBLANK(Responses!R585), \"\", Responses!R585)","v":""},{"$f":"IF(ISBLANK(Responses!S585), \"\", Responses!S585)","v":""},{"$f":"IF(ISBLANK(Responses!T585), \"\", Responses!T585)","v":""}]
[{"$f":"IF(ISBLANK(Responses!A586), \"\", Responses!A586)","v":""},{"$f":"IF(ISBLANK(Responses!B586), \"\", Responses!B586)","v":""},{"$f":"IF(ISBLANK(Responses!N586), \"\", Responses!N586)","v":""},{"$f":"IF(ISBLANK(Responses!O586), \"\", Responses!O586)","v":""},{"$f":"IF(ISBLANK(Responses!P586), \"\", Responses!P586)","v":""},{"$f":"IF(ISBLANK(Responses!Q586), \"\", Responses!Q586)","v":""},{"$f":"IF(ISBLANK(Responses!R586), \"\", Responses!R586)","v":""},{"$f":"IF(ISBLANK(Responses!S586), \"\", Responses!S586)","v":""},{"$f":"IF(ISBLANK(Responses!T586), \"\", Responses!T586)","v":""}]
[{"$f":"IF(ISBLANK(Responses!A587), \"\", Responses!A587)","v":""},{"$f":"IF(ISBLANK(Responses!B587), \"\", Responses!B587)","v":""},{"$f":"IF(ISBLANK(Responses!N587), \"\", Responses!N587)","v":""},{"$f":"IF(ISBLANK(Responses!O587), \"\", Responses!O587)","v":""},{"$f":"IF(ISBLANK(Responses!P587), \"\", Responses!P587)","v":""},{"$f":"IF(ISBLANK(Responses!Q587), \"\", Responses!Q587)","v":""},{"$f":"IF(ISBLANK(Responses!R587), \"\", Responses!R587)","v":""},{"$f":"IF(ISBLANK(Responses!S587), \"\", Responses!S587)","v":""},{"$f":"IF(ISBLANK(Responses!T587), \"\", Responses!T587)","v":""}]
[{"$f":"IF(ISBLANK(Responses!A588), \"\", Responses!A588)","v":""},{"$f":"IF(ISBLANK(Responses!B588), \"\", Responses!B588)","v":""},{"$f":"IF(ISBLANK(Responses!N588), \"\", Responses!N588)","v":""},{"$f":"IF(ISBLANK(Responses!O588), \"\", Responses!O588)","v":""},{"$f":"IF(ISBLANK(Responses!P588), \"\", Responses!P588)","v":""},{"$f":"IF(ISBLANK(Responses!Q588), \"\", Responses!Q588)","v":""},{"$f":"IF(ISBLANK(Responses!R588), \"\", Responses!R588)","v":""},{"$f":"IF(ISBLANK(Responses!S588), \"\", Responses!S588)","v":""},{"$f":"IF(ISBLANK(Responses!T588), \"\", Responses!T588)","v":""}]
[{"$f":"IF(ISBLANK(Responses!A589), \"\", Responses!A589)","v":""},{"$f":"IF(ISBLANK(Responses!B589), \"\", Responses!B589)","v":""},{"$f":"IF(ISBLANK(Responses!N589), \"\", Responses!N589)","v":""},{"$f":"IF(ISBLANK(Responses!O589), \"\", Responses!O589)","v":""},{"$f":"IF(ISBLANK(Responses!P589), \"\", Responses!P589)","v":""},{"$f":"IF(ISBLANK(Responses!Q589), \"\", Responses!Q589)","v":""},{"$f":"IF(ISBLANK(Responses!R589), \"\", Responses!R589)","v":""},{"$f":"IF(ISBLANK(Responses!S589), \"\", Responses!S589)","v":""},{"$f":"IF(ISBLANK(Responses!T589), \"\", Responses!T589)","v":""}]
[{"$f":"IF(ISBLANK(Responses!A590), \"\", Responses!A590)","v":""},{"$f":"IF(ISBLANK(Responses!B590), \"\", Responses!B590)","v":""},{"$f":"IF(ISBLANK(Responses!N590), \"\", Responses!N590)","v":""},{"$f":"IF(ISBLANK(Responses!O590), \"\", Responses!O590)","v":""},{"$f":"IF(ISBLANK(Responses!P590), \"\", Responses!P590)","v":""},{"$f":"IF(ISBLANK(Responses!Q590), \"\", Responses!Q590)","v":""},{"$f":"IF(ISBLANK(Responses!R590), \"\", Responses!R590)","v":""},{"$f":"IF(ISBLANK(Responses!S590), \"\", Responses!S590)","v":""},{"$f":"IF(ISBLANK(Responses!T590), \"\", Responses!T590)","v":""}]
[{"$f":"IF(ISBLANK(Responses!A591), \"\", Responses!A591)","v":""},{"$f":"IF(ISBLANK(Responses!B591), \"\", Responses!B591)","v":""},{"$f":"IF(ISBLANK(Responses!N591), \"\", Responses!N591)","v":""},{"$f":"IF(ISBLANK(Responses!O591), \"\", Responses!O591)","v":""},{"$f":"IF(ISBLANK(Responses!P591), \"\", Responses!P591)","v":""},{"$f":"IF(ISBLANK(Responses!Q591), \"\", Responses!Q591)","v":""},{"$f":"IF(ISBLANK(Responses!R591), \"\", Responses!R591)","v":""},{"$f":"IF(ISBLANK(Responses!S591), \"\", Responses!S591)","v":""},{"$f":"IF(ISBLANK(Responses!T591), \"\", Responses!T591)","v":""}]
[{"$f":"IF(ISBLANK(Responses!A592), \"\", Responses!A592)","v":""},{"$f":"IF(ISBLANK(Responses!B592), \"\", Responses!B592)","v":""},{"$f":"IF(ISBLANK(Responses!N592), \"\", Responses!N592)","v":""},{"$f":"IF(ISBLANK(Responses!O592), \"\", Responses!O592)","v":""},{"$f":"IF(ISBLANK(Responses!P592), \"\", Responses!P592)","v":""},{"$f":"IF(ISBLANK(Responses!Q592), \"\", Responses!Q592)","v":""},{"$f":"IF(ISBLANK(Responses!R592), \"\", Responses!R592)","v":""},{"$f":"IF(ISBLANK(Responses!S592), \"\", Responses!S592)","v":""},{"$f":"IF(ISBLANK(Responses!T592), \"\", Responses!T592)","v":""}]
[{"$f":"IF(ISBLANK(Responses!A593), \"\", Responses!A593)","v":""},{"$f":"IF(ISBLANK(Responses!B593), \"\", Responses!B593)","v":""},{"$f":"IF(ISBLANK(Responses!N593), \"\", Responses!N593)","v":""},{"$f":"IF(ISBLANK(Responses!O593), \"\", Responses!O593)","v":""},{"$f":"IF(ISBLANK(Responses!P593), \"\", Responses!P593)","v":""},{"$f":"IF(ISBLANK(Responses!Q593), \"\", Responses!Q593)","v":""},{"$f":"IF(ISBLANK(Responses!R593), \"\", Responses!R593)","v":""},{"$f":"IF(ISBLANK(Responses!S593), \"\", Responses!S593)","v":""},{"$f":"IF(ISBLANK(Responses!T593), \"\", Responses!T593)","v":""}]
[{"$f":"IF(ISBLANK(Responses!A594), \"\", Responses!A594)","v":""},{"$f":"IF(ISBLANK(Responses!B594), \"\", Responses!B594)","v":""},{"$f":"IF(ISBLANK(Responses!N594), \"\", Responses!N594)","v":""},{"$f":"IF(ISBLANK(Responses!O594), \"\", Responses!O594)","v":""},{"$f":"IF(ISBLANK(Responses!P594), \"\", Responses!P594)","v":""},{"$f":"IF(ISBLANK(Responses!Q594), \"\", Responses!Q594)","v":""},{"$f":"IF(ISBLANK(Responses!R594), \"\", Responses!R594)","v":""},{"$f":"IF(ISBLANK(Responses!S594), \"\", Responses!S594)","v":""},{"$f":"IF(ISBLANK(Responses!T594), \"\", Responses!T594)","v":""}]
[{"$f":"IF(ISBLANK(Responses!A595), \"\", Responses!A595)","v":""},{"$f":"IF(ISBLANK(Responses!B595), \"\", Responses!B595)","v":""},{"$f":"IF(ISBLANK(Responses!N595), \"\", Responses!N595)","v":""},{"$f":"IF(ISBLANK(Responses!O595), \"\", Responses!O595)","v":""},{"$f":"IF(ISBLANK(Responses!P595), \"\", Responses!P595)","v":""},{"$f":"IF(ISBLANK(Responses!Q595), \"\", Responses!Q595)","v":""},{"$f":"IF(ISBLANK(Responses!R595), \"\", Responses!R595)","v":""},{"$f":"IF(ISBLANK(Responses!S595), \"\", Responses!S595)","v":""},{"$f":"IF(ISBLANK(Responses!T595), \"\", Responses!T595)","v":""}]
[{"$f":"IF(ISBLANK(Responses!A596), \"\", Responses!A596)","v":""},{"$f":"IF(ISBLANK(Responses!B596), \"\", Responses!B596)","v":""},{"$f":"IF(ISBLANK(Responses!N596), \"\", Responses!N596)","v":""},{"$f":"IF(ISBLANK(Responses!O596), \"\", Responses!O596)","v":""},{"$f":"IF(ISBLANK(Responses!P596), \"\", Responses!P596)","v":""},{"$f":"IF(ISBLANK(Responses!Q596), \"\", Responses!Q596)","v":""},{"$f":"IF(ISBLANK(Responses!R596), \"\", Responses!R596)","v":""},{"$f":"IF(ISBLANK(Responses!S596), \"\", Responses!S596)","v":""},{"$f":"IF(ISBLANK(Responses!T596), \"\", Responses!T596)","v":""}]
[{"$f":"IF(ISBLANK(Responses!A597), \"\", Responses!A597)","v":""},{"$f":"IF(ISBLANK(Responses!B597), \"\", Responses!B597)","v":""},{"$f":"IF(ISBLANK(Responses!N597), \"\", Responses!N597)","v":""},{"$f":"IF(ISBLANK(Responses!O597), \"\", Responses!O597)","v":""},{"$f":"IF(ISBLANK(Responses!P597), \"\", Responses!P597)","v":""},{"$f":"IF(ISBLANK(Responses!Q597), \"\", Responses!Q597)","v":""},{"$f":"IF(ISBLANK(Responses!R597), \"\", Responses!R597)","v":""},{"$f":"IF(ISBLANK(Responses!S597), \"\", Responses!S597)","v":""},{"$f":"IF(ISBLANK(Responses!T597), \"\", Responses!T597)","v":""}]
[{"$f":"IF(ISBLANK(Responses!A598), \"\", Responses!A598)","v":""},{"$f":"IF(ISBLANK(Responses!B598), \"\", Responses!B598)","v":""},{"$f":"IF(ISBLANK(Responses!N598), \"\", Responses!N598)","v":""},{"$f":"IF(ISBLANK(Responses!O598), \"\", Responses!O598)","v":""},{"$f":"IF(ISBLANK(Responses!P598), \"\", Responses!P598)","v":""},{"$f":"IF(ISBLANK(Responses!Q598), \"\", Responses!Q598)","v":""},{"$f":"IF(ISBLANK(Responses!R598), \"\", Responses!R598)","v":""},{"$f":"IF(ISBLANK(Responses!S598), \"\", Responses!S598)","v":""},{"$f":"IF(ISBLANK(Responses!T598), \"\", Responses!T598)","v":""}]
[{"$f":"IF(ISBLANK(Responses!A599), \"\", Responses!A599)","v":""},{"$f":"IF(ISBLANK(Responses!B599), \"\", Responses!B599)","v":""},{"$f":"IF(ISBLANK(Responses!N599), \"\", Responses!N599)","v":""},{"$f":"IF(ISBLANK(Responses!O599), \"\", Responses!O599)","v":""},{"$f":"IF(ISBLANK(Responses!P599), \"\", Responses!P599)","v":""},{"$f":"IF(ISBLANK(Responses!Q599), \"\", Responses!Q599)","v":""},{"$f":"IF(ISBLANK(Responses!R599), \"\", Responses!R599)","v":""},{"$f":"IF(ISBLANK(Responses!S599), \"\", Responses!S599)","v":""},{"$f":"IF(ISBLANK(Responses!T599), \"\", Responses!T599)","v":""}]
[{"$f":"IF(ISBLANK(Responses!A600), \"\", Responses!A600)","v":""},{"$f":"IF(ISBLANK(Responses!B600), \"\", Responses!B600)","v":""},{"$f":"IF(ISBLANK(Responses!N600), \"\", Responses!N600)","v":""},{"$f":"IF(ISBLANK(Responses!O600), \"\", Responses!O600)","v":""},{"$f":"IF(ISBLANK(Responses!P600), \"\", Responses!P600)","v":""},{"$f":"IF(ISBLANK(Responses!Q600), \"\", Responses!Q600)","v":""},{"$f":"IF(ISBLANK(Responses!R600), \"\", Responses!R600)","v":""},{"$f":"IF(ISBLANK(Responses!S600), \"\", Responses!S600)","v":""},{"$f":"IF(ISBLANK(Responses!T600), \"\", Responses!T600)","v":""}]
[{"$f":"IF(ISBLANK(Responses!A601), \"\", Responses!A601)","v":""},{"$f":"IF(ISBLANK(Responses!B601), \"\", Responses!B601)","v":""},{"$f":"IF(ISBLANK(Responses!N601), \"\", Responses!N601)","v":""},{"$f":"IF(ISBLANK(Responses!O601), \"\", Responses!O601)","v":""},{"$f":"IF(ISBLANK(Responses!P601), \"\", Responses!P601)","v":""},{"$f":"IF(ISBLANK(Responses!Q601), \"\", Responses!Q601)","v":""},{"$f":"IF(ISBLANK(Responses!R601), \"\", Responses!R601)","v":""},{"$f":"IF(ISBLANK(Responses!S601), \"\", Responses!S601)","v":""},{"$f":"IF(ISBLANK(Responses!T601), \"\", Responses!T601)","v":""}]
[{"$f":"IF(ISBLANK(Responses!A602), \"\", Responses!A602)","v":""},{"$f":"IF(ISBLANK(Responses!B602), \"\", Responses!B602)","v":""},{"$f":"IF(ISBLANK(Responses!N602), \"\", Responses!N602)","v":""},{"$f":"IF(ISBLANK(Responses!O602), \"\", Responses!O602)","v":""},{"$f":"IF(ISBLANK(Responses!P602), \"\", Responses!P602)","v":""},{"$f":"IF(ISBLANK(Responses!Q602), \"\", Responses!Q602)","v":""},{"$f":"IF(ISBLANK(Responses!R602), \"\", Responses!R602)","v":""},{"$f":"IF(ISBLANK(Responses!S602), \"\", Responses!S602)","v":""},{"$f":"IF(ISBLANK(Responses!T602), \"\", Responses!T602)","v":""}]
[{"$f":"IF(ISBLANK(Responses!A603), \"\", Responses!A603)","v":""},{"$f":"IF(ISBLANK(Responses!B603), \"\", Responses!B603)","v":""},{"$f":"IF(ISBLANK(Responses!N603), \"\", Responses!N603)","v":""},{"$f":"IF(ISBLANK(Responses!O603), \"\", Responses!O603)","v":""},{"$f":"IF(ISBLANK(Responses!P603), \"\", Responses!P603)","v":""},{"$f":"IF(ISBLANK(Responses!Q603), \"\", Responses!Q603)","v":""},{"$f":"IF(ISBLANK(Responses!R603), \"\", Responses!R603)","v":""},{"$f":"IF(ISBLANK(Responses!S603), \"\", Responses!S603)","v":""},{"$f":"IF(ISBLANK(Responses!T603), \"\", Responses!T603)","v":""}]
[{"$f":"IF(ISBLANK(Responses!A604), \"\", Responses!A604)","v":""},{"$f":"IF(ISBLANK(Responses!B604), \"\", Responses!B604)","v":""},{"$f":"IF(ISBLANK(Responses!N604), \"\", Responses!N604)","v":""},{"$f":"IF(ISBLANK(Responses!O604), \"\", Responses!O604)","v":""},{"$f":"IF(ISBLANK(Responses!P604), \"\", Responses!P604)","v":""},{"$f":"IF(ISBLANK(Responses!Q604), \"\", Responses!Q604)","v":""},{"$f":"IF(ISBLANK(Responses!R604), \"\", Responses!R604)","v":""},{"$f":"IF(ISBLANK(Responses!S604), \"\", Responses!S604)","v":""},{"$f":"IF(ISBLANK(Responses!T604), \"\", Responses!T604)","v":""}]
[{"$f":"IF(ISBLANK(Responses!A605), \"\", Responses!A605)","v":""},{"$f":"IF(ISBLANK(Responses!B605), \"\", Responses!B605)","v":""},{"$f":"IF(ISBLANK(Responses!N605), \"\", Responses!N605)","v":""},{"$f":"IF(ISBLANK(Responses!O605), \"\", Responses!O605)","v":""},{"$f":"IF(ISBLANK(Responses!P605), \"\", Responses!P605)","v":""},{"$f":"IF(ISBLANK(Responses!Q605), \"\", Responses!Q605)","v":""},{"$f":"IF(ISBLANK(Responses!R605), \"\", Responses!R605)","v":""},{"$f":"IF(ISBLANK(Responses!S605), \"\", Responses!S605)","v":""},{"$f":"IF(ISBLANK(Responses!T605), \"\", Responses!T605)","v":""}]
[{"$f":"IF(ISBLANK(Responses!A606), \"\", Responses!A606)","v":""},{"$f":"IF(ISBLANK(Responses!B606), \"\", Responses!B606)","v":""},{"$f":"IF(ISBLANK(Responses!N606), \"\", Responses!N606)","v":""},{"$f":"IF(ISBLANK(Responses!O606), \"\", Responses!O606)","v":""},{"$f":"IF(ISBLANK(Responses!P606), \"\", Responses!P606)","v":""},{"$f":"IF(ISBLANK(Responses!Q606), \"\", Responses!Q606)","v":""},{"$f":"IF(ISBLANK(Responses!R606), \"\", Responses!R606)","v":""},{"$f":"IF(ISBLANK(Responses!S606), \"\", Responses!S606)","v":""},{"$f":"IF(ISBLANK(Responses!T606), \"\", Responses!T606)","v":""}]

{"sheet":"Emergency Readiness","index":6,"n_rows":348,"n_cols":50,"rows_kept":348,"cut":false,"hidden":true,"merged":[]}
[{"$f":"IF(ISBLANK(Responses!A1), \"\", Responses!A1)","v":"Timestamp"},{"$f":"IF(ISBLANK(Responses!B1), \"\", Responses!B1)","v":"Sport Organization Name"},{"$f":"IF(ISBLANK(Responses!U1), \"\", Responses!U1)","v":"Has a contingency medical response plan for COVID-19 been developed for team?"},{"$f":"IF(ISBLANK(Responses!V1), \"\", Responses!V1)","v":"Does the contingency medical response plan include information about how team members access the healthcare system virtually or in person (e.g. Team Doc, CMO, GP, Chief Therapist)?"},{"$f":"IF(ISBLANK(Responses!W1), \"\", Responses!W1)","v":"Is there an Emergency COVID-19 Outbreak Response Coordinator with defined roles and responsibilities, coordinating the health preparedness and response planning for any cases or contact?"},{"$f":"IF(ISBLANK(Responses!X1), \"\", Responses!X1)","v":"Has the medical lead liaised with or requested support from local public health authorities? "},{"$f":"IF(ISBLANK(Responses!Y1), \"\", Responses!Y1)","v":"Have the organizers and facility managers acquired the Personal Protective Equipment (e.g. masks, gloves, gowns) to help reduce the risk of transmission of COVID-19?"},{"$f":"IF(ISBLANK(Responses!Z1), \"\", Responses!Z1)","v":"Have the organizers and facility managers acquired hand sanitizer and alcohol rubs/gels, tissues, frequently replaced soap canisters and closed bins for safe disposal of hygienic materials (e.g. tissues, towels, sanitary products) in washrooms and changing rooms?"},{"$f":"IF(ISBLANK(Responses!AA1), \"\", Responses!AA1)","v":"Have the organizers and facility managers acquired hand sanitizers and alcohol rubs for all training room entrances and throughout the venue?"},{"$f":"IF(ISBLANK(Responses!AB1), \"\", Responses!AB1)","v":"Is there a procedure for athletes / staff to clearly identify whom to contact, and how to do so, if they or other participants feel unwell or shows signs of an acute respiratory infection in the DTE?"},{"$f":"IF(ISBLANK(Responses!AC1), \"\", Responses!AC1)","v":"Is there a protocol on whom medical should contact to report suspected cases, and request testing and epidemiological investigations, if someone is feeling unwell or showing signs of respiratory infection?"},{"$f":"IF(ISBLANK(Responses!AD1), \"\", Responses!AD1)","v":"Are first-aid services or other medical services in place and equipped to support patients with respiratory symptoms?"},{"$f":"IF(ISBLANK(Responses!AE1), \"\", Responses!AE1)","v":"Are there isolation rooms available onsite until patients are dealt with appropriately?"},{"$f":"IF(ISBLANK(Responses!AF1), \"\", Responses!AF1)","v":"Are there any designated medical facilities that manage patients with COVID-19 infection in the region? Are contact numbers and procedures clearly visible?"},{"$f":"IF(ISBLANK(Responses!AG1), \"\", Responses!AG1)","v":"Are there transportation services with trained medical professionals available to transport critically ill patients with severe acute respiratory infections to a hospital if necessary?"},{"$f":"IF(ISBLANK(Responses!AH1), \"\", Responses!AH1)","v":"Has a cleaning schedule been developed to ensure the venue and equipment is clean and hygienic – wiping surfaces and any equipment regularly with disinfectant is strongly recommended (before, during ( between athletes) and between each training group)? "},{"$f":"IF(ISBLANK(Responses!AI1), \"\", Responses!AI1)","v":"Are there established screening measures, including temperature checks and morning monitoring in place for participants before arriving at the DTE and on-site medical facilities (first-aid points)? (Please specify in Comments what these screening measures include)"},{"$f":"IF(ISBLANK(Responses!AJ1), \"\", Responses!AJ1)","v":"If the addition of screening measures is in progress or completed, please specify what these measures include."},{"$f":"IF(ISBLANK(Responses!AK1), \"\", Responses!AK1)","v":"Is the province, in which your training facility is located, conducting COVID-19 laboratory diagnostic tests for asymptomatic screening?"},{"$f":"IF(ISBLANK(Responses!AL1), \"\", Responses!AL1)","v":" If the province is conducting diagnostic tests for asymptomatic screening, please specify the type of COVID-19 diagnostic test used. (e.g. Nasal swabs vs serology)"},{"$f":"IF(ISBLANK(Responses!AM1), \"\", Responses!AM1)","v":"Does the local community have a regional public health emergency preparedness and response plan that can cope with the influx of athletes and address severe respiratory diseases, including COVID-19?"},{"$f":"IF(ISBLANK(Responses!AN1), \"\", Responses!AN1)","v":"Is there a preliminary agreement with the local health facility on protocols to handover care for any serious COVID-19 cases connected with the training resumption that require hospitalization? "},{"$f":"IF(ISBLANK(Responses!AO1), \"\", Responses!AO1)","v":"Does the medical response plan for the DTE include resources and protocols for managing all public health interventions that would be necessary, and for supporting the regional public health authorities if participants are infected and become unwell."},{"$f":"IF(ISBLANK(Responses!AP1), \"\", Responses!AP1)","v":"Does the medical response plan include protocols to notify all participants of possible exposure to COVID-19 if staff are made aware of any suspected or confirmed cases that attended training?"},"EAP %","EAP Score",3,3,2,3,3,3,3,3,3,2,2,2,3,3,3,"Comments",3,"Comments",2,3,3,3,null,"Max EAP Score"]
[{"$f":"IF(ISBLANK(Responses!A2), \"\", Responses!A2)","v":""},{"$f":"IF(ISBLANK(Responses!B2), \"\", Responses!B2)","v":""},{"$f":"IF(ISBLANK(Responses!U2), \"\", Responses!U2)","v":""},{"$f":"IF(ISBLANK(Responses!V2), \"\", Responses!V2)","v":""},{"$f":"IF(ISBLANK(Responses!W2), \"\", Responses!W2)","v":""},{"$f":"IF(ISBLANK(Responses!X2), \"\", Responses!X2)","v":""},{"$f":"IF(ISBLANK(Responses!Y2), \"\", Responses!Y2)","v":""},{"$f":"IF(ISBLANK(Responses!Z2), \"\", Responses!Z2)","v":""},{"$f":"IF(ISBLANK(Responses!AA2), \"\", Responses!AA2)","v":""},{"$f":"IF(ISBLANK(Responses!AB2), \"\", Responses!AB2)","v":""},{"$f":"IF(ISBLANK(Responses!AC2), \"\", Responses!AC2)","v":""},{"$f":"IF(ISBLANK(Responses!AD2), \"\", Responses!AD2)","v":""},{"$f":"IF(ISBLANK(Responses!AE2), \"\", Responses!AE2)","v":""},{"$f":"IF(ISBLANK(Responses!AF2), \"\", Responses!AF2)","v":""},{"$f":"IF(ISBLANK(Responses!AG2), \"\", Responses!AG2)","v":""},{"$f":"IF(ISBLANK(Responses!AH2), \"\", Responses!AH2)","v":""},{"$f":"IF(ISBLANK(Responses!AI2), \"\", Responses!AI2)","v":""},{"$f":"IF(ISBLANK(Responses!AJ2), \"\", Responses!AJ2)","v":""},{"$f":"IF(ISBLANK(Responses!AK2), \"\", Responses!AK2)","v":""},{"$f":"IF(ISBLANK(Responses!AL2), \"\", Responses!AL2)","v":""},{"$f":"IF(ISBLANK(Responses!AM2), \"\", Responses!AM2)","v":""},{"$f":"IF(ISBLANK(Responses!AN2), \"\", Responses!AN2)","v":""},{"$f":"IF(ISBLANK(Responses!AO2), \"\", Responses!AO2)","v":""},{"$f":"IF(ISBLANK(Responses!AP2), \"\", Responses!AP2)","v":""},{"$f":"Z2/(2*SUM(AA$1:AV$1))","v":{"$error":"#N/A"}},{"$f":"SUM(AA2*AA$1,AB2*AB$1,AC2*AC$1,AD2*AD$1,AE2*AE$1,AF2*AF$1,AG2*AG$1,AH2*AH$1,AI2*AI$1,AJ2*AJ$1,AK2*AK$1,AL2*AL$1,AM2*AM$1,AN2*AN$1,AO2*AO$1,AQ2*AQ$1,AS2*AS$1,AT2*AT$1,AU2*AU$1,AV2*AV$1)","v":{"$error":"#N/A"}},{"$f":"IF(ISBLANK(C2),0,VLOOKUP(C2,LUTs!$A$6:$B$8,2))","v":{"$error":"#N/A"}},{"$f":"IF(ISBLANK(D2),0,VLOOKUP(D2,LUTs!$A$6:$B$8,2))","v":{"$error":"#N/A"}},{"$f":"IF(ISBLANK(E2),0,VLOOKUP(E2,LUTs!$A$6:$B$8,2))","v":{"$error":"#N/A"}},{"$f":"IF(ISBLANK(F2),0,VLOOKUP(F2,LUTs!$A$6:$B$8,2))","v":{"$error":"#N/A"}},{"$f":"IF(ISBLANK(G2),0,VLOOKUP(G2,LUTs!$A$6:$B$8,2))","v":{"$error":"#N/A"}},{"$f":"IF(ISBLANK(H2),0,VLOOKUP(H2,LUTs!$A$6:$B$8,2))","v":{"$error":"#N/A"}},{"$f":"IF(ISBLANK(I2),0,VLOOKUP(I2,LUTs!$A$6:$B$8,2))","v":{"$error":"#N/A"}},{"$f":"IF(ISBLANK(J2),0,VLOOKUP(J2,LUTs!$A$6:$B$8,2))","v":{"$error":"#N/A"}},{"$f":"IF(ISBLANK(K2),0,VLOOKUP(K2,LUTs!$A$6:$B$8,2))","v":{"$error":"#N/A"}},{"$f":"IF(ISBLANK(L2),0,VLOOKUP(L2,LUTs!$A$6:$B$8,2))","v":{"$error":"#N/A"}},{"$f":"IF(ISBLANK(M2),0,VLOOKUP(M2,LUTs!$A$6:$B$8,2))","v":{"$error":"#N/A"}},{"$f":"IF(ISBLANK(N2),0,VLOOKUP(N2,LUTs!$A$6:$B$8,2))","v":{"$error":"#N/A"}},{"$f":"IF(ISBLANK(O2),0,VLOOKUP(O2,LUTs!$A$6:$B$8,2))","v":{"$error":"#N/A"}},{"$f":"IF(ISBLANK(P2),0,VLOOKUP(P2,LUTs!$A$6:$B$8,2))","v":{"$error":"#N/A"}},{"$f":"IF(ISBLANK(Q2),0,VLOOKUP(Q2,LUTs!$A$6:$B$8,2))","v":{"$error":"#N/A"}},{"$f":"IF(ISBLANK(R2),0,IF(ISERROR(VLOOKUP(R2,LUTs!$A$6:$B$8,2)),R2,VLOOKUP(R2,LUTs!$A$6:$B$8,2)))","v":""},{"$f":"IF(ISBLANK(S2),0,VLOOKUP(S2,LUTs!$A$6:$B$8,2))","v":{"$error":"#N/A"}},{"$f":"IF(ISBLANK(T2),0,IF(ISERROR(VLOOKUP(T2,LUTs!$A$6:$B$8,2)),T2,VLOOKUP(T2,LUTs!$A$6:$B$8,2)))","v":""},{"$f":"IF(ISBLANK(U2),0,VLOOKUP(U2,LUTs!$A$6:$B$8,2))","v":{"$error":"#N/A"}},{"$f":"IF(ISBLANK(V2),0,VLOOKUP(V2,LUTs!$A$6:$B$8,2))","v":{"$error":"#N/A"}},{"$f":"IF(ISBLANK(W2),0,VLOOKUP(W2,LUTs!$A$6:$B$8,2))","v":{"$error":"#N/A"}},{"$f":"IF(ISBLANK(X2),0,VLOOKUP(X2,LUTs!$A$6:$B$8,2))","v":{"$error":"#N/A"}},null,{"$f":"SUM(AA1:AV1)*2","v":110}]
[{"$f":"IF(ISBLANK(Responses!A3), \"\", Responses!A3)","v":""},{"$f":"IF(ISBLANK(Responses!B3), \"\", Responses!B3)","v":""},{"$f":"IF(ISBLANK(Responses!U3), \"\", Responses!U3)","v":""},{"$f":"IF(ISBLANK(Responses!V3), \"\", Responses!V3)","v":""},{"$f":"IF(ISBLANK(Responses!W3), \"\", Responses!W3)","v":""},{"$f":"IF(ISBLANK(Responses!X3), \"\", Responses!X3)","v":""},{"$f":"IF(ISBLANK(Responses!Y3), \"\", Responses!Y3)","v":""},{"$f":"IF(ISBLANK(Responses!Z3), \"\", Responses!Z3)","v":""},{"$f":"IF(ISBLANK(Responses!AA3), \"\", Responses!AA3)","v":""},{"$f":"IF(ISBLANK(Responses!AB3), \"\", Responses!AB3)","v":""},{"$f":"IF(ISBLANK(Responses!AC3), \"\", Responses!AC3)","v":""},{"$f":"IF(ISBLANK(Responses!AD3), \"\", Responses!AD3)","v":""},{"$f":"IF(ISBLANK(Responses!AE3), \"\", Responses!AE3)","v":""},{"$f":"IF(ISBLANK(Responses!AF3), \"\", Responses!AF3)","v":""},{"$f":"IF(ISBLANK(Responses!AG3), \"\", Responses!AG3)","v":""},{"$f":"IF(ISBLANK(Responses!AH3), \"\", Responses!AH3)","v":""},{"$f":"IF(ISBLANK(Responses!AI3), \"\", Responses!AI3)","v":""},{"$f":"IF(ISBLANK(Responses!AJ3), \"\", Responses!AJ3)","v":""},{"$f":"IF(ISBLANK(Responses!AK3), \"\", Responses!AK3)","v":""},{"$f":"IF(ISBLANK(Responses!AL3), \"\", Responses!AL3)","v":""},{"$f":"IF(ISBLANK(Responses!AM3), \"\", Responses!AM3)","v":""},{"$f":"IF(ISBLANK(Responses!AN3), \"\", Responses!AN3)","v":""},{"$f":"IF(ISBLANK(Responses!AO3), \"\", Responses!AO3)","v":""},{"$f":"IF(ISBLANK(Responses!AP3), \"\", Responses!AP3)","v":""},{"$error":"#N/A"},{"$error":"#N/A"},{"$f":"IF(ISBLANK(C3),0,VLOOKUP(C3,LUTs!$A$6:$B$8,2))","v":{"$error":"#N/A"}},{"$f":"IF(ISBLANK(D3),0,VLOOKUP(D3,LUTs!$A$6:$B$8,2))","v":{"$error":"#N/A"}},{"$f":"IF(ISBLANK(E3),0,VLOOKUP(E3,LUTs!$A$6:$B$8,2))","v":{"$error":"#N/A"}},{"$f":"IF(ISBLANK(F3),0,VLOOKUP(F3,LUTs!$A$6:$B$8,2))","v":{"$error":"#N/A"}},{"$f":"IF(ISBLANK(G3),0,VLOOKUP(G3,LUTs!$A$6:$B$8,2))","v":{"$error":"#N/A"}},{"$f":"IF(ISBLANK(H3),0,VLOOKUP(H3,LUTs!$A$6:$B$8,2))","v":{"$error":"#N/A"}},{"$f":"IF(ISBLANK(I3),0,VLOOKUP(I3,LUTs!$A$6:$B$8,2))","v":{"$error":"#N/A"}},{"$f":"IF(ISBLANK(J3),0,VLOOKUP(J3,LUTs!$A$6:$B$8,2))","v":{"$error":"#N/A"}},{"$f":"IF(ISBLANK(K3),0,VLOOKUP(K3,LUTs!$A$6:$B$8,2))","v":{"$error":"#N/A"}},{"$f":"IF(ISBLANK(L3),0,VLOOKUP(L3,LUTs!$A$6:$B$8,2))","v":{"$error":"#N/A"}},{"$f":"IF(ISBLANK(M3),0,VLOOKUP(M3,LUTs!$A$6:$B$8,2))","v":{"$error":"#N/A"}},{"$f":"IF(ISBLANK(N3),0,VLOOKUP(N3,LUTs!$A$6:$B$8,2))","v":{"$error":"#N/A"}},{"$f":"IF(ISBLANK(O3),0,VLOOKUP(O3,LUTs!$A$6:$B$8,2))","v":{"$error":"#N/A"}},{"$f":"IF(ISBLANK(P3),0,VLOOKUP(P3,LUTs!$A$6:$B$8,2))","v":{"$error":"#N/A"}},{"$f":"IF(ISBLANK(Q3),0,VLOOKUP(Q3,LUTs!$A$6:$B$8,2))","v":{"$error":"#N/A"}},{"$f":"IF(ISBLANK(R3),0,IF(ISERROR(VLOOKUP(R3,LUTs!$A$6:$B$8,2)),R3,VLOOKUP(R3,LUTs!$A$6:$B$8,2)))","v":""},{"$f":"IF(ISBLANK(S3),0,VLOOKUP(S3,LUTs!$A$6:$B$8,2))","v":{"$error":"#N/A"}},{"$f":"IF(ISBLANK(T3),0,IF(ISERROR(VLOOKUP(T3,LUTs!$A$6:$B$8,2)),T3,VLOOKUP(T3,LUTs!$A$6:$B$8,2)))","v":""},{"$f":"IF(ISBLANK(U3),0,VLOOKUP(U3,LUTs!$A$6:$B$8,2))","v":{"$error":"#N/A"}},{"$f":"IF(ISBLANK(V3),0,VLOOKUP(V3,LUTs!$A$6:$B$8,2))","v":{"$error":"#N/A"}},{"$f":"IF(ISBLANK(W3),0,VLOOKUP(W3,LUTs!$A$6:$B$8,2))","v":{"$error":"#N/A"}},{"$f":"IF(ISBLANK(X3),0,VLOOKUP(X3,LUTs!$A$6:$B$8,2))","v":{"$error":"#N/A"}}]
[{"$f":"IF(ISBLANK(Responses!A4), \"\", Responses!A4)","v":""},{"$f":"IF(ISBLANK(Responses!B4), \"\", Responses!B4)","v":""},{"$f":"IF(ISBLANK(Responses!U4), \"\", Responses!U4)","v":""},{"$f":"IF(ISBLANK(Responses!V4), \"\", Responses!V4)","v":""},{"$f":"IF(ISBLANK(Responses!W4), \"\", Responses!W4)","v":""},{"$f":"IF(ISBLANK(Responses!X4), \"\", Responses!X4)","v":""},{"$f":"IF(ISBLANK(Responses!Y4), \"\", Responses!Y4)","v":""},{"$f":"IF(ISBLANK(Responses!Z4), \"\", Responses!Z4)","v":""},{"$f":"IF(ISBLANK(Responses!AA4), \"\", Responses!AA4)","v":""},{"$f":"IF(ISBLANK(Responses!AB4), \"\", Responses!AB4)","v":""},{"$f":"IF(ISBLANK(Responses!AC4), \"\", Responses!AC4)","v":""},{"$f":"IF(ISBLANK(Responses!AD4), \"\", Responses!AD4)","v":""},{"$f":"IF(ISBLANK(Responses!AE4), \"\", Responses!AE4)","v":""},{"$f":"IF(ISBLANK(Responses!AF4), \"\", Responses!AF4)","v":""},{"$f":"IF(ISBLANK(Responses!AG4), \"\", Responses!AG4)","v":""},{"$f":"IF(ISBLANK(Responses!AH4), \"\", Responses!AH4)","v":""},{"$f":"IF(ISBLANK(Responses!AI4), \"\", Responses!AI4)","v":""},{"$f":"IF(ISBLANK(Responses!AJ4), \"\", Responses!AJ4)","v":""},{"$f":"IF(ISBLANK(Responses!AK4), \"\", Responses!AK4)","v":""},{"$f":"IF(ISBLANK(Responses!AL4), \"\", Responses!AL4)","v":""},{"$f":"IF(ISBLANK(Responses!AM4), \"\", Responses!AM4)","v":""},{"$f":"IF(ISBLANK(Responses!AN4), \"\", Responses!AN4)","v":""},{"$f":"IF(ISBLANK(Responses!AO4), \"\", Responses!AO4)","v":""},{"$f":"IF(ISBLANK(Responses!AP4), \"\", Responses!AP4)","v":""},{"$error":"#N/A"},{"$error":"#N/A"},{"$f":"IF(ISBLANK(C4),0,VLOOKUP(C4,LUTs!$A$6:$B$8,2))","v":{"$error":"#N/A"}},{"$f":"IF(ISBLANK(D4),0,VLOOKUP(D4,LUTs!$A$6:$B$8,2))","v":{"$error":"#N/A"}},{"$f":"IF(ISBLANK(E4),0,VLOOKUP(E4,LUTs!$A$6:$B$8,2))","v":{"$error":"#N/A"}},{"$f":"IF(ISBLANK(F4),0,VLOOKUP(F4,LUTs!$A$6:$B$8,2))","v":{"$error":"#N/A"}},{"$f":"IF(ISBLANK(G4),0,VLOOKUP(G4,LUTs!$A$6:$B$8,2))","v":{"$error":"#N/A"}},{"$f":"IF(ISBLANK(H4),0,VLOOKUP(H4,LUTs!$A$6:$B$8,2))","v":{"$error":"#N/A"}},{"$f":"IF(ISBLANK(I4),0,VLOOKUP(I4,LUTs!$A$6:$B$8,2))","v":{"$error":"#N/A"}},{"$f":"IF(ISBLANK(J4),0,VLOOKUP(J4,LUTs!$A$6:$B$8,2))","v":{"$error":"#N/A"}},{"$f":"IF(ISBLANK(K4),0,VLOOKUP(K4,LUTs!$A$6:$B$8,2))","v":{"$error":"#N/A"}},{"$f":"IF(ISBLANK(L4),0,VLOOKUP(L4,LUTs!$A$6:$B$8,2))","v":{"$error":"#N/A"}},{"$f":"IF(ISBLANK(M4),0,VLOOKUP(M4,LUTs!$A$6:$B$8,2))","v":{"$error":"#N/A"}},{"$f":"IF(ISBLANK(N4),0,VLOOKUP(N4,LUTs!$A$6:$B$8,2))","v":{"$error":"#N/A"}},{"$f":"IF(ISBLANK(O4),0,VLOOKUP(O4,LUTs!$A$6:$B$8,2))","v":{"$error":"#N/A"}},{"$f":"IF(ISBLANK(P4),0,VLOOKUP(P4,LUTs!$A$6:$B$8,2))","v":{"$error":"#N/A"}},{"$f":"IF(ISBLANK(Q4),0,VLOOKUP(Q4,LUTs!$A$6:$B$8,2))","v":{"$error":"#N/A"}},{"$f":"IF(ISBLANK(R4),0,IF(ISERROR(VLOOKUP(R4,LUTs!$A$6:$B$8,2)),R4,VLOOKUP(R4,LUTs!$A$6:$B$8,2)))","v":""},{"$f":"IF(ISBLANK(S4),0,VLOOKUP(S4,LUTs!$A$6:$B$8,2))","v":{"$error":"#N/A"}},{"$f":"IF(ISBLANK(T4),0,IF(ISERROR(VLOOKUP(T4,LUTs!$A$6:$B$8,2)),T4,VLOOKUP(T4,LUTs!$A$6:$B$8,2)))","v":""},{"$f":"IF(ISBLANK(U4),0,VLOOKUP(U4,LUTs!$A$6:$B$8,2))","v":{"$error":"#N/A"}},{"$f":"IF(ISBLANK(V4),0,VLOOKUP(V4,LUTs!$A$6:$B$8,2))","v":{"$error":"#N/A"}},{"$f":"IF(ISBLANK(W4),0,VLOOKUP(W4,LUTs!$A$6:$B$8,2))","v":{"$error":"#N/A"}},{"$f":"IF(ISBLANK(X4),0,VLOOKUP(X4,LUTs!$A$6:$B$8,2))","v":{"$error":"#N/A"}}]
[{"$f":"IF(ISBLANK(Responses!A5), \"\", Responses!A5)","v":""},{"$f":"IF(ISBLANK(Responses!B5), \"\", Responses!B5)","v":""},{"$f":"IF(ISBLANK(Responses!U5), \"\", Responses!U5)","v":""},{"$f":"IF(ISBLANK(Responses!V5), \"\", Responses!V5)","v":""},{"$f":"IF(ISBLANK(Responses!W5), \"\", Responses!W5)","v":""},{"$f":"IF(ISBLANK(Responses!X5), \"\", Responses!X5)","v":""},{"$f":"IF(ISBLANK(Responses!Y5), \"\", Responses!Y5)","v":""},{"$f":"IF(ISBLANK(Responses!Z5), \"\", Responses!Z5)","v":""},{"$f":"IF(ISBLANK(Responses!AA5), \"\", Responses!AA5)","v":""},{"$f":"IF(ISBLANK(Responses!AB5), \"\", Responses!AB5)","v":""},{"$f":"IF(ISBLANK(Responses!AC5), \"\", Responses!AC5)","v":""},{"$f":"IF(ISBLANK(Responses!AD5), \"\", Responses!AD5)","v":""},{"$f":"IF(ISBLANK(Responses!AE5), \"\", Responses!AE5)","v":""},{"$f":"IF(ISBLANK(Responses!AF5), \"\", Responses!AF5)","v":""},{"$f":"IF(ISBLANK(Responses!AG5), \"\", Responses!AG5)","v":""},{"$f":"IF(ISBLANK(Responses!AH5), \"\", Responses!AH5)","v":""},{"$f":"IF(ISBLANK(Responses!AI5), \"\", Responses!AI5)","v":""},{"$f":"IF(ISBLANK(Responses!AJ5), \"\", Responses!AJ5)","v":""},{"$f":"IF(ISBLANK(Responses!AK5), \"\", Responses!AK5)","v":""},{"$f":"IF(ISBLANK(Responses!AL5), \"\", Responses!AL5)","v":""},{"$f":"IF(ISBLANK(Responses!AM5), \"\", Responses!AM5)","v":""},{"$f":"IF(ISBLANK(Responses!AN5), \"\", Responses!AN5)","v":""},{"$f":"IF(ISBLANK(Responses!AO5), \"\", Responses!AO5)","v":""},{"$f":"IF(ISBLANK(Responses!AP5), \"\", Responses!AP5)","v":""},{"$error":"#N/A"},{"$error":"#N/A"},{"$f":"IF(ISBLANK(C5),0,VLOOKUP(C5,LUTs!$A$6:$B$8,2))","v":{"$error":"#N/A"}},{"$f":"IF(ISBLANK(D5),0,VLOOKUP(D5,LUTs!$A$6:$B$8,2))","v":{"$error":"#N/A"}},{"$f":"IF(ISBLANK(E5),0,VLOOKUP(E5,LUTs!$A$6:$B$8,2))","v":{"$error":"#N/A"}},{"$f":"IF(ISBLANK(F5),0,VLOOKUP(F5,LUTs!$A$6:$B$8,2))","v":{"$error":"#N/A"}},{"$f":"IF(ISBLANK(G5),0,VLOOKUP(G5,LUTs!$A$6:$B$8,2))","v":{"$error":"#N/A"}},{"$f":"IF(ISBLANK(H5),0,VLOOKUP(H5,LUTs!$A$6:$B$8,2))","v":{"$error":"#N/A"}},{"$f":"IF(ISBLANK(I5),0,VLOOKUP(I5,LUTs!$A$6:$B$8,2))","v":{"$error":"#N/A"}},{"$f":"IF(ISBLANK(J5),0,VLOOKUP(J5,LUTs!$A$6:$B$8,2))","v":{"$error":"#N/A"}},{"$f":"IF(ISBLANK(K5),0,VLOOKUP(K5,LUTs!$A$6:$B$8,2))","v":{"$error":"#N/A"}},{"$f":"IF(ISBLANK(L5),0,VLOOKUP(L5,LUTs!$A$6:$B$8,2))","v":{"$error":"#N/A"}},{"$f":"IF(ISBLANK(M5),0,VLOOKUP(M5,LUTs!$A$6:$B$8,2))","v":{"$error":"#N/A"}},{"$f":"IF(ISBLANK(N5),0,VLOOKUP(N5,LUTs!$A$6:$B$8,2))","v":{"$error":"#N/A"}},{"$f":"IF(ISBLANK(O5),0,VLOOKUP(O5,LUTs!$A$6:$B$8,2))","v":{"$error":"#N/A"}},{"$f":"IF(ISBLANK(P5),0,VLOOKUP(P5,LUTs!$A$6:$B$8,2))","v":{"$error":"#N/A"}},{"$f":"IF(ISBLANK(Q5),0,VLOOKUP(Q5,LUTs!$A$6:$B$8,2))","v":{"$error":"#N/A"}},{"$f":"IF(ISBLANK(R5),0,IF(ISERROR(VLOOKUP(R5,LUTs!$A$6:$B$8,2)),R5,VLOOKUP(R5,LUTs!$A$6:$B$8,2)))","v":""},{"$f":"IF(ISBLANK(S5),0,VLOOKUP(S5,LUTs!$A$6:$B$8,2))","v":{"$error":"#N/A"}},{"$f":"IF(ISBLANK(T5),0,IF(ISERROR(VLOOKUP(T5,LUTs!$A$6:$B$8,2)),T5,VLOOKUP(T5,LUTs!$A$6:$B$8,2)))","v":""},{"$f":"IF(ISBLANK(U5),0,VLOOKUP(U5,LUTs!$A$6:$B$8,2))","v":{"$error":"#N/A"}},{"$f":"IF(ISBLANK(V5),0,VLOOKUP(V5,LUTs!$A$6:$B$8,2))","v":{"$error":"#N/A"}},{"$f":"IF(ISBLANK(W5),0,VLOOKUP(W5,LUTs!$A$6:$B$8,2))","v":{"$error":"#N/A"}},{"$f":"IF(ISBLANK(X5),0,VLOOKUP(X5,LUTs!$A$6:$B$8,2))","v":{"$error":"#N/A"}}]
[{"$f":"IF(ISBLANK(Responses!A6), \"\", Responses!A6)","v":""},{"$f":"IF(ISBLANK(Responses!B6), \"\", Responses!B6)","v":""},{"$f":"IF(ISBLANK(Responses!U6), \"\", Responses!U6)","v":""},{"$f":"IF(ISBLANK(Responses!V6), \"\", Responses!V6)","v":""},{"$f":"IF(ISBLANK(Responses!W6), \"\", Responses!W6)","v":""},{"$f":"IF(ISBLANK(Responses!X6), \"\", Responses!X6)","v":""},{"$f":"IF(ISBLANK(Responses!Y6), \"\", Responses!Y6)","v":""},{"$f":"IF(ISBLANK(Responses!Z6), \"\", Responses!Z6)","v":""},{"$f":"IF(ISBLANK(Responses!AA6), \"\", Responses!AA6)","v":""},{"$f":"IF(ISBLANK(Responses!AB6), \"\", Responses!AB6)","v":""},{"$f":"IF(ISBLANK(Responses!AC6), \"\", Responses!AC6)","v":""},{"$f":"IF(ISBLANK(Responses!AD6), \"\", Responses!AD6)","v":""},{"$f":"IF(ISBLANK(Responses!AE6), \"\", Responses!AE6)","v":""},{"$f":"IF(ISBLANK(Responses!AF6), \"\", Responses!AF6)","v":""},{"$f":"IF(ISBLANK(Responses!AG6), \"\", Responses!AG6)","v":""},{"$f":"IF(ISBLANK(Responses!AH6), \"\", Responses!AH6)","v":""},{"$f":"IF(ISBLANK(Responses!AI6), \"\", Responses!AI6)","v":""},{"$f":"IF(ISBLANK(Responses!AJ6), \"\", Responses!AJ6)","v":""},{"$f":"IF(ISBLANK(Responses!AK6), \"\", Responses!AK6)","v":""},{"$f":"IF(ISBLANK(Responses!AL6), \"\", Responses!AL6)","v":""},{"$f":"IF(ISBLANK(Responses!AM6), \"\", Responses!AM6)","v":""},{"$f":"IF(ISBLANK(Responses!AN6), \"\", Responses!AN6)","v":""},{"$f":"IF(ISBLANK(Responses!AO6), \"\", Responses!AO6)","v":""},{"$f":"IF(ISBLANK(Responses!AP6), \"\", Responses!AP6)","v":""},{"$error":"#N/A"},{"$error":"#N/A"},{"$f":"IF(ISBLANK(C6),0,VLOOKUP(C6,LUTs!$A$6:$B$8,2))","v":{"$error":"#N/A"}},{"$f":"IF(ISBLANK(D6),0,VLOOKUP(D6,LUTs!$A$6:$B$8,2))","v":{"$error":"#N/A"}},{"$f":"IF(ISBLANK(E6),0,VLOOKUP(E6,LUTs!$A$6:$B$8,2))","v":{"$error":"#N/A"}},{"$f":"IF(ISBLANK(F6),0,VLOOKUP(F6,LUTs!$A$6:$B$8,2))","v":{"$error":"#N/A"}},{"$f":"IF(ISBLANK(G6),0,VLOOKUP(G6,LUTs!$A$6:$B$8,2))","v":{"$error":"#N/A"}},{"$f":"IF(ISBLANK(H6),0,VLOOKUP(H6,LUTs!$A$6:$B$8,2))","v":{"$error":"#N/A"}},{"$f":"IF(ISBLANK(I6),0,VLOOKUP(I6,LUTs!$A$6:$B$8,2))","v":{"$error":"#N/A"}},{"$f":"IF(ISBLANK(J6),0,VLOOKUP(J6,LUTs!$A$6:$B$8,2))","v":{"$error":"#N/A"}},{"$f":"IF(ISBLANK(K6),0,VLOOKUP(K6,LUTs!$A$6:$B$8,2))","v":{"$error":"#N/A"}},{"$f":"IF(ISBLANK(L6),0,VLOOKUP(L6,LUTs!$A$6:$B$8,2))","v":{"$error":"#N/A"}},{"$f":"IF(ISBLANK(M6),0,VLOOKUP(M6,LUTs!$A$6:$B$8,2))","v":{"$error":"#N/A"}},{"$f":"IF(ISBLANK(N6),0,VLOOKUP(N6,LUTs!$A$6:$B$8,2))","v":{"$error":"#N/A"}},{"$f":"IF(ISBLANK(O6),0,VLOOKUP(O6,LUTs!$A$6:$B$8,2))","v":{"$error":"#N/A"}},{"$f":"IF(ISBLANK(P6),0,VLOOKUP(P6,LUTs!$A$6:$B$8,2))","v":{"$error":"#N/A"}},{"$f":"IF(ISBLANK(Q6),0,VLOOKUP(Q6,LUTs!$A$6:$B$8,2))","v":{"$error":"#N/A"}},{"$f":"IF(ISBLANK(R6),0,IF(ISERROR(VLOOKUP(R6,LUTs!$A$6:$B$8,2)),R6,VLOOKUP(R6,LUTs!$A$6:$B$8,2)))","v":""},{"$f":"IF(ISBLANK(S6),0,VLOOKUP(S6,LUTs!$A$6:$B$8,2))","v":{"$error":"#N/A"}},{"$f":"IF(ISBLANK(T6),0,IF(ISERROR(VLOOKUP(T6,LUTs!$A$6:$B$8,2)),T6,VLOOKUP(T6,LUTs!$A$6:$B$8,2)))","v":""},{"$f":"IF(ISBLANK(U6),0,VLOOKUP(U6,LUTs!$A$6:$B$8,2))","v":{"$error":"#N/A"}},{"$f":"IF(ISBLANK(V6),0,VLOOKUP(V6,LUTs!$A$6:$B$8,2))","v":{"$error":"#N/A"}},{"$f":"IF(ISBLANK(W6),0,VLOOKUP(W6,LUTs!$A$6:$B$8,2))","v":{"$error":"#N/A"}},{"$f":"IF(ISBLANK(X6),0,VLOOKUP(X6,LUTs!$A$6:$B$8,2))","v":{"$error":"#N/A"}}]
[{"$f":"IF(ISBLANK(Responses!A7), \"\", Responses!A7)","v":""},{"$f":"IF(ISBLANK(Responses!B7), \"\", Responses!B7)","v":""},{"$f":"IF(ISBLANK(Responses!U7), \"\", Responses!U7)","v":""},{"$f":"IF(ISBLANK(Responses!V7), \"\", Responses!V7)","v":""},{"$f":"IF(ISBLANK(Responses!W7), \"\", Responses!W7)","v":""},{"$f":"IF(ISBLANK(Responses!X7), \"\", Responses!X7)","v":""},{"$f":"IF(ISBLANK(Responses!Y7), \"\", Responses!Y7)","v":""},{"$f":"IF(ISBLANK(Responses!Z7), \"\", Responses!Z7)","v":""},{"$f":"IF(ISBLANK(Responses!AA7), \"\", Responses!AA7)","v":""},{"$f":"IF(ISBLANK(Responses!AB7), \"\", Responses!AB7)","v":""},{"$f":"IF(ISBLANK(Responses!AC7), \"\", Responses!AC7)","v":""},{"$f":"IF(ISBLANK(Responses!AD7), \"\", Responses!AD7)","v":""},{"$f":"IF(ISBLANK(Responses!AE7), \"\", Responses!AE7)","v":""},{"$f":"IF(ISBLANK(Responses!AF7), \"\", Responses!AF7)","v":""},{"$f":"IF(ISBLANK(Responses!AG7), \"\", Responses!AG7)","v":""},{"$f":"IF(ISBLANK(Responses!AH7), \"\", Responses!AH7)","v":""},{"$f":"IF(ISBLANK(Responses!AI7), \"\", Responses!AI7)","v":""},{"$f":"IF(ISBLANK(Responses!AJ7), \"\", Responses!AJ7)","v":""},{"$f":"IF(ISBLANK(Responses!AK7), \"\", Responses!AK7)","v":""},{"$f":"IF(ISBLANK(Responses!AL7), \"\", Responses!AL7)","v":""},{"$f":"IF(ISBLANK(Responses!AM7), \"\", Responses!AM7)","v":""},{"$f":"IF(ISBLANK(Responses!AN7), \"\", Responses!AN7)","v":""},{"$f":"IF(ISBLANK(Responses!AO7), \"\", Responses!AO7)","v":""},{"$f":"IF(ISBLANK(Responses!AP7), \"\", Responses!AP7)","v":""},{"$error":"#N/A"},{"$error":"#N/A"},{"$f":"IF(ISBLANK(C7),0,VLOOKUP(C7,LUTs!$A$6:$B$8,2))","v":{"$error":"#N/A"}},{"$f":"IF(ISBLANK(D7),0,VLOOKUP(D7,LUTs!$A$6:$B$8,2))","v":{"$error":"#N/A"}},{"$f":"IF(ISBLANK(E7),0,VLOOKUP(E7,LUTs!$A$6:$B$8,2))","v":{"$error":"#N/A"}},{"$f":"IF(ISBLANK(F7),0,VLOOKUP(F7,LUTs!$A$6:$B$8,2))","v":{"$error":"#N/A"}},{"$f":"IF(ISBLANK(G7),0,VLOOKUP(G7,LUTs!$A$6:$B$8,2))","v":{"$error":"#N/A"}},{"$f":"IF(ISBLANK(H7),0,VLOOKUP(H7,LUTs!$A$6:$B$8,2))","v":{"$error":"#N/A"}},{"$f":"IF(ISBLANK(I7),0,VLOOKUP(I7,LUTs!$A$6:$B$8,2))","v":{"$error":"#N/A"}},{"$f":"IF(ISBLANK(J7),0,VLOOKUP(J7,LUTs!$A$6:$B$8,2))","v":{"$error":"#N/A"}},{"$f":"IF(ISBLANK(K7),0,VLOOKUP(K7,LUTs!$A$6:$B$8,2))","v":{"$error":"#N/A"}},{"$f":"IF(ISBLANK(L7),0,VLOOKUP(L7,LUTs!$A$6:$B$8,2))","v":{"$error":"#N/A"}},{"$f":"IF(ISBLANK(M7),0,VLOOKUP(M7,LUTs!$A$6:$B$8,2))","v":{"$error":"#N/A"}},{"$f":"IF(ISBLANK(N7),0,VLOOKUP(N7,LUTs!$A$6:$B$8,2))","v":{"$error":"#N/A"}},{"$f":"IF(ISBLANK(O7),0,VLOOKUP(O7,LUTs!$A$6:$B$8,2))","v":{"$error":"#N/A"}},{"$f":"IF(ISBLANK(P7),0,VLOOKUP(P7,LUTs!$A$6:$B$8,2))","v":{"$error":"#N/A"}},{"$f":"IF(ISBLANK(Q7),0,VLOOKUP(Q7,LUTs!$A$6:$B$8,2))","v":{"$error":"#N/A"}},{"$f":"IF(ISBLANK(R7),0,IF(ISERROR(VLOOKUP(R7,LUTs!$A$6:$B$8,2)),R7,VLOOKUP(R7,LUTs!$A$6:$B$8,2)))","v":""},{"$f":"IF(ISBLANK(S7),0,VLOOKUP(S7,LUTs!$A$6:$B$8,2))","v":{"$error":"#N/A"}},{"$f":"IF(ISBLANK(T7),0,IF(ISERROR(VLOOKUP(T7,LUTs!$A$6:$B$8,2)),T7,VLOOKUP(T7,LUTs!$A$6:$B$8,2)))","v":""},{"$f":"IF(ISBLANK(U7),0,VLOOKUP(U7,LUTs!$A$6:$B$8,2))","v":{"$error":"#N/A"}},{"$f":"IF(ISBLANK(V7),0,VLOOKUP(V7,LUTs!$A$6:$B$8,2))","v":{"$error":"#N/A"}},{"$f":"IF(ISBLANK(W7),0,VLOOKUP(W7,LUTs!$A$6:$B$8,2))","v":{"$error":"#N/A"}},{"$f":"IF(ISBLANK(X7),0,VLOOKUP(X7,LUTs!$A$6:$B$8,2))","v":{"$error":"#N/A"}}]
[{"$f":"IF(ISBLANK(Responses!A8), \"\", Responses!A8)","v":""},{"$f":"IF(ISBLANK(Responses!B8), \"\", Responses!B8)","v":""},{"$f":"IF(ISBLANK(Responses!U8), \"\", Responses!U8)","v":""},{"$f":"IF(ISBLANK(Responses!V8), \"\", Responses!V8)","v":""},{"$f":"IF(ISBLANK(Responses!W8), \"\", Responses!W8)","v":""},{"$f":"IF(ISBLANK(Responses!X8), \"\", Responses!X8)","v":""},{"$f":"IF(ISBLANK(Responses!Y8), \"\", Responses!Y8)","v":""},{"$f":"IF(ISBLANK(Responses!Z8), \"\", Responses!Z8)","v":""},{"$f":"IF(ISBLANK(Responses!AA8), \"\", Responses!AA8)","v":""},{"$f":"IF(ISBLANK(Responses!AB8), \"\", Responses!AB8)","v":""},{"$f":"IF(ISBLANK(Responses!AC8), \"\", Responses!AC8)","v":""},{"$f":"IF(ISBLANK(Responses!AD8), \"\", Responses!AD8)","v":""},{"$f":"IF(ISBLANK(Responses!AE8), \"\", Responses!AE8)","v":""},{"$f":"IF(ISBLANK(Responses!AF8), \"\", Responses!AF8)","v":""},{"$f":"IF(ISBLANK(Responses!AG8), \"\", Responses!AG8)","v":""},{"$f":"IF(ISBLANK(Responses!AH8), \"\", Responses!AH8)","v":""},{"$f":"IF(ISBLANK(Responses!AI8), \"\", Responses!AI8)","v":""},{"$f":"IF(ISBLANK(Responses!AJ8), \"\", Responses!AJ8)","v":""},{"$f":"IF(ISBLANK(Responses!AK8), \"\", Responses!AK8)","v":""},{"$f":"IF(ISBLANK(Responses!AL8), \"\", Responses!AL8)","v":""},{"$f":"IF(ISBLANK(Responses!AM8), \"\", Responses!AM8)","v":""},{"$f":"IF(ISBLANK(Responses!AN8), \"\", Responses!AN8)","v":""},{"$f":"IF(ISBLANK(Responses!AO8), \"\", Responses!AO8)","v":""},{"$f":"IF(ISBLANK(Responses!AP8), \"\", Responses!AP8)","v":""},{"$error":"#N/A"},{"$error":"#N/A"},{"$f":"IF(ISBLANK(C8),0,VLOOKUP(C8,LUTs!$A$6:$B$8,2))","v":{"$error":"#N/A"}},{"$f":"IF(ISBLANK(D8),0,VLOOKUP(D8,LUTs!$A$6:$B$8,2))","v":{"$error":"#N/A"}},{"$f":"IF(ISBLANK(E8),0,VLOOKUP(E8,LUTs!$A$6:$B$8,2))","v":{"$error":"#N/A"}},{"$f":"IF(ISBLANK(F8),0,VLOOKUP(F8,LUTs!$A$6:$B$8,2))","v":{"$error":"#N/A"}},{"$f":"IF(ISBLANK(G8),0,VLOOKUP(G8,LUTs!$A$6:$B$8,2))","v":{"$error":"#N/A"}},{"$f":"IF(ISBLANK(H8),0,VLOOKUP(H8,LUTs!$A$6:$B$8,2))","v":{"$error":"#N/A"}},{"$f":"IF(ISBLANK(I8),0,VLOOKUP(I8,LUTs!$A$6:$B$8,2))","v":{"$error":"#N/A"}},{"$f":"IF(ISBLANK(J8),0,VLOOKUP(J8,LUTs!$A$6:$B$8,2))","v":{"$error":"#N/A"}},{"$f":"IF(ISBLANK(K8),0,VLOOKUP(K8,LUTs!$A$6:$B$8,2))","v":{"$error":"#N/A"}},{"$f":"IF(ISBLANK(L8),0,VLOOKUP(L8,LUTs!$A$6:$B$8,2))","v":{"$error":"#N/A"}},{"$f":"IF(ISBLANK(M8),0,VLOOKUP(M8,LUTs!$A$6:$B$8,2))","v":{"$error":"#N/A"}},{"$f":"IF(ISBLANK(N8),0,VLOOKUP(N8,LUTs!$A$6:$B$8,2))","v":{"$error":"#N/A"}},{"$f":"IF(ISBLANK(O8),0,VLOOKUP(O8,LUTs!$A$6:$B$8,2))","v":{"$error":"#N/A"}},{"$f":"IF(ISBLANK(P8),0,VLOOKUP(P8,LUTs!$A$6:$B$8,2))","v":{"$error":"#N/A"}},{"$f":"IF(ISBLANK(Q8),0,VLOOKUP(Q8,LUTs!$A$6:$B$8,2))","v":{"$error":"#N/A"}},{"$f":"IF(ISBLANK(R8),0,IF(ISERROR(VLOOKUP(R8,LUTs!$A$6:$B$8,2)),R8,VLOOKUP(R8,LUTs!$A$6:$B$8,2)))","v":""},{"$f":"IF(ISBLANK(S8),0,VLOOKUP(S8,LUTs!$A$6:$B$8,2))","v":{"$error":"#N/A"}},{"$f":"IF(ISBLANK(T8),0,IF(ISERROR(VLOOKUP(T8,LUTs!$A$6:$B$8,2)),T8,VLOOKUP(T8,LUTs!$A$6:$B$8,2)))","v":""},{"$f":"IF(ISBLANK(U8),0,VLOOKUP(U8,LUTs!$A$6:$B$8,2))","v":{"$error":"#N/A"}},{"$f":"IF(ISBLANK(V8),0,VLOOKUP(V8,LUTs!$A$6:$B$8,2))","v":{"$error":"#N/A"}},{"$f":"IF(ISBLANK(W8),0,VLOOKUP(W8,LUTs!$A$6:$B$8,2))","v":{"$error":"#N/A"}},{"$f":"IF(ISBLANK(X8),0,VLOOKUP(X8,LUTs!$A$6:$B$8,2))","v":{"$error":"#N/A"}}]
[{"$f":"IF(ISBLANK(Responses!A9), \"\", Responses!A9)","v":""},{"$f":"IF(ISBLANK(Responses!B9), \"\", Responses!B9)","v":""},{"$f":"IF(ISBLANK(Responses!U9), \"\", Responses!U9)","v":""},{"$f":"IF(ISBLANK(Responses!V9), \"\", Responses!V9)","v":""},{"$f":"IF(ISBLANK(Responses!W9), \"\", Responses!W9)","v":""},{"$f":"IF(ISBLANK(Responses!X9), \"\", Responses!X9)","v":""},{"$f":"IF(ISBLANK(Responses!Y9), \"\", Responses!Y9)","v":""},{"$f":"IF(ISBLANK(Responses!Z9), \"\", Responses!Z9)","v":""},{"$f":"IF(ISBLANK(Responses!AA9), \"\", Responses!AA9)","v":""},{"$f":"IF(ISBLANK(Responses!AB9), \"\", Responses!AB9)","v":""},{"$f":"IF(ISBLANK(Responses!AC9), \"\", Responses!AC9)","v":""},{"$f":"IF(ISBLANK(Responses!AD9), \"\", Responses!AD9)","v":""},{"$f":"IF(ISBLANK(Responses!AE9), \"\", Responses!AE9)","v":""},{"$f":"IF(ISBLANK(Responses!AF9), \"\", Responses!AF9)","v":""},{"$f":"IF(ISBLANK(Responses!AG9), \"\", Responses!AG9)","v":""},{"$f":"IF(ISBLANK(Responses!AH9), \"\", Responses!AH9)","v":""},{"$f":"IF(ISBLANK(Responses!AI9), \"\", Responses!AI9)","v":""},{"$f":"IF(ISBLANK(Responses!AJ9), \"\", Responses!AJ9)","v":""},{"$f":"IF(ISBLANK(Responses!AK9), \"\", Responses!AK9)","v":""},{"$f":"IF(ISBLANK(Responses!AL9), \"\", Responses!AL9)","v":""},{"$f":"IF(ISBLANK(Responses!AM9), \"\", Responses!AM9)","v":""},{"$f":"IF(ISBLANK(Responses!AN9), \"\", Responses!AN9)","v":""},{"$f":"IF(ISBLANK(Responses!AO9), \"\", Responses!AO9)","v":""},{"$f":"IF(ISBLANK(Responses!AP9), \"\", Responses!AP9)","v":""},{"$error":"#N/A"},{"$error":"#N/A"},{"$f":"IF(ISBLANK(C9),0,VLOOKUP(C9,LUTs!$A$6:$B$8,2))","v":{"$error":"#N/A"}},{"$f":"IF(ISBLANK(D9),0,VLOOKUP(D9,LUTs!$A$6:$B$8,2))","v":{"$error":"#N/A"}},{"$f":"IF(ISBLANK(E9),0,VLOOKUP(E9,LUTs!$A$6:$B$8,2))","v":{"$error":"#N/A"}},{"$f":"IF(ISBLANK(F9),0,VLOOKUP(F9,LUTs!$A$6:$B$8,2))","v":{"$error":"#N/A"}},{"$f":"IF(ISBLANK(G9),0,VLOOKUP(G9,LUTs!$A$6:$B$8,2))","v":{"$error":"#N/A"}},{"$f":"IF(ISBLANK(H9),0,VLOOKUP(H9,LUTs!$A$6:$B$8,2))","v":{"$error":"#N/A"}},{"$f":"IF(ISBLANK(I9),0,VLOOKUP(I9,LUTs!$A$6:$B$8,2))","v":{"$error":"#N/A"}},{"$f":"IF(ISBLANK(J9),0,VLOOKUP(J9,LUTs!$A$6:$B$8,2))","v":{"$error":"#N/A"}},{"$f":"IF(ISBLANK(K9),0,VLOOKUP(K9,LUTs!$A$6:$B$8,2))","v":{"$error":"#N/A"}},{"$f":"IF(ISBLANK(L9),0,VLOOKUP(L9,LUTs!$A$6:$B$8,2))","v":{"$error":"#N/A"}},{"$f":"IF(ISBLANK(M9),0,VLOOKUP(M9,LUTs!$A$6:$B$8,2))","v":{"$error":"#N/A"}},{"$f":"IF(ISBLANK(N9),0,VLOOKUP(N9,LUTs!$A$6:$B$8,2))","v":{"$error":"#N/A"}},{"$f":"IF(ISBLANK(O9),0,VLOOKUP(O9,LUTs!$A$6:$B$8,2))","v":{"$error":"#N/A"}},{"$f":"IF(ISBLANK(P9),0,VLOOKUP(P9,LUTs!$A$6:$B$8,2))","v":{"$error":"#N/A"}},{"$f":"IF(ISBLANK(Q9),0,VLOOKUP(Q9,LUTs!$A$6:$B$8,2))","v":{"$error":"#N/A"}},{"$f":"IF(ISBLANK(R9),0,IF(ISERROR(VLOOKUP(R9,LUTs!$A$6:$B$8,2)),R9,VLOOKUP(R9,LUTs!$A$6:$B$8,2)))","v":""},{"$f":"IF(ISBLANK(S9),0,VLOOKUP(S9,LUTs!$A$6:$B$8,2))","v":{"$error":"#N/A"}},{"$f":"IF(ISBLANK(T9),0,IF(ISERROR(VLOOKUP(T9,LUTs!$A$6:$B$8,2)),T9,VLOOKUP(T9,LUTs!$A$6:$B$8,2)))","v":""},{"$f":"IF(ISBLANK(U9),0,VLOOKUP(U9,LUTs!$A$6:$B$8,2))","v":{"$error":"#N/A"}},{"$f":"IF(ISBLANK(V9),0,VLOOKUP(V9,LUTs!$A$6:$B$8,2))","v":{"$error":"#N/A"}},{"$f":"IF(ISBLANK(W9),0,VLOOKUP(W9,LUTs!$A$6:$B$8,2))","v":{"$error":"#N/A"}},{"$f":"IF(ISBLANK(X9),0,VLOOKUP(X9,LUTs!$A$6:$B$8,2))","v":{"$error":"#N/A"}}]
[{"$f":"IF(ISBLANK(Responses!A10), \"\", Responses!A10)","v":""},{"$f":"IF(ISBLANK(Responses!B10), \"\", Responses!B10)","v":""},{"$f":"IF(ISBLANK(Responses!U10), \"\", Responses!U10)","v":""},{"$f":"IF(ISBLANK(Responses!V10), \"\", Responses!V10)","v":""},{"$f":"IF(ISBLANK(Responses!W10), \"\", Responses!W10)","v":""},{"$f":"IF(ISBLANK(Responses!X10), \"\", Responses!X10)","v":""},{"$f":"IF(ISBLANK(Responses!Y10), \"\", Responses!Y10)","v":""},{"$f":"IF(ISBLANK(Responses!Z10), \"\", Responses!Z10)","v":""},{"$f":"IF(ISBLANK(Responses!AA10), \"\", Responses!AA10)","v":""},{"$f":"IF(ISBLANK(Responses!AB10), \"\", Responses!AB10)","v":""},{"$f":"IF(ISBLANK(Responses!AC10), \"\", Responses!AC10)","v":""},{"$f":"IF(ISBLANK(Responses!AD10), \"\", Responses!AD10)","v":""},{"$f":"IF(ISBLANK(Responses!AE10), \"\", Responses!AE10)","v":""},{"$f":"IF(ISBLANK(Responses!AF10), \"\", Responses!AF10)","v":""},{"$f":"IF(ISBLANK(Responses!AG10), \"\", Responses!AG10)","v":""},{"$f":"IF(ISBLANK(Responses!AH10), \"\", Responses!AH10)","v":""},{"$f":"IF(ISBLANK(Responses!AI10), \"\", Responses!AI10)","v":""},{"$f":"IF(ISBLANK(Responses!AJ10), \"\", Responses!AJ10)","v":""},{"$f":"IF(ISBLANK(Responses!AK10), \"\", Responses!AK10)","v":""},{"$f":"IF(ISBLANK(Responses!AL10), \"\", Responses!AL10)","v":""},{"$f":"IF(ISBLANK(Responses!AM10), \"\", Responses!AM10)","v":""},{"$f":"IF(ISBLANK(Responses!AN10), \"\", Responses!AN10)","v":""},{"$f":"IF(ISBLANK(Responses!AO10), \"\", Responses!AO10)","v":""},{"$f":"IF(ISBLANK(Responses!AP10), \"\", Responses!AP10)","v":""},{"$error":"#N/A"},{"$error":"#N/A"},{"$f":"IF(ISBLANK(C10),0,VLOOKUP(C10,LUTs!$A$6:$B$8,2))","v":{"$error":"#N/A"}},{"$f":"IF(ISBLANK(D10),0,VLOOKUP(D10,LUTs!$A$6:$B$8,2))","v":{"$error":"#N/A"}},{"$f":"IF(ISBLANK(E10),0,VLOOKUP(E10,LUTs!$A$6:$B$8,2))","v":{"$error":"#N/A"}},{"$f":"IF(ISBLANK(F10),0,VLOOKUP(F10,LUTs!$A$6:$B$8,2))","v":{"$error":"#N/A"}},{"$f":"IF(ISBLANK(G10),0,VLOOKUP(G10,LUTs!$A$6:$B$8,2))","v":{"$error":"#N/A"}},{"$f":"IF(ISBLANK(H10),0,VLOOKUP(H10,LUTs!$A$6:$B$8,2))","v":{"$error":"#N/A"}},{"$f":"IF(ISBLANK(I10),0,VLOOKUP(I10,LUTs!$A$6:$B$8,2))","v":{"$error":"#N/A"}},{"$f":"IF(ISBLANK(J10),0,VLOOKUP(J10,LUTs!$A$6:$B$8,2))","v":{"$error":"#N/A"}},{"$f":"IF(ISBLANK(K10),0,VLOOKUP(K10,LUTs!$A$6:$B$8,2))","v":{"$error":"#N/A"}},{"$f":"IF(ISBLANK(L10),0,VLOOKUP(L10,LUTs!$A$6:$B$8,2))","v":{"$error":"#N/A"}},{"$f":"IF(ISBLANK(M10),0,VLOOKUP(M10,LUTs!$A$6:$B$8,2))","v":{"$error":"#N/A"}},{"$f":"IF(ISBLANK(N10),0,VLOOKUP(N10,LUTs!$A$6:$B$8,2))","v":{"$error":"#N/A"}},{"$f":"IF(ISBLANK(O10),0,VLOOKUP(O10,LUTs!$A$6:$B$8,2))","v":{"$error":"#N/A"}},{"$f":"IF(ISBLANK(P10),0,VLOOKUP(P10,LUTs!$A$6:$B$8,2))","v":{"$error":"#N/A"}},{"$f":"IF(ISBLANK(Q10),0,VLOOKUP(Q10,LUTs!$A$6:$B$8,2))","v":{"$error":"#N/A"}},{"$f":"IF(ISBLANK(R10),0,IF(ISERROR(VLOOKUP(R10,LUTs!$A$6:$B$8,2)),R10,VLOOKUP(R10,LUTs!$A$6:$B$8,2)))","v":""},{"$f":"IF(ISBLANK(S10),0,VLOOKUP(S10,LUTs!$A$6:$B$8,2))","v":{"$error":"#N/A"}},{"$f":"IF(ISBLANK(T10),0,IF(ISERROR(VLOOKUP(T10,LUTs!$A$6:$B$8,2)),T10,VLOOKUP(T10,LUTs!$A$6:$B$8,2)))","v":""},{"$f":"IF(ISBLANK(U10),0,VLOOKUP(U10,LUTs!$A$6:$B$8,2))","v":{"$error":"#N/A"}},{"$f":"IF(ISBLANK(V10),0,VLOOKUP(V10,LUTs!$A$6:$B$8,2))","v":{"$error":"#N/A"}},{"$f":"IF(ISBLANK(W10),0,VLOOKUP(W10,LUTs!$A$6:$B$8,2))","v":{"$error":"#N/A"}},{"$f":"IF(ISBLANK(X10),0,VLOOKUP(X10,LUTs!$A$6:$B$8,2))","v":{"$error":"#N/A"}}]
[{"$f":"IF(ISBLANK(Responses!A11), \"\", Responses!A11)","v":""},{"$f":"IF(ISBLANK(Responses!B11), \"\", Responses!B11)","v":""},{"$f":"IF(ISBLANK(Responses!U11), \"\", Responses!U11)","v":""},{"$f":"IF(ISBLANK(Responses!V11), \"\", Responses!V11)","v":""},{"$f":"IF(ISBLANK(Responses!W11), \"\", Responses!W11)","v":""},{"$f":"IF(ISBLANK(Responses!X11), \"\", Responses!X11)","v":""},{"$f":"IF(ISBLANK(Responses!Y11), \"\", Responses!Y11)","v":""},{"$f":"IF(ISBLANK(Responses!Z11), \"\", Responses!Z11)","v":""},{"$f":"IF(ISBLANK(Responses!AA11), \"\", Responses!AA11)","v":""},{"$f":"IF(ISBLANK(Responses!AB11), \"\", Responses!AB11)","v":""},{"$f":"IF(ISBLANK(Responses!AC11), \"\", Responses!AC11)","v":""},{"$f":"IF(ISBLANK(Responses!AD11), \"\", Responses!AD11)","v":""},{"$f":"IF(ISBLANK(Responses!AE11), \"\", Responses!AE11)","v":""},{"$f":"IF(ISBLANK(Responses!AF11), \"\", Responses!AF11)","v":""},{"$f":"IF(ISBLANK(Responses!AG11), \"\", Responses!AG11)","v":""},{"$f":"IF(ISBLANK(Responses!AH11), \"\", Responses!AH11)","v":""},{"$f":"IF(ISBLANK(Responses!AI11), \"\", Responses!AI11)","v":""},{"$f":"IF(ISBLANK(Responses!AJ11), \"\", Responses!AJ11)","v":""},{"$f":"IF(ISBLANK(Responses!AK11), \"\", Responses!AK11)","v":""},{"$f":"IF(ISBLANK(Responses!AL11), \"\", Responses!AL11)","v":""},{"$f":"IF(ISBLANK(Responses!AM11), \"\", Responses!AM11)","v":""},{"$f":"IF(ISBLANK(Responses!AN11), \"\", Responses!AN11)","v":""},{"$f":"IF(ISBLANK(Responses!AO11), \"\", Responses!AO11)","v":""},{"$f":"IF(ISBLANK(Responses!AP11), \"\", Responses!AP11)","v":""},{"$error":"#N/A"},{"$error":"#N/A"},{"$f":"IF(ISBLANK(C11),0,VLOOKUP(C11,LUTs!$A$6:$B$8,2))","v":{"$error":"#N/A"}},{"$f":"IF(ISBLANK(D11),0,VLOOKUP(D11,LUTs!$A$6:$B$8,2))","v":{"$error":"#N/A"}},{"$f":"IF(ISBLANK(E11),0,VLOOKUP(E11,LUTs!$A$6:$B$8,2))","v":{"$error":"#N/A"}},{"$f":"IF(ISBLANK(F11),0,VLOOKUP(F11,LUTs!$A$6:$B$8,2))","v":{"$error":"#N/A"}},{"$f":"IF(ISBLANK(G11),0,VLOOKUP(G11,LUTs!$A$6:$B$8,2))","v":{"$error":"#N/A"}},{"$f":"IF(ISBLANK(H11),0,VLOOKUP(H11,LUTs!$A$6:$B$8,2))","v":{"$error":"#N/A"}},{"$f":"IF(ISBLANK(I11),0,VLOOKUP(I11,LUTs!$A$6:$B$8,2))","v":{"$error":"#N/A"}},{"$f":"IF(ISBLANK(J11),0,VLOOKUP(J11,LUTs!$A$6:$B$8,2))","v":{"$error":"#N/A"}},{"$f":"IF(ISBLANK(K11),0,VLOOKUP(K11,LUTs!$A$6:$B$8,2))","v":{"$error":"#N/A"}},{"$f":"IF(ISBLANK(L11),0,VLOOKUP(L11,LUTs!$A$6:$B$8,2))","v":{"$error":"#N/A"}},{"$f":"IF(ISBLANK(M11),0,VLOOKUP(M11,LUTs!$A$6:$B$8,2))","v":{"$error":"#N/A"}},{"$f":"IF(ISBLANK(N11),0,VLOOKUP(N11,LUTs!$A$6:$B$8,2))","v":{"$error":"#N/A"}},{"$f":"IF(ISBLANK(O11),0,VLOOKUP(O11,LUTs!$A$6:$B$8,2))","v":{"$error":"#N/A"}},{"$f":"IF(ISBLANK(P11),0,VLOOKUP(P11,LUTs!$A$6:$B$8,2))","v":{"$error":"#N/A"}},{"$f":"IF(ISBLANK(Q11),0,VLOOKUP(Q11,LUTs!$A$6:$B$8,2))","v":{"$error":"#N/A"}},{"$f":"IF(ISBLANK(R11),0,IF(ISERROR(VLOOKUP(R11,LUTs!$A$6:$B$8,2)),R11,VLOOKUP(R11,LUTs!$A$6:$B$8,2)))","v":""},{"$f":"IF(ISBLANK(S11),0,VLOOKUP(S11,LUTs!$A$6:$B$8,2))","v":{"$error":"#N/A"}},{"$f":"IF(ISBLANK(T11),0,IF(ISERROR(VLOOKUP(T11,LUTs!$A$6:$B$8,2)),T11,VLOOKUP(T11,LUTs!$A$6:$B$8,2)))","v":""},{"$f":"IF(ISBLANK(U11),0,VLOOKUP(U11,LUTs!$A$6:$B$8,2))","v":{"$error":"#N/A"}},{"$f":"IF(ISBLANK(V11),0,VLOOKUP(V11,LUTs!$A$6:$B$8,2))","v":{"$error":"#N/A"}},{"$f":"IF(ISBLANK(W11),0,VLOOKUP(W11,LUTs!$A$6:$B$8,2))","v":{"$error":"#N/A"}},{"$f":"IF(ISBLANK(X11),0,VLOOKUP(X11,LUTs!$A$6:$B$8,2))","v":{"$error":"#N/A"}}]
[{"$f":"IF(ISBLANK(Responses!A12), \"\", Responses!A12)","v":""},{"$f":"IF(ISBLANK(Responses!B12), \"\", Responses!B12)","v":""},{"$f":"IF(ISBLANK(Responses!U12), \"\", Responses!U12)","v":""},{"$f":"IF(ISBLANK(Responses!V12), \"\", Responses!V12)","v":""},{"$f":"IF(ISBLANK(Responses!W12), \"\", Responses!W12)","v":""},{"$f":"IF(ISBLANK(Responses!X12), \"\", Responses!X12)","v":""},{"$f":"IF(ISBLANK(Responses!Y12), \"\", Responses!Y12)","v":""},{"$f":"IF(ISBLANK(Responses!Z12), \"\", Responses!Z12)","v":""},{"$f":"IF(ISBLANK(Responses!AA12), \"\", Responses!AA12)","v":""},{"$f":"IF(ISBLANK(Responses!AB12), \"\", Responses!AB12)","v":""},{"$f":"IF(ISBLANK(Responses!AC12), \"\", Responses!AC12)","v":""},{"$f":"IF(ISBLANK(Responses!AD12), \"\", Responses!AD12)","v":""},{"$f":"IF(ISBLANK(Responses!AE12), \"\", Responses!AE12)","v":""},{"$f":"IF(ISBLANK(Responses!AF12), \"\", Responses!AF12)","v":""},{"$f":"IF(ISBLANK(Responses!AG12), \"\", Responses!AG12)","v":""},{"$f":"IF(ISBLANK(Responses!AH12), \"\", Responses!AH12)","v":""},{"$f":"IF(ISBLANK(Responses!AI12), \"\", Responses!AI12)","v":""},{"$f":"IF(ISBLANK(Responses!AJ12), \"\", Responses!AJ12)","v":""},{"$f":"IF(ISBLANK(Responses!AK12), \"\", Responses!AK12)","v":""},{"$f":"IF(ISBLANK(Responses!AL12), \"\", Responses!AL12)","v":""},{"$f":"IF(ISBLANK(Responses!AM12), \"\", Responses!AM12)","v":""},{"$f":"IF(ISBLANK(Responses!AN12), \"\", Responses!AN12)","v":""},{"$f":"IF(ISBLANK(Responses!AO12), \"\", Responses!AO12)","v":""},{"$f":"IF(ISBLANK(Responses!AP12), \"\", Responses!AP12)","v":""},{"$error":"#N/A"},{"$error":"#N/A"},{"$f":"IF(ISBLANK(C12),0,VLOOKUP(C12,LUTs!$A$6:$B$8,2))","v":{"$error":"#N/A"}},{"$f":"IF(ISBLANK(D12),0,VLOOKUP(D12,LUTs!$A$6:$B$8,2))","v":{"$error":"#N/A"}},{"$f":"IF(ISBLANK(E12),0,VLOOKUP(E12,LUTs!$A$6:$B$8,2))","v":{"$error":"#N/A"}},{"$f":"IF(ISBLANK(F12),0,VLOOKUP(F12,LUTs!$A$6:$B$8,2))","v":{"$error":"#N/A"}},{"$f":"IF(ISBLANK(G12),0,VLOOKUP(G12,LUTs!$A$6:$B$8,2))","v":{"$error":"#N/A"}},{"$f":"IF(ISBLANK(H12),0,VLOOKUP(H12,LUTs!$A$6:$B$8,2))","v":{"$error":"#N/A"}},{"$f":"IF(ISBLANK(I12),0,VLOOKUP(I12,LUTs!$A$6:$B$8,2))","v":{"$error":"#N/A"}},{"$f":"IF(ISBLANK(J12),0,VLOOKUP(J12,LUTs!$A$6:$B$8,2))","v":{"$error":"#N/A"}},{"$f":"IF(ISBLANK(K12),0,VLOOKUP(K12,LUTs!$A$6:$B$8,2))","v":{"$error":"#N/A"}},{"$f":"IF(ISBLANK(L12),0,VLOOKUP(L12,LUTs!$A$6:$B$8,2))","v":{"$error":"#N/A"}},{"$f":"IF(ISBLANK(M12),0,VLOOKUP(M12,LUTs!$A$6:$B$8,2))","v":{"$error":"#N/A"}},{"$f":"IF(ISBLANK(N12),0,VLOOKUP(N12,LUTs!$A$6:$B$8,2))","v":{"$error":"#N/A"}},{"$f":"IF(ISBLANK(O12),0,VLOOKUP(O12,LUTs!$A$6:$B$8,2))","v":{"$error":"#N/A"}},{"$f":"IF(ISBLANK(P12),0,VLOOKUP(P12,LUTs!$A$6:$B$8,2))","v":{"$error":"#N/A"}},{"$f":"IF(ISBLANK(Q12),0,VLOOKUP(Q12,LUTs!$A$6:$B$8,2))","v":{"$error":"#N/A"}},{"$f":"IF(ISBLANK(R12),0,IF(ISERROR(VLOOKUP(R12,LUTs!$A$6:$B$8,2)),R12,VLOOKUP(R12,LUTs!$A$6:$B$8,2)))","v":""},{"$f":"IF(ISBLANK(S12),0,VLOOKUP(S12,LUTs!$A$6:$B$8,2))","v":{"$error":"#N/A"}},{"$f":"IF(ISBLANK(T12),0,IF(ISERROR(VLOOKUP(T12,LUTs!$A$6:$B$8,2)),T12,VLOOKUP(T12,LUTs!$A$6:$B$8,2)))","v":""},{"$f":"IF(ISBLANK(U12),0,VLOOKUP(U12,LUTs!$A$6:$B$8,2))","v":{"$error":"#N/A"}},{"$f":"IF(ISBLANK(V12),0,VLOOKUP(V12,LUTs!$A$6:$B$8,2))","v":{"$error":"#N/A"}},{"$f":"IF(ISBLANK(W12),0,VLOOKUP(W12,LUTs!$A$6:$B$8,2))","v":{"$error":"#N/A"}},{"$f":"IF(ISBLANK(X12),0,VLOOKUP(X12,LUTs!$A$6:$B$8,2))","v":{"$error":"#N/A"}}]
[{"$f":"IF(ISBLANK(Responses!A13), \"\", Responses!A13)","v":""},{"$f":"IF(ISBLANK(Responses!B13), \"\", Responses!B13)","v":""},{"$f":"IF(ISBLANK(Responses!U13), \"\", Responses!U13)","v":""},{"$f":"IF(ISBLANK(Responses!V13), \"\", Responses!V13)","v":""},{"$f":"IF(ISBLANK(Responses!W13), \"\", Responses!W13)","v":""},{"$f":"IF(ISBLANK(Responses!X13), \"\", Responses!X13)","v":""},{"$f":"IF(ISBLANK(Responses!Y13), \"\", Responses!Y13)","v":""},{"$f":"IF(ISBLANK(Responses!Z13), \"\", Responses!Z13)","v":""},{"$f":"IF(ISBLANK(Responses!AA13), \"\", Responses!AA13)","v":""},{"$f":"IF(ISBLANK(Responses!AB13), \"\", Responses!AB13)","v":""},{"$f":"IF(ISBLANK(Responses!AC13), \"\", Responses!AC13)","v":""},{"$f":"IF(ISBLANK(Responses!AD13), \"\", Responses!AD13)","v":""},{"$f":"IF(ISBLANK(Responses!AE13), \"\", Responses!AE13)","v":""},{"$f":"IF(ISBLANK(Responses!AF13), \"\", Responses!AF13)","v":""},{"$f":"IF(ISBLANK(Responses!AG13), \"\", Responses!AG13)","v":""},{"$f":"IF(ISBLANK(Responses!AH13), \"\", Responses!AH13)","v":""},{"$f":"IF(ISBLANK(Responses!AI13), \"\", Responses!AI13)","v":""},{"$f":"IF(ISBLANK(Responses!AJ13), \"\", Responses!AJ13)","v":""},{"$f":"IF(ISBLANK(Responses!AK13), \"\", Responses!AK13)","v":""},{"$f":"IF(ISBLANK(Responses!AL13), \"\", Responses!AL13)","v":""},{"$f":"IF(ISBLANK(Responses!AM13), \"\", Responses!AM13)","v":""},{"$f":"IF(ISBLANK(Responses!AN13), \"\", Responses!AN13)","v":""},{"$f":"IF(ISBLANK(Responses!AO13), \"\", Responses!AO13)","v":""},{"$f":"IF(ISBLANK(Responses!AP13), \"\", Responses!AP13)","v":""},{"$error":"#N/A"},{"$error":"#N/A"},{"$f":"IF(ISBLANK(C13),0,VLOOKUP(C13,LUTs!$A$6:$B$8,2))","v":{"$error":"#N/A"}},{"$f":"IF(ISBLANK(D13),0,VLOOKUP(D13,LUTs!$A$6:$B$8,2))","v":{"$error":"#N/A"}},{"$f":"IF(ISBLANK(E13),0,VLOOKUP(E13,LUTs!$A$6:$B$8,2))","v":{"$error":"#N/A"}},{"$f":"IF(ISBLANK(F13),0,VLOOKUP(F13,LUTs!$A$6:$B$8,2))","v":{"$error":"#N/A"}},{"$f":"IF(ISBLANK(G13),0,VLOOKUP(G13,LUTs!$A$6:$B$8,2))","v":{"$error":"#N/A"}},{"$f":"IF(ISBLANK(H13),0,VLOOKUP(H13,LUTs!$A$6:$B$8,2))","v":{"$error":"#N/A"}},{"$f":"IF(ISBLANK(I13),0,VLOOKUP(I13,LUTs!$A$6:$B$8,2))","v":{"$error":"#N/A"}},{"$f":"IF(ISBLANK(J13),0,VLOOKUP(J13,LUTs!$A$6:$B$8,2))","v":{"$error":"#N/A"}},{"$f":"IF(ISBLANK(K13),0,VLOOKUP(K13,LUTs!$A$6:$B$8,2))","v":{"$error":"#N/A"}},{"$f":"IF(ISBLANK(L13),0,VLOOKUP(L13,LUTs!$A$6:$B$8,2))","v":{"$error":"#N/A"}},{"$f":"IF(ISBLANK(M13),0,VLOOKUP(M13,LUTs!$A$6:$B$8,2))","v":{"$error":"#N/A"}},{"$f":"IF(ISBLANK(N13),0,VLOOKUP(N13,LUTs!$A$6:$B$8,2))","v":{"$error":"#N/A"}},{"$f":"IF(ISBLANK(O13),0,VLOOKUP(O13,LUTs!$A$6:$B$8,2))","v":{"$error":"#N/A"}},{"$f":"IF(ISBLANK(P13),0,VLOOKUP(P13,LUTs!$A$6:$B$8,2))","v":{"$error":"#N/A"}},{"$f":"IF(ISBLANK(Q13),0,VLOOKUP(Q13,LUTs!$A$6:$B$8,2))","v":{"$error":"#N/A"}},{"$f":"IF(ISBLANK(R13),0,IF(ISERROR(VLOOKUP(R13,LUTs!$A$6:$B$8,2)),R13,VLOOKUP(R13,LUTs!$A$6:$B$8,2)))","v":""},{"$f":"IF(ISBLANK(S13),0,VLOOKUP(S13,LUTs!$A$6:$B$8,2))","v":{"$error":"#N/A"}},{"$f":"IF(ISBLANK(T13),0,IF(ISERROR(VLOOKUP(T13,LUTs!$A$6:$B$8,2)),T13,VLOOKUP(T13,LUTs!$A$6:$B$8,2)))","v":""},{"$f":"IF(ISBLANK(U13),0,VLOOKUP(U13,LUTs!$A$6:$B$8,2))","v":{"$error":"#N/A"}},{"$f":"IF(ISBLANK(V13),0,VLOOKUP(V13,LUTs!$A$6:$B$8,2))","v":{"$error":"#N/A"}},{"$f":"IF(ISBLANK(W13),0,VLOOKUP(W13,LUTs!$A$6:$B$8,2))","v":{"$error":"#N/A"}},{"$f":"IF(ISBLANK(X13),0,VLOOKUP(X13,LUTs!$A$6:$B$8,2))","v":{"$error":"#N/A"}}]
[{"$f":"IF(ISBLANK(Responses!A14), \"\", Responses!A14)","v":""},{"$f":"IF(ISBLANK(Responses!B14), \"\", Responses!B14)","v":""},{"$f":"IF(ISBLANK(Responses!U14), \"\", Responses!U14)","v":""},{"$f":"IF(ISBLANK(Responses!V14), \"\", Responses!V14)","v":""},{"$f":"IF(ISBLANK(Responses!W14), \"\", Responses!W14)","v":""},{"$f":"IF(ISBLANK(Responses!X14), \"\", Responses!X14)","v":""},{"$f":"IF(ISBLANK(Responses!Y14), \"\", Responses!Y14)","v":""},{"$f":"IF(ISBLANK(Responses!Z14), \"\", Responses!Z14)","v":""},{"$f":"IF(ISBLANK(Responses!AA14), \"\", Responses!AA14)","v":""},{"$f":"IF(ISBLANK(Responses!AB14), \"\", Responses!AB14)","v":""},{"$f":"IF(ISBLANK(Responses!AC14), \"\", Responses!AC14)","v":""},{"$f":"IF(ISBLANK(Responses!AD14), \"\", Responses!AD14)","v":""},{"$f":"IF(ISBLANK(Responses!AE14), \"\", Responses!AE14)","v":""},{"$f":"IF(ISBLANK(Responses!AF14), \"\", Responses!AF14)","v":""},{"$f":"IF(ISBLANK(Responses!AG14), \"\", Responses!AG14)","v":""},{"$f":"IF(ISBLANK(Responses!AH14), \"\", Responses!AH14)","v":""},{"$f":"IF(ISBLANK(Responses!AI14), \"\", Responses!AI14)","v":""},{"$f":"IF(ISBLANK(Responses!AJ14), \"\", Responses!AJ14)","v":""},{"$f":"IF(ISBLANK(Responses!AK14), \"\", Responses!AK14)","v":""},{"$f":"IF(ISBLANK(Responses!AL14), \"\", Responses!AL14)","v":""},{"$f":"IF(ISBLANK(Responses!AM14), \"\", Responses!AM14)","v":""},{"$f":"IF(ISBLANK(Responses!AN14), \"\", Responses!AN14)","v":""},{"$f":"IF(ISBLANK(Responses!AO14), \"\", Responses!AO14)","v":""},{"$f":"IF(ISBLANK(Responses!AP14), \"\", Responses!AP14)","v":""},{"$error":"#N/A"},{"$error":"#N/A"},{"$f":"IF(ISBLANK(C14),0,VLOOKUP(C14,LUTs!$A$6:$B$8,2))","v":{"$error":"#N/A"}},{"$f":"IF(ISBLANK(D14),0,VLOOKUP(D14,LUTs!$A$6:$B$8,2))","v":{"$error":"#N/A"}},{"$f":"IF(ISBLANK(E14),0,VLOOKUP(E14,LUTs!$A$6:$B$8,2))","v":{"$error":"#N/A"}},{"$f":"IF(ISBLANK(F14),0,VLOOKUP(F14,LUTs!$A$6:$B$8,2))","v":{"$error":"#N/A"}},{"$f":"IF(ISBLANK(G14),0,VLOOKUP(G14,LUTs!$A$6:$B$8,2))","v":{"$error":"#N/A"}},{"$f":"IF(ISBLANK(H14),0,VLOOKUP(H14,LUTs!$A$6:$B$8,2))","v":{"$error":"#N/A"}},{"$f":"IF(ISBLANK(I14),0,VLOOKUP(I14,LUTs!$A$6:$B$8,2))","v":{"$error":"#N/A"}},{"$f":"IF(ISBLANK(J14),0,VLOOKUP(J14,LUTs!$A$6:$B$8,2))","v":{"$error":"#N/A"}},{"$f":"IF(ISBLANK(K14),0,VLOOKUP(K14,LUTs!$A$6:$B$8,2))","v":{"$error":"#N/A"}},{"$f":"IF(ISBLANK(L14),0,VLOOKUP(L14,LUTs!$A$6:$B$8,2))","v":{"$error":"#N/A"}},{"$f":"IF(ISBLANK(M14),0,VLOOKUP(M14,LUTs!$A$6:$B$8,2))","v":{"$error":"#N/A"}},{"$f":"IF(ISBLANK(N14),0,VLOOKUP(N14,LUTs!$A$6:$B$8,2))","v":{"$error":"#N/A"}},{"$f":"IF(ISBLANK(O14),0,VLOOKUP(O14,LUTs!$A$6:$B$8,2))","v":{"$error":"#N/A"}},{"$f":"IF(ISBLANK(P14),0,VLOOKUP(P14,LUTs!$A$6:$B$8,2))","v":{"$error":"#N/A"}},{"$f":"IF(ISBLANK(Q14),0,VLOOKUP(Q14,LUTs!$A$6:$B$8,2))","v":{"$error":"#N/A"}},{"$f":"IF(ISBLANK(R14),0,IF(ISERROR(VLOOKUP(R14,LUTs!$A$6:$B$8,2)),R14,VLOOKUP(R14,LUTs!$A$6:$B$8,2)))","v":""},{"$f":"IF(ISBLANK(S14),0,VLOOKUP(S14,LUTs!$A$6:$B$8,2))","v":{"$error":"#N/A"}},{"$f":"IF(ISBLANK(T14),0,IF(ISERROR(VLOOKUP(T14,LUTs!$A$6:$B$8,2)),T14,VLOOKUP(T14,LUTs!$A$6:$B$8,2)))","v":""},{"$f":"IF(ISBLANK(U14),0,VLOOKUP(U14,LUTs!$A$6:$B$8,2))","v":{"$error":"#N/A"}},{"$f":"IF(ISBLANK(V14),0,VLOOKUP(V14,LUTs!$A$6:$B$8,2))","v":{"$error":"#N/A"}},{"$f":"IF(ISBLANK(W14),0,VLOOKUP(W14,LUTs!$A$6:$B$8,2))","v":{"$error":"#N/A"}},{"$f":"IF(ISBLANK(X14),0,VLOOKUP(X14,LUTs!$A$6:$B$8,2))","v":{"$error":"#N/A"}}]
[{"$f":"IF(ISBLANK(Responses!A15), \"\", Responses!A15)","v":""},{"$f":"IF(ISBLANK(Responses!B15), \"\", Responses!B15)","v":""},{"$f":"IF(ISBLANK(Responses!U15), \"\", Responses!U15)","v":""},{"$f":"IF(ISBLANK(Responses!V15), \"\", Responses!V15)","v":""},{"$f":"IF(ISBLANK(Responses!W15), \"\", Responses!W15)","v":""},{"$f":"IF(ISBLANK(Responses!X15), \"\", Responses!X15)","v":""},{"$f":"IF(ISBLANK(Responses!Y15), \"\", Responses!Y15)","v":""},{"$f":"IF(ISBLANK(Responses!Z15), \"\", Responses!Z15)","v":""},{"$f":"IF(ISBLANK(Responses!AA15), \"\", Responses!AA15)","v":""},{"$f":"IF(ISBLANK(Responses!AB15), \"\", Responses!AB15)","v":""},{"$f":"IF(ISBLANK(Responses!AC15), \"\", Responses!AC15)","v":""},{"$f":"IF(ISBLANK(Responses!AD15), \"\", Responses!AD15)","v":""},{"$f":"IF(ISBLANK(Responses!AE15), \"\", Responses!AE15)","v":""},{"$f":"IF(ISBLANK(Responses!AF15), \"\", Responses!AF15)","v":""},{"$f":"IF(ISBLANK(Responses!AG15), \"\", Responses!AG15)","v":""},{"$f":"IF(ISBLANK(Responses!AH15), \"\", Responses!AH15)","v":""},{"$f":"IF(ISBLANK(Responses!AI15), \"\", Responses!AI15)","v":""},{"$f":"IF(ISBLANK(Responses!AJ15), \"\", Responses!AJ15)","v":""},{"$f":"IF(ISBLANK(Responses!AK15), \"\", Responses!AK15)","v":""},{"$f":"IF(ISBLANK(Responses!AL15), \"\", Responses!AL15)","v":""},{"$f":"IF(ISBLANK(Responses!AM15), \"\", Responses!AM15)","v":""},{"$f":"IF(ISBLANK(Responses!AN15), \"\", Responses!AN15)","v":""},{"$f":"IF(ISBLANK(Responses!AO15), \"\", Responses!AO15)","v":""},{"$f":"IF(ISBLANK(Responses!AP15), \"\", Responses!AP15)","v":""},{"$error":"#N/A"},{"$error":"#N/A"},{"$f":"IF(ISBLANK(C15),0,VLOOKUP(C15,LUTs!$A$6:$B$8,2))","v":{"$error":"#N/A"}},{"$f":"IF(ISBLANK(D15),0,VLOOKUP(D15,LUTs!$A$6:$B$8,2))","v":{"$error":"#N/A"}},{"$f":"IF(ISBLANK(E15),0,VLOOKUP(E15,LUTs!$A$6:$B$8,2))","v":{"$error":"#N/A"}},{"$f":"IF(ISBLANK(F15),0,VLOOKUP(F15,LUTs!$A$6:$B$8,2))","v":{"$error":"#N/A"}},{"$f":"IF(ISBLANK(G15),0,VLOOKUP(G15,LUTs!$A$6:$B$8,2))","v":{"$error":"#N/A"}},{"$f":"IF(ISBLANK(H15),0,VLOOKUP(H15,LUTs!$A$6:$B$8,2))","v":{"$error":"#N/A"}},{"$f":"IF(ISBLANK(I15),0,VLOOKUP(I15,LUTs!$A$6:$B$8,2))","v":{"$error":"#N/A"}},{"$f":"IF(ISBLANK(J15),0,VLOOKUP(J15,LUTs!$A$6:$B$8,2))","v":{"$error":"#N/A"}},{"$f":"IF(ISBLANK(K15),0,VLOOKUP(K15,LUTs!$A$6:$B$8,2))","v":{"$error":"#N/A"}},{"$f":"IF(ISBLANK(L15),0,VLOOKUP(L15,LUTs!$A$6:$B$8,2))","v":{"$error":"#N/A"}},{"$f":"IF(ISBLANK(M15),0,VLOOKUP(M15,LUTs!$A$6:$B$8,2))","v":{"$error":"#N/A"}},{"$f":"IF(ISBLANK(N15),0,VLOOKUP(N15,LUTs!$A$6:$B$8,2))","v":{"$error":"#N/A"}},{"$f":"IF(ISBLANK(O15),0,VLOOKUP(O15,LUTs!$A$6:$B$8,2))","v":{"$error":"#N/A"}},{"$f":"IF(ISBLANK(P15),0,VLOOKUP(P15,LUTs!$A$6:$B$8,2))","v":{"$error":"#N/A"}},{"$f":"IF(ISBLANK(Q15),0,VLOOKUP(Q15,LUTs!$A$6:$B$8,2))","v":{"$error":"#N/A"}},{"$f":"IF(ISBLANK(R15),0,IF(ISERROR(VLOOKUP(R15,LUTs!$A$6:$B$8,2)),R15,VLOOKUP(R15,LUTs!$A$6:$B$8,2)))","v":""},{"$f":"IF(ISBLANK(S15),0,VLOOKUP(S15,LUTs!$A$6:$B$8,2))","v":{"$error":"#N/A"}},{"$f":"IF(ISBLANK(T15),0,IF(ISERROR(VLOOKUP(T15,LUTs!$A$6:$B$8,2)),T15,VLOOKUP(T15,LUTs!$A$6:$B$8,2)))","v":""},{"$f":"IF(ISBLANK(U15),0,VLOOKUP(U15,LUTs!$A$6:$B$8,2))","v":{"$error":"#N/A"}},{"$f":"IF(ISBLANK(V15),0,VLOOKUP(V15,LUTs!$A$6:$B$8,2))","v":{"$error":"#N/A"}},{"$f":"IF(ISBLANK(W15),0,VLOOKUP(W15,LUTs!$A$6:$B$8,2))","v":{"$error":"#N/A"}},{"$f":"IF(ISBLANK(X15),0,VLOOKUP(X15,LUTs!$A$6:$B$8,2))","v":{"$error":"#N/A"}}]
[{"$f":"IF(ISBLANK(Responses!A16), \"\", Responses!A16)","v":""},{"$f":"IF(ISBLANK(Responses!B16), \"\", Responses!B16)","v":""},{"$f":"IF(ISBLANK(Responses!U16), \"\", Responses!U16)","v":""},{"$f":"IF(ISBLANK(Responses!V16), \"\", Responses!V16)","v":""},{"$f":"IF(ISBLANK(Responses!W16), \"\", Responses!W16)","v":""},{"$f":"IF(ISBLANK(Responses!X16), \"\", Responses!X16)","v":""},{"$f":"IF(ISBLANK(Responses!Y16), \"\", Responses!Y16)","v":""},{"$f":"IF(ISBLANK(Responses!Z16), \"\", Responses!Z16)","v":""},{"$f":"IF(ISBLANK(Responses!AA16), \"\", Responses!AA16)","v":""},{"$f":"IF(ISBLANK(Responses!AB16), \"\", Responses!AB16)","v":""},{"$f":"IF(ISBLANK(Responses!AC16), \"\", Responses!AC16)","v":""},{"$f":"IF(ISBLANK(Responses!AD16), \"\", Responses!AD16)","v":""},{"$f":"IF(ISBLANK(Responses!AE16), \"\", Responses!AE16)","v":""},{"$f":"IF(ISBLANK(Responses!AF16), \"\", Responses!AF16)","v":""},{"$f":"IF(ISBLANK(Responses!AG16), \"\", Responses!AG16)","v":""},{"$f":"IF(ISBLANK(Responses!AH16), \"\", Responses!AH16)","v":""},{"$f":"IF(ISBLANK(Responses!AI16), \"\", Responses!AI16)","v":""},{"$f":"IF(ISBLANK(Responses!AJ16), \"\", Responses!AJ16)","v":""},{"$f":"IF(ISBLANK(Responses!AK16), \"\", Responses!AK16)","v":""},{"$f":"IF(ISBLANK(Responses!AL16), \"\", Responses!AL16)","v":""},{"$f":"IF(ISBLANK(Responses!AM16), \"\", Responses!AM16)","v":""},{"$f":"IF(ISBLANK(Responses!AN16), \"\", Responses!AN16)","v":""},{"$f":"IF(ISBLANK(Responses!AO16), \"\", Responses!AO16)","v":""},{"$f":"IF(ISBLANK(Responses!AP16), \"\", Responses!AP16)","v":""},{"$error":"#N/A"},{"$error":"#N/A"},{"$f":"IF(ISBLANK(C16),0,VLOOKUP(C16,LUTs!$A$6:$B$8,2))","v":{"$error":"#N/A"}},{"$f":"IF(ISBLANK(D16),0,VLOOKUP(D16,LUTs!$A$6:$B$8,2))","v":{"$error":"#N/A"}},{"$f":"IF(ISBLANK(E16),0,VLOOKUP(E16,LUTs!$A$6:$B$8,2))","v":{"$error":"#N/A"}},{"$f":"IF(ISBLANK(F16),0,VLOOKUP(F16,LUTs!$A$6:$B$8,2))","v":{"$error":"#N/A"}},{"$f":"IF(ISBLANK(G16),0,VLOOKUP(G16,LUTs!$A$6:$B$8,2))","v":{"$error":"#N/A"}},{"$f":"IF(ISBLANK(H16),0,VLOOKUP(H16,LUTs!$A$6:$B$8,2))","v":{"$error":"#N/A"}},{"$f":"IF(ISBLANK(I16),0,VLOOKUP(I16,LUTs!$A$6:$B$8,2))","v":{"$error":"#N/A"}},{"$f":"IF(ISBLANK(J16),0,VLOOKUP(J16,LUTs!$A$6:$B$8,2))","v":{"$error":"#N/A"}},{"$f":"IF(ISBLANK(K16),0,VLOOKUP(K16,LUTs!$A$6:$B$8,2))","v":{"$error":"#N/A"}},{"$f":"IF(ISBLANK(L16),0,VLOOKUP(L16,LUTs!$A$6:$B$8,2))","v":{"$error":"#N/A"}},{"$f":"IF(ISBLANK(M16),0,VLOOKUP(M16,LUTs!$A$6:$B$8,2))","v":{"$error":"#N/A"}},{"$f":"IF(ISBLANK(N16),0,VLOOKUP(N16,LUTs!$A$6:$B$8,2))","v":{"$error":"#N/A"}},{"$f":"IF(ISBLANK(O16),0,VLOOKUP(O16,LUTs!$A$6:$B$8,2))","v":{"$error":"#N/A"}},{"$f":"IF(ISBLANK(P16),0,VLOOKUP(P16,LUTs!$A$6:$B$8,2))","v":{"$error":"#N/A"}},{"$f":"IF(ISBLANK(Q16),0,VLOOKUP(Q16,LUTs!$A$6:$B$8,2))","v":{"$error":"#N/A"}},{"$f":"IF(ISBLANK(R16),0,IF(ISERROR(VLOOKUP(R16,LUTs!$A$6:$B$8,2)),R16,VLOOKUP(R16,LUTs!$A$6:$B$8,2)))","v":""},{"$f":"IF(ISBLANK(S16),0,VLOOKUP(S16,LUTs!$A$6:$B$8,2))","v":{"$error":"#N/A"}},{"$f":"IF(ISBLANK(T16),0,IF(ISERROR(VLOOKUP(T16,LUTs!$A$6:$B$8,2)),T16,VLOOKUP(T16,LUTs!$A$6:$B$8,2)))","v":""},{"$f":"IF(ISBLANK(U16),0,VLOOKUP(U16,LUTs!$A$6:$B$8,2))","v":{"$error":"#N/A"}},{"$f":"IF(ISBLANK(V16),0,VLOOKUP(V16,LUTs!$A$6:$B$8,2))","v":{"$error":"#N/A"}},{"$f":"IF(ISBLANK(W16),0,VLOOKUP(W16,LUTs!$A$6:$B$8,2))","v":{"$error":"#N/A"}},{"$f":"IF(ISBLANK(X16),0,VLOOKUP(X16,LUTs!$A$6:$B$8,2))","v":{"$error":"#N/A"}}]
[{"$f":"IF(ISBLANK(Responses!A17), \"\", Responses!A17)","v":""},{"$f":"IF(ISBLANK(Responses!B17), \"\", Responses!B17)","v":""},{"$f":"IF(ISBLANK(Responses!U17), \"\", Responses!U17)","v":""},{"$f":"IF(ISBLANK(Responses!V17), \"\", Responses!V17)","v":""},{"$f":"IF(ISBLANK(Responses!W17), \"\", Responses!W17)","v":""},{"$f":"IF(ISBLANK(Responses!X17), \"\", Responses!X17)","v":""},{"$f":"IF(ISBLANK(Responses!Y17), \"\", Responses!Y17)","v":""},{"$f":"IF(ISBLANK(Responses!Z17), \"\", Responses!Z17)","v":""},{"$f":"IF(ISBLANK(Responses!AA17), \"\", Responses!AA17)","v":""},{"$f":"IF(ISBLANK(Responses!AB17), \"\", Responses!AB17)","v":""},{"$f":"IF(ISBLANK(Responses!AC17), \"\", Responses!AC17)","v":""},{"$f":"IF(ISBLANK(Responses!AD17), \"\", Responses!AD17)","v":""},{"$f":"IF(ISBLANK(Responses!AE17), \"\", Responses!AE17)","v":""},{"$f":"IF(ISBLANK(Responses!AF17), \"\", Responses!AF17)","v":""},{"$f":"IF(ISBLANK(Responses!AG17), \"\", Responses!AG17)","v":""},{"$f":"IF(ISBLANK(Responses!AH17), \"\", Responses!AH17)","v":""},{"$f":"IF(ISBLANK(Responses!AI17), \"\", Responses!AI17)","v":""},{"$f":"IF(ISBLANK(Responses!AJ17), \"\", Responses!AJ17)","v":""},{"$f":"IF(ISBLANK(Responses!AK17), \"\", Responses!AK17)","v":""},{"$f":"IF(ISBLANK(Responses!AL17), \"\", Responses!AL17)","v":""},{"$f":"IF(ISBLANK(Responses!AM17), \"\", Responses!AM17)","v":""},{"$f":"IF(ISBLANK(Responses!AN17), \"\", Responses!AN17)","v":""},{"$f":"IF(ISBLANK(Responses!AO17), \"\", Responses!AO17)","v":""},{"$f":"IF(ISBLANK(Responses!AP17), \"\", Responses!AP17)","v":""},{"$error":"#N/A"},{"$error":"#N/A"},{"$f":"IF(ISBLANK(C17),0,VLOOKUP(C17,LUTs!$A$6:$B$8,2))","v":{"$error":"#N/A"}},{"$f":"IF(ISBLANK(D17),0,VLOOKUP(D17,LUTs!$A$6:$B$8,2))","v":{"$error":"#N/A"}},{"$f":"IF(ISBLANK(E17),0,VLOOKUP(E17,LUTs!$A$6:$B$8,2))","v":{"$error":"#N/A"}},{"$f":"IF(ISBLANK(F17),0,VLOOKUP(F17,LUTs!$A$6:$B$8,2))","v":{"$error":"#N/A"}},{"$f":"IF(ISBLANK(G17),0,VLOOKUP(G17,LUTs!$A$6:$B$8,2))","v":{"$error":"#N/A"}},{"$f":"IF(ISBLANK(H17),0,VLOOKUP(H17,LUTs!$A$6:$B$8,2))","v":{"$error":"#N/A"}},{"$f":"IF(ISBLANK(I17),0,VLOOKUP(I17,LUTs!$A$6:$B$8,2))","v":{"$error":"#N/A"}},{"$f":"IF(ISBLANK(J17),0,VLOOKUP(J17,LUTs!$A$6:$B$8,2))","v":{"$error":"#N/A"}},{"$f":"IF(ISBLANK(K17),0,VLOOKUP(K17,LUTs!$A$6:$B$8,2))","v":{"$error":"#N/A"}},{"$f":"IF(ISBLANK(L17),0,VLOOKUP(L17,LUTs!$A$6:$B$8,2))","v":{"$error":"#N/A"}},{"$f":"IF(ISBLANK(M17),0,VLOOKUP(M17,LUTs!$A$6:$B$8,2))","v":{"$error":"#N/A"}},{"$f":"IF(ISBLANK(N17),0,VLOOKUP(N17,LUTs!$A$6:$B$8,2))","v":{"$error":"#N/A"}},{"$f":"IF(ISBLANK(O17),0,VLOOKUP(O17,LUTs!$A$6:$B$8,2))","v":{"$error":"#N/A"}},{"$f":"IF(ISBLANK(P17),0,VLOOKUP(P17,LUTs!$A$6:$B$8,2))","v":{"$error":"#N/A"}},{"$f":"IF(ISBLANK(Q17),0,VLOOKUP(Q17,LUTs!$A$6:$B$8,2))","v":{"$error":"#N/A"}},{"$f":"IF(ISBLANK(R17),0,IF(ISERROR(VLOOKUP(R17,LUTs!$A$6:$B$8,2)),R17,VLOOKUP(R17,LUTs!$A$6:$B$8,2)))","v":""},{"$f":"IF(ISBLANK(S17),0,VLOOKUP(S17,LUTs!$A$6:$B$8,2))","v":{"$error":"#N/A"}},{"$f":"IF(ISBLANK(T17),0,IF(ISERROR(VLOOKUP(T17,LUTs!$A$6:$B$8,2)),T17,VLOOKUP(T17,LUTs!$A$6:$B$8,2)))","v":""},{"$f":"IF(ISBLANK(U17),0,VLOOKUP(U17,LUTs!$A$6:$B$8,2))","v":{"$error":"#N/A"}},{"$f":"IF(ISBLANK(V17),0,VLOOKUP(V17,LUTs!$A$6:$B$8,2))","v":{"$error":"#N/A"}},{"$f":"IF(ISBLANK(W17),0,VLOOKUP(W17,LUTs!$A$6:$B$8,2))","v":{"$error":"#N/A"}},{"$f":"IF(ISBLANK(X17),0,VLOOKUP(X17,LUTs!$A$6:$B$8,2))","v":{"$error":"#N/A"}}]
[{"$f":"IF(ISBLANK(Responses!A18), \"\", Responses!A18)","v":""},{"$f":"IF(ISBLANK(Responses!B18), \"\", Responses!B18)","v":""},{"$f":"IF(ISBLANK(Responses!U18), \"\", Responses!U18)","v":""},{"$f":"IF(ISBLANK(Responses!V18), \"\", Responses!V18)","v":""},{"$f":"IF(ISBLANK(Responses!W18), \"\", Responses!W18)","v":""},{"$f":"IF(ISBLANK(Responses!X18), \"\", Responses!X18)","v":""},{"$f":"IF(ISBLANK(Responses!Y18), \"\", Responses!Y18)","v":""},{"$f":"IF(ISBLANK(Responses!Z18), \"\", Responses!Z18)","v":""},{"$f":"IF(ISBLANK(Responses!AA18), \"\", Responses!AA18)","v":""},{"$f":"IF(ISBLANK(Responses!AB18), \"\", Responses!AB18)","v":""},{"$f":"IF(ISBLANK(Responses!AC18), \"\", Responses!AC18)","v":""},{"$f":"IF(ISBLANK(Responses!AD18), \"\", Responses!AD18)","v":""},{"$f":"IF(ISBLANK(Responses!AE18), \"\", Responses!AE18)","v":""},{"$f":"IF(ISBLANK(Responses!AF18), \"\", Responses!AF18)","v":""},{"$f":"IF(ISBLANK(Responses!AG18), \"\", Responses!AG18)","v":""},{"$f":"IF(ISBLANK(Responses!AH18), \"\", Responses!AH18)","v":""},{"$f":"IF(ISBLANK(Responses!AI18), \"\", Responses!AI18)","v":""},{"$f":"IF(ISBLANK(Responses!AJ18), \"\", Responses!AJ18)","v":""},{"$f":"IF(ISBLANK(Responses!AK18), \"\", Responses!AK18)","v":""},{"$f":"IF(ISBLANK(Responses!AL18), \"\", Responses!AL18)","v":""},{"$f":"IF(ISBLANK(Responses!AM18), \"\", Responses!AM18)","v":""},{"$f":"IF(ISBLANK(Responses!AN18), \"\", Responses!AN18)","v":""},{"$f":"IF(ISBLANK(Responses!AO18), \"\", Responses!AO18)","v":""},{"$f":"IF(ISBLANK(Responses!AP18), \"\", Responses!AP18)","v":""},{"$error":"#N/A"},{"$error":"#N/A"},{"$f":"IF(ISBLANK(C18),0,VLOOKUP(C18,LUTs!$A$6:$B$8,2))","v":{"$error":"#N/A"}},{"$f":"IF(ISBLANK(D18),0,VLOOKUP(D18,LUTs!$A$6:$B$8,2))","v":{"$error":"#N/A"}},{"$f":"IF(ISBLANK(E18),0,VLOOKUP(E18,LUTs!$A$6:$B$8,2))","v":{"$error":"#N/A"}},{"$f":"IF(ISBLANK(F18),0,VLOOKUP(F18,LUTs!$A$6:$B$8,2))","v":{"$error":"#N/A"}},{"$f":"IF(ISBLANK(G18),0,VLOOKUP(G18,LUTs!$A$6:$B$8,2))","v":{"$error":"#N/A"}},{"$f":"IF(ISBLANK(H18),0,VLOOKUP(H18,LUTs!$A$6:$B$8,2))","v":{"$error":"#N/A"}},{"$f":"IF(ISBLANK(I18),0,VLOOKUP(I18,LUTs!$A$6:$B$8,2))","v":{"$error":"#N/A"}},{"$f":"IF(ISBLANK(J18),0,VLOOKUP(J18,LUTs!$A$6:$B$8,2))","v":{"$error":"#N/A"}},{"$f":"IF(ISBLANK(K18),0,VLOOKUP(K18,LUTs!$A$6:$B$8,2))","v":{"$error":"#N/A"}},{"$f":"IF(ISBLANK(L18),0,VLOOKUP(L18,LUTs!$A$6:$B$8,2))","v":{"$error":"#N/A"}},{"$f":"IF(ISBLANK(M18),0,VLOOKUP(M18,LUTs!$A$6:$B$8,2))","v":{"$error":"#N/A"}},{"$f":"IF(ISBLANK(N18),0,VLOOKUP(N18,LUTs!$A$6:$B$8,2))","v":{"$error":"#N/A"}},{"$f":"IF(ISBLANK(O18),0,VLOOKUP(O18,LUTs!$A$6:$B$8,2))","v":{"$error":"#N/A"}},{"$f":"IF(ISBLANK(P18),0,VLOOKUP(P18,LUTs!$A$6:$B$8,2))","v":{"$error":"#N/A"}},{"$f":"IF(ISBLANK(Q18),0,VLOOKUP(Q18,LUTs!$A$6:$B$8,2))","v":{"$error":"#N/A"}},{"$f":"IF(ISBLANK(R18),0,IF(ISERROR(VLOOKUP(R18,LUTs!$A$6:$B$8,2)),R18,VLOOKUP(R18,LUTs!$A$6:$B$8,2)))","v":""},{"$f":"IF(ISBLANK(S18),0,VLOOKUP(S18,LUTs!$A$6:$B$8,2))","v":{"$error":"#N/A"}},{"$f":"IF(ISBLANK(T18),0,IF(ISERROR(VLOOKUP(T18,LUTs!$A$6:$B$8,2)),T18,VLOOKUP(T18,LUTs!$A$6:$B$8,2)))","v":""},{"$f":"IF(ISBLANK(U18),0,VLOOKUP(U18,LUTs!$A$6:$B$8,2))","v":{"$error":"#N/A"}},{"$f":"IF(ISBLANK(V18),0,VLOOKUP(V18,LUTs!$A$6:$B$8,2))","v":{"$error":"#N/A"}},{"$f":"IF(ISBLANK(W18),0,VLOOKUP(W18,LUTs!$A$6:$B$8,2))","v":{"$error":"#N/A"}},{"$f":"IF(ISBLANK(X18),0,VLOOKUP(X18,LUTs!$A$6:$B$8,2))","v":{"$error":"#N/A"}}]
[{"$f":"IF(ISBLANK(Responses!A19), \"\", Responses!A19)","v":""},{"$f":"IF(ISBLANK(Responses!B19), \"\", Responses!B19)","v":""},{"$f":"IF(ISBLANK(Responses!U19), \"\", Responses!U19)","v":""},{"$f":"IF(ISBLANK(Responses!V19), \"\", Responses!V19)","v":""},{"$f":"IF(ISBLANK(Responses!W19), \"\", Responses!W19)","v":""},{"$f":"IF(ISBLANK(Responses!X19), \"\", Responses!X19)","v":""},{"$f":"IF(ISBLANK(Responses!Y19), \"\", Responses!Y19)","v":""},{"$f":"IF(ISBLANK(Responses!Z19), \"\", Responses!Z19)","v":""},{"$f":"IF(ISBLANK(Responses!AA19), \"\", Responses!AA19)","v":""},{"$f":"IF(ISBLANK(Responses!AB19), \"\", Responses!AB19)","v":""},{"$f":"IF(ISBLANK(Responses!AC19), \"\", Responses!AC19)","v":""},{"$f":"IF(ISBLANK(Responses!AD19), \"\", Responses!AD19)","v":""},{"$f":"IF(ISBLANK(Responses!AE19), \"\", Responses!AE19)","v":""},{"$f":"IF(ISBLANK(Responses!AF19), \"\", Responses!AF19)","v":""},{"$f":"IF(ISBLANK(Responses!AG19), \"\", Responses!AG19)","v":""},{"$f":"IF(ISBLANK(Responses!AH19), \"\", Responses!AH19)","v":""},{"$f":"IF(ISBLANK(Responses!AI19), \"\", Responses!AI19)","v":""},{"$f":"IF(ISBLANK(Responses!AJ19), \"\", Responses!AJ19)","v":""},{"$f":"IF(ISBLANK(Responses!AK19), \"\", Responses!AK19)","v":""},{"$f":"IF(ISBLANK(Responses!AL19), \"\", Responses!AL19)","v":""},{"$f":"IF(ISBLANK(Responses!AM19), \"\", Responses!AM19)","v":""},{"$f":"IF(ISBLANK(Responses!AN19), \"\", Responses!AN19)","v":""},{"$f":"IF(ISBLANK(Responses!AO19), \"\", Responses!AO19)","v":""},{"$f":"IF(ISBLANK(Responses!AP19), \"\", Responses!AP19)","v":""},{"$error":"#N/A"},{"$error":"#N/A"},{"$f":"IF(ISBLANK(C19),0,VLOOKUP(C19,LUTs!$A$6:$B$8,2))","v":{"$error":"#N/A"}},{"$f":"IF(ISBLANK(D19),0,VLOOKUP(D19,LUTs!$A$6:$B$8,2))","v":{"$error":"#N/A"}},{"$f":"IF(ISBLANK(E19),0,VLOOKUP(E19,LUTs!$A$6:$B$8,2))","v":{"$error":"#N/A"}},{"$f":"IF(ISBLANK(F19),0,VLOOKUP(F19,LUTs!$A$6:$B$8,2))","v":{"$error":"#N/A"}},{"$f":"IF(ISBLANK(G19),0,VLOOKUP(G19,LUTs!$A$6:$B$8,2))","v":{"$error":"#N/A"}},{"$f":"IF(ISBLANK(H19),0,VLOOKUP(H19,LUTs!$A$6:$B$8,2))","v":{"$error":"#N/A"}},{"$f":"IF(ISBLANK(I19),0,VLOOKUP(I19,LUTs!$A$6:$B$8,2))","v":{"$error":"#N/A"}},{"$f":"IF(ISBLANK(J19),0,VLOOKUP(J19,LUTs!$A$6:$B$8,2))","v":{"$error":"#N/A"}},{"$f":"IF(ISBLANK(K19),0,VLOOKUP(K19,LUTs!$A$6:$B$8,2))","v":{"$error":"#N/A"}},{"$f":"IF(ISBLANK(L19),0,VLOOKUP(L19,LUTs!$A$6:$B$8,2))","v":{"$error":"#N/A"}},{"$f":"IF(ISBLANK(M19),0,VLOOKUP(M19,LUTs!$A$6:$B$8,2))","v":{"$error":"#N/A"}},{"$f":"IF(ISBLANK(N19),0,VLOOKUP(N19,LUTs!$A$6:$B$8,2))","v":{"$error":"#N/A"}},{"$f":"IF(ISBLANK(O19),0,VLOOKUP(O19,LUTs!$A$6:$B$8,2))","v":{"$error":"#N/A"}},{"$f":"IF(ISBLANK(P19),0,VLOOKUP(P19,LUTs!$A$6:$B$8,2))","v":{"$error":"#N/A"}},{"$f":"IF(ISBLANK(Q19),0,VLOOKUP(Q19,LUTs!$A$6:$B$8,2))","v":{"$error":"#N/A"}},{"$f":"IF(ISBLANK(R19),0,IF(ISERROR(VLOOKUP(R19,LUTs!$A$6:$B$8,2)),R19,VLOOKUP(R19,LUTs!$A$6:$B$8,2)))","v":""},{"$f":"IF(ISBLANK(S19),0,VLOOKUP(S19,LUTs!$A$6:$B$8,2))","v":{"$error":"#N/A"}},{"$f":"IF(ISBLANK(T19),0,IF(ISERROR(VLOOKUP(T19,LUTs!$A$6:$B$8,2)),T19,VLOOKUP(T19,LUTs!$A$6:$B$8,2)))","v":""},{"$f":"IF(ISBLANK(U19),0,VLOOKUP(U19,LUTs!$A$6:$B$8,2))","v":{"$error":"#N/A"}},{"$f":"IF(ISBLANK(V19),0,VLOOKUP(V19,LUTs!$A$6:$B$8,2))","v":{"$error":"#N/A"}},{"$f":"IF(ISBLANK(W19),0,VLOOKUP(W19,LUTs!$A$6:$B$8,2))","v":{"$error":"#N/A"}},{"$f":"IF(ISBLANK(X19),0,VLOOKUP(X19,LUTs!$A$6:$B$8,2))","v":{"$error":"#N/A"}}]
[{"$f":"IF(ISBLANK(Responses!A20), \"\", Responses!A20)","v":""},{"$f":"IF(ISBLANK(Responses!B20), \"\", Responses!B20)","v":""},{"$f":"IF(ISBLANK(Responses!U20), \"\", Responses!U20)","v":""},{"$f":"IF(ISBLANK(Responses!V20), \"\", Responses!V20)","v":""},{"$f":"IF(ISBLANK(Responses!W20), \"\", Responses!W20)","v":""},{"$f":"IF(ISBLANK(Responses!X20), \"\", Responses!X20)","v":""},{"$f":"IF(ISBLANK(Responses!Y20), \"\", Responses!Y20)","v":""},{"$f":"IF(ISBLANK(Responses!Z20), \"\", Responses!Z20)","v":""},{"$f":"IF(ISBLANK(Responses!AA20), \"\", Responses!AA20)","v":""},{"$f":"IF(ISBLANK(Responses!AB20), \"\", Responses!AB20)","v":""},{"$f":"IF(ISBLANK(Responses!AC20), \"\", Responses!AC20)","v":""},{"$f":"IF(ISBLANK(Responses!AD20), \"\", Responses!AD20)","v":""},{"$f":"IF(ISBLANK(Responses!AE20), \"\", Responses!AE20)","v":""},{"$f":"IF(ISBLANK(Responses!AF20), \"\", Responses!AF20)","v":""},{"$f":"IF(ISBLANK(Responses!AG20), \"\", Responses!AG20)","v":""},{"$f":"IF(ISBLANK(Responses!AH20), \"\", Responses!AH20)","v":""},{"$f":"IF(ISBLANK(Responses!AI20), \"\", Responses!AI20)","v":""},{"$f":"IF(ISBLANK(Responses!AJ20), \"\", Responses!AJ20)","v":""},{"$f":"IF(ISBLANK(Responses!AK20), \"\", Responses!AK20)","v":""},{"$f":"IF(ISBLANK(Responses!AL20), \"\", Responses!AL20)","v":""},{"$f":"IF(ISBLANK(Responses!AM20), \"\", Responses!AM20)","v":""},{"$f":"IF(ISBLANK(Responses!AN20), \"\", Responses!AN20)","v":""},{"$f":"IF(ISBLANK(Responses!AO20), \"\", Responses!AO20)","v":""},{"$f":"IF(ISBLANK(Responses!AP20), \"\", Responses!AP20)","v":""},{"$error":"#N/A"},{"$error":"#N/A"},{"$f":"IF(ISBLANK(C20),0,VLOOKUP(C20,LUTs!$A$6:$B$8,2))","v":{"$error":"#N/A"}},{"$f":"IF(ISBLANK(D20),0,VLOOKUP(D20,LUTs!$A$6:$B$8,2))","v":{"$error":"#N/A"}},{"$f":"IF(ISBLANK(E20),0,VLOOKUP(E20,LUTs!$A$6:$B$8,2))","v":{"$error":"#N/A"}},{"$f":"IF(ISBLANK(F20),0,VLOOKUP(F20,LUTs!$A$6:$B$8,2))","v":{"$error":"#N/A"}},{"$f":"IF(ISBLANK(G20),0,VLOOKUP(G20,LUTs!$A$6:$B$8,2))","v":{"$error":"#N/A"}},{"$f":"IF(ISBLANK(H20),0,VLOOKUP(H20,LUTs!$A$6:$B$8,2))","v":{"$error":"#N/A"}},{"$f":"IF(ISBLANK(I20),0,VLOOKUP(I20,LUTs!$A$6:$B$8,2))","v":{"$error":"#N/A"}},{"$f":"IF(ISBLANK(J20),0,VLOOKUP(J20,LUTs!$A$6:$B$8,2))","v":{"$error":"#N/A"}},{"$f":"IF(ISBLANK(K20),0,VLOOKUP(K20,LUTs!$A$6:$B$8,2))","v":{"$error":"#N/A"}},{"$f":"IF(ISBLANK(L20),0,VLOOKUP(L20,LUTs!$A$6:$B$8,2))","v":{"$error":"#N/A"}},{"$f":"IF(ISBLANK(M20),0,VLOOKUP(M20,LUTs!$A$6:$B$8,2))","v":{"$error":"#N/A"}},{"$f":"IF(ISBLANK(N20),0,VLOOKUP(N20,LUTs!$A$6:$B$8,2))","v":{"$error":"#N/A"}},{"$f":"IF(ISBLANK(O20),0,VLOOKUP(O20,LUTs!$A$6:$B$8,2))","v":{"$error":"#N/A"}},{"$f":"IF(ISBLANK(P20),0,VLOOKUP(P20,LUTs!$A$6:$B$8,2))","v":{"$error":"#N/A"}},{"$f":"IF(ISBLANK(Q20),0,VLOOKUP(Q20,LUTs!$A$6:$B$8,2))","v":{"$error":"#N/A"}},{"$f":"IF(ISBLANK(R20),0,IF(ISERROR(VLOOKUP(R20,LUTs!$A$6:$B$8,2)),R20,VLOOKUP(R20,LUTs!$A$6:$B$8,2)))","v":""},{"$f":"IF(ISBLANK(S20),0,VLOOKUP(S20,LUTs!$A$6:$B$8,2))","v":{"$error":"#N/A"}},{"$f":"IF(ISBLANK(T20),0,IF(ISERROR(VLOOKUP(T20,LUTs!$A$6:$B$8,2)),T20,VLOOKUP(T20,LUTs!$A$6:$B$8,2)))","v":""},{"$f":"IF(ISBLANK(U20),0,VLOOKUP(U20,LUTs!$A$6:$B$8,2))","v":{"$error":"#N/A"}},{"$f":"IF(ISBLANK(V20),0,VLOOKUP(V20,LUTs!$A$6:$B$8,2))","v":{"$error":"#N/A"}},{"$f":"IF(ISBLANK(W20),0,VLOOKUP(W20,LUTs!$A$6:$B$8,2))","v":{"$error":"#N/A"}},{"$f":"IF(ISBLANK(X20),0,VLOOKUP(X20,LUTs!$A$6:$B$8,2))","v":{"$error":"#N/A"}}]
[{"$f":"IF(ISBLANK(Responses!A21), \"\", Responses!A21)","v":""},{"$f":"IF(ISBLANK(Responses!B21), \"\", Responses!B21)","v":""},{"$f":"IF(ISBLANK(Responses!U21), \"\", Responses!U21)","v":""},{"$f":"IF(ISBLANK(Responses!V21), \"\", Responses!V21)","v":""},{"$f":"IF(ISBLANK(Responses!W21), \"\", Responses!W21)","v":""},{"$f":"IF(ISBLANK(Responses!X21), \"\", Responses!X21)","v":""},{"$f":"IF(ISBLANK(Responses!Y21), \"\", Responses!Y21)","v":""},{"$f":"IF(ISBLANK(Responses!Z21), \"\", Responses!Z21)","v":""},{"$f":"IF(ISBLANK(Responses!AA21), \"\", Responses!AA21)","v":""},{"$f":"IF(ISBLANK(Responses!AB21), \"\", Responses!AB21)","v":""},{"$f":"IF(ISBLANK(Responses!AC21), \"\", Responses!AC21)","v":""},{"$f":"IF(ISBLANK(Responses!AD21), \"\", Responses!AD21)","v":""},{"$f":"IF(ISBLANK(Responses!AE21), \"\", Responses!AE21)","v":""},{"$f":"IF(ISBLANK(Responses!AF21), \"\", Responses!AF21)","v":""},{"$f":"IF(ISBLANK(Responses!AG21), \"\", Responses!AG21)","v":""},{"$f":"IF(ISBLANK(Responses!AH21), \"\", Responses!AH21)","v":""},{"$f":"IF(ISBLANK(Responses!AI21), \"\", Responses!AI21)","v":""},{"$f":"IF(ISBLANK(Responses!AJ21), \"\", Responses!AJ21)","v":""},{"$f":"IF(ISBLANK(Responses!AK21), \"\", Responses!AK21)","v":""},{"$f":"IF(ISBLANK(Responses!AL21), \"\", Responses!AL21)","v":""},{"$f":"IF(ISBLANK(Responses!AM21), \"\", Responses!AM21)","v":""},{"$f":"IF(ISBLANK(Responses!AN21), \"\", Responses!AN21)","v":""},{"$f":"IF(ISBLANK(Responses!AO21), \"\", Responses!AO21)","v":""},{"$f":"IF(ISBLANK(Responses!AP21), \"\", Responses!AP21)","v":""},{"$error":"#N/A"},{"$error":"#N/A"},{"$f":"IF(ISBLANK(C21),0,VLOOKUP(C21,LUTs!$A$6:$B$8,2))","v":{"$error":"#N/A"}},{"$f":"IF(ISBLANK(D21),0,VLOOKUP(D21,LUTs!$A$6:$B$8,2))","v":{"$error":"#N/A"}},{"$f":"IF(ISBLANK(E21),0,VLOOKUP(E21,LUTs!$A$6:$B$8,2))","v":{"$error":"#N/A"}},{"$f":"IF(ISBLANK(F21),0,VLOOKUP(F21,LUTs!$A$6:$B$8,2))","v":{"$error":"#N/A"}},{"$f":"IF(ISBLANK(G21),0,VLOOKUP(G21,LUTs!$A$6:$B$8,2))","v":{"$error":"#N/A"}},{"$f":"IF(ISBLANK(H21),0,VLOOKUP(H21,LUTs!$A$6:$B$8,2))","v":{"$error":"#N/A"}},{"$f":"IF(ISBLANK(I21),0,VLOOKUP(I21,LUTs!$A$6:$B$8,2))","v":{"$error":"#N/A"}},{"$f":"IF(ISBLANK(J21),0,VLOOKUP(J21,LUTs!$A$6:$B$8,2))","v":{"$error":"#N/A"}},{"$f":"IF(ISBLANK(K21),0,VLOOKUP(K21,LUTs!$A$6:$B$8,2))","v":{"$error":"#N/A"}},{"$f":"IF(ISBLANK(L21),0,VLOOKUP(L21,LUTs!$A$6:$B$8,2))","v":{"$error":"#N/A"}},{"$f":"IF(ISBLANK(M21),0,VLOOKUP(M21,LUTs!$A$6:$B$8,2))","v":{"$error":"#N/A"}},{"$f":"IF(ISBLANK(N21),0,VLOOKUP(N21,LUTs!$A$6:$B$8,2))","v":{"$error":"#N/A"}},{"$f":"IF(ISBLANK(O21),0,VLOOKUP(O21,LUTs!$A$6:$B$8,2))","v":{"$error":"#N/A"}},{"$f":"IF(ISBLANK(P21),0,VLOOKUP(P21,LUTs!$A$6:$B$8,2))","v":{"$error":"#N/A"}},{"$f":"IF(ISBLANK(Q21),0,VLOOKUP(Q21,LUTs!$A$6:$B$8,2))","v":{"$error":"#N/A"}},{"$f":"IF(ISBLANK(R21),0,IF(ISERROR(VLOOKUP(R21,LUTs!$A$6:$B$8,2)),R21,VLOOKUP(R21,LUTs!$A$6:$B$8,2)))","v":""},{"$f":"IF(ISBLANK(S21),0,VLOOKUP(S21,LUTs!$A$6:$B$8,2))","v":{"$error":"#N/A"}},{"$f":"IF(ISBLANK(T21),0,IF(ISERROR(VLOOKUP(T21,LUTs!$A$6:$B$8,2)),T21,VLOOKUP(T21,LUTs!$A$6:$B$8,2)))","v":""},{"$f":"IF(ISBLANK(U21),0,VLOOKUP(U21,LUTs!$A$6:$B$8,2))","v":{"$error":"#N/A"}},{"$f":"IF(ISBLANK(V21),0,VLOOKUP(V21,LUTs!$A$6:$B$8,2))","v":{"$error":"#N/A"}},{"$f":"IF(ISBLANK(W21),0,VLOOKUP(W21,LUTs!$A$6:$B$8,2))","v":{"$error":"#N/A"}},{"$f":"IF(ISBLANK(X21),0,VLOOKUP(X21,LUTs!$A$6:$B$8,2))","v":{"$error":"#N/A"}}]
[{"$f":"IF(ISBLANK(Responses!A22), \"\", Responses!A22)","v":""},{"$f":"IF(ISBLANK(Responses!B22), \"\", Responses!B22)","v":""},{"$f":"IF(ISBLANK(Responses!U22), \"\", Responses!U22)","v":""},{"$f":"IF(ISBLANK(Responses!V22), \"\", Responses!V22)","v":""},{"$f":"IF(ISBLANK(Responses!W22), \"\", Responses!W22)","v":""},{"$f":"IF(ISBLANK(Responses!X22), \"\", Responses!X22)","v":""},{"$f":"IF(ISBLANK(Responses!Y22), \"\", Responses!Y22)","v":""},{"$f":"IF(ISBLANK(Responses!Z22), \"\", Responses!Z22)","v":""},{"$f":"IF(ISBLANK(Responses!AA22), \"\", Responses!AA22)","v":""},{"$f":"IF(ISBLANK(Responses!AB22), \"\", Responses!AB22)","v":""},{"$f":"IF(ISBLANK(Responses!AC22), \"\", Responses!AC22)","v":""},{"$f":"IF(ISBLANK(Responses!AD22), \"\", Responses!AD22)","v":""},{"$f":"IF(ISBLANK(Responses!AE22), \"\", Responses!AE22)","v":""},{"$f":"IF(ISBLANK(Responses!AF22), \"\", Responses!AF22)","v":""},{"$f":"IF(ISBLANK(Responses!AG22), \"\", Responses!AG22)","v":""},{"$f":"IF(ISBLANK(Responses!AH22), \"\", Responses!AH22)","v":""},{"$f":"IF(ISBLANK(Responses!AI22), \"\", Responses!AI22)","v":""},{"$f":"IF(ISBLANK(Responses!AJ22), \"\", Responses!AJ22)","v":""},{"$f":"IF(ISBLANK(Responses!AK22), \"\", Responses!AK22)","v":""},{"$f":"IF(ISBLANK(Responses!AL22), \"\", Responses!AL22)","v":""},{"$f":"IF(ISBLANK(Responses!AM22), \"\", Responses!AM22)","v":""},{"$f":"IF(ISBLANK(Responses!AN22), \"\", Responses!AN22)","v":""},{"$f":"IF(ISBLANK(Responses!AO22), \"\", Responses!AO22)","v":""},{"$f":"IF(ISBLANK(Responses!AP22), \"\", Responses!AP22)","v":""},{"$error":"#N/A"},{"$error":"#N/A"},{"$f":"IF(ISBLANK(C22),0,VLOOKUP(C22,LUTs!$A$6:$B$8,2))","v":{"$error":"#N/A"}},{"$f":"IF(ISBLANK(D22),0,VLOOKUP(D22,LUTs!$A$6:$B$8,2))","v":{"$error":"#N/A"}},{"$f":"IF(ISBLANK(E22),0,VLOOKUP(E22,LUTs!$A$6:$B$8,2))","v":{"$error":"#N/A"}},{"$f":"IF(ISBLANK(F22),0,VLOOKUP(F22,LUTs!$A$6:$B$8,2))","v":{"$error":"#N/A"}},{"$f":"IF(ISBLANK(G22),0,VLOOKUP(G22,LUTs!$A$6:$B$8,2))","v":{"$error":"#N/A"}},{"$f":"IF(ISBLANK(H22),0,VLOOKUP(H22,LUTs!$A$6:$B$8,2))","v":{"$error":"#N/A"}},{"$f":"IF(ISBLANK(I22),0,VLOOKUP(I22,LUTs!$A$6:$B$8,2))","v":{"$error":"#N/A"}},{"$f":"IF(ISBLANK(J22),0,VLOOKUP(J22,LUTs!$A$6:$B$8,2))","v":{"$error":"#N/A"}},{"$f":"IF(ISBLANK(K22),0,VLOOKUP(K22,LUTs!$A$6:$B$8,2))","v":{"$error":"#N/A"}},{"$f":"IF(ISBLANK(L22),0,VLOOKUP(L22,LUTs!$A$6:$B$8,2))","v":{"$error":"#N/A"}},{"$f":"IF(ISBLANK(M22),0,VLOOKUP(M22,LUTs!$A$6:$B$8,2))","v":{"$error":"#N/A"}},{"$f":"IF(ISBLANK(N22),0,VLOOKUP(N22,LUTs!$A$6:$B$8,2))","v":{"$error":"#N/A"}},{"$f":"IF(ISBLANK(O22),0,VLOOKUP(O22,LUTs!$A$6:$B$8,2))","v":{"$error":"#N/A"}},{"$f":"IF(ISBLANK(P22),0,VLOOKUP(P22,LUTs!$A$6:$B$8,2))","v":{"$error":"#N/A"}},{"$f":"IF(ISBLANK(Q22),0,VLOOKUP(Q22,LUTs!$A$6:$B$8,2))","v":{"$error":"#N/A"}},{"$f":"IF(ISBLANK(R22),0,IF(ISERROR(VLOOKUP(R22,LUTs!$A$6:$B$8,2)),R22,VLOOKUP(R22,LUTs!$A$6:$B$8,2)))","v":""},{"$f":"IF(ISBLANK(S22),0,VLOOKUP(S22,LUTs!$A$6:$B$8,2))","v":{"$error":"#N/A"}},{"$f":"IF(ISBLANK(T22),0,IF(ISERROR(VLOOKUP(T22,LUTs!$A$6:$B$8,2)),T22,VLOOKUP(T22,LUTs!$A$6:$B$8,2)))","v":""},{"$f":"IF(ISBLANK(U22),0,VLOOKUP(U22,LUTs!$A$6:$B$8,2))","v":{"$error":"#N/A"}},{"$f":"IF(ISBLANK(V22),0,VLOOKUP(V22,LUTs!$A$6:$B$8,2))","v":{"$error":"#N/A"}},{"$f":"IF(ISBLANK(W22),0,VLOOKUP(W22,LUTs!$A$6:$B$8,2))","v":{"$error":"#N/A"}},{"$f":"IF(ISBLANK(X22),0,VLOOKUP(X22,LUTs!$A$6:$B$8,2))","v":{"$error":"#N/A"}}]
[{"$f":"IF(ISBLANK(Responses!A23), \"\", Responses!A23)","v":""},{"$f":"IF(ISBLANK(Responses!B23), \"\", Responses!B23)","v":""},{"$f":"IF(ISBLANK(Responses!U23), \"\", Responses!U23)","v":""},{"$f":"IF(ISBLANK(Responses!V23), \"\", Responses!V23)","v":""},{"$f":"IF(ISBLANK(Responses!W23), \"\", Responses!W23)","v":""},{"$f":"IF(ISBLANK(Responses!X23), \"\", Responses!X23)","v":""},{"$f":"IF(ISBLANK(Responses!Y23), \"\", Responses!Y23)","v":""},{"$f":"IF(ISBLANK(Responses!Z23), \"\", Responses!Z23)","v":""},{"$f":"IF(ISBLANK(Responses!AA23), \"\", Responses!AA23)","v":""},{"$f":"IF(ISBLANK(Responses!AB23), \"\", Responses!AB23)","v":""},{"$f":"IF(ISBLANK(Responses!AC23), \"\", Responses!AC23)","v":""},{"$f":"IF(ISBLANK(Responses!AD23), \"\", Responses!AD23)","v":""},{"$f":"IF(ISBLANK(Responses!AE23), \"\", Responses!AE23)","v":""},{"$f":"IF(ISBLANK(Responses!AF23), \"\", Responses!AF23)","v":""},{"$f":"IF(ISBLANK(Responses!AG23), \"\", Responses!AG23)","v":""},{"$f":"IF(ISBLANK(Responses!AH23), \"\", Responses!AH23)","v":""},{"$f":"IF(ISBLANK(Responses!AI23), \"\", Responses!AI23)","v":""},{"$f":"IF(ISBLANK(Responses!AJ23), \"\", Responses!AJ23)","v":""},{"$f":"IF(ISBLANK(Responses!AK23), \"\", Responses!AK23)","v":""},{"$f":"IF(ISBLANK(Responses!AL23), \"\", Responses!AL23)","v":""},{"$f":"IF(ISBLANK(Responses!AM23), \"\", Responses!AM23)","v":""},{"$f":"IF(ISBLANK(Responses!AN23), \"\", Responses!AN23)","v":""},{"$f":"IF(ISBLANK(Responses!AO23), \"\", Responses!AO23)","v":""},{"$f":"IF(ISBLANK(Responses!AP23), \"\", Responses!AP23)","v":""},{"$error":"#N/A"},{"$error":"#N/A"},{"$f":"IF(ISBLANK(C23),0,VLOOKUP(C23,LUTs!$A$6:$B$8,2))","v":{"$error":"#N/A"}},{"$f":"IF(ISBLANK(D23),0,VLOOKUP(D23,LUTs!$A$6:$B$8,2))","v":{"$error":"#N/A"}},{"$f":"IF(ISBLANK(E23),0,VLOOKUP(E23,LUTs!$A$6:$B$8,2))","v":{"$error":"#N/A"}},{"$f":"IF(ISBLANK(F23),0,VLOOKUP(F23,LUTs!$A$6:$B$8,2))","v":{"$error":"#N/A"}},{"$f":"IF(ISBLANK(G23),0,VLOOKUP(G23,LUTs!$A$6:$B$8,2))","v":{"$error":"#N/A"}},{"$f":"IF(ISBLANK(H23),0,VLOOKUP(H23,LUTs!$A$6:$B$8,2))","v":{"$error":"#N/A"}},{"$f":"IF(ISBLANK(I23),0,VLOOKUP(I23,LUTs!$A$6:$B$8,2))","v":{"$error":"#N/A"}},{"$f":"IF(ISBLANK(J23),0,VLOOKUP(J23,LUTs!$A$6:$B$8,2))","v":{"$error":"#N/A"}},{"$f":"IF(ISBLANK(K23),0,VLOOKUP(K23,LUTs!$A$6:$B$8,2))","v":{"$error":"#N/A"}},{"$f":"IF(ISBLANK(L23),0,VLOOKUP(L23,LUTs!$A$6:$B$8,2))","v":{"$error":"#N/A"}},{"$f":"IF(ISBLANK(M23),0,VLOOKUP(M23,LUTs!$A$6:$B$8,2))","v":{"$error":"#N/A"}},{"$f":"IF(ISBLANK(N23),0,VLOOKUP(N23,LUTs!$A$6:$B$8,2))","v":{"$error":"#N/A"}},{"$f":"IF(ISBLANK(O23),0,VLOOKUP(O23,LUTs!$A$6:$B$8,2))","v":{"$error":"#N/A"}},{"$f":"IF(ISBLANK(P23),0,VLOOKUP(P23,LUTs!$A$6:$B$8,2))","v":{"$error":"#N/A"}},{"$f":"IF(ISBLANK(Q23),0,VLOOKUP(Q23,LUTs!$A$6:$B$8,2))","v":{"$error":"#N/A"}},{"$f":"IF(ISBLANK(R23),0,IF(ISERROR(VLOOKUP(R23,LUTs!$A$6:$B$8,2)),R23,VLOOKUP(R23,LUTs!$A$6:$B$8,2)))","v":""},{"$f":"IF(ISBLANK(S23),0,VLOOKUP(S23,LUTs!$A$6:$B$8,2))","v":{"$error":"#N/A"}},{"$f":"IF(ISBLANK(T23),0,IF(ISERROR(VLOOKUP(T23,LUTs!$A$6:$B$8,2)),T23,VLOOKUP(T23,LUTs!$A$6:$B$8,2)))","v":""},{"$f":"IF(ISBLANK(U23),0,VLOOKUP(U23,LUTs!$A$6:$B$8,2))","v":{"$error":"#N/A"}},{"$f":"IF(ISBLANK(V23),0,VLOOKUP(V23,LUTs!$A$6:$B$8,2))","v":{"$error":"#N/A"}},{"$f":"IF(ISBLANK(W23),0,VLOOKUP(W23,LUTs!$A$6:$B$8,2))","v":{"$error":"#N/A"}},{"$f":"IF(ISBLANK(X23),0,VLOOKUP(X23,LUTs!$A$6:$B$8,2))","v":{"$error":"#N/A"}}]
[{"$f":"IF(ISBLANK(Responses!A24), \"\", Responses!A24)","v":""},{"$f":"IF(ISBLANK(Responses!B24), \"\", Responses!B24)","v":""},{"$f":"IF(ISBLANK(Responses!U24), \"\", Responses!U24)","v":""},{"$f":"IF(ISBLANK(Responses!V24), \"\", Responses!V24)","v":""},{"$f":"IF(ISBLANK(Responses!W24), \"\", Responses!W24)","v":""},{"$f":"IF(ISBLANK(Responses!X24), \"\", Responses!X24)","v":""},{"$f":"IF(ISBLANK(Responses!Y24), \"\", Responses!Y24)","v":""},{"$f":"IF(ISBLANK(Responses!Z24), \"\", Responses!Z24)","v":""},{"$f":"IF(ISBLANK(Responses!AA24), \"\", Responses!AA24)","v":""},{"$f":"IF(ISBLANK(Responses!AB24), \"\", Responses!AB24)","v":""},{"$f":"IF(ISBLANK(Responses!AC24), \"\", Responses!AC24)","v":""},{"$f":"IF(ISBLANK(Responses!AD24), \"\", Responses!AD24)","v":""},{"$f":"IF(ISBLANK(Responses!AE24), \"\", Responses!AE24)","v":""},{"$f":"IF(ISBLANK(Responses!AF24), \"\", Responses!AF24)","v":""},{"$f":"IF(ISBLANK(Responses!AG24), \"\", Responses!AG24)","v":""},{"$f":"IF(ISBLANK(Responses!AH24), \"\", Responses!AH24)","v":""},{"$f":"IF(ISBLANK(Responses!AI24), \"\", Responses!AI24)","v":""},{"$f":"IF(ISBLANK(Responses!AJ24), \"\", Responses!AJ24)","v":""},{"$f":"IF(ISBLANK(Responses!AK24), \"\", Responses!AK24)","v":""},{"$f":"IF(ISBLANK(Responses!AL24), \"\", Responses!AL24)","v":""},{"$f":"IF(ISBLANK(Responses!AM24), \"\", Responses!AM24)","v":""},{"$f":"IF(ISBLANK(Responses!AN24), \"\", Responses!AN24)","v":""},{"$f":"IF(ISBLANK(Responses!AO24), \"\", Responses!AO24)","v":""},{"$f":"IF(ISBLANK(Responses!AP24), \"\", Responses!AP24)","v":""},{"$error":"#N/A"},{"$error":"#N/A"},{"$f":"IF(ISBLANK(C24),0,VLOOKUP(C24,LUTs!$A$6:$B$8,2))","v":{"$error":"#N/A"}},{"$f":"IF(ISBLANK(D24),0,VLOOKUP(D24,LUTs!$A$6:$B$8,2))","v":{"$error":"#N/A"}},{"$f":"IF(ISBLANK(E24),0,VLOOKUP(E24,LUTs!$A$6:$B$8,2))","v":{"$error":"#N/A"}},{"$f":"IF(ISBLANK(F24),0,VLOOKUP(F24,LUTs!$A$6:$B$8,2))","v":{"$error":"#N/A"}},{"$f":"IF(ISBLANK(G24),0,VLOOKUP(G24,LUTs!$A$6:$B$8,2))","v":{"$error":"#N/A"}},{"$f":"IF(ISBLANK(H24),0,VLOOKUP(H24,LUTs!$A$6:$B$8,2))","v":{"$error":"#N/A"}},{"$f":"IF(ISBLANK(I24),0,VLOOKUP(I24,LUTs!$A$6:$B$8,2))","v":{"$error":"#N/A"}},{"$f":"IF(ISBLANK(J24),0,VLOOKUP(J24,LUTs!$A$6:$B$8,2))","v":{"$error":"#N/A"}},{"$f":"IF(ISBLANK(K24),0,VLOOKUP(K24,LUTs!$A$6:$B$8,2))","v":{"$error":"#N/A"}},{"$f":"IF(ISBLANK(L24),0,VLOOKUP(L24,LUTs!$A$6:$B$8,2))","v":{"$error":"#N/A"}},{"$f":"IF(ISBLANK(M24),0,VLOOKUP(M24,LUTs!$A$6:$B$8,2))","v":{"$error":"#N/A"}},{"$f":"IF(ISBLANK(N24),0,VLOOKUP(N24,LUTs!$A$6:$B$8,2))","v":{"$error":"#N/A"}},{"$f":"IF(ISBLANK(O24),0,VLOOKUP(O24,LUTs!$A$6:$B$8,2))","v":{"$error":"#N/A"}},{"$f":"IF(ISBLANK(P24),0,VLOOKUP(P24,LUTs!$A$6:$B$8,2))","v":{"$error":"#N/A"}},{"$f":"IF(ISBLANK(Q24),0,VLOOKUP(Q24,LUTs!$A$6:$B$8,2))","v":{"$error":"#N/A"}},{"$f":"IF(ISBLANK(R24),0,IF(ISERROR(VLOOKUP(R24,LUTs!$A$6:$B$8,2)),R24,VLOOKUP(R24,LUTs!$A$6:$B$8,2)))","v":""},{"$f":"IF(ISBLANK(S24),0,VLOOKUP(S24,LUTs!$A$6:$B$8,2))","v":{"$error":"#N/A"}},{"$f":"IF(ISBLANK(T24),0,IF(ISERROR(VLOOKUP(T24,LUTs!$A$6:$B$8,2)),T24,VLOOKUP(T24,LUTs!$A$6:$B$8,2)))","v":""},{"$f":"IF(ISBLANK(U24),0,VLOOKUP(U24,LUTs!$A$6:$B$8,2))","v":{"$error":"#N/A"}},{"$f":"IF(ISBLANK(V24),0,VLOOKUP(V24,LUTs!$A$6:$B$8,2))","v":{"$error":"#N/A"}},{"$f":"IF(ISBLANK(W24),0,VLOOKUP(W24,LUTs!$A$6:$B$8,2))","v":{"$error":"#N/A"}},{"$f":"IF(ISBLANK(X24),0,VLOOKUP(X24,LUTs!$A$6:$B$8,2))","v":{"$error":"#N/A"}}]
[{"$f":"IF(ISBLANK(Responses!A25), \"\", Responses!A25)","v":""},{"$f":"IF(ISBLANK(Responses!B25), \"\", Responses!B25)","v":""},{"$f":"IF(ISBLANK(Responses!U25), \"\", Responses!U25)","v":""},{"$f":"IF(ISBLANK(Responses!V25), \"\", Responses!V25)","v":""},{"$f":"IF(ISBLANK(Responses!W25), \"\", Responses!W25)","v":""},{"$f":"IF(ISBLANK(Responses!X25), \"\", Responses!X25)","v":""},{"$f":"IF(ISBLANK(Responses!Y25), \"\", Responses!Y25)","v":""},{"$f":"IF(ISBLANK(Responses!Z25), \"\", Responses!Z25)","v":""},{"$f":"IF(ISBLANK(Responses!AA25), \"\", Responses!AA25)","v":""},{"$f":"IF(ISBLANK(Responses!AB25), \"\", Responses!AB25)","v":""},{"$f":"IF(ISBLANK(Responses!AC25), \"\", Responses!AC25)","v":""},{"$f":"IF(ISBLANK(Responses!AD25), \"\", Responses!AD25)","v":""},{"$f":"IF(ISBLANK(Responses!AE25), \"\", Responses!AE25)","v":""},{"$f":"IF(ISBLANK(Responses!AF25), \"\", Responses!AF25)","v":""},{"$f":"IF(ISBLANK(Responses!AG25), \"\", Responses!AG25)","v":""},{"$f":"IF(ISBLANK(Responses!AH25), \"\", Responses!AH25)","v":""},{"$f":"IF(ISBLANK(Responses!AI25), \"\", Responses!AI25)","v":""},{"$f":"IF(ISBLANK(Responses!AJ25), \"\", Responses!AJ25)","v":""},{"$f":"IF(ISBLANK(Responses!AK25), \"\", Responses!AK25)","v":""},{"$f":"IF(ISBLANK(Responses!AL25), \"\", Responses!AL25)","v":""},{"$f":"IF(ISBLANK(Responses!AM25), \"\", Responses!AM25)","v":""},{"$f":"IF(ISBLANK(Responses!AN25), \"\", Responses!AN25)","v":""},{"$f":"IF(ISBLANK(Responses!AO25), \"\", Responses!AO25)","v":""},{"$f":"IF(ISBLANK(Responses!AP25), \"\", Responses!AP25)","v":""},{"$error":"#N/A"},{"$error":"#N/A"},{"$f":"IF(ISBLANK(C25),0,VLOOKUP(C25,LUTs!$A$6:$B$8,2))","v":{"$error":"#N/A"}},{"$f":"IF(ISBLANK(D25),0,VLOOKUP(D25,LUTs!$A$6:$B$8,2))","v":{"$error":"#N/A"}},{"$f":"IF(ISBLANK(E25),0,VLOOKUP(E25,LUTs!$A$6:$B$8,2))","v":{"$error":"#N/A"}},{"$f":"IF(ISBLANK(F25),0,VLOOKUP(F25,LUTs!$A$6:$B$8,2))","v":{"$error":"#N/A"}},{"$f":"IF(ISBLANK(G25),0,VLOOKUP(G25,LUTs!$A$6:$B$8,2))","v":{"$error":"#N/A"}},{"$f":"IF(ISBLANK(H25),0,VLOOKUP(H25,LUTs!$A$6:$B$8,2))","v":{"$error":"#N/A"}},{"$f":"IF(ISBLANK(I25),0,VLOOKUP(I25,LUTs!$A$6:$B$8,2))","v":{"$error":"#N/A"}},{"$f":"IF(ISBLANK(J25),0,VLOOKUP(J25,LUTs!$A$6:$B$8,2))","v":{"$error":"#N/A"}},{"$f":"IF(ISBLANK(K25),0,VLOOKUP(K25,LUTs!$A$6:$B$8,2))","v":{"$error":"#N/A"}},{"$f":"IF(ISBLANK(L25),0,VLOOKUP(L25,LUTs!$A$6:$B$8,2))","v":{"$error":"#N/A"}},{"$f":"IF(ISBLANK(M25),0,VLOOKUP(M25,LUTs!$A$6:$B$8,2))","v":{"$error":"#N/A"}},{"$f":"IF(ISBLANK(N25),0,VLOOKUP(N25,LUTs!$A$6:$B$8,2))","v":{"$error":"#N/A"}},{"$f":"IF(ISBLANK(O25),0,VLOOKUP(O25,LUTs!$A$6:$B$8,2))","v":{"$error":"#N/A"}},{"$f":"IF(ISBLANK(P25),0,VLOOKUP(P25,LUTs!$A$6:$B$8,2))","v":{"$error":"#N/A"}},{"$f":"IF(ISBLANK(Q25),0,VLOOKUP(Q25,LUTs!$A$6:$B$8,2))","v":{"$error":"#N/A"}},{"$f":"IF(ISBLANK(R25),0,IF(ISERROR(VLOOKUP(R25,LUTs!$A$6:$B$8,2)),R25,VLOOKUP(R25,LUTs!$A$6:$B$8,2)))","v":""},{"$f":"IF(ISBLANK(S25),0,VLOOKUP(S25,LUTs!$A$6:$B$8,2))","v":{"$error":"#N/A"}},{"$f":"IF(ISBLANK(T25),0,IF(ISERROR(VLOOKUP(T25,LUTs!$A$6:$B$8,2)),T25,VLOOKUP(T25,LUTs!$A$6:$B$8,2)))","v":""},{"$f":"IF(ISBLANK(U25),0,VLOOKUP(U25,LUTs!$A$6:$B$8,2))","v":{"$error":"#N/A"}},{"$f":"IF(ISBLANK(V25),0,VLOOKUP(V25,LUTs!$A$6:$B$8,2))","v":{"$error":"#N/A"}},{"$f":"IF(ISBLANK(W25),0,VLOOKUP(W25,LUTs!$A$6:$B$8,2))","v":{"$error":"#N/A"}},{"$f":"IF(ISBLANK(X25),0,VLOOKUP(X25,LUTs!$A$6:$B$8,2))","v":{"$error":"#N/A"}}]
[{"$f":"IF(ISBLANK(Responses!A26), \"\", Responses!A26)","v":""},{"$f":"IF(ISBLANK(Responses!B26), \"\", Responses!B26)","v":""},{"$f":"IF(ISBLANK(Responses!U26), \"\", Responses!U26)","v":""},{"$f":"IF(ISBLANK(Responses!V26), \"\", Responses!V26)","v":""},{"$f":"IF(ISBLANK(Responses!W26), \"\", Responses!W26)","v":""},{"$f":"IF(ISBLANK(Responses!X26), \"\", Responses!X26)","v":""},{"$f":"IF(ISBLANK(Responses!Y26), \"\", Responses!Y26)","v":""},{"$f":"IF(ISBLANK(Responses!Z26), \"\", Responses!Z26)","v":""},{"$f":"IF(ISBLANK(Responses!AA26), \"\", Responses!AA26)","v":""},{"$f":"IF(ISBLANK(Responses!AB26), \"\", Responses!AB26)","v":""},{"$f":"IF(ISBLANK(Responses!AC26), \"\", Responses!AC26)","v":""},{"$f":"IF(ISBLANK(Responses!AD26), \"\", Responses!AD26)","v":""},{"$f":"IF(ISBLANK(Responses!AE26), \"\", Responses!AE26)","v":""},{"$f":"IF(ISBLANK(Responses!AF26), \"\", Responses!AF26)","v":""},{"$f":"IF(ISBLANK(Responses!AG26), \"\", Responses!AG26)","v":""},{"$f":"IF(ISBLANK(Responses!AH26), \"\", Responses!AH26)","v":""},{"$f":"IF(ISBLANK(Responses!AI26), \"\", Responses!AI26)","v":""},{"$f":"IF(ISBLANK(Responses!AJ26), \"\", Responses!AJ26)","v":""},{"$f":"IF(ISBLANK(Responses!AK26), \"\", Responses!AK26)","v":""},{"$f":"IF(ISBLANK(Responses!AL26), \"\", Responses!AL26)","v":""},{"$f":"IF(ISBLANK(Responses!AM26), \"\", Responses!AM26)","v":""},{"$f":"IF(ISBLANK(Responses!AN26), \"\", Responses!AN26)","v":""},{"$f":"IF(ISBLANK(Responses!AO26), \"\", Responses!AO26)","v":""},{"$f":"IF(ISBLANK(Responses!AP26), \"\", Responses!AP26)","v":""},{"$error":"#N/A"},{"$error":"#N/A"},{"$f":"IF(ISBLANK(C26),0,VLOOKUP(C26,LUTs!$A$6:$B$8,2))","v":{"$error":"#N/A"}},{"$f":"IF(ISBLANK(D26),0,VLOOKUP(D26,LUTs!$A$6:$B$8,2))","v":{"$error":"#N/A"}},{"$f":"IF(ISBLANK(E26),0,VLOOKUP(E26,LUTs!$A$6:$B$8,2))","v":{"$error":"#N/A"}},{"$f":"IF(ISBLANK(F26),0,VLOOKUP(F26,LUTs!$A$6:$B$8,2))","v":{"$error":"#N/A"}},{"$f":"IF(ISBLANK(G26),0,VLOOKUP(G26,LUTs!$A$6:$B$8,2))","v":{"$error":"#N/A"}},{"$f":"IF(ISBLANK(H26),0,VLOOKUP(H26,LUTs!$A$6:$B$8,2))","v":{"$error":"#N/A"}},{"$f":"IF(ISBLANK(I26),0,VLOOKUP(I26,LUTs!$A$6:$B$8,2))","v":{"$error":"#N/A"}},{"$f":"IF(ISBLANK(J26),0,VLOOKUP(J26,LUTs!$A$6:$B$8,2))","v":{"$error":"#N/A"}},{"$f":"IF(ISBLANK(K26),0,VLOOKUP(K26,LUTs!$A$6:$B$8,2))","v":{"$error":"#N/A"}},{"$f":"IF(ISBLANK(L26),0,VLOOKUP(L26,LUTs!$A$6:$B$8,2))","v":{"$error":"#N/A"}},{"$f":"IF(ISBLANK(M26),0,VLOOKUP(M26,LUTs!$A$6:$B$8,2))","v":{"$error":"#N/A"}},{"$f":"IF(ISBLANK(N26),0,VLOOKUP(N26,LUTs!$A$6:$B$8,2))","v":{"$error":"#N/A"}},{"$f":"IF(ISBLANK(O26),0,VLOOKUP(O26,LUTs!$A$6:$B$8,2))","v":{"$error":"#N/A"}},{"$f":"IF(ISBLANK(P26),0,VLOOKUP(P26,LUTs!$A$6:$B$8,2))","v":{"$error":"#N/A"}},{"$f":"IF(ISBLANK(Q26),0,VLOOKUP(Q26,LUTs!$A$6:$B$8,2))","v":{"$error":"#N/A"}},{"$f":"IF(ISBLANK(R26),0,IF(ISERROR(VLOOKUP(R26,LUTs!$A$6:$B$8,2)),R26,VLOOKUP(R26,LUTs!$A$6:$B$8,2)))","v":""},{"$f":"IF(ISBLANK(S26),0,VLOOKUP(S26,LUTs!$A$6:$B$8,2))","v":{"$error":"#N/A"}},{"$f":"IF(ISBLANK(T26),0,IF(ISERROR(VLOOKUP(T26,LUTs!$A$6:$B$8,2)),T26,VLOOKUP(T26,LUTs!$A$6:$B$8,2)))","v":""},{"$f":"IF(ISBLANK(U26),0,VLOOKUP(U26,LUTs!$A$6:$B$8,2))","v":{"$error":"#N/A"}},{"$f":"IF(ISBLANK(V26),0,VLOOKUP(V26,LUTs!$A$6:$B$8,2))","v":{"$error":"#N/A"}},{"$f":"IF(ISBLANK(W26),0,VLOOKUP(W26,LUTs!$A$6:$B$8,2))","v":{"$error":"#N/A"}},{"$f":"IF(ISBLANK(X26),0,VLOOKUP(X26,LUTs!$A$6:$B$8,2))","v":{"$error":"#N/A"}}]
[{"$f":"IF(ISBLANK(Responses!A27), \"\", Responses!A27)","v":""},{"$f":"IF(ISBLANK(Responses!B27), \"\", Responses!B27)","v":""},{"$f":"IF(ISBLANK(Responses!U27), \"\", Responses!U27)","v":""},{"$f":"IF(ISBLANK(Responses!V27), \"\", Responses!V27)","v":""},{"$f":"IF(ISBLANK(Responses!W27), \"\", Responses!W27)","v":""},{"$f":"IF(ISBLANK(Responses!X27), \"\", Responses!X27)","v":""},{"$f":"IF(ISBLANK(Responses!Y27), \"\", Responses!Y27)","v":""},{"$f":"IF(ISBLANK(Responses!Z27), \"\", Responses!Z27)","v":""},{"$f":"IF(ISBLANK(Responses!AA27), \"\", Responses!AA27)","v":""},{"$f":"IF(ISBLANK(Responses!AB27), \"\", Responses!AB27)","v":""},{"$f":"IF(ISBLANK(Responses!AC27), \"\", Responses!AC27)","v":""},{"$f":"IF(ISBLANK(Responses!AD27), \"\", Responses!AD27)","v":""},{"$f":"IF(ISBLANK(Responses!AE27), \"\", Responses!AE27)","v":""},{"$f":"IF(ISBLANK(Responses!AF27), \"\", Responses!AF27)","v":""},{"$f":"IF(ISBLANK(Responses!AG27), \"\", Responses!AG27)","v":""},{"$f":"IF(ISBLANK(Responses!AH27), \"\", Responses!AH27)","v":""},{"$f":"IF(ISBLANK(Responses!AI27), \"\", Responses!AI27)","v":""},{"$f":"IF(ISBLANK(Responses!AJ27), \"\", Responses!AJ27)","v":""},{"$f":"IF(ISBLANK(Responses!AK27), \"\", Responses!AK27)","v":""},{"$f":"IF(ISBLANK(Responses!AL27), \"\", Responses!AL27)","v":""},{"$f":"IF(ISBLANK(Responses!AM27), \"\", Responses!AM27)","v":""},{"$f":"IF(ISBLANK(Responses!AN27), \"\", Responses!AN27)","v":""},{"$f":"IF(ISBLANK(Responses!AO27), \"\", Responses!AO27)","v":""},{"$f":"IF(ISBLANK(Responses!AP27), \"\", Responses!AP27)","v":""},{"$error":"#N/A"},{"$error":"#N/A"},{"$f":"IF(ISBLANK(C27),0,VLOOKUP(C27,LUTs!$A$6:$B$8,2))","v":{"$error":"#N/A"}},{"$f":"IF(ISBLANK(D27),0,VLOOKUP(D27,LUTs!$A$6:$B$8,2))","v":{"$error":"#N/A"}},{"$f":"IF(ISBLANK(E27),0,VLOOKUP(E27,LUTs!$A$6:$B$8,2))","v":{"$error":"#N/A"}},{"$f":"IF(ISBLANK(F27),0,VLOOKUP(F27,LUTs!$A$6:$B$8,2))","v":{"$error":"#N/A"}},{"$f":"IF(ISBLANK(G27),0,VLOOKUP(G27,LUTs!$A$6:$B$8,2))","v":{"$error":"#N/A"}},{"$f":"IF(ISBLANK(H27),0,VLOOKUP(H27,LUTs!$A$6:$B$8,2))","v":{"$error":"#N/A"}},{"$f":"IF(ISBLANK(I27),0,VLOOKUP(I27,LUTs!$A$6:$B$8,2))","v":{"$error":"#N/A"}},{"$f":"IF(ISBLANK(J27),0,VLOOKUP(J27,LUTs!$A$6:$B$8,2))","v":{"$error":"#N/A"}},{"$f":"IF(ISBLANK(K27),0,VLOOKUP(K27,LUTs!$A$6:$B$8,2))","v":{"$error":"#N/A"}},{"$f":"IF(ISBLANK(L27),0,VLOOKUP(L27,LUTs!$A$6:$B$8,2))","v":{"$error":"#N/A"}},{"$f":"IF(ISBLANK(M27),0,VLOOKUP(M27,LUTs!$A$6:$B$8,2))","v":{"$error":"#N/A"}},{"$f":"IF(ISBLANK(N27),0,VLOOKUP(N27,LUTs!$A$6:$B$8,2))","v":{"$error":"#N/A"}},{"$f":"IF(ISBLANK(O27),0,VLOOKUP(O27,LUTs!$A$6:$B$8,2))","v":{"$error":"#N/A"}},{"$f":"IF(ISBLANK(P27),0,VLOOKUP(P27,LUTs!$A$6:$B$8,2))","v":{"$error":"#N/A"}},{"$f":"IF(ISBLANK(Q27),0,VLOOKUP(Q27,LUTs!$A$6:$B$8,2))","v":{"$error":"#N/A"}},{"$f":"IF(ISBLANK(R27),0,IF(ISERROR(VLOOKUP(R27,LUTs!$A$6:$B$8,2)),R27,VLOOKUP(R27,LUTs!$A$6:$B$8,2)))","v":""},{"$f":"IF(ISBLANK(S27),0,VLOOKUP(S27,LUTs!$A$6:$B$8,2))","v":{"$error":"#N/A"}},{"$f":"IF(ISBLANK(T27),0,IF(ISERROR(VLOOKUP(T27,LUTs!$A$6:$B$8,2)),T27,VLOOKUP(T27,LUTs!$A$6:$B$8,2)))","v":""},{"$f":"IF(ISBLANK(U27),0,VLOOKUP(U27,LUTs!$A$6:$B$8,2))","v":{"$error":"#N/A"}},{"$f":"IF(ISBLANK(V27),0,VLOOKUP(V27,LUTs!$A$6:$B$8,2))","v":{"$error":"#N/A"}},{"$f":"IF(ISBLANK(W27),0,VLOOKUP(W27,LUTs!$A$6:$B$8,2))","v":{"$error":"#N/A"}},{"$f":"IF(ISBLANK(X27),0,VLOOKUP(X27,LUTs!$A$6:$B$8,2))","v":{"$error":"#N/A"}}]
[{"$f":"IF(ISBLANK(Responses!A28), \"\", Responses!A28)","v":""},{"$f":"IF(ISBLANK(Responses!B28), \"\", Responses!B28)","v":""},{"$f":"IF(ISBLANK(Responses!U28), \"\", Responses!U28)","v":""},{"$f":"IF(ISBLANK(Responses!V28), \"\", Responses!V28)","v":""},{"$f":"IF(ISBLANK(Responses!W28), \"\", Responses!W28)","v":""},{"$f":"IF(ISBLANK(Responses!X28), \"\", Responses!X28)","v":""},{"$f":"IF(ISBLANK(Responses!Y28), \"\", Responses!Y28)","v":""},{"$f":"IF(ISBLANK(Responses!Z28), \"\", Responses!Z28)","v":""},{"$f":"IF(ISBLANK(Responses!AA28), \"\", Responses!AA28)","v":""},{"$f":"IF(ISBLANK(Responses!AB28), \"\", Responses!AB28)","v":""},{"$f":"IF(ISBLANK(Responses!AC28), \"\", Responses!AC28)","v":""},{"$f":"IF(ISBLANK(Responses!AD28), \"\", Responses!AD28)","v":""},{"$f":"IF(ISBLANK(Responses!AE28), \"\", Responses!AE28)","v":""},{"$f":"IF(ISBLANK(Responses!AF28), \"\", Responses!AF28)","v":""},{"$f":"IF(ISBLANK(Responses!AG28), \"\", Responses!AG28)","v":""},{"$f":"IF(ISBLANK(Responses!AH28), \"\", Responses!AH28)","v":""},{"$f":"IF(ISBLANK(Responses!AI28), \"\", Responses!AI28)","v":""},{"$f":"IF(ISBLANK(Responses!AJ28), \"\", Responses!AJ28)","v":""},{"$f":"IF(ISBLANK(Responses!AK28), \"\", Responses!AK28)","v":""},{"$f":"IF(ISBLANK(Responses!AL28), \"\", Responses!AL28)","v":""},{"$f":"IF(ISBLANK(Responses!AM28), \"\", Responses!AM28)","v":""},{"$f":"IF(ISBLANK(Responses!AN28), \"\", Responses!AN28)","v":""},{"$f":"IF(ISBLANK(Responses!AO28), \"\", Responses!AO28)","v":""},{"$f":"IF(ISBLANK(Responses!AP28), \"\", Responses!AP28)","v":""},{"$error":"#N/A"},{"$error":"#N/A"},{"$f":"IF(ISBLANK(C28),0,VLOOKUP(C28,LUTs!$A$6:$B$8,2))","v":{"$error":"#N/A"}},{"$f":"IF(ISBLANK(D28),0,VLOOKUP(D28,LUTs!$A$6:$B$8,2))","v":{"$error":"#N/A"}},{"$f":"IF(ISBLANK(E28),0,VLOOKUP(E28,LUTs!$A$6:$B$8,2))","v":{"$error":"#N/A"}},{"$f":"IF(ISBLANK(F28),0,VLOOKUP(F28,LUTs!$A$6:$B$8,2))","v":{"$error":"#N/A"}},{"$f":"IF(ISBLANK(G28),0,VLOOKUP(G28,LUTs!$A$6:$B$8,2))","v":{"$error":"#N/A"}},{"$f":"IF(ISBLANK(H28),0,VLOOKUP(H28,LUTs!$A$6:$B$8,2))","v":{"$error":"#N/A"}},{"$f":"IF(ISBLANK(I28),0,VLOOKUP(I28,LUTs!$A$6:$B$8,2))","v":{"$error":"#N/A"}},{"$f":"IF(ISBLANK(J28),0,VLOOKUP(J28,LUTs!$A$6:$B$8,2))","v":{"$error":"#N/A"}},{"$f":"IF(ISBLANK(K28),0,VLOOKUP(K28,LUTs!$A$6:$B$8,2))","v":{"$error":"#N/A"}},{"$f":"IF(ISBLANK(L28),0,VLOOKUP(L28,LUTs!$A$6:$B$8,2))","v":{"$error":"#N/A"}},{"$f":"IF(ISBLANK(M28),0,VLOOKUP(M28,LUTs!$A$6:$B$8,2))","v":{"$error":"#N/A"}},{"$f":"IF(ISBLANK(N28),0,VLOOKUP(N28,LUTs!$A$6:$B$8,2))","v":{"$error":"#N/A"}},{"$f":"IF(ISBLANK(O28),0,VLOOKUP(O28,LUTs!$A$6:$B$8,2))","v":{"$error":"#N/A"}},{"$f":"IF(ISBLANK(P28),0,VLOOKUP(P28,LUTs!$A$6:$B$8,2))","v":{"$error":"#N/A"}},{"$f":"IF(ISBLANK(Q28),0,VLOOKUP(Q28,LUTs!$A$6:$B$8,2))","v":{"$error":"#N/A"}},{"$f":"IF(ISBLANK(R28),0,IF(ISERROR(VLOOKUP(R28,LUTs!$A$6:$B$8,2)),R28,VLOOKUP(R28,LUTs!$A$6:$B$8,2)))","v":""},{"$f":"IF(ISBLANK(S28),0,VLOOKUP(S28,LUTs!$A$6:$B$8,2))","v":{"$error":"#N/A"}},{"$f":"IF(ISBLANK(T28),0,IF(ISERROR(VLOOKUP(T28,LUTs!$A$6:$B$8,2)),T28,VLOOKUP(T28,LUTs!$A$6:$B$8,2)))","v":""},{"$f":"IF(ISBLANK(U28),0,VLOOKUP(U28,LUTs!$A$6:$B$8,2))","v":{"$error":"#N/A"}},{"$f":"IF(ISBLANK(V28),0,VLOOKUP(V28,LUTs!$A$6:$B$8,2))","v":{"$error":"#N/A"}},{"$f":"IF(ISBLANK(W28),0,VLOOKUP(W28,LUTs!$A$6:$B$8,2))","v":{"$error":"#N/A"}},{"$f":"IF(ISBLANK(X28),0,VLOOKUP(X28,LUTs!$A$6:$B$8,2))","v":{"$error":"#N/A"}}]
[{"$f":"IF(ISBLANK(Responses!A29), \"\", Responses!A29)","v":""},{"$f":"IF(ISBLANK(Responses!B29), \"\", Responses!B29)","v":""},{"$f":"IF(ISBLANK(Responses!U29), \"\", Responses!U29)","v":""},{"$f":"IF(ISBLANK(Responses!V29), \"\", Responses!V29)","v":""},{"$f":"IF(ISBLANK(Responses!W29), \"\", Responses!W29)","v":""},{"$f":"IF(ISBLANK(Responses!X29), \"\", Responses!X29)","v":""},{"$f":"IF(ISBLANK(Responses!Y29), \"\", Responses!Y29)","v":""},{"$f":"IF(ISBLANK(Responses!Z29), \"\", Responses!Z29)","v":""},{"$f":"IF(ISBLANK(Responses!AA29), \"\", Responses!AA29)","v":""},{"$f":"IF(ISBLANK(Responses!AB29), \"\", Responses!AB29)","v":""},{"$f":"IF(ISBLANK(Responses!AC29), \"\", Responses!AC29)","v":""},{"$f":"IF(ISBLANK(Responses!AD29), \"\", Responses!AD29)","v":""},{"$f":"IF(ISBLANK(Responses!AE29), \"\", Responses!AE29)","v":""},{"$f":"IF(ISBLANK(Responses!AF29), \"\", Responses!AF29)","v":""},{"$f":"IF(ISBLANK(Responses!AG29), \"\", Responses!AG29)","v":""},{"$f":"IF(ISBLANK(Responses!AH29), \"\", Responses!AH29)","v":""},{"$f":"IF(ISBLANK(Responses!AI29), \"\", Responses!AI29)","v":""},{"$f":"IF(ISBLANK(Responses!AJ29), \"\", Responses!AJ29)","v":""},{"$f":"IF(ISBLANK(Responses!AK29), \"\", Responses!AK29)","v":""},{"$f":"IF(ISBLANK(Responses!AL29), \"\", Responses!AL29)","v":""},{"$f":"IF(ISBLANK(Responses!AM29), \"\", Responses!AM29)","v":""},{"$f":"IF(ISBLANK(Responses!AN29), \"\", Responses!AN29)","v":""},{"$f":"IF(ISBLANK(Responses!AO29), \"\", Responses!AO29)","v":""},{"$f":"IF(ISBLANK(Responses!AP29), \"\", Responses!AP29)","v":""},{"$error":"#N/A"},{"$error":"#N/A"},{"$f":"IF(ISBLANK(C29),0,VLOOKUP(C29,LUTs!$A$6:$B$8,2))","v":{"$error":"#N/A"}},{"$f":"IF(ISBLANK(D29),0,VLOOKUP(D29,LUTs!$A$6:$B$8,2))","v":{"$error":"#N/A"}},{"$f":"IF(ISBLANK(E29),0,VLOOKUP(E29,LUTs!$A$6:$B$8,2))","v":{"$error":"#N/A"}},{"$f":"IF(ISBLANK(F29),0,VLOOKUP(F29,LUTs!$A$6:$B$8,2))","v":{"$error":"#N/A"}},{"$f":"IF(ISBLANK(G29),0,VLOOKUP(G29,LUTs!$A$6:$B$8,2))","v":{"$error":"#N/A"}},{"$f":"IF(ISBLANK(H29),0,VLOOKUP(H29,LUTs!$A$6:$B$8,2))","v":{"$error":"#N/A"}},{"$f":"IF(ISBLANK(I29),0,VLOOKUP(I29,LUTs!$A$6:$B$8,2))","v":{"$error":"#N/A"}},{"$f":"IF(ISBLANK(J29),0,VLOOKUP(J29,LUTs!$A$6:$B$8,2))","v":{"$error":"#N/A"}},{"$f":"IF(ISBLANK(K29),0,VLOOKUP(K29,LUTs!$A$6:$B$8,2))","v":{"$error":"#N/A"}},{"$f":"IF(ISBLANK(L29),0,VLOOKUP(L29,LUTs!$A$6:$B$8,2))","v":{"$error":"#N/A"}},{"$f":"IF(ISBLANK(M29),0,VLOOKUP(M29,LUTs!$A$6:$B$8,2))","v":{"$error":"#N/A"}},{"$f":"IF(ISBLANK(N29),0,VLOOKUP(N29,LUTs!$A$6:$B$8,2))","v":{"$error":"#N/A"}},{"$f":"IF(ISBLANK(O29),0,VLOOKUP(O29,LUTs!$A$6:$B$8,2))","v":{"$error":"#N/A"}},{"$f":"IF(ISBLANK(P29),0,VLOOKUP(P29,LUTs!$A$6:$B$8,2))","v":{"$error":"#N/A"}},{"$f":"IF(ISBLANK(Q29),0,VLOOKUP(Q29,LUTs!$A$6:$B$8,2))","v":{"$error":"#N/A"}},{"$f":"IF(ISBLANK(R29),0,IF(ISERROR(VLOOKUP(R29,LUTs!$A$6:$B$8,2)),R29,VLOOKUP(R29,LUTs!$A$6:$B$8,2)))","v":""},{"$f":"IF(ISBLANK(S29),0,VLOOKUP(S29,LUTs!$A$6:$B$8,2))","v":{"$error":"#N/A"}},{"$f":"IF(ISBLANK(T29),0,IF(ISERROR(VLOOKUP(T29,LUTs!$A$6:$B$8,2)),T29,VLOOKUP(T29,LUTs!$A$6:$B$8,2)))","v":""},{"$f":"IF(ISBLANK(U29),0,VLOOKUP(U29,LUTs!$A$6:$B$8,2))","v":{"$error":"#N/A"}},{"$f":"IF(ISBLANK(V29),0,VLOOKUP(V29,LUTs!$A$6:$B$8,2))","v":{"$error":"#N/A"}},{"$f":"IF(ISBLANK(W29),0,VLOOKUP(W29,LUTs!$A$6:$B$8,2))","v":{"$error":"#N/A"}},{"$f":"IF(ISBLANK(X29),0,VLOOKUP(X29,LUTs!$A$6:$B$8,2))","v":{"$error":"#N/A"}}]
[{"$f":"IF(ISBLANK(Responses!A30), \"\", Responses!A30)","v":""},{"$f":"IF(ISBLANK(Responses!B30), \"\", Responses!B30)","v":""},{"$f":"IF(ISBLANK(Responses!U30), \"\", Responses!U30)","v":""},{"$f":"IF(ISBLANK(Responses!V30), \"\", Responses!V30)","v":""},{"$f":"IF(ISBLANK(Responses!W30), \"\", Responses!W30)","v":""},{"$f":"IF(ISBLANK(Responses!X30), \"\", Responses!X30)","v":""},{"$f":"IF(ISBLANK(Responses!Y30), \"\", Responses!Y30)","v":""},{"$f":"IF(ISBLANK(Responses!Z30), \"\", Responses!Z30)","v":""},{"$f":"IF(ISBLANK(Responses!AA30), \"\", Responses!AA30)","v":""},{"$f":"IF(ISBLANK(Responses!AB30), \"\", Responses!AB30)","v":""},{"$f":"IF(ISBLANK(Responses!AC30), \"\", Responses!AC30)","v":""},{"$f":"IF(ISBLANK(Responses!AD30), \"\", Responses!AD30)","v":""},{"$f":"IF(ISBLANK(Responses!AE30), \"\", Responses!AE30)","v":""},{"$f":"IF(ISBLANK(Responses!AF30), \"\", Responses!AF30)","v":""},{"$f":"IF(ISBLANK(Responses!AG30), \"\", Responses!AG30)","v":""},{"$f":"IF(ISBLANK(Responses!AH30), \"\", Responses!AH30)","v":""},{"$f":"IF(ISBLANK(Responses!AI30), \"\", Responses!AI30)","v":""},{"$f":"IF(ISBLANK(Responses!AJ30), \"\", Responses!AJ30)","v":""},{"$f":"IF(ISBLANK(Responses!AK30), \"\", Responses!AK30)","v":""},{"$f":"IF(ISBLANK(Responses!AL30), \"\", Responses!AL30)","v":""},{"$f":"IF(ISBLANK(Responses!AM30), \"\", Responses!AM30)","v":""},{"$f":"IF(ISBLANK(Responses!AN30), \"\", Responses!AN30)","v":""},{"$f":"IF(ISBLANK(Responses!AO30), \"\", Responses!AO30)","v":""},{"$f":"IF(ISBLANK(Responses!AP30), \"\", Responses!AP30)","v":""},{"$error":"#N/A"},{"$error":"#N/A"},{"$f":"IF(ISBLANK(C30),0,VLOOKUP(C30,LUTs!$A$6:$B$8,2))","v":{"$error":"#N/A"}},{"$f":"IF(ISBLANK(D30),0,VLOOKUP(D30,LUTs!$A$6:$B$8,2))","v":{"$error":"#N/A"}},{"$f":"IF(ISBLANK(E30),0,VLOOKUP(E30,LUTs!$A$6:$B$8,2))","v":{"$error":"#N/A"}},{"$f":"IF(ISBLANK(F30),0,VLOOKUP(F30,LUTs!$A$6:$B$8,2))","v":{"$error":"#N/A"}},{"$f":"IF(ISBLANK(G30),0,VLOOKUP(G30,LUTs!$A$6:$B$8,2))","v":{"$error":"#N/A"}},{"$f":"IF(ISBLANK(H30),0,VLOOKUP(H30,LUTs!$A$6:$B$8,2))","v":{"$error":"#N/A"}},{"$f":"IF(ISBLANK(I30),0,VLOOKUP(I30,LUTs!$A$6:$B$8,2))","v":{"$error":"#N/A"}},{"$f":"IF(ISBLANK(J30),0,VLOOKUP(J30,LUTs!$A$6:$B$8,2))","v":{"$error":"#N/A"}},{"$f":"IF(ISBLANK(K30),0,VLOOKUP(K30,LUTs!$A$6:$B$8,2))","v":{"$error":"#N/A"}},{"$f":"IF(ISBLANK(L30),0,VLOOKUP(L30,LUTs!$A$6:$B$8,2))","v":{"$error":"#N/A"}},{"$f":"IF(ISBLANK(M30),0,VLOOKUP(M30,LUTs!$A$6:$B$8,2))","v":{"$error":"#N/A"}},{"$f":"IF(ISBLANK(N30),0,VLOOKUP(N30,LUTs!$A$6:$B$8,2))","v":{"$error":"#N/A"}},{"$f":"IF(ISBLANK(O30),0,VLOOKUP(O30,LUTs!$A$6:$B$8,2))","v":{"$error":"#N/A"}},{"$f":"IF(ISBLANK(P30),0,VLOOKUP(P30,LUTs!$A$6:$B$8,2))","v":{"$error":"#N/A"}},{"$f":"IF(ISBLANK(Q30),0,VLOOKUP(Q30,LUTs!$A$6:$B$8,2))","v":{"$error":"#N/A"}},{"$f":"IF(ISBLANK(R30),0,IF(ISERROR(VLOOKUP(R30,LUTs!$A$6:$B$8,2)),R30,VLOOKUP(R30,LUTs!$A$6:$B$8,2)))","v":""},{"$f":"IF(ISBLANK(S30),0,VLOOKUP(S30,LUTs!$A$6:$B$8,2))","v":{"$error":"#N/A"}},{"$f":"IF(ISBLANK(T30),0,IF(ISERROR(VLOOKUP(T30,LUTs!$A$6:$B$8,2)),T30,VLOOKUP(T30,LUTs!$A$6:$B$8,2)))","v":""},{"$f":"IF(ISBLANK(U30),0,VLOOKUP(U30,LUTs!$A$6:$B$8,2))","v":{"$error":"#N/A"}},{"$f":"IF(ISBLANK(V30),0,VLOOKUP(V30,LUTs!$A$6:$B$8,2))","v":{"$error":"#N/A"}},{"$f":"IF(ISBLANK(W30),0,VLOOKUP(W30,LUTs!$A$6:$B$8,2))","v":{"$error":"#N/A"}},{"$f":"IF(ISBLANK(X30),0,VLOOKUP(X30,LUTs!$A$6:$B$8,2))","v":{"$error":"#N/A"}}]
[{"$f":"IF(ISBLANK(Responses!A31), \"\", Responses!A31)","v":""},{"$f":"IF(ISBLANK(Responses!B31), \"\", Responses!B31)","v":""},{"$f":"IF(ISBLANK(Responses!U31), \"\", Responses!U31)","v":""},{"$f":"IF(ISBLANK(Responses!V31), \"\", Responses!V31)","v":""},{"$f":"IF(ISBLANK(Responses!W31), \"\", Responses!W31)","v":""},{"$f":"IF(ISBLANK(Responses!X31), \"\", Responses!X31)","v":""},{"$f":"IF(ISBLANK(Responses!Y31), \"\", Responses!Y31)","v":""},{"$f":"IF(ISBLANK(Responses!Z31), \"\", Responses!Z31)","v":""},{"$f":"IF(ISBLANK(Responses!AA31), \"\", Responses!AA31)","v":""},{"$f":"IF(ISBLANK(Responses!AB31), \"\", Responses!AB31)","v":""},{"$f":"IF(ISBLANK(Responses!AC31), \"\", Responses!AC31)","v":""},{"$f":"IF(ISBLANK(Responses!AD31), \"\", Responses!AD31)","v":""},{"$f":"IF(ISBLANK(Responses!AE31), \"\", Responses!AE31)","v":""},{"$f":"IF(ISBLANK(Responses!AF31), \"\", Responses!AF31)","v":""},{"$f":"IF(ISBLANK(Responses!AG31), \"\", Responses!AG31)","v":""},{"$f":"IF(ISBLANK(Responses!AH31), \"\", Responses!AH31)","v":""},{"$f":"IF(ISBLANK(Responses!AI31), \"\", Responses!AI31)","v":""},{"$f":"IF(ISBLANK(Responses!AJ31), \"\", Responses!AJ31)","v":""},{"$f":"IF(ISBLANK(Responses!AK31), \"\", Responses!AK31)","v":""},{"$f":"IF(ISBLANK(Responses!AL31), \"\", Responses!AL31)","v":""},{"$f":"IF(ISBLANK(Responses!AM31), \"\", Responses!AM31)","v":""},{"$f":"IF(ISBLANK(Responses!AN31), \"\", Responses!AN31)","v":""},{"$f":"IF(ISBLANK(Responses!AO31), \"\", Responses!AO31)","v":""},{"$f":"IF(ISBLANK(Responses!AP31), \"\", Responses!AP31)","v":""},{"$error":"#N/A"},{"$error":"#N/A"},{"$f":"IF(ISBLANK(C31),0,VLOOKUP(C31,LUTs!$A$6:$B$8,2))","v":{"$error":"#N/A"}},{"$f":"IF(ISBLANK(D31),0,VLOOKUP(D31,LUTs!$A$6:$B$8,2))","v":{"$error":"#N/A"}},{"$f":"IF(ISBLANK(E31),0,VLOOKUP(E31,LUTs!$A$6:$B$8,2))","v":{"$error":"#N/A"}},{"$f":"IF(ISBLANK(F31),0,VLOOKUP(F31,LUTs!$A$6:$B$8,2))","v":{"$error":"#N/A"}},{"$f":"IF(ISBLANK(G31),0,VLOOKUP(G31,LUTs!$A$6:$B$8,2))","v":{"$error":"#N/A"}},{"$f":"IF(ISBLANK(H31),0,VLOOKUP(H31,LUTs!$A$6:$B$8,2))","v":{"$error":"#N/A"}},{"$f":"IF(ISBLANK(I31),0,VLOOKUP(I31,LUTs!$A$6:$B$8,2))","v":{"$error":"#N/A"}},{"$f":"IF(ISBLANK(J31),0,VLOOKUP(J31,LUTs!$A$6:$B$8,2))","v":{"$error":"#N/A"}},{"$f":"IF(ISBLANK(K31),0,VLOOKUP(K31,LUTs!$A$6:$B$8,2))","v":{"$error":"#N/A"}},{"$f":"IF(ISBLANK(L31),0,VLOOKUP(L31,LUTs!$A$6:$B$8,2))","v":{"$error":"#N/A"}},{"$f":"IF(ISBLANK(M31),0,VLOOKUP(M31,LUTs!$A$6:$B$8,2))","v":{"$error":"#N/A"}},{"$f":"IF(ISBLANK(N31),0,VLOOKUP(N31,LUTs!$A$6:$B$8,2))","v":{"$error":"#N/A"}},{"$f":"IF(ISBLANK(O31),0,VLOOKUP(O31,LUTs!$A$6:$B$8,2))","v":{"$error":"#N/A"}},{"$f":"IF(ISBLANK(P31),0,VLOOKUP(P31,LUTs!$A$6:$B$8,2))","v":{"$error":"#N/A"}},{"$f":"IF(ISBLANK(Q31),0,VLOOKUP(Q31,LUTs!$A$6:$B$8,2))","v":{"$error":"#N/A"}},{"$f":"IF(ISBLANK(R31),0,IF(ISERROR(VLOOKUP(R31,LUTs!$A$6:$B$8,2)),R31,VLOOKUP(R31,LUTs!$A$6:$B$8,2)))","v":""},{"$f":"IF(ISBLANK(S31),0,VLOOKUP(S31,LUTs!$A$6:$B$8,2))","v":{"$error":"#N/A"}},{"$f":"IF(ISBLANK(T31),0,IF(ISERROR(VLOOKUP(T31,LUTs!$A$6:$B$8,2)),T31,VLOOKUP(T31,LUTs!$A$6:$B$8,2)))","v":""},{"$f":"IF(ISBLANK(U31),0,VLOOKUP(U31,LUTs!$A$6:$B$8,2))","v":{"$error":"#N/A"}},{"$f":"IF(ISBLANK(V31),0,VLOOKUP(V31,LUTs!$A$6:$B$8,2))","v":{"$error":"#N/A"}},{"$f":"IF(ISBLANK(W31),0,VLOOKUP(W31,LUTs!$A$6:$B$8,2))","v":{"$error":"#N/A"}},{"$f":"IF(ISBLANK(X31),0,VLOOKUP(X31,LUTs!$A$6:$B$8,2))","v":{"$error":"#N/A"}}]
[{"$f":"IF(ISBLANK(Responses!A32), \"\", Responses!A32)","v":""},{"$f":"IF(ISBLANK(Responses!B32), \"\", Responses!B32)","v":""},{"$f":"IF(ISBLANK(Responses!U32), \"\", Responses!U32)","v":""},{"$f":"IF(ISBLANK(Responses!V32), \"\", Responses!V32)","v":""},{"$f":"IF(ISBLANK(Responses!W32), \"\", Responses!W32)","v":""},{"$f":"IF(ISBLANK(Responses!X32), \"\", Responses!X32)","v":""},{"$f":"IF(ISBLANK(Responses!Y32), \"\", Responses!Y32)","v":""},{"$f":"IF(ISBLANK(Responses!Z32), \"\", Responses!Z32)","v":""},{"$f":"IF(ISBLANK(Responses!AA32), \"\", Responses!AA32)","v":""},{"$f":"IF(ISBLANK(Responses!AB32), \"\", Responses!AB32)","v":""},{"$f":"IF(ISBLANK(Responses!AC32), \"\", Responses!AC32)","v":""},{"$f":"IF(ISBLANK(Responses!AD32), \"\", Responses!AD32)","v":""},{"$f":"IF(ISBLANK(Responses!AE32), \"\", Responses!AE32)","v":""},{"$f":"IF(ISBLANK(Responses!AF32), \"\", Responses!AF32)","v":""},{"$f":"IF(ISBLANK(Responses!AG32), \"\", Responses!AG32)","v":""},{"$f":"IF(ISBLANK(Responses!AH32), \"\", Responses!AH32)","v":""},{"$f":"IF(ISBLANK(Responses!AI32), \"\", Responses!AI32)","v":""},{"$f":"IF(ISBLANK(Responses!AJ32), \"\", Responses!AJ32)","v":""},{"$f":"IF(ISBLANK(Responses!AK32), \"\", Responses!AK32)","v":""},{"$f":"IF(ISBLANK(Responses!AL32), \"\", Responses!AL32)","v":""},{"$f":"IF(ISBLANK(Responses!AM32), \"\", Responses!AM32)","v":""},{"$f":"IF(ISBLANK(Responses!AN32), \"\", Responses!AN32)","v":""},{"$f":"IF(ISBLANK(Responses!AO32), \"\", Responses!AO32)","v":""},{"$f":"IF(ISBLANK(Responses!AP32), \"\", Responses!AP32)","v":""},{"$error":"#N/A"},{"$error":"#N/A"},{"$f":"IF(ISBLANK(C32),0,VLOOKUP(C32,LUTs!$A$6:$B$8,2))","v":{"$error":"#N/A"}},{"$f":"IF(ISBLANK(D32),0,VLOOKUP(D32,LUTs!$A$6:$B$8,2))","v":{"$error":"#N/A"}},{"$f":"IF(ISBLANK(E32),0,VLOOKUP(E32,LUTs!$A$6:$B$8,2))","v":{"$error":"#N/A"}},{"$f":"IF(ISBLANK(F32),0,VLOOKUP(F32,LUTs!$A$6:$B$8,2))","v":{"$error":"#N/A"}},{"$f":"IF(ISBLANK(G32),0,VLOOKUP(G32,LUTs!$A$6:$B$8,2))","v":{"$error":"#N/A"}},{"$f":"IF(ISBLANK(H32),0,VLOOKUP(H32,LUTs!$A$6:$B$8,2))","v":{"$error":"#N/A"}},{"$f":"IF(ISBLANK(I32),0,VLOOKUP(I32,LUTs!$A$6:$B$8,2))","v":{"$error":"#N/A"}},{"$f":"IF(ISBLANK(J32),0,VLOOKUP(J32,LUTs!$A$6:$B$8,2))","v":{"$error":"#N/A"}},{"$f":"IF(ISBLANK(K32),0,VLOOKUP(K32,LUTs!$A$6:$B$8,2))","v":{"$error":"#N/A"}},{"$f":"IF(ISBLANK(L32),0,VLOOKUP(L32,LUTs!$A$6:$B$8,2))","v":{"$error":"#N/A"}},{"$f":"IF(ISBLANK(M32),0,VLOOKUP(M32,LUTs!$A$6:$B$8,2))","v":{"$error":"#N/A"}},{"$f":"IF(ISBLANK(N32),0,VLOOKUP(N32,LUTs!$A$6:$B$8,2))","v":{"$error":"#N/A"}},{"$f":"IF(ISBLANK(O32),0,VLOOKUP(O32,LUTs!$A$6:$B$8,2))","v":{"$error":"#N/A"}},{"$f":"IF(ISBLANK(P32),0,VLOOKUP(P32,LUTs!$A$6:$B$8,2))","v":{"$error":"#N/A"}},{"$f":"IF(ISBLANK(Q32),0,VLOOKUP(Q32,LUTs!$A$6:$B$8,2))","v":{"$error":"#N/A"}},{"$f":"IF(ISBLANK(R32),0,IF(ISERROR(VLOOKUP(R32,LUTs!$A$6:$B$8,2)),R32,VLOOKUP(R32,LUTs!$A$6:$B$8,2)))","v":""},{"$f":"IF(ISBLANK(S32),0,VLOOKUP(S32,LUTs!$A$6:$B$8,2))","v":{"$error":"#N/A"}},{"$f":"IF(ISBLANK(T32),0,IF(ISERROR(VLOOKUP(T32,LUTs!$A$6:$B$8,2)),T32,VLOOKUP(T32,LUTs!$A$6:$B$8,2)))","v":""},{"$f":"IF(ISBLANK(U32),0,VLOOKUP(U32,LUTs!$A$6:$B$8,2))","v":{"$error":"#N/A"}},{"$f":"IF(ISBLANK(V32),0,VLOOKUP(V32,LUTs!$A$6:$B$8,2))","v":{"$error":"#N/A"}},{"$f":"IF(ISBLANK(W32),0,VLOOKUP(W32,LUTs!$A$6:$B$8,2))","v":{"$error":"#N/A"}},{"$f":"IF(ISBLANK(X32),0,VLOOKUP(X32,LUTs!$A$6:$B$8,2))","v":{"$error":"#N/A"}}]
[{"$f":"IF(ISBLANK(Responses!A33), \"\", Responses!A33)","v":""},{"$f":"IF(ISBLANK(Responses!B33), \"\", Responses!B33)","v":""},{"$f":"IF(ISBLANK(Responses!U33), \"\", Responses!U33)","v":""},{"$f":"IF(ISBLANK(Responses!V33), \"\", Responses!V33)","v":""},{"$f":"IF(ISBLANK(Responses!W33), \"\", Responses!W33)","v":""},{"$f":"IF(ISBLANK(Responses!X33), \"\", Responses!X33)","v":""},{"$f":"IF(ISBLANK(Responses!Y33), \"\", Responses!Y33)","v":""},{"$f":"IF(ISBLANK(Responses!Z33), \"\", Responses!Z33)","v":""},{"$f":"IF(ISBLANK(Responses!AA33), \"\", Responses!AA33)","v":""},{"$f":"IF(ISBLANK(Responses!AB33), \"\", Responses!AB33)","v":""},{"$f":"IF(ISBLANK(Responses!AC33), \"\", Responses!AC33)","v":""},{"$f":"IF(ISBLANK(Responses!AD33), \"\", Responses!AD33)","v":""},{"$f":"IF(ISBLANK(Responses!AE33), \"\", Responses!AE33)","v":""},{"$f":"IF(ISBLANK(Responses!AF33), \"\", Responses!AF33)","v":""},{"$f":"IF(ISBLANK(Responses!AG33), \"\", Responses!AG33)","v":""},{"$f":"IF(ISBLANK(Responses!AH33), \"\", Responses!AH33)","v":""},{"$f":"IF(ISBLANK(Responses!AI33), \"\", Responses!AI33)","v":""},{"$f":"IF(ISBLANK(Responses!AJ33), \"\", Responses!AJ33)","v":""},{"$f":"IF(ISBLANK(Responses!AK33), \"\", Responses!AK33)","v":""},{"$f":"IF(ISBLANK(Responses!AL33), \"\", Responses!AL33)","v":""},{"$f":"IF(ISBLANK(Responses!AM33), \"\", Responses!AM33)","v":""},{"$f":"IF(ISBLANK(Responses!AN33), \"\", Responses!AN33)","v":""},{"$f":"IF(ISBLANK(Responses!AO33), \"\", Responses!AO33)","v":""},{"$f":"IF(ISBLANK(Responses!AP33), \"\", Responses!AP33)","v":""},{"$error":"#N/A"},{"$error":"#N/A"},{"$f":"IF(ISBLANK(C33),0,VLOOKUP(C33,LUTs!$A$6:$B$8,2))","v":{"$error":"#N/A"}},{"$f":"IF(ISBLANK(D33),0,VLOOKUP(D33,LUTs!$A$6:$B$8,2))","v":{"$error":"#N/A"}},{"$f":"IF(ISBLANK(E33),0,VLOOKUP(E33,LUTs!$A$6:$B$8,2))","v":{"$error":"#N/A"}},{"$f":"IF(ISBLANK(F33),0,VLOOKUP(F33,LUTs!$A$6:$B$8,2))","v":{"$error":"#N/A"}},{"$f":"IF(ISBLANK(G33),0,VLOOKUP(G33,LUTs!$A$6:$B$8,2))","v":{"$error":"#N/A"}},{"$f":"IF(ISBLANK(H33),0,VLOOKUP(H33,LUTs!$A$6:$B$8,2))","v":{"$error":"#N/A"}},{"$f":"IF(ISBLANK(I33),0,VLOOKUP(I33,LUTs!$A$6:$B$8,2))","v":{"$error":"#N/A"}},{"$f":"IF(ISBLANK(J33),0,VLOOKUP(J33,LUTs!$A$6:$B$8,2))","v":{"$error":"#N/A"}},{"$f":"IF(ISBLANK(K33),0,VLOOKUP(K33,LUTs!$A$6:$B$8,2))","v":{"$error":"#N/A"}},{"$f":"IF(ISBLANK(L33),0,VLOOKUP(L33,LUTs!$A$6:$B$8,2))","v":{"$error":"#N/A"}},{"$f":"IF(ISBLANK(M33),0,VLOOKUP(M33,LUTs!$A$6:$B$8,2))","v":{"$error":"#N/A"}},{"$f":"IF(ISBLANK(N33),0,VLOOKUP(N33,LUTs!$A$6:$B$8,2))","v":{"$error":"#N/A"}},{"$f":"IF(ISBLANK(O33),0,VLOOKUP(O33,LUTs!$A$6:$B$8,2))","v":{"$error":"#N/A"}},{"$f":"IF(ISBLANK(P33),0,VLOOKUP(P33,LUTs!$A$6:$B$8,2))","v":{"$error":"#N/A"}},{"$f":"IF(ISBLANK(Q33),0,VLOOKUP(Q33,LUTs!$A$6:$B$8,2))","v":{"$error":"#N/A"}},{"$f":"IF(ISBLANK(R33),0,IF(ISERROR(VLOOKUP(R33,LUTs!$A$6:$B$8,2)),R33,VLOOKUP(R33,LUTs!$A$6:$B$8,2)))","v":""},{"$f":"IF(ISBLANK(S33),0,VLOOKUP(S33,LUTs!$A$6:$B$8,2))","v":{"$error":"#N/A"}},{"$f":"IF(ISBLANK(T33),0,IF(ISERROR(VLOOKUP(T33,LUTs!$A$6:$B$8,2)),T33,VLOOKUP(T33,LUTs!$A$6:$B$8,2)))","v":""},{"$f":"IF(ISBLANK(U33),0,VLOOKUP(U33,LUTs!$A$6:$B$8,2))","v":{"$error":"#N/A"}},{"$f":"IF(ISBLANK(V33),0,VLOOKUP(V33,LUTs!$A$6:$B$8,2))","v":{"$error":"#N/A"}},{"$f":"IF(ISBLANK(W33),0,VLOOKUP(W33,LUTs!$A$6:$B$8,2))","v":{"$error":"#N/A"}},{"$f":"IF(ISBLANK(X33),0,VLOOKUP(X33,LUTs!$A$6:$B$8,2))","v":{"$error":"#N/A"}}]
[{"$f":"IF(ISBLANK(Responses!A34), \"\", Responses!A34)","v":""},{"$f":"IF(ISBLANK(Responses!B34), \"\", Responses!B34)","v":""},{"$f":"IF(ISBLANK(Responses!U34), \"\", Responses!U34)","v":""},{"$f":"IF(ISBLANK(Responses!V34), \"\", Responses!V34)","v":""},{"$f":"IF(ISBLANK(Responses!W34), \"\", Responses!W34)","v":""},{"$f":"IF(ISBLANK(Responses!X34), \"\", Responses!X34)","v":""},{"$f":"IF(ISBLANK(Responses!Y34), \"\", Responses!Y34)","v":""},{"$f":"IF(ISBLANK(Responses!Z34), \"\", Responses!Z34)","v":""},{"$f":"IF(ISBLANK(Responses!AA34), \"\", Responses!AA34)","v":""},{"$f":"IF(ISBLANK(Responses!AB34), \"\", Responses!AB34)","v":""},{"$f":"IF(ISBLANK(Responses!AC34), \"\", Responses!AC34)","v":""},{"$f":"IF(ISBLANK(Responses!AD34), \"\", Responses!AD34)","v":""},{"$f":"IF(ISBLANK(Responses!AE34), \"\", Responses!AE34)","v":""},{"$f":"IF(ISBLANK(Responses!AF34), \"\", Responses!AF34)","v":""},{"$f":"IF(ISBLANK(Responses!AG34), \"\", Responses!AG34)","v":""},{"$f":"IF(ISBLANK(Responses!AH34), \"\", Responses!AH34)","v":""},{"$f":"IF(ISBLANK(Responses!AI34), \"\", Responses!AI34)","v":""},{"$f":"IF(ISBLANK(Responses!AJ34), \"\", Responses!AJ34)","v":""},{"$f":"IF(ISBLANK(Responses!AK34), \"\", Responses!AK34)","v":""},{"$f":"IF(ISBLANK(Responses!AL34), \"\", Responses!AL34)","v":""},{"$f":"IF(ISBLANK(Responses!AM34), \"\", Responses!AM34)","v":""},{"$f":"IF(ISBLANK(Responses!AN34), \"\", Responses!AN34)","v":""},{"$f":"IF(ISBLANK(Responses!AO34), \"\", Responses!AO34)","v":""},{"$f":"IF(ISBLANK(Responses!AP34), \"\", Responses!AP34)","v":""},{"$error":"#N/A"},{"$error":"#N/A"},{"$f":"IF(ISBLANK(C34),0,VLOOKUP(C34,LUTs!$A$6:$B$8,2))","v":{"$error":"#N/A"}},{"$f":"IF(ISBLANK(D34),0,VLOOKUP(D34,LUTs!$A$6:$B$8,2))","v":{"$error":"#N/A"}},{"$f":"IF(ISBLANK(E34),0,VLOOKUP(E34,LUTs!$A$6:$B$8,2))","v":{"$error":"#N/A"}},{"$f":"IF(ISBLANK(F34),0,VLOOKUP(F34,LUTs!$A$6:$B$8,2))","v":{"$error":"#N/A"}},{"$f":"IF(ISBLANK(G34),0,VLOOKUP(G34,LUTs!$A$6:$B$8,2))","v":{"$error":"#N/A"}},{"$f":"IF(ISBLANK(H34),0,VLOOKUP(H34,LUTs!$A$6:$B$8,2))","v":{"$error":"#N/A"}},{"$f":"IF(ISBLANK(I34),0,VLOOKUP(I34,LUTs!$A$6:$B$8,2))","v":{"$error":"#N/A"}},{"$f":"IF(ISBLANK(J34),0,VLOOKUP(J34,LUTs!$A$6:$B$8,2))","v":{"$error":"#N/A"}},{"$f":"IF(ISBLANK(K34),0,VLOOKUP(K34,LUTs!$A$6:$B$8,2))","v":{"$error":"#N/A"}},{"$f":"IF(ISBLANK(L34),0,VLOOKUP(L34,LUTs!$A$6:$B$8,2))","v":{"$error":"#N/A"}},{"$f":"IF(ISBLANK(M34),0,VLOOKUP(M34,LUTs!$A$6:$B$8,2))","v":{"$error":"#N/A"}},{"$f":"IF(ISBLANK(N34),0,VLOOKUP(N34,LUTs!$A$6:$B$8,2))","v":{"$error":"#N/A"}},{"$f":"IF(ISBLANK(O34),0,VLOOKUP(O34,LUTs!$A$6:$B$8,2))","v":{"$error":"#N/A"}},{"$f":"IF(ISBLANK(P34),0,VLOOKUP(P34,LUTs!$A$6:$B$8,2))","v":{"$error":"#N/A"}},{"$f":"IF(ISBLANK(Q34),0,VLOOKUP(Q34,LUTs!$A$6:$B$8,2))","v":{"$error":"#N/A"}},{"$f":"IF(ISBLANK(R34),0,IF(ISERROR(VLOOKUP(R34,LUTs!$A$6:$B$8,2)),R34,VLOOKUP(R34,LUTs!$A$6:$B$8,2)))","v":""},{"$f":"IF(ISBLANK(S34),0,VLOOKUP(S34,LUTs!$A$6:$B$8,2))","v":{"$error":"#N/A"}},{"$f":"IF(ISBLANK(T34),0,IF(ISERROR(VLOOKUP(T34,LUTs!$A$6:$B$8,2)),T34,VLOOKUP(T34,LUTs!$A$6:$B$8,2)))","v":""},{"$f":"IF(ISBLANK(U34),0,VLOOKUP(U34,LUTs!$A$6:$B$8,2))","v":{"$error":"#N/A"}},{"$f":"IF(ISBLANK(V34),0,VLOOKUP(V34,LUTs!$A$6:$B$8,2))","v":{"$error":"#N/A"}},{"$f":"IF(ISBLANK(W34),0,VLOOKUP(W34,LUTs!$A$6:$B$8,2))","v":{"$error":"#N/A"}},{"$f":"IF(ISBLANK(X34),0,VLOOKUP(X34,LUTs!$A$6:$B$8,2))","v":{"$error":"#N/A"}}]
[{"$f":"IF(ISBLANK(Responses!A35), \"\", Responses!A35)","v":""},{"$f":"IF(ISBLANK(Responses!B35), \"\", Responses!B35)","v":""},{"$f":"IF(ISBLANK(Responses!U35), \"\", Responses!U35)","v":""},{"$f":"IF(ISBLANK(Responses!V35), \"\", Responses!V35)","v":""},{"$f":"IF(ISBLANK(Responses!W35), \"\", Responses!W35)","v":""},{"$f":"IF(ISBLANK(Responses!X35), \"\", Responses!X35)","v":""},{"$f":"IF(ISBLANK(Responses!Y35), \"\", Responses!Y35)","v":""},{"$f":"IF(ISBLANK(Responses!Z35), \"\", Responses!Z35)","v":""},{"$f":"IF(ISBLANK(Responses!AA35), \"\", Responses!AA35)","v":""},{"$f":"IF(ISBLANK(Responses!AB35), \"\", Responses!AB35)","v":""},{"$f":"IF(ISBLANK(Responses!AC35), \"\", Responses!AC35)","v":""},{"$f":"IF(ISBLANK(Responses!AD35), \"\", Responses!AD35)","v":""},{"$f":"IF(ISBLANK(Responses!AE35), \"\", Responses!AE35)","v":""},{"$f":"IF(ISBLANK(Responses!AF35), \"\", Responses!AF35)","v":""},{"$f":"IF(ISBLANK(Responses!AG35), \"\", Responses!AG35)","v":""},{"$f":"IF(ISBLANK(Responses!AH35), \"\", Responses!AH35)","v":""},{"$f":"IF(ISBLANK(Responses!AI35), \"\", Responses!AI35)","v":""},{"$f":"IF(ISBLANK(Responses!AJ35), \"\", Responses!AJ35)","v":""},{"$f":"IF(ISBLANK(Responses!AK35), \"\", Responses!AK35)","v":""},{"$f":"IF(ISBLANK(Responses!AL35), \"\", Responses!AL35)","v":""},{"$f":"IF(ISBLANK(Responses!AM35), \"\", Responses!AM35)","v":""},{"$f":"IF(ISBLANK(Responses!AN35), \"\", Responses!AN35)","v":""},{"$f":"IF(ISBLANK(Responses!AO35), \"\", Responses!AO35)","v":""},{"$f":"IF(ISBLANK(Responses!AP35), \"\", Responses!AP35)","v":""},{"$error":"#N/A"},{"$error":"#N/A"},{"$f":"IF(ISBLANK(C35),0,VLOOKUP(C35,LUTs!$A$6:$B$8,2))","v":{"$error":"#N/A"}},{"$f":"IF(ISBLANK(D35),0,VLOOKUP(D35,LUTs!$A$6:$B$8,2))","v":{"$error":"#N/A"}},{"$f":"IF(ISBLANK(E35),0,VLOOKUP(E35,LUTs!$A$6:$B$8,2))","v":{"$error":"#N/A"}},{"$f":"IF(ISBLANK(F35),0,VLOOKUP(F35,LUTs!$A$6:$B$8,2))","v":{"$error":"#N/A"}},{"$f":"IF(ISBLANK(G35),0,VLOOKUP(G35,LUTs!$A$6:$B$8,2))","v":{"$error":"#N/A"}},{"$f":"IF(ISBLANK(H35),0,VLOOKUP(H35,LUTs!$A$6:$B$8,2))","v":{"$error":"#N/A"}},{"$f":"IF(ISBLANK(I35),0,VLOOKUP(I35,LUTs!$A$6:$B$8,2))","v":{"$error":"#N/A"}},{"$f":"IF(ISBLANK(J35),0,VLOOKUP(J35,LUTs!$A$6:$B$8,2))","v":{"$error":"#N/A"}},{"$f":"IF(ISBLANK(K35),0,VLOOKUP(K35,LUTs!$A$6:$B$8,2))","v":{"$error":"#N/A"}},{"$f":"IF(ISBLANK(L35),0,VLOOKUP(L35,LUTs!$A$6:$B$8,2))","v":{"$error":"#N/A"}},{"$f":"IF(ISBLANK(M35),0,VLOOKUP(M35,LUTs!$A$6:$B$8,2))","v":{"$error":"#N/A"}},{"$f":"IF(ISBLANK(N35),0,VLOOKUP(N35,LUTs!$A$6:$B$8,2))","v":{"$error":"#N/A"}},{"$f":"IF(ISBLANK(O35),0,VLOOKUP(O35,LUTs!$A$6:$B$8,2))","v":{"$error":"#N/A"}},{"$f":"IF(ISBLANK(P35),0,VLOOKUP(P35,LUTs!$A$6:$B$8,2))","v":{"$error":"#N/A"}},{"$f":"IF(ISBLANK(Q35),0,VLOOKUP(Q35,LUTs!$A$6:$B$8,2))","v":{"$error":"#N/A"}},{"$f":"IF(ISBLANK(R35),0,IF(ISERROR(VLOOKUP(R35,LUTs!$A$6:$B$8,2)),R35,VLOOKUP(R35,LUTs!$A$6:$B$8,2)))","v":""},{"$f":"IF(ISBLANK(S35),0,VLOOKUP(S35,LUTs!$A$6:$B$8,2))","v":{"$error":"#N/A"}},{"$f":"IF(ISBLANK(T35),0,IF(ISERROR(VLOOKUP(T35,LUTs!$A$6:$B$8,2)),T35,VLOOKUP(T35,LUTs!$A$6:$B$8,2)))","v":""},{"$f":"IF(ISBLANK(U35),0,VLOOKUP(U35,LUTs!$A$6:$B$8,2))","v":{"$error":"#N/A"}},{"$f":"IF(ISBLANK(V35),0,VLOOKUP(V35,LUTs!$A$6:$B$8,2))","v":{"$error":"#N/A"}},{"$f":"IF(ISBLANK(W35),0,VLOOKUP(W35,LUTs!$A$6:$B$8,2))","v":{"$error":"#N/A"}},{"$f":"IF(ISBLANK(X35),0,VLOOKUP(X35,LUTs!$A$6:$B$8,2))","v":{"$error":"#N/A"}}]
[{"$f":"IF(ISBLANK(Responses!A36), \"\", Responses!A36)","v":""},{"$f":"IF(ISBLANK(Responses!B36), \"\", Responses!B36)","v":""},{"$f":"IF(ISBLANK(Responses!U36), \"\", Responses!U36)","v":""},{"$f":"IF(ISBLANK(Responses!V36), \"\", Responses!V36)","v":""},{"$f":"IF(ISBLANK(Responses!W36), \"\", Responses!W36)","v":""},{"$f":"IF(ISBLANK(Responses!X36), \"\", Responses!X36)","v":""},{"$f":"IF(ISBLANK(Responses!Y36), \"\", Responses!Y36)","v":""},{"$f":"IF(ISBLANK(Responses!Z36), \"\", Responses!Z36)","v":""},{"$f":"IF(ISBLANK(Responses!AA36), \"\", Responses!AA36)","v":""},{"$f":"IF(ISBLANK(Responses!AB36), \"\", Responses!AB36)","v":""},{"$f":"IF(ISBLANK(Responses!AC36), \"\", Responses!AC36)","v":""},{"$f":"IF(ISBLANK(Responses!AD36), \"\", Responses!AD36)","v":""},{"$f":"IF(ISBLANK(Responses!AE36), \"\", Responses!AE36)","v":""},{"$f":"IF(ISBLANK(Responses!AF36), \"\", Responses!AF36)","v":""},{"$f":"IF(ISBLANK(Responses!AG36), \"\", Responses!AG36)","v":""},{"$f":"IF(ISBLANK(Responses!AH36), \"\", Responses!AH36)","v":""},{"$f":"IF(ISBLANK(Responses!AI36), \"\", Responses!AI36)","v":""},{"$f":"IF(ISBLANK(Responses!AJ36), \"\", Responses!AJ36)","v":""},{"$f":"IF(ISBLANK(Responses!AK36), \"\", Responses!AK36)","v":""},{"$f":"IF(ISBLANK(Responses!AL36), \"\", Responses!AL36)","v":""},{"$f":"IF(ISBLANK(Responses!AM36), \"\", Responses!AM36)","v":""},{"$f":"IF(ISBLANK(Responses!AN36), \"\", Responses!AN36)","v":""},{"$f":"IF(ISBLANK(Responses!AO36), \"\", Responses!AO36)","v":""},{"$f":"IF(ISBLANK(Responses!AP36), \"\", Responses!AP36)","v":""},{"$error":"#N/A"},{"$error":"#N/A"},{"$f":"IF(ISBLANK(C36),0,VLOOKUP(C36,LUTs!$A$6:$B$8,2))","v":{"$error":"#N/A"}},{"$f":"IF(ISBLANK(D36),0,VLOOKUP(D36,LUTs!$A$6:$B$8,2))","v":{"$error":"#N/A"}},{"$f":"IF(ISBLANK(E36),0,VLOOKUP(E36,LUTs!$A$6:$B$8,2))","v":{"$error":"#N/A"}},{"$f":"IF(ISBLANK(F36),0,VLOOKUP(F36,LUTs!$A$6:$B$8,2))","v":{"$error":"#N/A"}},{"$f":"IF(ISBLANK(G36),0,VLOOKUP(G36,LUTs!$A$6:$B$8,2))","v":{"$error":"#N/A"}},{"$f":"IF(ISBLANK(H36),0,VLOOKUP(H36,LUTs!$A$6:$B$8,2))","v":{"$error":"#N/A"}},{"$f":"IF(ISBLANK(I36),0,VLOOKUP(I36,LUTs!$A$6:$B$8,2))","v":{"$error":"#N/A"}},{"$f":"IF(ISBLANK(J36),0,VLOOKUP(J36,LUTs!$A$6:$B$8,2))","v":{"$error":"#N/A"}},{"$f":"IF(ISBLANK(K36),0,VLOOKUP(K36,LUTs!$A$6:$B$8,2))","v":{"$error":"#N/A"}},{"$f":"IF(ISBLANK(L36),0,VLOOKUP(L36,LUTs!$A$6:$B$8,2))","v":{"$error":"#N/A"}},{"$f":"IF(ISBLANK(M36),0,VLOOKUP(M36,LUTs!$A$6:$B$8,2))","v":{"$error":"#N/A"}},{"$f":"IF(ISBLANK(N36),0,VLOOKUP(N36,LUTs!$A$6:$B$8,2))","v":{"$error":"#N/A"}},{"$f":"IF(ISBLANK(O36),0,VLOOKUP(O36,LUTs!$A$6:$B$8,2))","v":{"$error":"#N/A"}},{"$f":"IF(ISBLANK(P36),0,VLOOKUP(P36,LUTs!$A$6:$B$8,2))","v":{"$error":"#N/A"}},{"$f":"IF(ISBLANK(Q36),0,VLOOKUP(Q36,LUTs!$A$6:$B$8,2))","v":{"$error":"#N/A"}},{"$f":"IF(ISBLANK(R36),0,IF(ISERROR(VLOOKUP(R36,LUTs!$A$6:$B$8,2)),R36,VLOOKUP(R36,LUTs!$A$6:$B$8,2)))","v":""},{"$f":"IF(ISBLANK(S36),0,VLOOKUP(S36,LUTs!$A$6:$B$8,2))","v":{"$error":"#N/A"}},{"$f":"IF(ISBLANK(T36),0,IF(ISERROR(VLOOKUP(T36,LUTs!$A$6:$B$8,2)),T36,VLOOKUP(T36,LUTs!$A$6:$B$8,2)))","v":""},{"$f":"IF(ISBLANK(U36),0,VLOOKUP(U36,LUTs!$A$6:$B$8,2))","v":{"$error":"#N/A"}},{"$f":"IF(ISBLANK(V36),0,VLOOKUP(V36,LUTs!$A$6:$B$8,2))","v":{"$error":"#N/A"}},{"$f":"IF(ISBLANK(W36),0,VLOOKUP(W36,LUTs!$A$6:$B$8,2))","v":{"$error":"#N/A"}},{"$f":"IF(ISBLANK(X36),0,VLOOKUP(X36,LUTs!$A$6:$B$8,2))","v":{"$error":"#N/A"}}]
[{"$f":"IF(ISBLANK(Responses!A37), \"\", Responses!A37)","v":""},{"$f":"IF(ISBLANK(Responses!B37), \"\", Responses!B37)","v":""},{"$f":"IF(ISBLANK(Responses!U37), \"\", Responses!U37)","v":""},{"$f":"IF(ISBLANK(Responses!V37), \"\", Responses!V37)","v":""},{"$f":"IF(ISBLANK(Responses!W37), \"\", Responses!W37)","v":""},{"$f":"IF(ISBLANK(Responses!X37), \"\", Responses!X37)","v":""},{"$f":"IF(ISBLANK(Responses!Y37), \"\", Responses!Y37)","v":""},{"$f":"IF(ISBLANK(Responses!Z37), \"\", Responses!Z37)","v":""},{"$f":"IF(ISBLANK(Responses!AA37), \"\", Responses!AA37)","v":""},{"$f":"IF(ISBLANK(Responses!AB37), \"\", Responses!AB37)","v":""},{"$f":"IF(ISBLANK(Responses!AC37), \"\", Responses!AC37)","v":""},{"$f":"IF(ISBLANK(Responses!AD37), \"\", Responses!AD37)","v":""},{"$f":"IF(ISBLANK(Responses!AE37), \"\", Responses!AE37)","v":""},{"$f":"IF(ISBLANK(Responses!AF37), \"\", Responses!AF37)","v":""},{"$f":"IF(ISBLANK(Responses!AG37), \"\", Responses!AG37)","v":""},{"$f":"IF(ISBLANK(Responses!AH37), \"\", Responses!AH37)","v":""},{"$f":"IF(ISBLANK(Responses!AI37), \"\", Responses!AI37)","v":""},{"$f":"IF(ISBLANK(Responses!AJ37), \"\", Responses!AJ37)","v":""},{"$f":"IF(ISBLANK(Responses!AK37), \"\", Responses!AK37)","v":""},{"$f":"IF(ISBLANK(Responses!AL37), \"\", Responses!AL37)","v":""},{"$f":"IF(ISBLANK(Responses!AM37), \"\", Responses!AM37)","v":""},{"$f":"IF(ISBLANK(Responses!AN37), \"\", Responses!AN37)","v":""},{"$f":"IF(ISBLANK(Responses!AO37), \"\", Responses!AO37)","v":""},{"$f":"IF(ISBLANK(Responses!AP37), \"\", Responses!AP37)","v":""},{"$error":"#N/A"},{"$error":"#N/A"},{"$f":"IF(ISBLANK(C37),0,VLOOKUP(C37,LUTs!$A$6:$B$8,2))","v":{"$error":"#N/A"}},{"$f":"IF(ISBLANK(D37),0,VLOOKUP(D37,LUTs!$A$6:$B$8,2))","v":{"$error":"#N/A"}},{"$f":"IF(ISBLANK(E37),0,VLOOKUP(E37,LUTs!$A$6:$B$8,2))","v":{"$error":"#N/A"}},{"$f":"IF(ISBLANK(F37),0,VLOOKUP(F37,LUTs!$A$6:$B$8,2))","v":{"$error":"#N/A"}},{"$f":"IF(ISBLANK(G37),0,VLOOKUP(G37,LUTs!$A$6:$B$8,2))","v":{"$error":"#N/A"}},{"$f":"IF(ISBLANK(H37),0,VLOOKUP(H37,LUTs!$A$6:$B$8,2))","v":{"$error":"#N/A"}},{"$f":"IF(ISBLANK(I37),0,VLOOKUP(I37,LUTs!$A$6:$B$8,2))","v":{"$error":"#N/A"}},{"$f":"IF(ISBLANK(J37),0,VLOOKUP(J37,LUTs!$A$6:$B$8,2))","v":{"$error":"#N/A"}},{"$f":"IF(ISBLANK(K37),0,VLOOKUP(K37,LUTs!$A$6:$B$8,2))","v":{"$error":"#N/A"}},{"$f":"IF(ISBLANK(L37),0,VLOOKUP(L37,LUTs!$A$6:$B$8,2))","v":{"$error":"#N/A"}},{"$f":"IF(ISBLANK(M37),0,VLOOKUP(M37,LUTs!$A$6:$B$8,2))","v":{"$error":"#N/A"}},{"$f":"IF(ISBLANK(N37),0,VLOOKUP(N37,LUTs!$A$6:$B$8,2))","v":{"$error":"#N/A"}},{"$f":"IF(ISBLANK(O37),0,VLOOKUP(O37,LUTs!$A$6:$B$8,2))","v":{"$error":"#N/A"}},{"$f":"IF(ISBLANK(P37),0,VLOOKUP(P37,LUTs!$A$6:$B$8,2))","v":{"$error":"#N/A"}},{"$f":"IF(ISBLANK(Q37),0,VLOOKUP(Q37,LUTs!$A$6:$B$8,2))","v":{"$error":"#N/A"}},{"$f":"IF(ISBLANK(R37),0,IF(ISERROR(VLOOKUP(R37,LUTs!$A$6:$B$8,2)),R37,VLOOKUP(R37,LUTs!$A$6:$B$8,2)))","v":""},{"$f":"IF(ISBLANK(S37),0,VLOOKUP(S37,LUTs!$A$6:$B$8,2))","v":{"$error":"#N/A"}},{"$f":"IF(ISBLANK(T37),0,IF(ISERROR(VLOOKUP(T37,LUTs!$A$6:$B$8,2)),T37,VLOOKUP(T37,LUTs!$A$6:$B$8,2)))","v":""},{"$f":"IF(ISBLANK(U37),0,VLOOKUP(U37,LUTs!$A$6:$B$8,2))","v":{"$error":"#N/A"}},{"$f":"IF(ISBLANK(V37),0,VLOOKUP(V37,LUTs!$A$6:$B$8,2))","v":{"$error":"#N/A"}},{"$f":"IF(ISBLANK(W37),0,VLOOKUP(W37,LUTs!$A$6:$B$8,2))","v":{"$error":"#N/A"}},{"$f":"IF(ISBLANK(X37),0,VLOOKUP(X37,LUTs!$A$6:$B$8,2))","v":{"$error":"#N/A"}}]
[{"$f":"IF(ISBLANK(Responses!A38), \"\", Responses!A38)","v":""},{"$f":"IF(ISBLANK(Responses!B38), \"\", Responses!B38)","v":""},{"$f":"IF(ISBLANK(Responses!U38), \"\", Responses!U38)","v":""},{"$f":"IF(ISBLANK(Responses!V38), \"\", Responses!V38)","v":""},{"$f":"IF(ISBLANK(Responses!W38), \"\", Responses!W38)","v":""},{"$f":"IF(ISBLANK(Responses!X38), \"\", Responses!X38)","v":""},{"$f":"IF(ISBLANK(Responses!Y38), \"\", Responses!Y38)","v":""},{"$f":"IF(ISBLANK(Responses!Z38), \"\", Responses!Z38)","v":""},{"$f":"IF(ISBLANK(Responses!AA38), \"\", Responses!AA38)","v":""},{"$f":"IF(ISBLANK(Responses!AB38), \"\", Responses!AB38)","v":""},{"$f":"IF(ISBLANK(Responses!AC38), \"\", Responses!AC38)","v":""},{"$f":"IF(ISBLANK(Responses!AD38), \"\", Responses!AD38)","v":""},{"$f":"IF(ISBLANK(Responses!AE38), \"\", Responses!AE38)","v":""},{"$f":"IF(ISBLANK(Responses!AF38), \"\", Responses!AF38)","v":""},{"$f":"IF(ISBLANK(Responses!AG38), \"\", Responses!AG38)","v":""},{"$f":"IF(ISBLANK(Responses!AH38), \"\", Responses!AH38)","v":""},{"$f":"IF(ISBLANK(Responses!AI38), \"\", Responses!AI38)","v":""},{"$f":"IF(ISBLANK(Responses!AJ38), \"\", Responses!AJ38)","v":""},{"$f":"IF(ISBLANK(Responses!AK38), \"\", Responses!AK38)","v":""},{"$f":"IF(ISBLANK(Responses!AL38), \"\", Responses!AL38)","v":""},{"$f":"IF(ISBLANK(Responses!AM38), \"\", Responses!AM38)","v":""},{"$f":"IF(ISBLANK(Responses!AN38), \"\", Responses!AN38)","v":""},{"$f":"IF(ISBLANK(Responses!AO38), \"\", Responses!AO38)","v":""},{"$f":"IF(ISBLANK(Responses!AP38), \"\", Responses!AP38)","v":""},{"$error":"#N/A"},{"$error":"#N/A"},{"$f":"IF(ISBLANK(C38),0,VLOOKUP(C38,LUTs!$A$6:$B$8,2))","v":{"$error":"#N/A"}},{"$f":"IF(ISBLANK(D38),0,VLOOKUP(D38,LUTs!$A$6:$B$8,2))","v":{"$error":"#N/A"}},{"$f":"IF(ISBLANK(E38),0,VLOOKUP(E38,LUTs!$A$6:$B$8,2))","v":{"$error":"#N/A"}},{"$f":"IF(ISBLANK(F38),0,VLOOKUP(F38,LUTs!$A$6:$B$8,2))","v":{"$error":"#N/A"}},{"$f":"IF(ISBLANK(G38),0,VLOOKUP(G38,LUTs!$A$6:$B$8,2))","v":{"$error":"#N/A"}},{"$f":"IF(ISBLANK(H38),0,VLOOKUP(H38,LUTs!$A$6:$B$8,2))","v":{"$error":"#N/A"}},{"$f":"IF(ISBLANK(I38),0,VLOOKUP(I38,LUTs!$A$6:$B$8,2))","v":{"$error":"#N/A"}},{"$f":"IF(ISBLANK(J38),0,VLOOKUP(J38,LUTs!$A$6:$B$8,2))","v":{"$error":"#N/A"}},{"$f":"IF(ISBLANK(K38),0,VLOOKUP(K38,LUTs!$A$6:$B$8,2))","v":{"$error":"#N/A"}},{"$f":"IF(ISBLANK(L38),0,VLOOKUP(L38,LUTs!$A$6:$B$8,2))","v":{"$error":"#N/A"}},{"$f":"IF(ISBLANK(M38),0,VLOOKUP(M38,LUTs!$A$6:$B$8,2))","v":{"$error":"#N/A"}},{"$f":"IF(ISBLANK(N38),0,VLOOKUP(N38,LUTs!$A$6:$B$8,2))","v":{"$error":"#N/A"}},{"$f":"IF(ISBLANK(O38),0,VLOOKUP(O38,LUTs!$A$6:$B$8,2))","v":{"$error":"#N/A"}},{"$f":"IF(ISBLANK(P38),0,VLOOKUP(P38,LUTs!$A$6:$B$8,2))","v":{"$error":"#N/A"}},{"$f":"IF(ISBLANK(Q38),0,VLOOKUP(Q38,LUTs!$A$6:$B$8,2))","v":{"$error":"#N/A"}},{"$f":"IF(ISBLANK(R38),0,IF(ISERROR(VLOOKUP(R38,LUTs!$A$6:$B$8,2)),R38,VLOOKUP(R38,LUTs!$A$6:$B$8,2)))","v":""},{"$f":"IF(ISBLANK(S38),0,VLOOKUP(S38,LUTs!$A$6:$B$8,2))","v":{"$error":"#N/A"}},{"$f":"IF(ISBLANK(T38),0,IF(ISERROR(VLOOKUP(T38,LUTs!$A$6:$B$8,2)),T38,VLOOKUP(T38,LUTs!$A$6:$B$8,2)))","v":""},{"$f":"IF(ISBLANK(U38),0,VLOOKUP(U38,LUTs!$A$6:$B$8,2))","v":{"$error":"#N/A"}},{"$f":"IF(ISBLANK(V38),0,VLOOKUP(V38,LUTs!$A$6:$B$8,2))","v":{"$error":"#N/A"}},{"$f":"IF(ISBLANK(W38),0,VLOOKUP(W38,LUTs!$A$6:$B$8,2))","v":{"$error":"#N/A"}},{"$f":"IF(ISBLANK(X38),0,VLOOKUP(X38,LUTs!$A$6:$B$8,2))","v":{"$error":"#N/A"}}]
[{"$f":"IF(ISBLANK(Responses!A39), \"\", Responses!A39)","v":""},{"$f":"IF(ISBLANK(Responses!B39), \"\", Responses!B39)","v":""},{"$f":"IF(ISBLANK(Responses!U39), \"\", Responses!U39)","v":""},{"$f":"IF(ISBLANK(Responses!V39), \"\", Responses!V39)","v":""},{"$f":"IF(ISBLANK(Responses!W39), \"\", Responses!W39)","v":""},{"$f":"IF(ISBLANK(Responses!X39), \"\", Responses!X39)","v":""},{"$f":"IF(ISBLANK(Responses!Y39), \"\", Responses!Y39)","v":""},{"$f":"IF(ISBLANK(Responses!Z39), \"\", Responses!Z39)","v":""},{"$f":"IF(ISBLANK(Responses!AA39), \"\", Responses!AA39)","v":""},{"$f":"IF(ISBLANK(Responses!AB39), \"\", Responses!AB39)","v":""},{"$f":"IF(ISBLANK(Responses!AC39), \"\", Responses!AC39)","v":""},{"$f":"IF(ISBLANK(Responses!AD39), \"\", Responses!AD39)","v":""},{"$f":"IF(ISBLANK(Responses!AE39), \"\", Responses!AE39)","v":""},{"$f":"IF(ISBLANK(Responses!AF39), \"\", Responses!AF39)","v":""},{"$f":"IF(ISBLANK(Responses!AG39), \"\", Responses!AG39)","v":""},{"$f":"IF(ISBLANK(Responses!AH39), \"\", Responses!AH39)","v":""},{"$f":"IF(ISBLANK(Responses!AI39), \"\", Responses!AI39)","v":""},{"$f":"IF(ISBLANK(Responses!AJ39), \"\", Responses!AJ39)","v":""},{"$f":"IF(ISBLANK(Responses!AK39), \"\", Responses!AK39)","v":""},{"$f":"IF(ISBLANK(Responses!AL39), \"\", Responses!AL39)","v":""},{"$f":"IF(ISBLANK(Responses!AM39), \"\", Responses!AM39)","v":""},{"$f":"IF(ISBLANK(Responses!AN39), \"\", Responses!AN39)","v":""},{"$f":"IF(ISBLANK(Responses!AO39), \"\", Responses!AO39)","v":""},{"$f":"IF(ISBLANK(Responses!AP39), \"\", Responses!AP39)","v":""},{"$error":"#N/A"},{"$error":"#N/A"},{"$f":"IF(ISBLANK(C39),0,VLOOKUP(C39,LUTs!$A$6:$B$8,2))","v":{"$error":"#N/A"}},{"$f":"IF(ISBLANK(D39),0,VLOOKUP(D39,LUTs!$A$6:$B$8,2))","v":{"$error":"#N/A"}},{"$f":"IF(ISBLANK(E39),0,VLOOKUP(E39,LUTs!$A$6:$B$8,2))","v":{"$error":"#N/A"}},{"$f":"IF(ISBLANK(F39),0,VLOOKUP(F39,LUTs!$A$6:$B$8,2))","v":{"$error":"#N/A"}},{"$f":"IF(ISBLANK(G39),0,VLOOKUP(G39,LUTs!$A$6:$B$8,2))","v":{"$error":"#N/A"}},{"$f":"IF(ISBLANK(H39),0,VLOOKUP(H39,LUTs!$A$6:$B$8,2))","v":{"$error":"#N/A"}},{"$f":"IF(ISBLANK(I39),0,VLOOKUP(I39,LUTs!$A$6:$B$8,2))","v":{"$error":"#N/A"}},{"$f":"IF(ISBLANK(J39),0,VLOOKUP(J39,LUTs!$A$6:$B$8,2))","v":{"$error":"#N/A"}},{"$f":"IF(ISBLANK(K39),0,VLOOKUP(K39,LUTs!$A$6:$B$8,2))","v":{"$error":"#N/A"}},{"$f":"IF(ISBLANK(L39),0,VLOOKUP(L39,LUTs!$A$6:$B$8,2))","v":{"$error":"#N/A"}},{"$f":"IF(ISBLANK(M39),0,VLOOKUP(M39,LUTs!$A$6:$B$8,2))","v":{"$error":"#N/A"}},{"$f":"IF(ISBLANK(N39),0,VLOOKUP(N39,LUTs!$A$6:$B$8,2))","v":{"$error":"#N/A"}},{"$f":"IF(ISBLANK(O39),0,VLOOKUP(O39,LUTs!$A$6:$B$8,2))","v":{"$error":"#N/A"}},{"$f":"IF(ISBLANK(P39),0,VLOOKUP(P39,LUTs!$A$6:$B$8,2))","v":{"$error":"#N/A"}},{"$f":"IF(ISBLANK(Q39),0,VLOOKUP(Q39,LUTs!$A$6:$B$8,2))","v":{"$error":"#N/A"}},{"$f":"IF(ISBLANK(R39),0,IF(ISERROR(VLOOKUP(R39,LUTs!$A$6:$B$8,2)),R39,VLOOKUP(R39,LUTs!$A$6:$B$8,2)))","v":""},{"$f":"IF(ISBLANK(S39),0,VLOOKUP(S39,LUTs!$A$6:$B$8,2))","v":{"$error":"#N/A"}},{"$f":"IF(ISBLANK(T39),0,IF(ISERROR(VLOOKUP(T39,LUTs!$A$6:$B$8,2)),T39,VLOOKUP(T39,LUTs!$A$6:$B$8,2)))","v":""},{"$f":"IF(ISBLANK(U39),0,VLOOKUP(U39,LUTs!$A$6:$B$8,2))","v":{"$error":"#N/A"}},{"$f":"IF(ISBLANK(V39),0,VLOOKUP(V39,LUTs!$A$6:$B$8,2))","v":{"$error":"#N/A"}},{"$f":"IF(ISBLANK(W39),0,VLOOKUP(W39,LUTs!$A$6:$B$8,2))","v":{"$error":"#N/A"}},{"$f":"IF(ISBLANK(X39),0,VLOOKUP(X39,LUTs!$A$6:$B$8,2))","v":{"$error":"#N/A"}}]
[{"$f":"IF(ISBLANK(Responses!A40), \"\", Responses!A40)","v":""},{"$f":"IF(ISBLANK(Responses!B40), \"\", Responses!B40)","v":""},{"$f":"IF(ISBLANK(Responses!U40), \"\", Responses!U40)","v":""},{"$f":"IF(ISBLANK(Responses!V40), \"\", Responses!V40)","v":""},{"$f":"IF(ISBLANK(Responses!W40), \"\", Responses!W40)","v":""},{"$f":"IF(ISBLANK(Responses!X40), \"\", Responses!X40)","v":""},{"$f":"IF(ISBLANK(Responses!Y40), \"\", Responses!Y40)","v":""},{"$f":"IF(ISBLANK(Responses!Z40), \"\", Responses!Z40)","v":""},{"$f":"IF(ISBLANK(Responses!AA40), \"\", Responses!AA40)","v":""},{"$f":"IF(ISBLANK(Responses!AB40), \"\", Responses!AB40)","v":""},{"$f":"IF(ISBLANK(Responses!AC40), \"\", Responses!AC40)","v":""},{"$f":"IF(ISBLANK(Responses!AD40), \"\", Responses!AD40)","v":""},{"$f":"IF(ISBLANK(Responses!AE40), \"\", Responses!AE40)","v":""},{"$f":"IF(ISBLANK(Responses!AF40), \"\", Responses!AF40)","v":""},{"$f":"IF(ISBLANK(Responses!AG40), \"\", Responses!AG40)","v":""},{"$f":"IF(ISBLANK(Responses!AH40), \"\", Responses!AH40)","v":""},{"$f":"IF(ISBLANK(Responses!AI40), \"\", Responses!AI40)","v":""},{"$f":"IF(ISBLANK(Responses!AJ40), \"\", Responses!AJ40)","v":""},{"$f":"IF(ISBLANK(Responses!AK40), \"\", Responses!AK40)","v":""},{"$f":"IF(ISBLANK(Responses!AL40), \"\", Responses!AL40)","v":""},{"$f":"IF(ISBLANK(Responses!AM40), \"\", Responses!AM40)","v":""},{"$f":"IF(ISBLANK(Responses!AN40), \"\", Responses!AN40)","v":""},{"$f":"IF(ISBLANK(Responses!AO40), \"\", Responses!AO40)","v":""},{"$f":"IF(ISBLANK(Responses!AP40), \"\", Responses!AP40)","v":""},{"$error":"#N/A"},{"$error":"#N/A"},{"$f":"IF(ISBLANK(C40),0,VLOOKUP(C40,LUTs!$A$6:$B$8,2))","v":{"$error":"#N/A"}},{"$f":"IF(ISBLANK(D40),0,VLOOKUP(D40,LUTs!$A$6:$B$8,2))","v":{"$error":"#N/A"}},{"$f":"IF(ISBLANK(E40),0,VLOOKUP(E40,LUTs!$A$6:$B$8,2))","v":{"$error":"#N/A"}},{"$f":"IF(ISBLANK(F40),0,VLOOKUP(F40,LUTs!$A$6:$B$8,2))","v":{"$error":"#N/A"}},{"$f":"IF(ISBLANK(G40),0,VLOOKUP(G40,LUTs!$A$6:$B$8,2))","v":{"$error":"#N/A"}},{"$f":"IF(ISBLANK(H40),0,VLOOKUP(H40,LUTs!$A$6:$B$8,2))","v":{"$error":"#N/A"}},{"$f":"IF(ISBLANK(I40),0,VLOOKUP(I40,LUTs!$A$6:$B$8,2))","v":{"$error":"#N/A"}},{"$f":"IF(ISBLANK(J40),0,VLOOKUP(J40,LUTs!$A$6:$B$8,2))","v":{"$error":"#N/A"}},{"$f":"IF(ISBLANK(K40),0,VLOOKUP(K40,LUTs!$A$6:$B$8,2))","v":{"$error":"#N/A"}},{"$f":"IF(ISBLANK(L40),0,VLOOKUP(L40,LUTs!$A$6:$B$8,2))","v":{"$error":"#N/A"}},{"$f":"IF(ISBLANK(M40),0,VLOOKUP(M40,LUTs!$A$6:$B$8,2))","v":{"$error":"#N/A"}},{"$f":"IF(ISBLANK(N40),0,VLOOKUP(N40,LUTs!$A$6:$B$8,2))","v":{"$error":"#N/A"}},{"$f":"IF(ISBLANK(O40),0,VLOOKUP(O40,LUTs!$A$6:$B$8,2))","v":{"$error":"#N/A"}},{"$f":"IF(ISBLANK(P40),0,VLOOKUP(P40,LUTs!$A$6:$B$8,2))","v":{"$error":"#N/A"}},{"$f":"IF(ISBLANK(Q40),0,VLOOKUP(Q40,LUTs!$A$6:$B$8,2))","v":{"$error":"#N/A"}},{"$f":"IF(ISBLANK(R40),0,IF(ISERROR(VLOOKUP(R40,LUTs!$A$6:$B$8,2)),R40,VLOOKUP(R40,LUTs!$A$6:$B$8,2)))","v":""},{"$f":"IF(ISBLANK(S40),0,VLOOKUP(S40,LUTs!$A$6:$B$8,2))","v":{"$error":"#N/A"}},{"$f":"IF(ISBLANK(T40),0,IF(ISERROR(VLOOKUP(T40,LUTs!$A$6:$B$8,2)),T40,VLOOKUP(T40,LUTs!$A$6:$B$8,2)))","v":""},{"$f":"IF(ISBLANK(U40),0,VLOOKUP(U40,LUTs!$A$6:$B$8,2))","v":{"$error":"#N/A"}},{"$f":"IF(ISBLANK(V40),0,VLOOKUP(V40,LUTs!$A$6:$B$8,2))","v":{"$error":"#N/A"}},{"$f":"IF(ISBLANK(W40),0,VLOOKUP(W40,LUTs!$A$6:$B$8,2))","v":{"$error":"#N/A"}},{"$f":"IF(ISBLANK(X40),0,VLOOKUP(X40,LUTs!$A$6:$B$8,2))","v":{"$error":"#N/A"}}]
[{"$f":"IF(ISBLANK(Responses!A41), \"\", Responses!A41)","v":""},{"$f":"IF(ISBLANK(Responses!B41), \"\", Responses!B41)","v":""},{"$f":"IF(ISBLANK(Responses!U41), \"\", Responses!U41)","v":""},{"$f":"IF(ISBLANK(Responses!V41), \"\", Responses!V41)","v":""},{"$f":"IF(ISBLANK(Responses!W41), \"\", Responses!W41)","v":""},{"$f":"IF(ISBLANK(Responses!X41), \"\", Responses!X41)","v":""},{"$f":"IF(ISBLANK(Responses!Y41), \"\", Responses!Y41)","v":""},{"$f":"IF(ISBLANK(Responses!Z41), \"\", Responses!Z41)","v":""},{"$f":"IF(ISBLANK(Responses!AA41), \"\", Responses!AA41)","v":""},{"$f":"IF(ISBLANK(Responses!AB41), \"\", Responses!AB41)","v":""},{"$f":"IF(ISBLANK(Responses!AC41), \"\", Responses!AC41)","v":""},{"$f":"IF(ISBLANK(Responses!AD41), \"\", Responses!AD41)","v":""},{"$f":"IF(ISBLANK(Responses!AE41), \"\", Responses!AE41)","v":""},{"$f":"IF(ISBLANK(Responses!AF41), \"\", Responses!AF41)","v":""},{"$f":"IF(ISBLANK(Responses!AG41), \"\", Responses!AG41)","v":""},{"$f":"IF(ISBLANK(Responses!AH41), \"\", Responses!AH41)","v":""},{"$f":"IF(ISBLANK(Responses!AI41), \"\", Responses!AI41)","v":""},{"$f":"IF(ISBLANK(Responses!AJ41), \"\", Responses!AJ41)","v":""},{"$f":"IF(ISBLANK(Responses!AK41), \"\", Responses!AK41)","v":""},{"$f":"IF(ISBLANK(Responses!AL41), \"\", Responses!AL41)","v":""},{"$f":"IF(ISBLANK(Responses!AM41), \"\", Responses!AM41)","v":""},{"$f":"IF(ISBLANK(Responses!AN41), \"\", Responses!AN41)","v":""},{"$f":"IF(ISBLANK(Responses!AO41), \"\", Responses!AO41)","v":""},{"$f":"IF(ISBLANK(Responses!AP41), \"\", Responses!AP41)","v":""},{"$error":"#N/A"},{"$error":"#N/A"},{"$f":"IF(ISBLANK(C41),0,VLOOKUP(C41,LUTs!$A$6:$B$8,2))","v":{"$error":"#N/A"}},{"$f":"IF(ISBLANK(D41),0,VLOOKUP(D41,LUTs!$A$6:$B$8,2))","v":{"$error":"#N/A"}},{"$f":"IF(ISBLANK(E41),0,VLOOKUP(E41,LUTs!$A$6:$B$8,2))","v":{"$error":"#N/A"}},{"$f":"IF(ISBLANK(F41),0,VLOOKUP(F41,LUTs!$A$6:$B$8,2))","v":{"$error":"#N/A"}},{"$f":"IF(ISBLANK(G41),0,VLOOKUP(G41,LUTs!$A$6:$B$8,2))","v":{"$error":"#N/A"}},{"$f":"IF(ISBLANK(H41),0,VLOOKUP(H41,LUTs!$A$6:$B$8,2))","v":{"$error":"#N/A"}},{"$f":"IF(ISBLANK(I41),0,VLOOKUP(I41,LUTs!$A$6:$B$8,2))","v":{"$error":"#N/A"}},{"$f":"IF(ISBLANK(J41),0,VLOOKUP(J41,LUTs!$A$6:$B$8,2))","v":{"$error":"#N/A"}},{"$f":"IF(ISBLANK(K41),0,VLOOKUP(K41,LUTs!$A$6:$B$8,2))","v":{"$error":"#N/A"}},{"$f":"IF(ISBLANK(L41),0,VLOOKUP(L41,LUTs!$A$6:$B$8,2))","v":{"$error":"#N/A"}},{"$f":"IF(ISBLANK(M41),0,VLOOKUP(M41,LUTs!$A$6:$B$8,2))","v":{"$error":"#N/A"}},{"$f":"IF(ISBLANK(N41),0,VLOOKUP(N41,LUTs!$A$6:$B$8,2))","v":{"$error":"#N/A"}},{"$f":"IF(ISBLANK(O41),0,VLOOKUP(O41,LUTs!$A$6:$B$8,2))","v":{"$error":"#N/A"}},{"$f":"IF(ISBLANK(P41),0,VLOOKUP(P41,LUTs!$A$6:$B$8,2))","v":{"$error":"#N/A"}},{"$f":"IF(ISBLANK(Q41),0,VLOOKUP(Q41,LUTs!$A$6:$B$8,2))","v":{"$error":"#N/A"}},{"$f":"IF(ISBLANK(R41),0,IF(ISERROR(VLOOKUP(R41,LUTs!$A$6:$B$8,2)),R41,VLOOKUP(R41,LUTs!$A$6:$B$8,2)))","v":""},{"$f":"IF(ISBLANK(S41),0,VLOOKUP(S41,LUTs!$A$6:$B$8,2))","v":{"$error":"#N/A"}},{"$f":"IF(ISBLANK(T41),0,IF(ISERROR(VLOOKUP(T41,LUTs!$A$6:$B$8,2)),T41,VLOOKUP(T41,LUTs!$A$6:$B$8,2)))","v":""},{"$f":"IF(ISBLANK(U41),0,VLOOKUP(U41,LUTs!$A$6:$B$8,2))","v":{"$error":"#N/A"}},{"$f":"IF(ISBLANK(V41),0,VLOOKUP(V41,LUTs!$A$6:$B$8,2))","v":{"$error":"#N/A"}},{"$f":"IF(ISBLANK(W41),0,VLOOKUP(W41,LUTs!$A$6:$B$8,2))","v":{"$error":"#N/A"}},{"$f":"IF(ISBLANK(X41),0,VLOOKUP(X41,LUTs!$A$6:$B$8,2))","v":{"$error":"#N/A"}}]
[{"$f":"IF(ISBLANK(Responses!A42), \"\", Responses!A42)","v":""},{"$f":"IF(ISBLANK(Responses!B42), \"\", Responses!B42)","v":""},{"$f":"IF(ISBLANK(Responses!U42), \"\", Responses!U42)","v":""},{"$f":"IF(ISBLANK(Responses!V42), \"\", Responses!V42)","v":""},{"$f":"IF(ISBLANK(Responses!W42), \"\", Responses!W42)","v":""},{"$f":"IF(ISBLANK(Responses!X42), \"\", Responses!X42)","v":""},{"$f":"IF(ISBLANK(Responses!Y42), \"\", Responses!Y42)","v":""},{"$f":"IF(ISBLANK(Responses!Z42), \"\", Responses!Z42)","v":""},{"$f":"IF(ISBLANK(Responses!AA42), \"\", Responses!AA42)","v":""},{"$f":"IF(ISBLANK(Responses!AB42), \"\", Responses!AB42)","v":""},{"$f":"IF(ISBLANK(Responses!AC42), \"\", Responses!AC42)","v":""},{"$f":"IF(ISBLANK(Responses!AD42), \"\", Responses!AD42)","v":""},{"$f":"IF(ISBLANK(Responses!AE42), \"\", Responses!AE42)","v":""},{"$f":"IF(ISBLANK(Responses!AF42), \"\", Responses!AF42)","v":""},{"$f":"IF(ISBLANK(Responses!AG42), \"\", Responses!AG42)","v":""},{"$f":"IF(ISBLANK(Responses!AH42), \"\", Responses!AH42)","v":""},{"$f":"IF(ISBLANK(Responses!AI42), \"\", Responses!AI42)","v":""},{"$f":"IF(ISBLANK(Responses!AJ42), \"\", Responses!AJ42)","v":""},{"$f":"IF(ISBLANK(Responses!AK42), \"\", Responses!AK42)","v":""},{"$f":"IF(ISBLANK(Responses!AL42), \"\", Responses!AL42)","v":""},{"$f":"IF(ISBLANK(Responses!AM42), \"\", Responses!AM42)","v":""},{"$f":"IF(ISBLANK(Responses!AN42), \"\", Responses!AN42)","v":""},{"$f":"IF(ISBLANK(Responses!AO42), \"\", Responses!AO42)","v":""},{"$f":"IF(ISBLANK(Responses!AP42), \"\", Responses!AP42)","v":""},{"$error":"#N/A"},{"$error":"#N/A"},{"$f":"IF(ISBLANK(C42),0,VLOOKUP(C42,LUTs!$A$6:$B$8,2))","v":{"$error":"#N/A"}},{"$f":"IF(ISBLANK(D42),0,VLOOKUP(D42,LUTs!$A$6:$B$8,2))","v":{"$error":"#N/A"}},{"$f":"IF(ISBLANK(E42),0,VLOOKUP(E42,LUTs!$A$6:$B$8,2))","v":{"$error":"#N/A"}},{"$f":"IF(ISBLANK(F42),0,VLOOKUP(F42,LUTs!$A$6:$B$8,2))","v":{"$error":"#N/A"}},{"$f":"IF(ISBLANK(G42),0,VLOOKUP(G42,LUTs!$A$6:$B$8,2))","v":{"$error":"#N/A"}},{"$f":"IF(ISBLANK(H42),0,VLOOKUP(H42,LUTs!$A$6:$B$8,2))","v":{"$error":"#N/A"}},{"$f":"IF(ISBLANK(I42),0,VLOOKUP(I42,LUTs!$A$6:$B$8,2))","v":{"$error":"#N/A"}},{"$f":"IF(ISBLANK(J42),0,VLOOKUP(J42,LUTs!$A$6:$B$8,2))","v":{"$error":"#N/A"}},{"$f":"IF(ISBLANK(K42),0,VLOOKUP(K42,LUTs!$A$6:$B$8,2))","v":{"$error":"#N/A"}},{"$f":"IF(ISBLANK(L42),0,VLOOKUP(L42,LUTs!$A$6:$B$8,2))","v":{"$error":"#N/A"}},{"$f":"IF(ISBLANK(M42),0,VLOOKUP(M42,LUTs!$A$6:$B$8,2))","v":{"$error":"#N/A"}},{"$f":"IF(ISBLANK(N42),0,VLOOKUP(N42,LUTs!$A$6:$B$8,2))","v":{"$error":"#N/A"}},{"$f":"IF(ISBLANK(O42),0,VLOOKUP(O42,LUTs!$A$6:$B$8,2))","v":{"$error":"#N/A"}},{"$f":"IF(ISBLANK(P42),0,VLOOKUP(P42,LUTs!$A$6:$B$8,2))","v":{"$error":"#N/A"}},{"$f":"IF(ISBLANK(Q42),0,VLOOKUP(Q42,LUTs!$A$6:$B$8,2))","v":{"$error":"#N/A"}},{"$f":"IF(ISBLANK(R42),0,IF(ISERROR(VLOOKUP(R42,LUTs!$A$6:$B$8,2)),R42,VLOOKUP(R42,LUTs!$A$6:$B$8,2)))","v":""},{"$f":"IF(ISBLANK(S42),0,VLOOKUP(S42,LUTs!$A$6:$B$8,2))","v":{"$error":"#N/A"}},{"$f":"IF(ISBLANK(T42),0,IF(ISERROR(VLOOKUP(T42,LUTs!$A$6:$B$8,2)),T42,VLOOKUP(T42,LUTs!$A$6:$B$8,2)))","v":""},{"$f":"IF(ISBLANK(U42),0,VLOOKUP(U42,LUTs!$A$6:$B$8,2))","v":{"$error":"#N/A"}},{"$f":"IF(ISBLANK(V42),0,VLOOKUP(V42,LUTs!$A$6:$B$8,2))","v":{"$error":"#N/A"}},{"$f":"IF(ISBLANK(W42),0,VLOOKUP(W42,LUTs!$A$6:$B$8,2))","v":{"$error":"#N/A"}},{"$f":"IF(ISBLANK(X42),0,VLOOKUP(X42,LUTs!$A$6:$B$8,2))","v":{"$error":"#N/A"}}]
[{"$f":"IF(ISBLANK(Responses!A43), \"\", Responses!A43)","v":""},{"$f":"IF(ISBLANK(Responses!B43), \"\", Responses!B43)","v":""},{"$f":"IF(ISBLANK(Responses!U43), \"\", Responses!U43)","v":""},{"$f":"IF(ISBLANK(Responses!V43), \"\", Responses!V43)","v":""},{"$f":"IF(ISBLANK(Responses!W43), \"\", Responses!W43)","v":""},{"$f":"IF(ISBLANK(Responses!X43), \"\", Responses!X43)","v":""},{"$f":"IF(ISBLANK(Responses!Y43), \"\", Responses!Y43)","v":""},{"$f":"IF(ISBLANK(Responses!Z43), \"\", Responses!Z43)","v":""},{"$f":"IF(ISBLANK(Responses!AA43), \"\", Responses!AA43)","v":""},{"$f":"IF(ISBLANK(Responses!AB43), \"\", Responses!AB43)","v":""},{"$f":"IF(ISBLANK(Responses!AC43), \"\", Responses!AC43)","v":""},{"$f":"IF(ISBLANK(Responses!AD43), \"\", Responses!AD43)","v":""},{"$f":"IF(ISBLANK(Responses!AE43), \"\", Responses!AE43)","v":""},{"$f":"IF(ISBLANK(Responses!AF43), \"\", Responses!AF43)","v":""},{"$f":"IF(ISBLANK(Responses!AG43), \"\", Responses!AG43)","v":""},{"$f":"IF(ISBLANK(Responses!AH43), \"\", Responses!AH43)","v":""},{"$f":"IF(ISBLANK(Responses!AI43), \"\", Responses!AI43)","v":""},{"$f":"IF(ISBLANK(Responses!AJ43), \"\", Responses!AJ43)","v":""},{"$f":"IF(ISBLANK(Responses!AK43), \"\", Responses!AK43)","v":""},{"$f":"IF(ISBLANK(Responses!AL43), \"\", Responses!AL43)","v":""},{"$f":"IF(ISBLANK(Responses!AM43), \"\", Responses!AM43)","v":""},{"$f":"IF(ISBLANK(Responses!AN43), \"\", Responses!AN43)","v":""},{"$f":"IF(ISBLANK(Responses!AO43), \"\", Responses!AO43)","v":""},{"$f":"IF(ISBLANK(Responses!AP43), \"\", Responses!AP43)","v":""},{"$error":"#N/A"},{"$error":"#N/A"},{"$f":"IF(ISBLANK(C43),0,VLOOKUP(C43,LUTs!$A$6:$B$8,2))","v":{"$error":"#N/A"}},{"$f":"IF(ISBLANK(D43),0,VLOOKUP(D43,LUTs!$A$6:$B$8,2))","v":{"$error":"#N/A"}},{"$f":"IF(ISBLANK(E43),0,VLOOKUP(E43,LUTs!$A$6:$B$8,2))","v":{"$error":"#N/A"}},{"$f":"IF(ISBLANK(F43),0,VLOOKUP(F43,LUTs!$A$6:$B$8,2))","v":{"$error":"#N/A"}},{"$f":"IF(ISBLANK(G43),0,VLOOKUP(G43,LUTs!$A$6:$B$8,2))","v":{"$error":"#N/A"}},{"$f":"IF(ISBLANK(H43),0,VLOOKUP(H43,LUTs!$A$6:$B$8,2))","v":{"$error":"#N/A"}},{"$f":"IF(ISBLANK(I43),0,VLOOKUP(I43,LUTs!$A$6:$B$8,2))","v":{"$error":"#N/A"}},{"$f":"IF(ISBLANK(J43),0,VLOOKUP(J43,LUTs!$A$6:$B$8,2))","v":{"$error":"#N/A"}},{"$f":"IF(ISBLANK(K43),0,VLOOKUP(K43,LUTs!$A$6:$B$8,2))","v":{"$error":"#N/A"}},{"$f":"IF(ISBLANK(L43),0,VLOOKUP(L43,LUTs!$A$6:$B$8,2))","v":{"$error":"#N/A"}},{"$f":"IF(ISBLANK(M43),0,VLOOKUP(M43,LUTs!$A$6:$B$8,2))","v":{"$error":"#N/A"}},{"$f":"IF(ISBLANK(N43),0,VLOOKUP(N43,LUTs!$A$6:$B$8,2))","v":{"$error":"#N/A"}},{"$f":"IF(ISBLANK(O43),0,VLOOKUP(O43,LUTs!$A$6:$B$8,2))","v":{"$error":"#N/A"}},{"$f":"IF(ISBLANK(P43),0,VLOOKUP(P43,LUTs!$A$6:$B$8,2))","v":{"$error":"#N/A"}},{"$f":"IF(ISBLANK(Q43),0,VLOOKUP(Q43,LUTs!$A$6:$B$8,2))","v":{"$error":"#N/A"}},{"$f":"IF(ISBLANK(R43),0,IF(ISERROR(VLOOKUP(R43,LUTs!$A$6:$B$8,2)),R43,VLOOKUP(R43,LUTs!$A$6:$B$8,2)))","v":""},{"$f":"IF(ISBLANK(S43),0,VLOOKUP(S43,LUTs!$A$6:$B$8,2))","v":{"$error":"#N/A"}},{"$f":"IF(ISBLANK(T43),0,IF(ISERROR(VLOOKUP(T43,LUTs!$A$6:$B$8,2)),T43,VLOOKUP(T43,LUTs!$A$6:$B$8,2)))","v":""},{"$f":"IF(ISBLANK(U43),0,VLOOKUP(U43,LUTs!$A$6:$B$8,2))","v":{"$error":"#N/A"}},{"$f":"IF(ISBLANK(V43),0,VLOOKUP(V43,LUTs!$A$6:$B$8,2))","v":{"$error":"#N/A"}},{"$f":"IF(ISBLANK(W43),0,VLOOKUP(W43,LUTs!$A$6:$B$8,2))","v":{"$error":"#N/A"}},{"$f":"IF(ISBLANK(X43),0,VLOOKUP(X43,LUTs!$A$6:$B$8,2))","v":{"$error":"#N/A"}}]
[{"$f":"IF(ISBLANK(Responses!A44), \"\", Responses!A44)","v":""},{"$f":"IF(ISBLANK(Responses!B44), \"\", Responses!B44)","v":""},{"$f":"IF(ISBLANK(Responses!U44), \"\", Responses!U44)","v":""},{"$f":"IF(ISBLANK(Responses!V44), \"\", Responses!V44)","v":""},{"$f":"IF(ISBLANK(Responses!W44), \"\", Responses!W44)","v":""},{"$f":"IF(ISBLANK(Responses!X44), \"\", Responses!X44)","v":""},{"$f":"IF(ISBLANK(Responses!Y44), \"\", Responses!Y44)","v":""},{"$f":"IF(ISBLANK(Responses!Z44), \"\", Responses!Z44)","v":""},{"$f":"IF(ISBLANK(Responses!AA44), \"\", Responses!AA44)","v":""},{"$f":"IF(ISBLANK(Responses!AB44), \"\", Responses!AB44)","v":""},{"$f":"IF(ISBLANK(Responses!AC44), \"\", Responses!AC44)","v":""},{"$f":"IF(ISBLANK(Responses!AD44), \"\", Responses!AD44)","v":""},{"$f":"IF(ISBLANK(Responses!AE44), \"\", Responses!AE44)","v":""},{"$f":"IF(ISBLANK(Responses!AF44), \"\", Responses!AF44)","v":""},{"$f":"IF(ISBLANK(Responses!AG44), \"\", Responses!AG44)","v":""},{"$f":"IF(ISBLANK(Responses!AH44), \"\", Responses!AH44)","v":""},{"$f":"IF(ISBLANK(Responses!AI44), \"\", Responses!AI44)","v":""},{"$f":"IF(ISBLANK(Responses!AJ44), \"\", Responses!AJ44)","v":""},{"$f":"IF(ISBLANK(Responses!AK44), \"\", Responses!AK44)","v":""},{"$f":"IF(ISBLANK(Responses!AL44), \"\", Responses!AL44)","v":""},{"$f":"IF(ISBLANK(Responses!AM44), \"\", Responses!AM44)","v":""},{"$f":"IF(ISBLANK(Responses!AN44), \"\", Responses!AN44)","v":""},{"$f":"IF(ISBLANK(Responses!AO44), \"\", Responses!AO44)","v":""},{"$f":"IF(ISBLANK(Responses!AP44), \"\", Responses!AP44)","v":""},{"$error":"#N/A"},{"$error":"#N/A"},{"$f":"IF(ISBLANK(C44),0,VLOOKUP(C44,LUTs!$A$6:$B$8,2))","v":{"$error":"#N/A"}},{"$f":"IF(ISBLANK(D44),0,VLOOKUP(D44,LUTs!$A$6:$B$8,2))","v":{"$error":"#N/A"}},{"$f":"IF(ISBLANK(E44),0,VLOOKUP(E44,LUTs!$A$6:$B$8,2))","v":{"$error":"#N/A"}},{"$f":"IF(ISBLANK(F44),0,VLOOKUP(F44,LUTs!$A$6:$B$8,2))","v":{"$error":"#N/A"}},{"$f":"IF(ISBLANK(G44),0,VLOOKUP(G44,LUTs!$A$6:$B$8,2))","v":{"$error":"#N/A"}},{"$f":"IF(ISBLANK(H44),0,VLOOKUP(H44,LUTs!$A$6:$B$8,2))","v":{"$error":"#N/A"}},{"$f":"IF(ISBLANK(I44),0,VLOOKUP(I44,LUTs!$A$6:$B$8,2))","v":{"$error":"#N/A"}},{"$f":"IF(ISBLANK(J44),0,VLOOKUP(J44,LUTs!$A$6:$B$8,2))","v":{"$error":"#N/A"}},{"$f":"IF(ISBLANK(K44),0,VLOOKUP(K44,LUTs!$A$6:$B$8,2))","v":{"$error":"#N/A"}},{"$f":"IF(ISBLANK(L44),0,VLOOKUP(L44,LUTs!$A$6:$B$8,2))","v":{"$error":"#N/A"}},{"$f":"IF(ISBLANK(M44),0,VLOOKUP(M44,LUTs!$A$6:$B$8,2))","v":{"$error":"#N/A"}},{"$f":"IF(ISBLANK(N44),0,VLOOKUP(N44,LUTs!$A$6:$B$8,2))","v":{"$error":"#N/A"}},{"$f":"IF(ISBLANK(O44),0,VLOOKUP(O44,LUTs!$A$6:$B$8,2))","v":{"$error":"#N/A"}},{"$f":"IF(ISBLANK(P44),0,VLOOKUP(P44,LUTs!$A$6:$B$8,2))","v":{"$error":"#N/A"}},{"$f":"IF(ISBLANK(Q44),0,VLOOKUP(Q44,LUTs!$A$6:$B$8,2))","v":{"$error":"#N/A"}},{"$f":"IF(ISBLANK(R44),0,IF(ISERROR(VLOOKUP(R44,LUTs!$A$6:$B$8,2)),R44,VLOOKUP(R44,LUTs!$A$6:$B$8,2)))","v":""},{"$f":"IF(ISBLANK(S44),0,VLOOKUP(S44,LUTs!$A$6:$B$8,2))","v":{"$error":"#N/A"}},{"$f":"IF(ISBLANK(T44),0,IF(ISERROR(VLOOKUP(T44,LUTs!$A$6:$B$8,2)),T44,VLOOKUP(T44,LUTs!$A$6:$B$8,2)))","v":""},{"$f":"IF(ISBLANK(U44),0,VLOOKUP(U44,LUTs!$A$6:$B$8,2))","v":{"$error":"#N/A"}},{"$f":"IF(ISBLANK(V44),0,VLOOKUP(V44,LUTs!$A$6:$B$8,2))","v":{"$error":"#N/A"}},{"$f":"IF(ISBLANK(W44),0,VLOOKUP(W44,LUTs!$A$6:$B$8,2))","v":{"$error":"#N/A"}},{"$f":"IF(ISBLANK(X44),0,VLOOKUP(X44,LUTs!$A$6:$B$8,2))","v":{"$error":"#N/A"}}]
[{"$f":"IF(ISBLANK(Responses!A45), \"\", Responses!A45)","v":""},{"$f":"IF(ISBLANK(Responses!B45), \"\", Responses!B45)","v":""},{"$f":"IF(ISBLANK(Responses!U45), \"\", Responses!U45)","v":""},{"$f":"IF(ISBLANK(Responses!V45), \"\", Responses!V45)","v":""},{"$f":"IF(ISBLANK(Responses!W45), \"\", Responses!W45)","v":""},{"$f":"IF(ISBLANK(Responses!X45), \"\", Responses!X45)","v":""},{"$f":"IF(ISBLANK(Responses!Y45), \"\", Responses!Y45)","v":""},{"$f":"IF(ISBLANK(Responses!Z45), \"\", Responses!Z45)","v":""},{"$f":"IF(ISBLANK(Responses!AA45), \"\", Responses!AA45)","v":""},{"$f":"IF(ISBLANK(Responses!AB45), \"\", Responses!AB45)","v":""},{"$f":"IF(ISBLANK(Responses!AC45), \"\", Responses!AC45)","v":""},{"$f":"IF(ISBLANK(Responses!AD45), \"\", Responses!AD45)","v":""},{"$f":"IF(ISBLANK(Responses!AE45), \"\", Responses!AE45)","v":""},{"$f":"IF(ISBLANK(Responses!AF45), \"\", Responses!AF45)","v":""},{"$f":"IF(ISBLANK(Responses!AG45), \"\", Responses!AG45)","v":""},{"$f":"IF(ISBLANK(Responses!AH45), \"\", Responses!AH45)","v":""},{"$f":"IF(ISBLANK(Responses!AI45), \"\", Responses!AI45)","v":""},{"$f":"IF(ISBLANK(Responses!AJ45), \"\", Responses!AJ45)","v":""},{"$f":"IF(ISBLANK(Responses!AK45), \"\", Responses!AK45)","v":""},{"$f":"IF(ISBLANK(Responses!AL45), \"\", Responses!AL45)","v":""},{"$f":"IF(ISBLANK(Responses!AM45), \"\", Responses!AM45)","v":""},{"$f":"IF(ISBLANK(Responses!AN45), \"\", Responses!AN45)","v":""},{"$f":"IF(ISBLANK(Responses!AO45), \"\", Responses!AO45)","v":""},{"$f":"IF(ISBLANK(Responses!AP45), \"\", Responses!AP45)","v":""},{"$error":"#N/A"},{"$error":"#N/A"},{"$f":"IF(ISBLANK(C45),0,VLOOKUP(C45,LUTs!$A$6:$B$8,2))","v":{"$error":"#N/A"}},{"$f":"IF(ISBLANK(D45),0,VLOOKUP(D45,LUTs!$A$6:$B$8,2))","v":{"$error":"#N/A"}},{"$f":"IF(ISBLANK(E45),0,VLOOKUP(E45,LUTs!$A$6:$B$8,2))","v":{"$error":"#N/A"}},{"$f":"IF(ISBLANK(F45),0,VLOOKUP(F45,LUTs!$A$6:$B$8,2))","v":{"$error":"#N/A"}},{"$f":"IF(ISBLANK(G45),0,VLOOKUP(G45,LUTs!$A$6:$B$8,2))","v":{"$error":"#N/A"}},{"$f":"IF(ISBLANK(H45),0,VLOOKUP(H45,LUTs!$A$6:$B$8,2))","v":{"$error":"#N/A"}},{"$f":"IF(ISBLANK(I45),0,VLOOKUP(I45,LUTs!$A$6:$B$8,2))","v":{"$error":"#N/A"}},{"$f":"IF(ISBLANK(J45),0,VLOOKUP(J45,LUTs!$A$6:$B$8,2))","v":{"$error":"#N/A"}},{"$f":"IF(ISBLANK(K45),0,VLOOKUP(K45,LUTs!$A$6:$B$8,2))","v":{"$error":"#N/A"}},{"$f":"IF(ISBLANK(L45),0,VLOOKUP(L45,LUTs!$A$6:$B$8,2))","v":{"$error":"#N/A"}},{"$f":"IF(ISBLANK(M45),0,VLOOKUP(M45,LUTs!$A$6:$B$8,2))","v":{"$error":"#N/A"}},{"$f":"IF(ISBLANK(N45),0,VLOOKUP(N45,LUTs!$A$6:$B$8,2))","v":{"$error":"#N/A"}},{"$f":"IF(ISBLANK(O45),0,VLOOKUP(O45,LUTs!$A$6:$B$8,2))","v":{"$error":"#N/A"}},{"$f":"IF(ISBLANK(P45),0,VLOOKUP(P45,LUTs!$A$6:$B$8,2))","v":{"$error":"#N/A"}},{"$f":"IF(ISBLANK(Q45),0,VLOOKUP(Q45,LUTs!$A$6:$B$8,2))","v":{"$error":"#N/A"}},{"$f":"IF(ISBLANK(R45),0,IF(ISERROR(VLOOKUP(R45,LUTs!$A$6:$B$8,2)),R45,VLOOKUP(R45,LUTs!$A$6:$B$8,2)))","v":""},{"$f":"IF(ISBLANK(S45),0,VLOOKUP(S45,LUTs!$A$6:$B$8,2))","v":{"$error":"#N/A"}},{"$f":"IF(ISBLANK(T45),0,IF(ISERROR(VLOOKUP(T45,LUTs!$A$6:$B$8,2)),T45,VLOOKUP(T45,LUTs!$A$6:$B$8,2)))","v":""},{"$f":"IF(ISBLANK(U45),0,VLOOKUP(U45,LUTs!$A$6:$B$8,2))","v":{"$error":"#N/A"}},{"$f":"IF(ISBLANK(V45),0,VLOOKUP(V45,LUTs!$A$6:$B$8,2))","v":{"$error":"#N/A"}},{"$f":"IF(ISBLANK(W45),0,VLOOKUP(W45,LUTs!$A$6:$B$8,2))","v":{"$error":"#N/A"}},{"$f":"IF(ISBLANK(X45),0,VLOOKUP(X45,LUTs!$A$6:$B$8,2))","v":{"$error":"#N/A"}}]
[{"$f":"IF(ISBLANK(Responses!A46), \"\", Responses!A46)","v":""},{"$f":"IF(ISBLANK(Responses!B46), \"\", Responses!B46)","v":""},{"$f":"IF(ISBLANK(Responses!U46), \"\", Responses!U46)","v":""},{"$f":"IF(ISBLANK(Responses!V46), \"\", Responses!V46)","v":""},{"$f":"IF(ISBLANK(Responses!W46), \"\", Responses!W46)","v":""},{"$f":"IF(ISBLANK(Responses!X46), \"\", Responses!X46)","v":""},{"$f":"IF(ISBLANK(Responses!Y46), \"\", Responses!Y46)","v":""},{"$f":"IF(ISBLANK(Responses!Z46), \"\", Responses!Z46)","v":""},{"$f":"IF(ISBLANK(Responses!AA46), \"\", Responses!AA46)","v":""},{"$f":"IF(ISBLANK(Responses!AB46), \"\", Responses!AB46)","v":""},{"$f":"IF(ISBLANK(Responses!AC46), \"\", Responses!AC46)","v":""},{"$f":"IF(ISBLANK(Responses!AD46), \"\", Responses!AD46)","v":""},{"$f":"IF(ISBLANK(Responses!AE46), \"\", Responses!AE46)","v":""},{"$f":"IF(ISBLANK(Responses!AF46), \"\", Responses!AF46)","v":""},{"$f":"IF(ISBLANK(Responses!AG46), \"\", Responses!AG46)","v":""},{"$f":"IF(ISBLANK(Responses!AH46), \"\", Responses!AH46)","v":""},{"$f":"IF(ISBLANK(Responses!AI46), \"\", Responses!AI46)","v":""},{"$f":"IF(ISBLANK(Responses!AJ46), \"\", Responses!AJ46)","v":""},{"$f":"IF(ISBLANK(Responses!AK46), \"\", Responses!AK46)","v":""},{"$f":"IF(ISBLANK(Responses!AL46), \"\", Responses!AL46)","v":""},{"$f":"IF(ISBLANK(Responses!AM46), \"\", Responses!AM46)","v":""},{"$f":"IF(ISBLANK(Responses!AN46), \"\", Responses!AN46)","v":""},{"$f":"IF(ISBLANK(Responses!AO46), \"\", Responses!AO46)","v":""},{"$f":"IF(ISBLANK(Responses!AP46), \"\", Responses!AP46)","v":""},{"$error":"#N/A"},{"$error":"#N/A"},{"$f":"IF(ISBLANK(C46),0,VLOOKUP(C46,LUTs!$A$6:$B$8,2))","v":{"$error":"#N/A"}},{"$f":"IF(ISBLANK(D46),0,VLOOKUP(D46,LUTs!$A$6:$B$8,2))","v":{"$error":"#N/A"}},{"$f":"IF(ISBLANK(E46),0,VLOOKUP(E46,LUTs!$A$6:$B$8,2))","v":{"$error":"#N/A"}},{"$f":"IF(ISBLANK(F46),0,VLOOKUP(F46,LUTs!$A$6:$B$8,2))","v":{"$error":"#N/A"}},{"$f":"IF(ISBLANK(G46),0,VLOOKUP(G46,LUTs!$A$6:$B$8,2))","v":{"$error":"#N/A"}},{"$f":"IF(ISBLANK(H46),0,VLOOKUP(H46,LUTs!$A$6:$B$8,2))","v":{"$error":"#N/A"}},{"$f":"IF(ISBLANK(I46),0,VLOOKUP(I46,LUTs!$A$6:$B$8,2))","v":{"$error":"#N/A"}},{"$f":"IF(ISBLANK(J46),0,VLOOKUP(J46,LUTs!$A$6:$B$8,2))","v":{"$error":"#N/A"}},{"$f":"IF(ISBLANK(K46),0,VLOOKUP(K46,LUTs!$A$6:$B$8,2))","v":{"$error":"#N/A"}},{"$f":"IF(ISBLANK(L46),0,VLOOKUP(L46,LUTs!$A$6:$B$8,2))","v":{"$error":"#N/A"}},{"$f":"IF(ISBLANK(M46),0,VLOOKUP(M46,LUTs!$A$6:$B$8,2))","v":{"$error":"#N/A"}},{"$f":"IF(ISBLANK(N46),0,VLOOKUP(N46,LUTs!$A$6:$B$8,2))","v":{"$error":"#N/A"}},{"$f":"IF(ISBLANK(O46),0,VLOOKUP(O46,LUTs!$A$6:$B$8,2))","v":{"$error":"#N/A"}},{"$f":"IF(ISBLANK(P46),0,VLOOKUP(P46,LUTs!$A$6:$B$8,2))","v":{"$error":"#N/A"}},{"$f":"IF(ISBLANK(Q46),0,VLOOKUP(Q46,LUTs!$A$6:$B$8,2))","v":{"$error":"#N/A"}},{"$f":"IF(ISBLANK(R46),0,IF(ISERROR(VLOOKUP(R46,LUTs!$A$6:$B$8,2)),R46,VLOOKUP(R46,LUTs!$A$6:$B$8,2)))","v":""},{"$f":"IF(ISBLANK(S46),0,VLOOKUP(S46,LUTs!$A$6:$B$8,2))","v":{"$error":"#N/A"}},{"$f":"IF(ISBLANK(T46),0,IF(ISERROR(VLOOKUP(T46,LUTs!$A$6:$B$8,2)),T46,VLOOKUP(T46,LUTs!$A$6:$B$8,2)))","v":""},{"$f":"IF(ISBLANK(U46),0,VLOOKUP(U46,LUTs!$A$6:$B$8,2))","v":{"$error":"#N/A"}},{"$f":"IF(ISBLANK(V46),0,VLOOKUP(V46,LUTs!$A$6:$B$8,2))","v":{"$error":"#N/A"}},{"$f":"IF(ISBLANK(W46),0,VLOOKUP(W46,LUTs!$A$6:$B$8,2))","v":{"$error":"#N/A"}},{"$f":"IF(ISBLANK(X46),0,VLOOKUP(X46,LUTs!$A$6:$B$8,2))","v":{"$error":"#N/A"}}]
[{"$f":"IF(ISBLANK(Responses!A47), \"\", Responses!A47)","v":""},{"$f":"IF(ISBLANK(Responses!B47), \"\", Responses!B47)","v":""},{"$f":"IF(ISBLANK(Responses!U47), \"\", Responses!U47)","v":""},{"$f":"IF(ISBLANK(Responses!V47), \"\", Responses!V47)","v":""},{"$f":"IF(ISBLANK(Responses!W47), \"\", Responses!W47)","v":""},{"$f":"IF(ISBLANK(Responses!X47), \"\", Responses!X47)","v":""},{"$f":"IF(ISBLANK(Responses!Y47), \"\", Responses!Y47)","v":""},{"$f":"IF(ISBLANK(Responses!Z47), \"\", Responses!Z47)","v":""},{"$f":"IF(ISBLANK(Responses!AA47), \"\", Responses!AA47)","v":""},{"$f":"IF(ISBLANK(Responses!AB47), \"\", Responses!AB47)","v":""},{"$f":"IF(ISBLANK(Responses!AC47), \"\", Responses!AC47)","v":""},{"$f":"IF(ISBLANK(Responses!AD47), \"\", Responses!AD47)","v":""},{"$f":"IF(ISBLANK(Responses!AE47), \"\", Responses!AE47)","v":""},{"$f":"IF(ISBLANK(Responses!AF47), \"\", Responses!AF47)","v":""},{"$f":"IF(ISBLANK(Responses!AG47), \"\", Responses!AG47)","v":""},{"$f":"IF(ISBLANK(Responses!AH47), \"\", Responses!AH47)","v":""},{"$f":"IF(ISBLANK(Responses!AI47), \"\", Responses!AI47)","v":""},{"$f":"IF(ISBLANK(Responses!AJ47), \"\", Responses!AJ47)","v":""},{"$f":"IF(ISBLANK(Responses!AK47), \"\", Responses!AK47)","v":""},{"$f":"IF(ISBLANK(Responses!AL47), \"\", Responses!AL47)","v":""},{"$f":"IF(ISBLANK(Responses!AM47), \"\", Responses!AM47)","v":""},{"$f":"IF(ISBLANK(Responses!AN47), \"\", Responses!AN47)","v":""},{"$f":"IF(ISBLANK(Responses!AO47), \"\", Responses!AO47)","v":""},{"$f":"IF(ISBLANK(Responses!AP47), \"\", Responses!AP47)","v":""},{"$error":"#N/A"},{"$error":"#N/A"},{"$f":"IF(ISBLANK(C47),0,VLOOKUP(C47,LUTs!$A$6:$B$8,2))","v":{"$error":"#N/A"}},{"$f":"IF(ISBLANK(D47),0,VLOOKUP(D47,LUTs!$A$6:$B$8,2))","v":{"$error":"#N/A"}},{"$f":"IF(ISBLANK(E47),0,VLOOKUP(E47,LUTs!$A$6:$B$8,2))","v":{"$error":"#N/A"}},{"$f":"IF(ISBLANK(F47),0,VLOOKUP(F47,LUTs!$A$6:$B$8,2))","v":{"$error":"#N/A"}},{"$f":"IF(ISBLANK(G47),0,VLOOKUP(G47,LUTs!$A$6:$B$8,2))","v":{"$error":"#N/A"}},{"$f":"IF(ISBLANK(H47),0,VLOOKUP(H47,LUTs!$A$6:$B$8,2))","v":{"$error":"#N/A"}},{"$f":"IF(ISBLANK(I47),0,VLOOKUP(I47,LUTs!$A$6:$B$8,2))","v":{"$error":"#N/A"}},{"$f":"IF(ISBLANK(J47),0,VLOOKUP(J47,LUTs!$A$6:$B$8,2))","v":{"$error":"#N/A"}},{"$f":"IF(ISBLANK(K47),0,VLOOKUP(K47,LUTs!$A$6:$B$8,2))","v":{"$error":"#N/A"}},{"$f":"IF(ISBLANK(L47),0,VLOOKUP(L47,LUTs!$A$6:$B$8,2))","v":{"$error":"#N/A"}},{"$f":"IF(ISBLANK(M47),0,VLOOKUP(M47,LUTs!$A$6:$B$8,2))","v":{"$error":"#N/A"}},{"$f":"IF(ISBLANK(N47),0,VLOOKUP(N47,LUTs!$A$6:$B$8,2))","v":{"$error":"#N/A"}},{"$f":"IF(ISBLANK(O47),0,VLOOKUP(O47,LUTs!$A$6:$B$8,2))","v":{"$error":"#N/A"}},{"$f":"IF(ISBLANK(P47),0,VLOOKUP(P47,LUTs!$A$6:$B$8,2))","v":{"$error":"#N/A"}},{"$f":"IF(ISBLANK(Q47),0,VLOOKUP(Q47,LUTs!$A$6:$B$8,2))","v":{"$error":"#N/A"}},{"$f":"IF(ISBLANK(R47),0,IF(ISERROR(VLOOKUP(R47,LUTs!$A$6:$B$8,2)),R47,VLOOKUP(R47,LUTs!$A$6:$B$8,2)))","v":""},{"$f":"IF(ISBLANK(S47),0,VLOOKUP(S47,LUTs!$A$6:$B$8,2))","v":{"$error":"#N/A"}},{"$f":"IF(ISBLANK(T47),0,IF(ISERROR(VLOOKUP(T47,LUTs!$A$6:$B$8,2)),T47,VLOOKUP(T47,LUTs!$A$6:$B$8,2)))","v":""},{"$f":"IF(ISBLANK(U47),0,VLOOKUP(U47,LUTs!$A$6:$B$8,2))","v":{"$error":"#N/A"}},{"$f":"IF(ISBLANK(V47),0,VLOOKUP(V47,LUTs!$A$6:$B$8,2))","v":{"$error":"#N/A"}},{"$f":"IF(ISBLANK(W47),0,VLOOKUP(W47,LUTs!$A$6:$B$8,2))","v":{"$error":"#N/A"}},{"$f":"IF(ISBLANK(X47),0,VLOOKUP(X47,LUTs!$A$6:$B$8,2))","v":{"$error":"#N/A"}}]
[{"$f":"IF(ISBLANK(Responses!A48), \"\", Responses!A48)","v":""},{"$f":"IF(ISBLANK(Responses!B48), \"\", Responses!B48)","v":""},{"$f":"IF(ISBLANK(Responses!U48), \"\", Responses!U48)","v":""},{"$f":"IF(ISBLANK(Responses!V48), \"\", Responses!V48)","v":""},{"$f":"IF(ISBLANK(Responses!W48), \"\", Responses!W48)","v":""},{"$f":"IF(ISBLANK(Responses!X48), \"\", Responses!X48)","v":""},{"$f":"IF(ISBLANK(Responses!Y48), \"\", Responses!Y48)","v":""},{"$f":"IF(ISBLANK(Responses!Z48), \"\", Responses!Z48)","v":""},{"$f":"IF(ISBLANK(Responses!AA48), \"\", Responses!AA48)","v":""},{"$f":"IF(ISBLANK(Responses!AB48), \"\", Responses!AB48)","v":""},{"$f":"IF(ISBLANK(Responses!AC48), \"\", Responses!AC48)","v":""},{"$f":"IF(ISBLANK(Responses!AD48), \"\", Responses!AD48)","v":""},{"$f":"IF(ISBLANK(Responses!AE48), \"\", Responses!AE48)","v":""},{"$f":"IF(ISBLANK(Responses!AF48), \"\", Responses!AF48)","v":""},{"$f":"IF(ISBLANK(Responses!AG48), \"\", Responses!AG48)","v":""},{"$f":"IF(ISBLANK(Responses!AH48), \"\", Responses!AH48)","v":""},{"$f":"IF(ISBLANK(Responses!AI48), \"\", Responses!AI48)","v":""},{"$f":"IF(ISBLANK(Responses!AJ48), \"\", Responses!AJ48)","v":""},{"$f":"IF(ISBLANK(Responses!AK48), \"\", Responses!AK48)","v":""},{"$f":"IF(ISBLANK(Responses!AL48), \"\", Responses!AL48)","v":""},{"$f":"IF(ISBLANK(Responses!AM48), \"\", Responses!AM48)","v":""},{"$f":"IF(ISBLANK(Responses!AN48), \"\", Responses!AN48)","v":""},{"$f":"IF(ISBLANK(Responses!AO48), \"\", Responses!AO48)","v":""},{"$f":"IF(ISBLANK(Responses!AP48), \"\", Responses!AP48)","v":""},{"$error":"#N/A"},{"$error":"#N/A"},{"$f":"IF(ISBLANK(C48),0,VLOOKUP(C48,LUTs!$A$6:$B$8,2))","v":{"$error":"#N/A"}},{"$f":"IF(ISBLANK(D48),0,VLOOKUP(D48,LUTs!$A$6:$B$8,2))","v":{"$error":"#N/A"}},{"$f":"IF(ISBLANK(E48),0,VLOOKUP(E48,LUTs!$A$6:$B$8,2))","v":{"$error":"#N/A"}},{"$f":"IF(ISBLANK(F48),0,VLOOKUP(F48,LUTs!$A$6:$B$8,2))","v":{"$error":"#N/A"}},{"$f":"IF(ISBLANK(G48),0,VLOOKUP(G48,LUTs!$A$6:$B$8,2))","v":{"$error":"#N/A"}},{"$f":"IF(ISBLANK(H48),0,VLOOKUP(H48,LUTs!$A$6:$B$8,2))","v":{"$error":"#N/A"}},{"$f":"IF(ISBLANK(I48),0,VLOOKUP(I48,LUTs!$A$6:$B$8,2))","v":{"$error":"#N/A"}},{"$f":"IF(ISBLANK(J48),0,VLOOKUP(J48,LUTs!$A$6:$B$8,2))","v":{"$error":"#N/A"}},{"$f":"IF(ISBLANK(K48),0,VLOOKUP(K48,LUTs!$A$6:$B$8,2))","v":{"$error":"#N/A"}},{"$f":"IF(ISBLANK(L48),0,VLOOKUP(L48,LUTs!$A$6:$B$8,2))","v":{"$error":"#N/A"}},{"$f":"IF(ISBLANK(M48),0,VLOOKUP(M48,LUTs!$A$6:$B$8,2))","v":{"$error":"#N/A"}},{"$f":"IF(ISBLANK(N48),0,VLOOKUP(N48,LUTs!$A$6:$B$8,2))","v":{"$error":"#N/A"}},{"$f":"IF(ISBLANK(O48),0,VLOOKUP(O48,LUTs!$A$6:$B$8,2))","v":{"$error":"#N/A"}},{"$f":"IF(ISBLANK(P48),0,VLOOKUP(P48,LUTs!$A$6:$B$8,2))","v":{"$error":"#N/A"}},{"$f":"IF(ISBLANK(Q48),0,VLOOKUP(Q48,LUTs!$A$6:$B$8,2))","v":{"$error":"#N/A"}},{"$f":"IF(ISBLANK(R48),0,IF(ISERROR(VLOOKUP(R48,LUTs!$A$6:$B$8,2)),R48,VLOOKUP(R48,LUTs!$A$6:$B$8,2)))","v":""},{"$f":"IF(ISBLANK(S48),0,VLOOKUP(S48,LUTs!$A$6:$B$8,2))","v":{"$error":"#N/A"}},{"$f":"IF(ISBLANK(T48),0,IF(ISERROR(VLOOKUP(T48,LUTs!$A$6:$B$8,2)),T48,VLOOKUP(T48,LUTs!$A$6:$B$8,2)))","v":""},{"$f":"IF(ISBLANK(U48),0,VLOOKUP(U48,LUTs!$A$6:$B$8,2))","v":{"$error":"#N/A"}},{"$f":"IF(ISBLANK(V48),0,VLOOKUP(V48,LUTs!$A$6:$B$8,2))","v":{"$error":"#N/A"}},{"$f":"IF(ISBLANK(W48),0,VLOOKUP(W48,LUTs!$A$6:$B$8,2))","v":{"$error":"#N/A"}},{"$f":"IF(ISBLANK(X48),0,VLOOKUP(X48,LUTs!$A$6:$B$8,2))","v":{"$error":"#N/A"}}]
[{"$f":"IF(ISBLANK(Responses!A49), \"\", Responses!A49)","v":""},{"$f":"IF(ISBLANK(Responses!B49), \"\", Responses!B49)","v":""},{"$f":"IF(ISBLANK(Responses!U49), \"\", Responses!U49)","v":""},{"$f":"IF(ISBLANK(Responses!V49), \"\", Responses!V49)","v":""},{"$f":"IF(ISBLANK(Responses!W49), \"\", Responses!W49)","v":""},{"$f":"IF(ISBLANK(Responses!X49), \"\", Responses!X49)","v":""},{"$f":"IF(ISBLANK(Responses!Y49), \"\", Responses!Y49)","v":""},{"$f":"IF(ISBLANK(Responses!Z49), \"\", Responses!Z49)","v":""},{"$f":"IF(ISBLANK(Responses!AA49), \"\", Responses!AA49)","v":""},{"$f":"IF(ISBLANK(Responses!AB49), \"\", Responses!AB49)","v":""},{"$f":"IF(ISBLANK(Responses!AC49), \"\", Responses!AC49)","v":""},{"$f":"IF(ISBLANK(Responses!AD49), \"\", Responses!AD49)","v":""},{"$f":"IF(ISBLANK(Responses!AE49), \"\", Responses!AE49)","v":""},{"$f":"IF(ISBLANK(Responses!AF49), \"\", Responses!AF49)","v":""},{"$f":"IF(ISBLANK(Responses!AG49), \"\", Responses!AG49)","v":""},{"$f":"IF(ISBLANK(Responses!AH49), \"\", Responses!AH49)","v":""},{"$f":"IF(ISBLANK(Responses!AI49), \"\", Responses!AI49)","v":""},{"$f":"IF(ISBLANK(Responses!AJ49), \"\", Responses!AJ49)","v":""},{"$f":"IF(ISBLANK(Responses!AK49), \"\", Responses!AK49)","v":""},{"$f":"IF(ISBLANK(Responses!AL49), \"\", Responses!AL49)","v":""},{"$f":"IF(ISBLANK(Responses!AM49), \"\", Responses!AM49)","v":""},{"$f":"IF(ISBLANK(Responses!AN49), \"\", Responses!AN49)","v":""},{"$f":"IF(ISBLANK(Responses!AO49), \"\", Responses!AO49)","v":""},{"$f":"IF(ISBLANK(Responses!AP49), \"\", Responses!AP49)","v":""},{"$error":"#N/A"},{"$error":"#N/A"},{"$f":"IF(ISBLANK(C49),0,VLOOKUP(C49,LUTs!$A$6:$B$8,2))","v":{"$error":"#N/A"}},{"$f":"IF(ISBLANK(D49),0,VLOOKUP(D49,LUTs!$A$6:$B$8,2))","v":{"$error":"#N/A"}},{"$f":"IF(ISBLANK(E49),0,VLOOKUP(E49,LUTs!$A$6:$B$8,2))","v":{"$error":"#N/A"}},{"$f":"IF(ISBLANK(F49),0,VLOOKUP(F49,LUTs!$A$6:$B$8,2))","v":{"$error":"#N/A"}},{"$f":"IF(ISBLANK(G49),0,VLOOKUP(G49,LUTs!$A$6:$B$8,2))","v":{"$error":"#N/A"}},{"$f":"IF(ISBLANK(H49),0,VLOOKUP(H49,LUTs!$A$6:$B$8,2))","v":{"$error":"#N/A"}},{"$f":"IF(ISBLANK(I49),0,VLOOKUP(I49,LUTs!$A$6:$B$8,2))","v":{"$error":"#N/A"}},{"$f":"IF(ISBLANK(J49),0,VLOOKUP(J49,LUTs!$A$6:$B$8,2))","v":{"$error":"#N/A"}},{"$f":"IF(ISBLANK(K49),0,VLOOKUP(K49,LUTs!$A$6:$B$8,2))","v":{"$error":"#N/A"}},{"$f":"IF(ISBLANK(L49),0,VLOOKUP(L49,LUTs!$A$6:$B$8,2))","v":{"$error":"#N/A"}},{"$f":"IF(ISBLANK(M49),0,VLOOKUP(M49,LUTs!$A$6:$B$8,2))","v":{"$error":"#N/A"}},{"$f":"IF(ISBLANK(N49),0,VLOOKUP(N49,LUTs!$A$6:$B$8,2))","v":{"$error":"#N/A"}},{"$f":"IF(ISBLANK(O49),0,VLOOKUP(O49,LUTs!$A$6:$B$8,2))","v":{"$error":"#N/A"}},{"$f":"IF(ISBLANK(P49),0,VLOOKUP(P49,LUTs!$A$6:$B$8,2))","v":{"$error":"#N/A"}},{"$f":"IF(ISBLANK(Q49),0,VLOOKUP(Q49,LUTs!$A$6:$B$8,2))","v":{"$error":"#N/A"}},{"$f":"IF(ISBLANK(R49),0,IF(ISERROR(VLOOKUP(R49,LUTs!$A$6:$B$8,2)),R49,VLOOKUP(R49,LUTs!$A$6:$B$8,2)))","v":""},{"$f":"IF(ISBLANK(S49),0,VLOOKUP(S49,LUTs!$A$6:$B$8,2))","v":{"$error":"#N/A"}},{"$f":"IF(ISBLANK(T49),0,IF(ISERROR(VLOOKUP(T49,LUTs!$A$6:$B$8,2)),T49,VLOOKUP(T49,LUTs!$A$6:$B$8,2)))","v":""},{"$f":"IF(ISBLANK(U49),0,VLOOKUP(U49,LUTs!$A$6:$B$8,2))","v":{"$error":"#N/A"}},{"$f":"IF(ISBLANK(V49),0,VLOOKUP(V49,LUTs!$A$6:$B$8,2))","v":{"$error":"#N/A"}},{"$f":"IF(ISBLANK(W49),0,VLOOKUP(W49,LUTs!$A$6:$B$8,2))","v":{"$error":"#N/A"}},{"$f":"IF(ISBLANK(X49),0,VLOOKUP(X49,LUTs!$A$6:$B$8,2))","v":{"$error":"#N/A"}}]
[{"$f":"IF(ISBLANK(Responses!A50), \"\", Responses!A50)","v":""},{"$f":"IF(ISBLANK(Responses!B50), \"\", Responses!B50)","v":""},{"$f":"IF(ISBLANK(Responses!U50), \"\", Responses!U50)","v":""},{"$f":"IF(ISBLANK(Responses!V50), \"\", Responses!V50)","v":""},{"$f":"IF(ISBLANK(Responses!W50), \"\", Responses!W50)","v":""},{"$f":"IF(ISBLANK(Responses!X50), \"\", Responses!X50)","v":""},{"$f":"IF(ISBLANK(Responses!Y50), \"\", Responses!Y50)","v":""},{"$f":"IF(ISBLANK(Responses!Z50), \"\", Responses!Z50)","v":""},{"$f":"IF(ISBLANK(Responses!AA50), \"\", Responses!AA50)","v":""},{"$f":"IF(ISBLANK(Responses!AB50), \"\", Responses!AB50)","v":""},{"$f":"IF(ISBLANK(Responses!AC50), \"\", Responses!AC50)","v":""},{"$f":"IF(ISBLANK(Responses!AD50), \"\", Responses!AD50)","v":""},{"$f":"IF(ISBLANK(Responses!AE50), \"\", Responses!AE50)","v":""},{"$f":"IF(ISBLANK(Responses!AF50), \"\", Responses!AF50)","v":""},{"$f":"IF(ISBLANK(Responses!AG50), \"\", Responses!AG50)","v":""},{"$f":"IF(ISBLANK(Responses!AH50), \"\", Responses!AH50)","v":""},{"$f":"IF(ISBLANK(Responses!AI50), \"\", Responses!AI50)","v":""},{"$f":"IF(ISBLANK(Responses!AJ50), \"\", Responses!AJ50)","v":""},{"$f":"IF(ISBLANK(Responses!AK50), \"\", Responses!AK50)","v":""},{"$f":"IF(ISBLANK(Responses!AL50), \"\", Responses!AL50)","v":""},{"$f":"IF(ISBLANK(Responses!AM50), \"\", Responses!AM50)","v":""},{"$f":"IF(ISBLANK(Responses!AN50), \"\", Responses!AN50)","v":""},{"$f":"IF(ISBLANK(Responses!AO50), \"\", Responses!AO50)","v":""},{"$f":"IF(ISBLANK(Responses!AP50), \"\", Responses!AP50)","v":""},{"$error":"#N/A"},{"$error":"#N/A"},{"$f":"IF(ISBLANK(C50),0,VLOOKUP(C50,LUTs!$A$6:$B$8,2))","v":{"$error":"#N/A"}},{"$f":"IF(ISBLANK(D50),0,VLOOKUP(D50,LUTs!$A$6:$B$8,2))","v":{"$error":"#N/A"}},{"$f":"IF(ISBLANK(E50),0,VLOOKUP(E50,LUTs!$A$6:$B$8,2))","v":{"$error":"#N/A"}},{"$f":"IF(ISBLANK(F50),0,VLOOKUP(F50,LUTs!$A$6:$B$8,2))","v":{"$error":"#N/A"}},{"$f":"IF(ISBLANK(G50),0,VLOOKUP(G50,LUTs!$A$6:$B$8,2))","v":{"$error":"#N/A"}},{"$f":"IF(ISBLANK(H50),0,VLOOKUP(H50,LUTs!$A$6:$B$8,2))","v":{"$error":"#N/A"}},{"$f":"IF(ISBLANK(I50),0,VLOOKUP(I50,LUTs!$A$6:$B$8,2))","v":{"$error":"#N/A"}},{"$f":"IF(ISBLANK(J50),0,VLOOKUP(J50,LUTs!$A$6:$B$8,2))","v":{"$error":"#N/A"}},{"$f":"IF(ISBLANK(K50),0,VLOOKUP(K50,LUTs!$A$6:$B$8,2))","v":{"$error":"#N/A"}},{"$f":"IF(ISBLANK(L50),0,VLOOKUP(L50,LUTs!$A$6:$B$8,2))","v":{"$error":"#N/A"}},{"$f":"IF(ISBLANK(M50),0,VLOOKUP(M50,LUTs!$A$6:$B$8,2))","v":{"$error":"#N/A"}},{"$f":"IF(ISBLANK(N50),0,VLOOKUP(N50,LUTs!$A$6:$B$8,2))","v":{"$error":"#N/A"}},{"$f":"IF(ISBLANK(O50),0,VLOOKUP(O50,LUTs!$A$6:$B$8,2))","v":{"$error":"#N/A"}},{"$f":"IF(ISBLANK(P50),0,VLOOKUP(P50,LUTs!$A$6:$B$8,2))","v":{"$error":"#N/A"}},{"$f":"IF(ISBLANK(Q50),0,VLOOKUP(Q50,LUTs!$A$6:$B$8,2))","v":{"$error":"#N/A"}},{"$f":"IF(ISBLANK(R50),0,IF(ISERROR(VLOOKUP(R50,LUTs!$A$6:$B$8,2)),R50,VLOOKUP(R50,LUTs!$A$6:$B$8,2)))","v":""},{"$f":"IF(ISBLANK(S50),0,VLOOKUP(S50,LUTs!$A$6:$B$8,2))","v":{"$error":"#N/A"}},{"$f":"IF(ISBLANK(T50),0,IF(ISERROR(VLOOKUP(T50,LUTs!$A$6:$B$8,2)),T50,VLOOKUP(T50,LUTs!$A$6:$B$8,2)))","v":""},{"$f":"IF(ISBLANK(U50),0,VLOOKUP(U50,LUTs!$A$6:$B$8,2))","v":{"$error":"#N/A"}},{"$f":"IF(ISBLANK(V50),0,VLOOKUP(V50,LUTs!$A$6:$B$8,2))","v":{"$error":"#N/A"}},{"$f":"IF(ISBLANK(W50),0,VLOOKUP(W50,LUTs!$A$6:$B$8,2))","v":{"$error":"#N/A"}},{"$f":"IF(ISBLANK(X50),0,VLOOKUP(X50,LUTs!$A$6:$B$8,2))","v":{"$error":"#N/A"}}]
[{"$f":"IF(ISBLANK(Responses!A51), \"\", Responses!A51)","v":""},{"$f":"IF(ISBLANK(Responses!B51), \"\", Responses!B51)","v":""},{"$f":"IF(ISBLANK(Responses!U51), \"\", Responses!U51)","v":""},{"$f":"IF(ISBLANK(Responses!V51), \"\", Responses!V51)","v":""},{"$f":"IF(ISBLANK(Responses!W51), \"\", Responses!W51)","v":""},{"$f":"IF(ISBLANK(Responses!X51), \"\", Responses!X51)","v":""},{"$f":"IF(ISBLANK(Responses!Y51), \"\", Responses!Y51)","v":""},{"$f":"IF(ISBLANK(Responses!Z51), \"\", Responses!Z51)","v":""},{"$f":"IF(ISBLANK(Responses!AA51), \"\", Responses!AA51)","v":""},{"$f":"IF(ISBLANK(Responses!AB51), \"\", Responses!AB51)","v":""},{"$f":"IF(ISBLANK(Responses!AC51), \"\", Responses!AC51)","v":""},{"$f":"IF(ISBLANK(Responses!AD51), \"\", Responses!AD51)","v":""},{"$f":"IF(ISBLANK(Responses!AE51), \"\", Responses!AE51)","v":""},{"$f":"IF(ISBLANK(Responses!AF51), \"\", Responses!AF51)","v":""},{"$f":"IF(ISBLANK(Responses!AG51), \"\", Responses!AG51)","v":""},{"$f":"IF(ISBLANK(Responses!AH51), \"\", Responses!AH51)","v":""},{"$f":"IF(ISBLANK(Responses!AI51), \"\", Responses!AI51)","v":""},{"$f":"IF(ISBLANK(Responses!AJ51), \"\", Responses!AJ51)","v":""},{"$f":"IF(ISBLANK(Responses!AK51), \"\", Responses!AK51)","v":""},{"$f":"IF(ISBLANK(Responses!AL51), \"\", Responses!AL51)","v":""},{"$f":"IF(ISBLANK(Responses!AM51), \"\", Responses!AM51)","v":""},{"$f":"IF(ISBLANK(Responses!AN51), \"\", Responses!AN51)","v":""},{"$f":"IF(ISBLANK(Responses!AO51), \"\", Responses!AO51)","v":""},{"$f":"IF(ISBLANK(Responses!AP51), \"\", Responses!AP51)","v":""},{"$error":"#N/A"},{"$error":"#N/A"},{"$f":"IF(ISBLANK(C51),0,VLOOKUP(C51,LUTs!$A$6:$B$8,2))","v":{"$error":"#N/A"}},{"$f":"IF(ISBLANK(D51),0,VLOOKUP(D51,LUTs!$A$6:$B$8,2))","v":{"$error":"#N/A"}},{"$f":"IF(ISBLANK(E51),0,VLOOKUP(E51,LUTs!$A$6:$B$8,2))","v":{"$error":"#N/A"}},{"$f":"IF(ISBLANK(F51),0,VLOOKUP(F51,LUTs!$A$6:$B$8,2))","v":{"$error":"#N/A"}},{"$f":"IF(ISBLANK(G51),0,VLOOKUP(G51,LUTs!$A$6:$B$8,2))","v":{"$error":"#N/A"}},{"$f":"IF(ISBLANK(H51),0,VLOOKUP(H51,LUTs!$A$6:$B$8,2))","v":{"$error":"#N/A"}},{"$f":"IF(ISBLANK(I51),0,VLOOKUP(I51,LUTs!$A$6:$B$8,2))","v":{"$error":"#N/A"}},{"$f":"IF(ISBLANK(J51),0,VLOOKUP(J51,LUTs!$A$6:$B$8,2))","v":{"$error":"#N/A"}},{"$f":"IF(ISBLANK(K51),0,VLOOKUP(K51,LUTs!$A$6:$B$8,2))","v":{"$error":"#N/A"}},{"$f":"IF(ISBLANK(L51),0,VLOOKUP(L51,LUTs!$A$6:$B$8,2))","v":{"$error":"#N/A"}},{"$f":"IF(ISBLANK(M51),0,VLOOKUP(M51,LUTs!$A$6:$B$8,2))","v":{"$error":"#N/A"}},{"$f":"IF(ISBLANK(N51),0,VLOOKUP(N51,LUTs!$A$6:$B$8,2))","v":{"$error":"#N/A"}},{"$f":"IF(ISBLANK(O51),0,VLOOKUP(O51,LUTs!$A$6:$B$8,2))","v":{"$error":"#N/A"}},{"$f":"IF(ISBLANK(P51),0,VLOOKUP(P51,LUTs!$A$6:$B$8,2))","v":{"$error":"#N/A"}},{"$f":"IF(ISBLANK(Q51),0,VLOOKUP(Q51,LUTs!$A$6:$B$8,2))","v":{"$error":"#N/A"}},{"$f":"IF(ISBLANK(R51),0,IF(ISERROR(VLOOKUP(R51,LUTs!$A$6:$B$8,2)),R51,VLOOKUP(R51,LUTs!$A$6:$B$8,2)))","v":""},{"$f":"IF(ISBLANK(S51),0,VLOOKUP(S51,LUTs!$A$6:$B$8,2))","v":{"$error":"#N/A"}},{"$f":"IF(ISBLANK(T51),0,IF(ISERROR(VLOOKUP(T51,LUTs!$A$6:$B$8,2)),T51,VLOOKUP(T51,LUTs!$A$6:$B$8,2)))","v":""},{"$f":"IF(ISBLANK(U51),0,VLOOKUP(U51,LUTs!$A$6:$B$8,2))","v":{"$error":"#N/A"}},{"$f":"IF(ISBLANK(V51),0,VLOOKUP(V51,LUTs!$A$6:$B$8,2))","v":{"$error":"#N/A"}},{"$f":"IF(ISBLANK(W51),0,VLOOKUP(W51,LUTs!$A$6:$B$8,2))","v":{"$error":"#N/A"}},{"$f":"IF(ISBLANK(X51),0,VLOOKUP(X51,LUTs!$A$6:$B$8,2))","v":{"$error":"#N/A"}}]
[{"$f":"IF(ISBLANK(Responses!A52), \"\", Responses!A52)","v":""},{"$f":"IF(ISBLANK(Responses!B52), \"\", Responses!B52)","v":""},{"$f":"IF(ISBLANK(Responses!U52), \"\", Responses!U52)","v":""},{"$f":"IF(ISBLANK(Responses!V52), \"\", Responses!V52)","v":""},{"$f":"IF(ISBLANK(Responses!W52), \"\", Responses!W52)","v":""},{"$f":"IF(ISBLANK(Responses!X52), \"\", Responses!X52)","v":""},{"$f":"IF(ISBLANK(Responses!Y52), \"\", Responses!Y52)","v":""},{"$f":"IF(ISBLANK(Responses!Z52), \"\", Responses!Z52)","v":""},{"$f":"IF(ISBLANK(Responses!AA52), \"\", Responses!AA52)","v":""},{"$f":"IF(ISBLANK(Responses!AB52), \"\", Responses!AB52)","v":""},{"$f":"IF(ISBLANK(Responses!AC52), \"\", Responses!AC52)","v":""},{"$f":"IF(ISBLANK(Responses!AD52), \"\", Responses!AD52)","v":""},{"$f":"IF(ISBLANK(Responses!AE52), \"\", Responses!AE52)","v":""},{"$f":"IF(ISBLANK(Responses!AF52), \"\", Responses!AF52)","v":""},{"$f":"IF(ISBLANK(Responses!AG52), \"\", Responses!AG52)","v":""},{"$f":"IF(ISBLANK(Responses!AH52), \"\", Responses!AH52)","v":""},{"$f":"IF(ISBLANK(Responses!AI52), \"\", Responses!AI52)","v":""},{"$f":"IF(ISBLANK(Responses!AJ52), \"\", Responses!AJ52)","v":""},{"$f":"IF(ISBLANK(Responses!AK52), \"\", Responses!AK52)","v":""},{"$f":"IF(ISBLANK(Responses!AL52), \"\", Responses!AL52)","v":""},{"$f":"IF(ISBLANK(Responses!AM52), \"\", Responses!AM52)","v":""},{"$f":"IF(ISBLANK(Responses!AN52), \"\", Responses!AN52)","v":""},{"$f":"IF(ISBLANK(Responses!AO52), \"\", Responses!AO52)","v":""},{"$f":"IF(ISBLANK(Responses!AP52), \"\", Responses!AP52)","v":""},{"$error":"#N/A"},{"$error":"#N/A"},{"$f":"IF(ISBLANK(C52),0,VLOOKUP(C52,LUTs!$A$6:$B$8,2))","v":{"$error":"#N/A"}},{"$f":"IF(ISBLANK(D52),0,VLOOKUP(D52,LUTs!$A$6:$B$8,2))","v":{"$error":"#N/A"}},{"$f":"IF(ISBLANK(E52),0,VLOOKUP(E52,LUTs!$A$6:$B$8,2))","v":{"$error":"#N/A"}},{"$f":"IF(ISBLANK(F52),0,VLOOKUP(F52,LUTs!$A$6:$B$8,2))","v":{"$error":"#N/A"}},{"$f":"IF(ISBLANK(G52),0,VLOOKUP(G52,LUTs!$A$6:$B$8,2))","v":{"$error":"#N/A"}},{"$f":"IF(ISBLANK(H52),0,VLOOKUP(H52,LUTs!$A$6:$B$8,2))","v":{"$error":"#N/A"}},{"$f":"IF(ISBLANK(I52),0,VLOOKUP(I52,LUTs!$A$6:$B$8,2))","v":{"$error":"#N/A"}},{"$f":"IF(ISBLANK(J52),0,VLOOKUP(J52,LUTs!$A$6:$B$8,2))","v":{"$error":"#N/A"}},{"$f":"IF(ISBLANK(K52),0,VLOOKUP(K52,LUTs!$A$6:$B$8,2))","v":{"$error":"#N/A"}},{"$f":"IF(ISBLANK(L52),0,VLOOKUP(L52,LUTs!$A$6:$B$8,2))","v":{"$error":"#N/A"}},{"$f":"IF(ISBLANK(M52),0,VLOOKUP(M52,LUTs!$A$6:$B$8,2))","v":{"$error":"#N/A"}},{"$f":"IF(ISBLANK(N52),0,VLOOKUP(N52,LUTs!$A$6:$B$8,2))","v":{"$error":"#N/A"}},{"$f":"IF(ISBLANK(O52),0,VLOOKUP(O52,LUTs!$A$6:$B$8,2))","v":{"$error":"#N/A"}},{"$f":"IF(ISBLANK(P52),0,VLOOKUP(P52,LUTs!$A$6:$B$8,2))","v":{"$error":"#N/A"}},{"$f":"IF(ISBLANK(Q52),0,VLOOKUP(Q52,LUTs!$A$6:$B$8,2))","v":{"$error":"#N/A"}},{"$f":"IF(ISBLANK(R52),0,IF(ISERROR(VLOOKUP(R52,LUTs!$A$6:$B$8,2)),R52,VLOOKUP(R52,LUTs!$A$6:$B$8,2)))","v":""},{"$f":"IF(ISBLANK(S52),0,VLOOKUP(S52,LUTs!$A$6:$B$8,2))","v":{"$error":"#N/A"}},{"$f":"IF(ISBLANK(T52),0,IF(ISERROR(VLOOKUP(T52,LUTs!$A$6:$B$8,2)),T52,VLOOKUP(T52,LUTs!$A$6:$B$8,2)))","v":""},{"$f":"IF(ISBLANK(U52),0,VLOOKUP(U52,LUTs!$A$6:$B$8,2))","v":{"$error":"#N/A"}},{"$f":"IF(ISBLANK(V52),0,VLOOKUP(V52,LUTs!$A$6:$B$8,2))","v":{"$error":"#N/A"}},{"$f":"IF(ISBLANK(W52),0,VLOOKUP(W52,LUTs!$A$6:$B$8,2))","v":{"$error":"#N/A"}},{"$f":"IF(ISBLANK(X52),0,VLOOKUP(X52,LUTs!$A$6:$B$8,2))","v":{"$error":"#N/A"}}]
[{"$f":"IF(ISBLANK(Responses!A53), \"\", Responses!A53)","v":""},{"$f":"IF(ISBLANK(Responses!B53), \"\", Responses!B53)","v":""},{"$f":"IF(ISBLANK(Responses!U53), \"\", Responses!U53)","v":""},{"$f":"IF(ISBLANK(Responses!V53), \"\", Responses!V53)","v":""},{"$f":"IF(ISBLANK(Responses!W53), \"\", Responses!W53)","v":""},{"$f":"IF(ISBLANK(Responses!X53), \"\", Responses!X53)","v":""},{"$f":"IF(ISBLANK(Responses!Y53), \"\", Responses!Y53)","v":""},{"$f":"IF(ISBLANK(Responses!Z53), \"\", Responses!Z53)","v":""},{"$f":"IF(ISBLANK(Responses!AA53), \"\", Responses!AA53)","v":""},{"$f":"IF(ISBLANK(Responses!AB53), \"\", Responses!AB53)","v":""},{"$f":"IF(ISBLANK(Responses!AC53), \"\", Responses!AC53)","v":""},{"$f":"IF(ISBLANK(Responses!AD53), \"\", Responses!AD53)","v":""},{"$f":"IF(ISBLANK(Responses!AE53), \"\", Responses!AE53)","v":""},{"$f":"IF(ISBLANK(Responses!AF53), \"\", Responses!AF53)","v":""},{"$f":"IF(ISBLANK(Responses!AG53), \"\", Responses!AG53)","v":""},{"$f":"IF(ISBLANK(Responses!AH53), \"\", Responses!AH53)","v":""},{"$f":"IF(ISBLANK(Responses!AI53), \"\", Responses!AI53)","v":""},{"$f":"IF(ISBLANK(Responses!AJ53), \"\", Responses!AJ53)","v":""},{"$f":"IF(ISBLANK(Responses!AK53), \"\", Responses!AK53)","v":""},{"$f":"IF(ISBLANK(Responses!AL53), \"\", Responses!AL53)","v":""},{"$f":"IF(ISBLANK(Responses!AM53), \"\", Responses!AM53)","v":""},{"$f":"IF(ISBLANK(Responses!AN53), \"\", Responses!AN53)","v":""},{"$f":"IF(ISBLANK(Responses!AO53), \"\", Responses!AO53)","v":""},{"$f":"IF(ISBLANK(Responses!AP53), \"\", Responses!AP53)","v":""},{"$error":"#N/A"},{"$error":"#N/A"},{"$f":"IF(ISBLANK(C53),0,VLOOKUP(C53,LUTs!$A$6:$B$8,2))","v":{"$error":"#N/A"}},{"$f":"IF(ISBLANK(D53),0,VLOOKUP(D53,LUTs!$A$6:$B$8,2))","v":{"$error":"#N/A"}},{"$f":"IF(ISBLANK(E53),0,VLOOKUP(E53,LUTs!$A$6:$B$8,2))","v":{"$error":"#N/A"}},{"$f":"IF(ISBLANK(F53),0,VLOOKUP(F53,LUTs!$A$6:$B$8,2))","v":{"$error":"#N/A"}},{"$f":"IF(ISBLANK(G53),0,VLOOKUP(G53,LUTs!$A$6:$B$8,2))","v":{"$error":"#N/A"}},{"$f":"IF(ISBLANK(H53),0,VLOOKUP(H53,LUTs!$A$6:$B$8,2))","v":{"$error":"#N/A"}},{"$f":"IF(ISBLANK(I53),0,VLOOKUP(I53,LUTs!$A$6:$B$8,2))","v":{"$error":"#N/A"}},{"$f":"IF(ISBLANK(J53),0,VLOOKUP(J53,LUTs!$A$6:$B$8,2))","v":{"$error":"#N/A"}},{"$f":"IF(ISBLANK(K53),0,VLOOKUP(K53,LUTs!$A$6:$B$8,2))","v":{"$error":"#N/A"}},{"$f":"IF(ISBLANK(L53),0,VLOOKUP(L53,LUTs!$A$6:$B$8,2))","v":{"$error":"#N/A"}},{"$f":"IF(ISBLANK(M53),0,VLOOKUP(M53,LUTs!$A$6:$B$8,2))","v":{"$error":"#N/A"}},{"$f":"IF(ISBLANK(N53),0,VLOOKUP(N53,LUTs!$A$6:$B$8,2))","v":{"$error":"#N/A"}},{"$f":"IF(ISBLANK(O53),0,VLOOKUP(O53,LUTs!$A$6:$B$8,2))","v":{"$error":"#N/A"}},{"$f":"IF(ISBLANK(P53),0,VLOOKUP(P53,LUTs!$A$6:$B$8,2))","v":{"$error":"#N/A"}},{"$f":"IF(ISBLANK(Q53),0,VLOOKUP(Q53,LUTs!$A$6:$B$8,2))","v":{"$error":"#N/A"}},{"$f":"IF(ISBLANK(R53),0,IF(ISERROR(VLOOKUP(R53,LUTs!$A$6:$B$8,2)),R53,VLOOKUP(R53,LUTs!$A$6:$B$8,2)))","v":""},{"$f":"IF(ISBLANK(S53),0,VLOOKUP(S53,LUTs!$A$6:$B$8,2))","v":{"$error":"#N/A"}},{"$f":"IF(ISBLANK(T53),0,IF(ISERROR(VLOOKUP(T53,LUTs!$A$6:$B$8,2)),T53,VLOOKUP(T53,LUTs!$A$6:$B$8,2)))","v":""},{"$f":"IF(ISBLANK(U53),0,VLOOKUP(U53,LUTs!$A$6:$B$8,2))","v":{"$error":"#N/A"}},{"$f":"IF(ISBLANK(V53),0,VLOOKUP(V53,LUTs!$A$6:$B$8,2))","v":{"$error":"#N/A"}},{"$f":"IF(ISBLANK(W53),0,VLOOKUP(W53,LUTs!$A$6:$B$8,2))","v":{"$error":"#N/A"}},{"$f":"IF(ISBLANK(X53),0,VLOOKUP(X53,LUTs!$A$6:$B$8,2))","v":{"$error":"#N/A"}}]
[{"$f":"IF(ISBLANK(Responses!A54), \"\", Responses!A54)","v":""},{"$f":"IF(ISBLANK(Responses!B54), \"\", Responses!B54)","v":""},{"$f":"IF(ISBLANK(Responses!U54), \"\", Responses!U54)","v":""},{"$f":"IF(ISBLANK(Responses!V54), \"\", Responses!V54)","v":""},{"$f":"IF(ISBLANK(Responses!W54), \"\", Responses!W54)","v":""},{"$f":"IF(ISBLANK(Responses!X54), \"\", Responses!X54)","v":""},{"$f":"IF(ISBLANK(Responses!Y54), \"\", Responses!Y54)","v":""},{"$f":"IF(ISBLANK(Responses!Z54), \"\", Responses!Z54)","v":""},{"$f":"IF(ISBLANK(Responses!AA54), \"\", Responses!AA54)","v":""},{"$f":"IF(ISBLANK(Responses!AB54), \"\", Responses!AB54)","v":""},{"$f":"IF(ISBLANK(Responses!AC54), \"\", Responses!AC54)","v":""},{"$f":"IF(ISBLANK(Responses!AD54), \"\", Responses!AD54)","v":""},{"$f":"IF(ISBLANK(Responses!AE54), \"\", Responses!AE54)","v":""},{"$f":"IF(ISBLANK(Responses!AF54), \"\", Responses!AF54)","v":""},{"$f":"IF(ISBLANK(Responses!AG54), \"\", Responses!AG54)","v":""},{"$f":"IF(ISBLANK(Responses!AH54), \"\", Responses!AH54)","v":""},{"$f":"IF(ISBLANK(Responses!AI54), \"\", Responses!AI54)","v":""},{"$f":"IF(ISBLANK(Responses!AJ54), \"\", Responses!AJ54)","v":""},{"$f":"IF(ISBLANK(Responses!AK54), \"\", Responses!AK54)","v":""},{"$f":"IF(ISBLANK(Responses!AL54), \"\", Responses!AL54)","v":""},{"$f":"IF(ISBLANK(Responses!AM54), \"\", Responses!AM54)","v":""},{"$f":"IF(ISBLANK(Responses!AN54), \"\", Responses!AN54)","v":""},{"$f":"IF(ISBLANK(Responses!AO54), \"\", Responses!AO54)","v":""},{"$f":"IF(ISBLANK(Responses!AP54), \"\", Responses!AP54)","v":""},{"$error":"#N/A"},{"$error":"#N/A"},{"$f":"IF(ISBLANK(C54),0,VLOOKUP(C54,LUTs!$A$6:$B$8,2))","v":{"$error":"#N/A"}},{"$f":"IF(ISBLANK(D54),0,VLOOKUP(D54,LUTs!$A$6:$B$8,2))","v":{"$error":"#N/A"}},{"$f":"IF(ISBLANK(E54),0,VLOOKUP(E54,LUTs!$A$6:$B$8,2))","v":{"$error":"#N/A"}},{"$f":"IF(ISBLANK(F54),0,VLOOKUP(F54,LUTs!$A$6:$B$8,2))","v":{"$error":"#N/A"}},{"$f":"IF(ISBLANK(G54),0,VLOOKUP(G54,LUTs!$A$6:$B$8,2))","v":{"$error":"#N/A"}},{"$f":"IF(ISBLANK(H54),0,VLOOKUP(H54,LUTs!$A$6:$B$8,2))","v":{"$error":"#N/A"}},{"$f":"IF(ISBLANK(I54),0,VLOOKUP(I54,LUTs!$A$6:$B$8,2))","v":{"$error":"#N/A"}},{"$f":"IF(ISBLANK(J54),0,VLOOKUP(J54,LUTs!$A$6:$B$8,2))","v":{"$error":"#N/A"}},{"$f":"IF(ISBLANK(K54),0,VLOOKUP(K54,LUTs!$A$6:$B$8,2))","v":{"$error":"#N/A"}},{"$f":"IF(ISBLANK(L54),0,VLOOKUP(L54,LUTs!$A$6:$B$8,2))","v":{"$error":"#N/A"}},{"$f":"IF(ISBLANK(M54),0,VLOOKUP(M54,LUTs!$A$6:$B$8,2))","v":{"$error":"#N/A"}},{"$f":"IF(ISBLANK(N54),0,VLOOKUP(N54,LUTs!$A$6:$B$8,2))","v":{"$error":"#N/A"}},{"$f":"IF(ISBLANK(O54),0,VLOOKUP(O54,LUTs!$A$6:$B$8,2))","v":{"$error":"#N/A"}},{"$f":"IF(ISBLANK(P54),0,VLOOKUP(P54,LUTs!$A$6:$B$8,2))","v":{"$error":"#N/A"}},{"$f":"IF(ISBLANK(Q54),0,VLOOKUP(Q54,LUTs!$A$6:$B$8,2))","v":{"$error":"#N/A"}},{"$f":"IF(ISBLANK(R54),0,IF(ISERROR(VLOOKUP(R54,LUTs!$A$6:$B$8,2)),R54,VLOOKUP(R54,LUTs!$A$6:$B$8,2)))","v":""},{"$f":"IF(ISBLANK(S54),0,VLOOKUP(S54,LUTs!$A$6:$B$8,2))","v":{"$error":"#N/A"}},{"$f":"IF(ISBLANK(T54),0,IF(ISERROR(VLOOKUP(T54,LUTs!$A$6:$B$8,2)),T54,VLOOKUP(T54,LUTs!$A$6:$B$8,2)))","v":""},{"$f":"IF(ISBLANK(U54),0,VLOOKUP(U54,LUTs!$A$6:$B$8,2))","v":{"$error":"#N/A"}},{"$f":"IF(ISBLANK(V54),0,VLOOKUP(V54,LUTs!$A$6:$B$8,2))","v":{"$error":"#N/A"}},{"$f":"IF(ISBLANK(W54),0,VLOOKUP(W54,LUTs!$A$6:$B$8,2))","v":{"$error":"#N/A"}},{"$f":"IF(ISBLANK(X54),0,VLOOKUP(X54,LUTs!$A$6:$B$8,2))","v":{"$error":"#N/A"}}]
[{"$f":"IF(ISBLANK(Responses!A55), \"\", Responses!A55)","v":""},{"$f":"IF(ISBLANK(Responses!B55), \"\", Responses!B55)","v":""},{"$f":"IF(ISBLANK(Responses!U55), \"\", Responses!U55)","v":""},{"$f":"IF(ISBLANK(Responses!V55), \"\", Responses!V55)","v":""},{"$f":"IF(ISBLANK(Responses!W55), \"\", Responses!W55)","v":""},{"$f":"IF(ISBLANK(Responses!X55), \"\", Responses!X55)","v":""},{"$f":"IF(ISBLANK(Responses!Y55), \"\", Responses!Y55)","v":""},{"$f":"IF(ISBLANK(Responses!Z55), \"\", Responses!Z55)","v":""},{"$f":"IF(ISBLANK(Responses!AA55), \"\", Responses!AA55)","v":""},{"$f":"IF(ISBLANK(Responses!AB55), \"\", Responses!AB55)","v":""},{"$f":"IF(ISBLANK(Responses!AC55), \"\", Responses!AC55)","v":""},{"$f":"IF(ISBLANK(Responses!AD55), \"\", Responses!AD55)","v":""},{"$f":"IF(ISBLANK(Responses!AE55), \"\", Responses!AE55)","v":""},{"$f":"IF(ISBLANK(Responses!AF55), \"\", Responses!AF55)","v":""},{"$f":"IF(ISBLANK(Responses!AG55), \"\", Responses!AG55)","v":""},{"$f":"IF(ISBLANK(Responses!AH55), \"\", Responses!AH55)","v":""},{"$f":"IF(ISBLANK(Responses!AI55), \"\", Responses!AI55)","v":""},{"$f":"IF(ISBLANK(Responses!AJ55), \"\", Responses!AJ55)","v":""},{"$f":"IF(ISBLANK(Responses!AK55), \"\", Responses!AK55)","v":""},{"$f":"IF(ISBLANK(Responses!AL55), \"\", Responses!AL55)","v":""},{"$f":"IF(ISBLANK(Responses!AM55), \"\", Responses!AM55)","v":""},{"$f":"IF(ISBLANK(Responses!AN55), \"\", Responses!AN55)","v":""},{"$f":"IF(ISBLANK(Responses!AO55), \"\", Responses!AO55)","v":""},{"$f":"IF(ISBLANK(Responses!AP55), \"\", Responses!AP55)","v":""},{"$error":"#N/A"},{"$error":"#N/A"},{"$f":"IF(ISBLANK(C55),0,VLOOKUP(C55,LUTs!$A$6:$B$8,2))","v":{"$error":"#N/A"}},{"$f":"IF(ISBLANK(D55),0,VLOOKUP(D55,LUTs!$A$6:$B$8,2))","v":{"$error":"#N/A"}},{"$f":"IF(ISBLANK(E55),0,VLOOKUP(E55,LUTs!$A$6:$B$8,2))","v":{"$error":"#N/A"}},{"$f":"IF(ISBLANK(F55),0,VLOOKUP(F55,LUTs!$A$6:$B$8,2))","v":{"$error":"#N/A"}},{"$f":"IF(ISBLANK(G55),0,VLOOKUP(G55,LUTs!$A$6:$B$8,2))","v":{"$error":"#N/A"}},{"$f":"IF(ISBLANK(H55),0,VLOOKUP(H55,LUTs!$A$6:$B$8,2))","v":{"$error":"#N/A"}},{"$f":"IF(ISBLANK(I55),0,VLOOKUP(I55,LUTs!$A$6:$B$8,2))","v":{"$error":"#N/A"}},{"$f":"IF(ISBLANK(J55),0,VLOOKUP(J55,LUTs!$A$6:$B$8,2))","v":{"$error":"#N/A"}},{"$f":"IF(ISBLANK(K55),0,VLOOKUP(K55,LUTs!$A$6:$B$8,2))","v":{"$error":"#N/A"}},{"$f":"IF(ISBLANK(L55),0,VLOOKUP(L55,LUTs!$A$6:$B$8,2))","v":{"$error":"#N/A"}},{"$f":"IF(ISBLANK(M55),0,VLOOKUP(M55,LUTs!$A$6:$B$8,2))","v":{"$error":"#N/A"}},{"$f":"IF(ISBLANK(N55),0,VLOOKUP(N55,LUTs!$A$6:$B$8,2))","v":{"$error":"#N/A"}},{"$f":"IF(ISBLANK(O55),0,VLOOKUP(O55,LUTs!$A$6:$B$8,2))","v":{"$error":"#N/A"}},{"$f":"IF(ISBLANK(P55),0,VLOOKUP(P55,LUTs!$A$6:$B$8,2))","v":{"$error":"#N/A"}},{"$f":"IF(ISBLANK(Q55),0,VLOOKUP(Q55,LUTs!$A$6:$B$8,2))","v":{"$error":"#N/A"}},{"$f":"IF(ISBLANK(R55),0,IF(ISERROR(VLOOKUP(R55,LUTs!$A$6:$B$8,2)),R55,VLOOKUP(R55,LUTs!$A$6:$B$8,2)))","v":""},{"$f":"IF(ISBLANK(S55),0,VLOOKUP(S55,LUTs!$A$6:$B$8,2))","v":{"$error":"#N/A"}},{"$f":"IF(ISBLANK(T55),0,IF(ISERROR(VLOOKUP(T55,LUTs!$A$6:$B$8,2)),T55,VLOOKUP(T55,LUTs!$A$6:$B$8,2)))","v":""},{"$f":"IF(ISBLANK(U55),0,VLOOKUP(U55,LUTs!$A$6:$B$8,2))","v":{"$error":"#N/A"}},{"$f":"IF(ISBLANK(V55),0,VLOOKUP(V55,LUTs!$A$6:$B$8,2))","v":{"$error":"#N/A"}},{"$f":"IF(ISBLANK(W55),0,VLOOKUP(W55,LUTs!$A$6:$B$8,2))","v":{"$error":"#N/A"}},{"$f":"IF(ISBLANK(X55),0,VLOOKUP(X55,LUTs!$A$6:$B$8,2))","v":{"$error":"#N/A"}}]
[{"$f":"IF(ISBLANK(Responses!A56), \"\", Responses!A56)","v":""},{"$f":"IF(ISBLANK(Responses!B56), \"\", Responses!B56)","v":""},{"$f":"IF(ISBLANK(Responses!U56), \"\", Responses!U56)","v":""},{"$f":"IF(ISBLANK(Responses!V56), \"\", Responses!V56)","v":""},{"$f":"IF(ISBLANK(Responses!W56), \"\", Responses!W56)","v":""},{"$f":"IF(ISBLANK(Responses!X56), \"\", Responses!X56)","v":""},{"$f":"IF(ISBLANK(Responses!Y56), \"\", Responses!Y56)","v":""},{"$f":"IF(ISBLANK(Responses!Z56), \"\", Responses!Z56)","v":""},{"$f":"IF(ISBLANK(Responses!AA56), \"\", Responses!AA56)","v":""},{"$f":"IF(ISBLANK(Responses!AB56), \"\", Responses!AB56)","v":""},{"$f":"IF(ISBLANK(Responses!AC56), \"\", Responses!AC56)","v":""},{"$f":"IF(ISBLANK(Responses!AD56), \"\", Responses!AD56)","v":""},{"$f":"IF(ISBLANK(Responses!AE56), \"\", Responses!AE56)","v":""},{"$f":"IF(ISBLANK(Responses!AF56), \"\", Responses!AF56)","v":""},{"$f":"IF(ISBLANK(Responses!AG56), \"\", Responses!AG56)","v":""},{"$f":"IF(ISBLANK(Responses!AH56), \"\", Responses!AH56)","v":""},{"$f":"IF(ISBLANK(Responses!AI56), \"\", Responses!AI56)","v":""},{"$f":"IF(ISBLANK(Responses!AJ56), \"\", Responses!AJ56)","v":""},{"$f":"IF(ISBLANK(Responses!AK56), \"\", Responses!AK56)","v":""},{"$f":"IF(ISBLANK(Responses!AL56), \"\", Responses!AL56)","v":""},{"$f":"IF(ISBLANK(Responses!AM56), \"\", Responses!AM56)","v":""},{"$f":"IF(ISBLANK(Responses!AN56), \"\", Responses!AN56)","v":""},{"$f":"IF(ISBLANK(Responses!AO56), \"\", Responses!AO56)","v":""},{"$f":"IF(ISBLANK(Responses!AP56), \"\", Responses!AP56)","v":""},{"$error":"#N/A"},{"$error":"#N/A"},{"$f":"IF(ISBLANK(C56),0,VLOOKUP(C56,LUTs!$A$6:$B$8,2))","v":{"$error":"#N/A"}},{"$f":"IF(ISBLANK(D56),0,VLOOKUP(D56,LUTs!$A$6:$B$8,2))","v":{"$error":"#N/A"}},{"$f":"IF(ISBLANK(E56),0,VLOOKUP(E56,LUTs!$A$6:$B$8,2))","v":{"$error":"#N/A"}},{"$f":"IF(ISBLANK(F56),0,VLOOKUP(F56,LUTs!$A$6:$B$8,2))","v":{"$error":"#N/A"}},{"$f":"IF(ISBLANK(G56),0,VLOOKUP(G56,LUTs!$A$6:$B$8,2))","v":{"$error":"#N/A"}},{"$f":"IF(ISBLANK(H56),0,VLOOKUP(H56,LUTs!$A$6:$B$8,2))","v":{"$error":"#N/A"}},{"$f":"IF(ISBLANK(I56),0,VLOOKUP(I56,LUTs!$A$6:$B$8,2))","v":{"$error":"#N/A"}},{"$f":"IF(ISBLANK(J56),0,VLOOKUP(J56,LUTs!$A$6:$B$8,2))","v":{"$error":"#N/A"}},{"$f":"IF(ISBLANK(K56),0,VLOOKUP(K56,LUTs!$A$6:$B$8,2))","v":{"$error":"#N/A"}},{"$f":"IF(ISBLANK(L56),0,VLOOKUP(L56,LUTs!$A$6:$B$8,2))","v":{"$error":"#N/A"}},{"$f":"IF(ISBLANK(M56),0,VLOOKUP(M56,LUTs!$A$6:$B$8,2))","v":{"$error":"#N/A"}},{"$f":"IF(ISBLANK(N56),0,VLOOKUP(N56,LUTs!$A$6:$B$8,2))","v":{"$error":"#N/A"}},{"$f":"IF(ISBLANK(O56),0,VLOOKUP(O56,LUTs!$A$6:$B$8,2))","v":{"$error":"#N/A"}},{"$f":"IF(ISBLANK(P56),0,VLOOKUP(P56,LUTs!$A$6:$B$8,2))","v":{"$error":"#N/A"}},{"$f":"IF(ISBLANK(Q56),0,VLOOKUP(Q56,LUTs!$A$6:$B$8,2))","v":{"$error":"#N/A"}},{"$f":"IF(ISBLANK(R56),0,IF(ISERROR(VLOOKUP(R56,LUTs!$A$6:$B$8,2)),R56,VLOOKUP(R56,LUTs!$A$6:$B$8,2)))","v":""},{"$f":"IF(ISBLANK(S56),0,VLOOKUP(S56,LUTs!$A$6:$B$8,2))","v":{"$error":"#N/A"}},{"$f":"IF(ISBLANK(T56),0,IF(ISERROR(VLOOKUP(T56,LUTs!$A$6:$B$8,2)),T56,VLOOKUP(T56,LUTs!$A$6:$B$8,2)))","v":""},{"$f":"IF(ISBLANK(U56),0,VLOOKUP(U56,LUTs!$A$6:$B$8,2))","v":{"$error":"#N/A"}},{"$f":"IF(ISBLANK(V56),0,VLOOKUP(V56,LUTs!$A$6:$B$8,2))","v":{"$error":"#N/A"}},{"$f":"IF(ISBLANK(W56),0,VLOOKUP(W56,LUTs!$A$6:$B$8,2))","v":{"$error":"#N/A"}},{"$f":"IF(ISBLANK(X56),0,VLOOKUP(X56,LUTs!$A$6:$B$8,2))","v":{"$error":"#N/A"}}]
[{"$f":"IF(ISBLANK(Responses!A57), \"\", Responses!A57)","v":""},{"$f":"IF(ISBLANK(Responses!B57), \"\", Responses!B57)","v":""},{"$f":"IF(ISBLANK(Responses!U57), \"\", Responses!U57)","v":""},{"$f":"IF(ISBLANK(Responses!V57), \"\", Responses!V57)","v":""},{"$f":"IF(ISBLANK(Responses!W57), \"\", Responses!W57)","v":""},{"$f":"IF(ISBLANK(Responses!X57), \"\", Responses!X57)","v":""},{"$f":"IF(ISBLANK(Responses!Y57), \"\", Responses!Y57)","v":""},{"$f":"IF(ISBLANK(Responses!Z57), \"\", Responses!Z57)","v":""},{"$f":"IF(ISBLANK(Responses!AA57), \"\", Responses!AA57)","v":""},{"$f":"IF(ISBLANK(Responses!AB57), \"\", Responses!AB57)","v":""},{"$f":"IF(ISBLANK(Responses!AC57), \"\", Responses!AC57)","v":""},{"$f":"IF(ISBLANK(Responses!AD57), \"\", Responses!AD57)","v":""},{"$f":"IF(ISBLANK(Responses!AE57), \"\", Responses!AE57)","v":""},{"$f":"IF(ISBLANK(Responses!AF57), \"\", Responses!AF57)","v":""},{"$f":"IF(ISBLANK(Responses!AG57), \"\", Responses!AG57)","v":""},{"$f":"IF(ISBLANK(Responses!AH57), \"\", Responses!AH57)","v":""},{"$f":"IF(ISBLANK(Responses!AI57), \"\", Responses!AI57)","v":""},{"$f":"IF(ISBLANK(Responses!AJ57), \"\", Responses!AJ57)","v":""},{"$f":"IF(ISBLANK(Responses!AK57), \"\", Responses!AK57)","v":""},{"$f":"IF(ISBLANK(Responses!AL57), \"\", Responses!AL57)","v":""},{"$f":"IF(ISBLANK(Responses!AM57), \"\", Responses!AM57)","v":""},{"$f":"IF(ISBLANK(Responses!AN57), \"\", Responses!AN57)","v":""},{"$f":"IF(ISBLANK(Responses!AO57), \"\", Responses!AO57)","v":""},{"$f":"IF(ISBLANK(Responses!AP57), \"\", Responses!AP57)","v":""},{"$error":"#N/A"},{"$error":"#N/A"},{"$f":"IF(ISBLANK(C57),0,VLOOKUP(C57,LUTs!$A$6:$B$8,2))","v":{"$error":"#N/A"}},{"$f":"IF(ISBLANK(D57),0,VLOOKUP(D57,LUTs!$A$6:$B$8,2))","v":{"$error":"#N/A"}},{"$f":"IF(ISBLANK(E57),0,VLOOKUP(E57,LUTs!$A$6:$B$8,2))","v":{"$error":"#N/A"}},{"$f":"IF(ISBLANK(F57),0,VLOOKUP(F57,LUTs!$A$6:$B$8,2))","v":{"$error":"#N/A"}},{"$f":"IF(ISBLANK(G57),0,VLOOKUP(G57,LUTs!$A$6:$B$8,2))","v":{"$error":"#N/A"}},{"$f":"IF(ISBLANK(H57),0,VLOOKUP(H57,LUTs!$A$6:$B$8,2))","v":{"$error":"#N/A"}},{"$f":"IF(ISBLANK(I57),0,VLOOKUP(I57,LUTs!$A$6:$B$8,2))","v":{"$error":"#N/A"}},{"$f":"IF(ISBLANK(J57),0,VLOOKUP(J57,LUTs!$A$6:$B$8,2))","v":{"$error":"#N/A"}},{"$f":"IF(ISBLANK(K57),0,VLOOKUP(K57,LUTs!$A$6:$B$8,2))","v":{"$error":"#N/A"}},{"$f":"IF(ISBLANK(L57),0,VLOOKUP(L57,LUTs!$A$6:$B$8,2))","v":{"$error":"#N/A"}},{"$f":"IF(ISBLANK(M57),0,VLOOKUP(M57,LUTs!$A$6:$B$8,2))","v":{"$error":"#N/A"}},{"$f":"IF(ISBLANK(N57),0,VLOOKUP(N57,LUTs!$A$6:$B$8,2))","v":{"$error":"#N/A"}},{"$f":"IF(ISBLANK(O57),0,VLOOKUP(O57,LUTs!$A$6:$B$8,2))","v":{"$error":"#N/A"}},{"$f":"IF(ISBLANK(P57),0,VLOOKUP(P57,LUTs!$A$6:$B$8,2))","v":{"$error":"#N/A"}},{"$f":"IF(ISBLANK(Q57),0,VLOOKUP(Q57,LUTs!$A$6:$B$8,2))","v":{"$error":"#N/A"}},{"$f":"IF(ISBLANK(R57),0,IF(ISERROR(VLOOKUP(R57,LUTs!$A$6:$B$8,2)),R57,VLOOKUP(R57,LUTs!$A$6:$B$8,2)))","v":""},{"$f":"IF(ISBLANK(S57),0,VLOOKUP(S57,LUTs!$A$6:$B$8,2))","v":{"$error":"#N/A"}},{"$f":"IF(ISBLANK(T57),0,IF(ISERROR(VLOOKUP(T57,LUTs!$A$6:$B$8,2)),T57,VLOOKUP(T57,LUTs!$A$6:$B$8,2)))","v":""},{"$f":"IF(ISBLANK(U57),0,VLOOKUP(U57,LUTs!$A$6:$B$8,2))","v":{"$error":"#N/A"}},{"$f":"IF(ISBLANK(V57),0,VLOOKUP(V57,LUTs!$A$6:$B$8,2))","v":{"$error":"#N/A"}},{"$f":"IF(ISBLANK(W57),0,VLOOKUP(W57,LUTs!$A$6:$B$8,2))","v":{"$error":"#N/A"}},{"$f":"IF(ISBLANK(X57),0,VLOOKUP(X57,LUTs!$A$6:$B$8,2))","v":{"$error":"#N/A"}}]
[{"$f":"IF(ISBLANK(Responses!A58), \"\", Responses!A58)","v":""},{"$f":"IF(ISBLANK(Responses!B58), \"\", Responses!B58)","v":""},{"$f":"IF(ISBLANK(Responses!U58), \"\", Responses!U58)","v":""},{"$f":"IF(ISBLANK(Responses!V58), \"\", Responses!V58)","v":""},{"$f":"IF(ISBLANK(Responses!W58), \"\", Responses!W58)","v":""},{"$f":"IF(ISBLANK(Responses!X58), \"\", Responses!X58)","v":""},{"$f":"IF(ISBLANK(Responses!Y58), \"\", Responses!Y58)","v":""},{"$f":"IF(ISBLANK(Responses!Z58), \"\", Responses!Z58)","v":""},{"$f":"IF(ISBLANK(Responses!AA58), \"\", Responses!AA58)","v":""},{"$f":"IF(ISBLANK(Responses!AB58), \"\", Responses!AB58)","v":""},{"$f":"IF(ISBLANK(Responses!AC58), \"\", Responses!AC58)","v":""},{"$f":"IF(ISBLANK(Responses!AD58), \"\", Responses!AD58)","v":""},{"$f":"IF(ISBLANK(Responses!AE58), \"\", Responses!AE58)","v":""},{"$f":"IF(ISBLANK(Responses!AF58), \"\", Responses!AF58)","v":""},{"$f":"IF(ISBLANK(Responses!AG58), \"\", Responses!AG58)","v":""},{"$f":"IF(ISBLANK(Responses!AH58), \"\", Responses!AH58)","v":""},{"$f":"IF(ISBLANK(Responses!AI58), \"\", Responses!AI58)","v":""},{"$f":"IF(ISBLANK(Responses!AJ58), \"\", Responses!AJ58)","v":""},{"$f":"IF(ISBLANK(Responses!AK58), \"\", Responses!AK58)","v":""},{"$f":"IF(ISBLANK(Responses!AL58), \"\", Responses!AL58)","v":""},{"$f":"IF(ISBLANK(Responses!AM58), \"\", Responses!AM58)","v":""},{"$f":"IF(ISBLANK(Responses!AN58), \"\", Responses!AN58)","v":""},{"$f":"IF(ISBLANK(Responses!AO58), \"\", Responses!AO58)","v":""},{"$f":"IF(ISBLANK(Responses!AP58), \"\", Responses!AP58)","v":""},{"$error":"#N/A"},{"$error":"#N/A"},{"$f":"IF(ISBLANK(C58),0,VLOOKUP(C58,LUTs!$A$6:$B$8,2))","v":{"$error":"#N/A"}},{"$f":"IF(ISBLANK(D58),0,VLOOKUP(D58,LUTs!$A$6:$B$8,2))","v":{"$error":"#N/A"}},{"$f":"IF(ISBLANK(E58),0,VLOOKUP(E58,LUTs!$A$6:$B$8,2))","v":{"$error":"#N/A"}},{"$f":"IF(ISBLANK(F58),0,VLOOKUP(F58,LUTs!$A$6:$B$8,2))","v":{"$error":"#N/A"}},{"$f":"IF(ISBLANK(G58),0,VLOOKUP(G58,LUTs!$A$6:$B$8,2))","v":{"$error":"#N/A"}},{"$f":"IF(ISBLANK(H58),0,VLOOKUP(H58,LUTs!$A$6:$B$8,2))","v":{"$error":"#N/A"}},{"$f":"IF(ISBLANK(I58),0,VLOOKUP(I58,LUTs!$A$6:$B$8,2))","v":{"$error":"#N/A"}},{"$f":"IF(ISBLANK(J58),0,VLOOKUP(J58,LUTs!$A$6:$B$8,2))","v":{"$error":"#N/A"}},{"$f":"IF(ISBLANK(K58),0,VLOOKUP(K58,LUTs!$A$6:$B$8,2))","v":{"$error":"#N/A"}},{"$f":"IF(ISBLANK(L58),0,VLOOKUP(L58,LUTs!$A$6:$B$8,2))","v":{"$error":"#N/A"}},{"$f":"IF(ISBLANK(M58),0,VLOOKUP(M58,LUTs!$A$6:$B$8,2))","v":{"$error":"#N/A"}},{"$f":"IF(ISBLANK(N58),0,VLOOKUP(N58,LUTs!$A$6:$B$8,2))","v":{"$error":"#N/A"}},{"$f":"IF(ISBLANK(O58),0,VLOOKUP(O58,LUTs!$A$6:$B$8,2))","v":{"$error":"#N/A"}},{"$f":"IF(ISBLANK(P58),0,VLOOKUP(P58,LUTs!$A$6:$B$8,2))","v":{"$error":"#N/A"}},{"$f":"IF(ISBLANK(Q58),0,VLOOKUP(Q58,LUTs!$A$6:$B$8,2))","v":{"$error":"#N/A"}},{"$f":"IF(ISBLANK(R58),0,IF(ISERROR(VLOOKUP(R58,LUTs!$A$6:$B$8,2)),R58,VLOOKUP(R58,LUTs!$A$6:$B$8,2)))","v":""},{"$f":"IF(ISBLANK(S58),0,VLOOKUP(S58,LUTs!$A$6:$B$8,2))","v":{"$error":"#N/A"}},{"$f":"IF(ISBLANK(T58),0,IF(ISERROR(VLOOKUP(T58,LUTs!$A$6:$B$8,2)),T58,VLOOKUP(T58,LUTs!$A$6:$B$8,2)))","v":""},{"$f":"IF(ISBLANK(U58),0,VLOOKUP(U58,LUTs!$A$6:$B$8,2))","v":{"$error":"#N/A"}},{"$f":"IF(ISBLANK(V58),0,VLOOKUP(V58,LUTs!$A$6:$B$8,2))","v":{"$error":"#N/A"}},{"$f":"IF(ISBLANK(W58),0,VLOOKUP(W58,LUTs!$A$6:$B$8,2))","v":{"$error":"#N/A"}},{"$f":"IF(ISBLANK(X58),0,VLOOKUP(X58,LUTs!$A$6:$B$8,2))","v":{"$error":"#N/A"}}]
[{"$f":"IF(ISBLANK(Responses!A59), \"\", Responses!A59)","v":""},{"$f":"IF(ISBLANK(Responses!B59), \"\", Responses!B59)","v":""},{"$f":"IF(ISBLANK(Responses!U59), \"\", Responses!U59)","v":""},{"$f":"IF(ISBLANK(Responses!V59), \"\", Responses!V59)","v":""},{"$f":"IF(ISBLANK(Responses!W59), \"\", Responses!W59)","v":""},{"$f":"IF(ISBLANK(Responses!X59), \"\", Responses!X59)","v":""},{"$f":"IF(ISBLANK(Responses!Y59), \"\", Responses!Y59)","v":""},{"$f":"IF(ISBLANK(Responses!Z59), \"\", Responses!Z59)","v":""},{"$f":"IF(ISBLANK(Responses!AA59), \"\", Responses!AA59)","v":""},{"$f":"IF(ISBLANK(Responses!AB59), \"\", Responses!AB59)","v":""},{"$f":"IF(ISBLANK(Responses!AC59), \"\", Responses!AC59)","v":""},{"$f":"IF(ISBLANK(Responses!AD59), \"\", Responses!AD59)","v":""},{"$f":"IF(ISBLANK(Responses!AE59), \"\", Responses!AE59)","v":""},{"$f":"IF(ISBLANK(Responses!AF59), \"\", Responses!AF59)","v":""},{"$f":"IF(ISBLANK(Responses!AG59), \"\", Responses!AG59)","v":""},{"$f":"IF(ISBLANK(Responses!AH59), \"\", Responses!AH59)","v":""},{"$f":"IF(ISBLANK(Responses!AI59), \"\", Responses!AI59)","v":""},{"$f":"IF(ISBLANK(Responses!AJ59), \"\", Responses!AJ59)","v":""},{"$f":"IF(ISBLANK(Responses!AK59), \"\", Responses!AK59)","v":""},{"$f":"IF(ISBLANK(Responses!AL59), \"\", Responses!AL59)","v":""},{"$f":"IF(ISBLANK(Responses!AM59), \"\", Responses!AM59)","v":""},{"$f":"IF(ISBLANK(Responses!AN59), \"\", Responses!AN59)","v":""},{"$f":"IF(ISBLANK(Responses!AO59), \"\", Responses!AO59)","v":""},{"$f":"IF(ISBLANK(Responses!AP59), \"\", Responses!AP59)","v":""},{"$error":"#N/A"},{"$error":"#N/A"},{"$f":"IF(ISBLANK(C59),0,VLOOKUP(C59,LUTs!$A$6:$B$8,2))","v":{"$error":"#N/A"}},{"$f":"IF(ISBLANK(D59),0,VLOOKUP(D59,LUTs!$A$6:$B$8,2))","v":{"$error":"#N/A"}},{"$f":"IF(ISBLANK(E59),0,VLOOKUP(E59,LUTs!$A$6:$B$8,2))","v":{"$error":"#N/A"}},{"$f":"IF(ISBLANK(F59),0,VLOOKUP(F59,LUTs!$A$6:$B$8,2))","v":{"$error":"#N/A"}},{"$f":"IF(ISBLANK(G59),0,VLOOKUP(G59,LUTs!$A$6:$B$8,2))","v":{"$error":"#N/A"}},{"$f":"IF(ISBLANK(H59),0,VLOOKUP(H59,LUTs!$A$6:$B$8,2))","v":{"$error":"#N/A"}},{"$f":"IF(ISBLANK(I59),0,VLOOKUP(I59,LUTs!$A$6:$B$8,2))","v":{"$error":"#N/A"}},{"$f":"IF(ISBLANK(J59),0,VLOOKUP(J59,LUTs!$A$6:$B$8,2))","v":{"$error":"#N/A"}},{"$f":"IF(ISBLANK(K59),0,VLOOKUP(K59,LUTs!$A$6:$B$8,2))","v":{"$error":"#N/A"}},{"$f":"IF(ISBLANK(L59),0,VLOOKUP(L59,LUTs!$A$6:$B$8,2))","v":{"$error":"#N/A"}},{"$f":"IF(ISBLANK(M59),0,VLOOKUP(M59,LUTs!$A$6:$B$8,2))","v":{"$error":"#N/A"}},{"$f":"IF(ISBLANK(N59),0,VLOOKUP(N59,LUTs!$A$6:$B$8,2))","v":{"$error":"#N/A"}},{"$f":"IF(ISBLANK(O59),0,VLOOKUP(O59,LUTs!$A$6:$B$8,2))","v":{"$error":"#N/A"}},{"$f":"IF(ISBLANK(P59),0,VLOOKUP(P59,LUTs!$A$6:$B$8,2))","v":{"$error":"#N/A"}},{"$f":"IF(ISBLANK(Q59),0,VLOOKUP(Q59,LUTs!$A$6:$B$8,2))","v":{"$error":"#N/A"}},{"$f":"IF(ISBLANK(R59),0,IF(ISERROR(VLOOKUP(R59,LUTs!$A$6:$B$8,2)),R59,VLOOKUP(R59,LUTs!$A$6:$B$8,2)))","v":""},{"$f":"IF(ISBLANK(S59),0,VLOOKUP(S59,LUTs!$A$6:$B$8,2))","v":{"$error":"#N/A"}},{"$f":"IF(ISBLANK(T59),0,IF(ISERROR(VLOOKUP(T59,LUTs!$A$6:$B$8,2)),T59,VLOOKUP(T59,LUTs!$A$6:$B$8,2)))","v":""},{"$f":"IF(ISBLANK(U59),0,VLOOKUP(U59,LUTs!$A$6:$B$8,2))","v":{"$error":"#N/A"}},{"$f":"IF(ISBLANK(V59),0,VLOOKUP(V59,LUTs!$A$6:$B$8,2))","v":{"$error":"#N/A"}},{"$f":"IF(ISBLANK(W59),0,VLOOKUP(W59,LUTs!$A$6:$B$8,2))","v":{"$error":"#N/A"}},{"$f":"IF(ISBLANK(X59),0,VLOOKUP(X59,LUTs!$A$6:$B$8,2))","v":{"$error":"#N/A"}}]
[{"$f":"IF(ISBLANK(Responses!A60), \"\", Responses!A60)","v":""},{"$f":"IF(ISBLANK(Responses!B60), \"\", Responses!B60)","v":""},{"$f":"IF(ISBLANK(Responses!U60), \"\", Responses!U60)","v":""},{"$f":"IF(ISBLANK(Responses!V60), \"\", Responses!V60)","v":""},{"$f":"IF(ISBLANK(Responses!W60), \"\", Responses!W60)","v":""},{"$f":"IF(ISBLANK(Responses!X60), \"\", Responses!X60)","v":""},{"$f":"IF(ISBLANK(Responses!Y60), \"\", Responses!Y60)","v":""},{"$f":"IF(ISBLANK(Responses!Z60), \"\", Responses!Z60)","v":""},{"$f":"IF(ISBLANK(Responses!AA60), \"\", Responses!AA60)","v":""},{"$f":"IF(ISBLANK(Responses!AB60), \"\", Responses!AB60)","v":""},{"$f":"IF(ISBLANK(Responses!AC60), \"\", Responses!AC60)","v":""},{"$f":"IF(ISBLANK(Responses!AD60), \"\", Responses!AD60)","v":""},{"$f":"IF(ISBLANK(Responses!AE60), \"\", Responses!AE60)","v":""},{"$f":"IF(ISBLANK(Responses!AF60), \"\", Responses!AF60)","v":""},{"$f":"IF(ISBLANK(Responses!AG60), \"\", Responses!AG60)","v":""},{"$f":"IF(ISBLANK(Responses!AH60), \"\", Responses!AH60)","v":""},{"$f":"IF(ISBLANK(Responses!AI60), \"\", Responses!AI60)","v":""},{"$f":"IF(ISBLANK(Responses!AJ60), \"\", Responses!AJ60)","v":""},{"$f":"IF(ISBLANK(Responses!AK60), \"\", Responses!AK60)","v":""},{"$f":"IF(ISBLANK(Responses!AL60), \"\", Responses!AL60)","v":""},{"$f":"IF(ISBLANK(Responses!AM60), \"\", Responses!AM60)","v":""},{"$f":"IF(ISBLANK(Responses!AN60), \"\", Responses!AN60)","v":""},{"$f":"IF(ISBLANK(Responses!AO60), \"\", Responses!AO60)","v":""},{"$f":"IF(ISBLANK(Responses!AP60), \"\", Responses!AP60)","v":""},{"$error":"#N/A"},{"$error":"#N/A"},{"$f":"IF(ISBLANK(C60),0,VLOOKUP(C60,LUTs!$A$6:$B$8,2))","v":{"$error":"#N/A"}},{"$f":"IF(ISBLANK(D60),0,VLOOKUP(D60,LUTs!$A$6:$B$8,2))","v":{"$error":"#N/A"}},{"$f":"IF(ISBLANK(E60),0,VLOOKUP(E60,LUTs!$A$6:$B$8,2))","v":{"$error":"#N/A"}},{"$f":"IF(ISBLANK(F60),0,VLOOKUP(F60,LUTs!$A$6:$B$8,2))","v":{"$error":"#N/A"}},{"$f":"IF(ISBLANK(G60),0,VLOOKUP(G60,LUTs!$A$6:$B$8,2))","v":{"$error":"#N/A"}},{"$f":"IF(ISBLANK(H60),0,VLOOKUP(H60,LUTs!$A$6:$B$8,2))","v":{"$error":"#N/A"}},{"$f":"IF(ISBLANK(I60),0,VLOOKUP(I60,LUTs!$A$6:$B$8,2))","v":{"$error":"#N/A"}},{"$f":"IF(ISBLANK(J60),0,VLOOKUP(J60,LUTs!$A$6:$B$8,2))","v":{"$error":"#N/A"}},{"$f":"IF(ISBLANK(K60),0,VLOOKUP(K60,LUTs!$A$6:$B$8,2))","v":{"$error":"#N/A"}},{"$f":"IF(ISBLANK(L60),0,VLOOKUP(L60,LUTs!$A$6:$B$8,2))","v":{"$error":"#N/A"}},{"$f":"IF(ISBLANK(M60),0,VLOOKUP(M60,LUTs!$A$6:$B$8,2))","v":{"$error":"#N/A"}},{"$f":"IF(ISBLANK(N60),0,VLOOKUP(N60,LUTs!$A$6:$B$8,2))","v":{"$error":"#N/A"}},{"$f":"IF(ISBLANK(O60),0,VLOOKUP(O60,LUTs!$A$6:$B$8,2))","v":{"$error":"#N/A"}},{"$f":"IF(ISBLANK(P60),0,VLOOKUP(P60,LUTs!$A$6:$B$8,2))","v":{"$error":"#N/A"}},{"$f":"IF(ISBLANK(Q60),0,VLOOKUP(Q60,LUTs!$A$6:$B$8,2))","v":{"$error":"#N/A"}},{"$f":"IF(ISBLANK(R60),0,IF(ISERROR(VLOOKUP(R60,LUTs!$A$6:$B$8,2)),R60,VLOOKUP(R60,LUTs!$A$6:$B$8,2)))","v":""},{"$f":"IF(ISBLANK(S60),0,VLOOKUP(S60,LUTs!$A$6:$B$8,2))","v":{"$error":"#N/A"}},{"$f":"IF(ISBLANK(T60),0,IF(ISERROR(VLOOKUP(T60,LUTs!$A$6:$B$8,2)),T60,VLOOKUP(T60,LUTs!$A$6:$B$8,2)))","v":""},{"$f":"IF(ISBLANK(U60),0,VLOOKUP(U60,LUTs!$A$6:$B$8,2))","v":{"$error":"#N/A"}},{"$f":"IF(ISBLANK(V60),0,VLOOKUP(V60,LUTs!$A$6:$B$8,2))","v":{"$error":"#N/A"}},{"$f":"IF(ISBLANK(W60),0,VLOOKUP(W60,LUTs!$A$6:$B$8,2))","v":{"$error":"#N/A"}},{"$f":"IF(ISBLANK(X60),0,VLOOKUP(X60,LUTs!$A$6:$B$8,2))","v":{"$error":"#N/A"}}]
[{"$f":"IF(ISBLANK(Responses!A61), \"\", Responses!A61)","v":""},{"$f":"IF(ISBLANK(Responses!B61), \"\", Responses!B61)","v":""},{"$f":"IF(ISBLANK(Responses!U61), \"\", Responses!U61)","v":""},{"$f":"IF(ISBLANK(Responses!V61), \"\", Responses!V61)","v":""},{"$f":"IF(ISBLANK(Responses!W61), \"\", Responses!W61)","v":""},{"$f":"IF(ISBLANK(Responses!X61), \"\", Responses!X61)","v":""},{"$f":"IF(ISBLANK(Responses!Y61), \"\", Responses!Y61)","v":""},{"$f":"IF(ISBLANK(Responses!Z61), \"\", Responses!Z61)","v":""},{"$f":"IF(ISBLANK(Responses!AA61), \"\", Responses!AA61)","v":""},{"$f":"IF(ISBLANK(Responses!AB61), \"\", Responses!AB61)","v":""},{"$f":"IF(ISBLANK(Responses!AC61), \"\", Responses!AC61)","v":""},{"$f":"IF(ISBLANK(Responses!AD61), \"\", Responses!AD61)","v":""},{"$f":"IF(ISBLANK(Responses!AE61), \"\", Responses!AE61)","v":""},{"$f":"IF(ISBLANK(Responses!AF61), \"\", Responses!AF61)","v":""},{"$f":"IF(ISBLANK(Responses!AG61), \"\", Responses!AG61)","v":""},{"$f":"IF(ISBLANK(Responses!AH61), \"\", Responses!AH61)","v":""},{"$f":"IF(ISBLANK(Responses!AI61), \"\", Responses!AI61)","v":""},{"$f":"IF(ISBLANK(Responses!AJ61), \"\", Responses!AJ61)","v":""},{"$f":"IF(ISBLANK(Responses!AK61), \"\", Responses!AK61)","v":""},{"$f":"IF(ISBLANK(Responses!AL61), \"\", Responses!AL61)","v":""},{"$f":"IF(ISBLANK(Responses!AM61), \"\", Responses!AM61)","v":""},{"$f":"IF(ISBLANK(Responses!AN61), \"\", Responses!AN61)","v":""},{"$f":"IF(ISBLANK(Responses!AO61), \"\", Responses!AO61)","v":""},{"$f":"IF(ISBLANK(Responses!AP61), \"\", Responses!AP61)","v":""},{"$error":"#N/A"},{"$error":"#N/A"},{"$f":"IF(ISBLANK(C61),0,VLOOKUP(C61,LUTs!$A$6:$B$8,2))","v":{"$error":"#N/A"}},{"$f":"IF(ISBLANK(D61),0,VLOOKUP(D61,LUTs!$A$6:$B$8,2))","v":{"$error":"#N/A"}},{"$f":"IF(ISBLANK(E61),0,VLOOKUP(E61,LUTs!$A$6:$B$8,2))","v":{"$error":"#N/A"}},{"$f":"IF(ISBLANK(F61),0,VLOOKUP(F61,LUTs!$A$6:$B$8,2))","v":{"$error":"#N/A"}},{"$f":"IF(ISBLANK(G61),0,VLOOKUP(G61,LUTs!$A$6:$B$8,2))","v":{"$error":"#N/A"}},{"$f":"IF(ISBLANK(H61),0,VLOOKUP(H61,LUTs!$A$6:$B$8,2))","v":{"$error":"#N/A"}},{"$f":"IF(ISBLANK(I61),0,VLOOKUP(I61,LUTs!$A$6:$B$8,2))","v":{"$error":"#N/A"}},{"$f":"IF(ISBLANK(J61),0,VLOOKUP(J61,LUTs!$A$6:$B$8,2))","v":{"$error":"#N/A"}},{"$f":"IF(ISBLANK(K61),0,VLOOKUP(K61,LUTs!$A$6:$B$8,2))","v":{"$error":"#N/A"}},{"$f":"IF(ISBLANK(L61),0,VLOOKUP(L61,LUTs!$A$6:$B$8,2))","v":{"$error":"#N/A"}},{"$f":"IF(ISBLANK(M61),0,VLOOKUP(M61,LUTs!$A$6:$B$8,2))","v":{"$error":"#N/A"}},{"$f":"IF(ISBLANK(N61),0,VLOOKUP(N61,LUTs!$A$6:$B$8,2))","v":{"$error":"#N/A"}},{"$f":"IF(ISBLANK(O61),0,VLOOKUP(O61,LUTs!$A$6:$B$8,2))","v":{"$error":"#N/A"}},{"$f":"IF(ISBLANK(P61),0,VLOOKUP(P61,LUTs!$A$6:$B$8,2))","v":{"$error":"#N/A"}},{"$f":"IF(ISBLANK(Q61),0,VLOOKUP(Q61,LUTs!$A$6:$B$8,2))","v":{"$error":"#N/A"}},{"$f":"IF(ISBLANK(R61),0,IF(ISERROR(VLOOKUP(R61,LUTs!$A$6:$B$8,2)),R61,VLOOKUP(R61,LUTs!$A$6:$B$8,2)))","v":""},{"$f":"IF(ISBLANK(S61),0,VLOOKUP(S61,LUTs!$A$6:$B$8,2))","v":{"$error":"#N/A"}},{"$f":"IF(ISBLANK(T61),0,IF(ISERROR(VLOOKUP(T61,LUTs!$A$6:$B$8,2)),T61,VLOOKUP(T61,LUTs!$A$6:$B$8,2)))","v":""},{"$f":"IF(ISBLANK(U61),0,VLOOKUP(U61,LUTs!$A$6:$B$8,2))","v":{"$error":"#N/A"}},{"$f":"IF(ISBLANK(V61),0,VLOOKUP(V61,LUTs!$A$6:$B$8,2))","v":{"$error":"#N/A"}},{"$f":"IF(ISBLANK(W61),0,VLOOKUP(W61,LUTs!$A$6:$B$8,2))","v":{"$error":"#N/A"}},{"$f":"IF(ISBLANK(X61),0,VLOOKUP(X61,LUTs!$A$6:$B$8,2))","v":{"$error":"#N/A"}}]
[{"$f":"IF(ISBLANK(Responses!A62), \"\", Responses!A62)","v":""},{"$f":"IF(ISBLANK(Responses!B62), \"\", Responses!B62)","v":""},{"$f":"IF(ISBLANK(Responses!U62), \"\", Responses!U62)","v":""},{"$f":"IF(ISBLANK(Responses!V62), \"\", Responses!V62)","v":""},{"$f":"IF(ISBLANK(Responses!W62), \"\", Responses!W62)","v":""},{"$f":"IF(ISBLANK(Responses!X62), \"\", Responses!X62)","v":""},{"$f":"IF(ISBLANK(Responses!Y62), \"\", Responses!Y62)","v":""},{"$f":"IF(ISBLANK(Responses!Z62), \"\", Responses!Z62)","v":""},{"$f":"IF(ISBLANK(Responses!AA62), \"\", Responses!AA62)","v":""},{"$f":"IF(ISBLANK(Responses!AB62), \"\", Responses!AB62)","v":""},{"$f":"IF(ISBLANK(Responses!AC62), \"\", Responses!AC62)","v":""},{"$f":"IF(ISBLANK(Responses!AD62), \"\", Responses!AD62)","v":""},{"$f":"IF(ISBLANK(Responses!AE62), \"\", Responses!AE62)","v":""},{"$f":"IF(ISBLANK(Responses!AF62), \"\", Responses!AF62)","v":""},{"$f":"IF(ISBLANK(Responses!AG62), \"\", Responses!AG62)","v":""},{"$f":"IF(ISBLANK(Responses!AH62), \"\", Responses!AH62)","v":""},{"$f":"IF(ISBLANK(Responses!AI62), \"\", Responses!AI62)","v":""},{"$f":"IF(ISBLANK(Responses!AJ62), \"\", Responses!AJ62)","v":""},{"$f":"IF(ISBLANK(Responses!AK62), \"\", Responses!AK62)","v":""},{"$f":"IF(ISBLANK(Responses!AL62), \"\", Responses!AL62)","v":""},{"$f":"IF(ISBLANK(Responses!AM62), \"\", Responses!AM62)","v":""},{"$f":"IF(ISBLANK(Responses!AN62), \"\", Responses!AN62)","v":""},{"$f":"IF(ISBLANK(Responses!AO62), \"\", Responses!AO62)","v":""},{"$f":"IF(ISBLANK(Responses!AP62), \"\", Responses!AP62)","v":""},{"$error":"#N/A"},{"$error":"#N/A"},{"$f":"IF(ISBLANK(C62),0,VLOOKUP(C62,LUTs!$A$6:$B$8,2))","v":{"$error":"#N/A"}},{"$f":"IF(ISBLANK(D62),0,VLOOKUP(D62,LUTs!$A$6:$B$8,2))","v":{"$error":"#N/A"}},{"$f":"IF(ISBLANK(E62),0,VLOOKUP(E62,LUTs!$A$6:$B$8,2))","v":{"$error":"#N/A"}},{"$f":"IF(ISBLANK(F62),0,VLOOKUP(F62,LUTs!$A$6:$B$8,2))","v":{"$error":"#N/A"}},{"$f":"IF(ISBLANK(G62),0,VLOOKUP(G62,LUTs!$A$6:$B$8,2))","v":{"$error":"#N/A"}},{"$f":"IF(ISBLANK(H62),0,VLOOKUP(H62,LUTs!$A$6:$B$8,2))","v":{"$error":"#N/A"}},{"$f":"IF(ISBLANK(I62),0,VLOOKUP(I62,LUTs!$A$6:$B$8,2))","v":{"$error":"#N/A"}},{"$f":"IF(ISBLANK(J62),0,VLOOKUP(J62,LUTs!$A$6:$B$8,2))","v":{"$error":"#N/A"}},{"$f":"IF(ISBLANK(K62),0,VLOOKUP(K62,LUTs!$A$6:$B$8,2))","v":{"$error":"#N/A"}},{"$f":"IF(ISBLANK(L62),0,VLOOKUP(L62,LUTs!$A$6:$B$8,2))","v":{"$error":"#N/A"}},{"$f":"IF(ISBLANK(M62),0,VLOOKUP(M62,LUTs!$A$6:$B$8,2))","v":{"$error":"#N/A"}},{"$f":"IF(ISBLANK(N62),0,VLOOKUP(N62,LUTs!$A$6:$B$8,2))","v":{"$error":"#N/A"}},{"$f":"IF(ISBLANK(O62),0,VLOOKUP(O62,LUTs!$A$6:$B$8,2))","v":{"$error":"#N/A"}},{"$f":"IF(ISBLANK(P62),0,VLOOKUP(P62,LUTs!$A$6:$B$8,2))","v":{"$error":"#N/A"}},{"$f":"IF(ISBLANK(Q62),0,VLOOKUP(Q62,LUTs!$A$6:$B$8,2))","v":{"$error":"#N/A"}},{"$f":"IF(ISBLANK(R62),0,IF(ISERROR(VLOOKUP(R62,LUTs!$A$6:$B$8,2)),R62,VLOOKUP(R62,LUTs!$A$6:$B$8,2)))","v":""},{"$f":"IF(ISBLANK(S62),0,VLOOKUP(S62,LUTs!$A$6:$B$8,2))","v":{"$error":"#N/A"}},{"$f":"IF(ISBLANK(T62),0,IF(ISERROR(VLOOKUP(T62,LUTs!$A$6:$B$8,2)),T62,VLOOKUP(T62,LUTs!$A$6:$B$8,2)))","v":""},{"$f":"IF(ISBLANK(U62),0,VLOOKUP(U62,LUTs!$A$6:$B$8,2))","v":{"$error":"#N/A"}},{"$f":"IF(ISBLANK(V62),0,VLOOKUP(V62,LUTs!$A$6:$B$8,2))","v":{"$error":"#N/A"}},{"$f":"IF(ISBLANK(W62),0,VLOOKUP(W62,LUTs!$A$6:$B$8,2))","v":{"$error":"#N/A"}},{"$f":"IF(ISBLANK(X62),0,VLOOKUP(X62,LUTs!$A$6:$B$8,2))","v":{"$error":"#N/A"}}]
[{"$f":"IF(ISBLANK(Responses!A63), \"\", Responses!A63)","v":""},{"$f":"IF(ISBLANK(Responses!B63), \"\", Responses!B63)","v":""},{"$f":"IF(ISBLANK(Responses!U63), \"\", Responses!U63)","v":""},{"$f":"IF(ISBLANK(Responses!V63), \"\", Responses!V63)","v":""},{"$f":"IF(ISBLANK(Responses!W63), \"\", Responses!W63)","v":""},{"$f":"IF(ISBLANK(Responses!X63), \"\", Responses!X63)","v":""},{"$f":"IF(ISBLANK(Responses!Y63), \"\", Responses!Y63)","v":""},{"$f":"IF(ISBLANK(Responses!Z63), \"\", Responses!Z63)","v":""},{"$f":"IF(ISBLANK(Responses!AA63), \"\", Responses!AA63)","v":""},{"$f":"IF(ISBLANK(Responses!AB63), \"\", Responses!AB63)","v":""},{"$f":"IF(ISBLANK(Responses!AC63), \"\", Responses!AC63)","v":""},{"$f":"IF(ISBLANK(Responses!AD63), \"\", Responses!AD63)","v":""},{"$f":"IF(ISBLANK(Responses!AE63), \"\", Responses!AE63)","v":""},{"$f":"IF(ISBLANK(Responses!AF63), \"\", Responses!AF63)","v":""},{"$f":"IF(ISBLANK(Responses!AG63), \"\", Responses!AG63)","v":""},{"$f":"IF(ISBLANK(Responses!AH63), \"\", Responses!AH63)","v":""},{"$f":"IF(ISBLANK(Responses!AI63), \"\", Responses!AI63)","v":""},{"$f":"IF(ISBLANK(Responses!AJ63), \"\", Responses!AJ63)","v":""},{"$f":"IF(ISBLANK(Responses!AK63), \"\", Responses!AK63)","v":""},{"$f":"IF(ISBLANK(Responses!AL63), \"\", Responses!AL63)","v":""},{"$f":"IF(ISBLANK(Responses!AM63), \"\", Responses!AM63)","v":""},{"$f":"IF(ISBLANK(Responses!AN63), \"\", Responses!AN63)","v":""},{"$f":"IF(ISBLANK(Responses!AO63), \"\", Responses!AO63)","v":""},{"$f":"IF(ISBLANK(Responses!AP63), \"\", Responses!AP63)","v":""},{"$error":"#N/A"},{"$error":"#N/A"},{"$f":"IF(ISBLANK(C63),0,VLOOKUP(C63,LUTs!$A$6:$B$8,2))","v":{"$error":"#N/A"}},{"$f":"IF(ISBLANK(D63),0,VLOOKUP(D63,LUTs!$A$6:$B$8,2))","v":{"$error":"#N/A"}},{"$f":"IF(ISBLANK(E63),0,VLOOKUP(E63,LUTs!$A$6:$B$8,2))","v":{"$error":"#N/A"}},{"$f":"IF(ISBLANK(F63),0,VLOOKUP(F63,LUTs!$A$6:$B$8,2))","v":{"$error":"#N/A"}},{"$f":"IF(ISBLANK(G63),0,VLOOKUP(G63,LUTs!$A$6:$B$8,2))","v":{"$error":"#N/A"}},{"$f":"IF(ISBLANK(H63),0,VLOOKUP(H63,LUTs!$A$6:$B$8,2))","v":{"$error":"#N/A"}},{"$f":"IF(ISBLANK(I63),0,VLOOKUP(I63,LUTs!$A$6:$B$8,2))","v":{"$error":"#N/A"}},{"$f":"IF(ISBLANK(J63),0,VLOOKUP(J63,LUTs!$A$6:$B$8,2))","v":{"$error":"#N/A"}},{"$f":"IF(ISBLANK(K63),0,VLOOKUP(K63,LUTs!$A$6:$B$8,2))","v":{"$error":"#N/A"}},{"$f":"IF(ISBLANK(L63),0,VLOOKUP(L63,LUTs!$A$6:$B$8,2))","v":{"$error":"#N/A"}},{"$f":"IF(ISBLANK(M63),0,VLOOKUP(M63,LUTs!$A$6:$B$8,2))","v":{"$error":"#N/A"}},{"$f":"IF(ISBLANK(N63),0,VLOOKUP(N63,LUTs!$A$6:$B$8,2))","v":{"$error":"#N/A"}},{"$f":"IF(ISBLANK(O63),0,VLOOKUP(O63,LUTs!$A$6:$B$8,2))","v":{"$error":"#N/A"}},{"$f":"IF(ISBLANK(P63),0,VLOOKUP(P63,LUTs!$A$6:$B$8,2))","v":{"$error":"#N/A"}},{"$f":"IF(ISBLANK(Q63),0,VLOOKUP(Q63,LUTs!$A$6:$B$8,2))","v":{"$error":"#N/A"}},{"$f":"IF(ISBLANK(R63),0,IF(ISERROR(VLOOKUP(R63,LUTs!$A$6:$B$8,2)),R63,VLOOKUP(R63,LUTs!$A$6:$B$8,2)))","v":""},{"$f":"IF(ISBLANK(S63),0,VLOOKUP(S63,LUTs!$A$6:$B$8,2))","v":{"$error":"#N/A"}},{"$f":"IF(ISBLANK(T63),0,IF(ISERROR(VLOOKUP(T63,LUTs!$A$6:$B$8,2)),T63,VLOOKUP(T63,LUTs!$A$6:$B$8,2)))","v":""},{"$f":"IF(ISBLANK(U63),0,VLOOKUP(U63,LUTs!$A$6:$B$8,2))","v":{"$error":"#N/A"}},{"$f":"IF(ISBLANK(V63),0,VLOOKUP(V63,LUTs!$A$6:$B$8,2))","v":{"$error":"#N/A"}},{"$f":"IF(ISBLANK(W63),0,VLOOKUP(W63,LUTs!$A$6:$B$8,2))","v":{"$error":"#N/A"}},{"$f":"IF(ISBLANK(X63),0,VLOOKUP(X63,LUTs!$A$6:$B$8,2))","v":{"$error":"#N/A"}}]
[{"$f":"IF(ISBLANK(Responses!A64), \"\", Responses!A64)","v":""},{"$f":"IF(ISBLANK(Responses!B64), \"\", Responses!B64)","v":""},{"$f":"IF(ISBLANK(Responses!U64), \"\", Responses!U64)","v":""},{"$f":"IF(ISBLANK(Responses!V64), \"\", Responses!V64)","v":""},{"$f":"IF(ISBLANK(Responses!W64), \"\", Responses!W64)","v":""},{"$f":"IF(ISBLANK(Responses!X64), \"\", Responses!X64)","v":""},{"$f":"IF(ISBLANK(Responses!Y64), \"\", Responses!Y64)","v":""},{"$f":"IF(ISBLANK(Responses!Z64), \"\", Responses!Z64)","v":""},{"$f":"IF(ISBLANK(Responses!AA64), \"\", Responses!AA64)","v":""},{"$f":"IF(ISBLANK(Responses!AB64), \"\", Responses!AB64)","v":""},{"$f":"IF(ISBLANK(Responses!AC64), \"\", Responses!AC64)","v":""},{"$f":"IF(ISBLANK(Responses!AD64), \"\", Responses!AD64)","v":""},{"$f":"IF(ISBLANK(Responses!AE64), \"\", Responses!AE64)","v":""},{"$f":"IF(ISBLANK(Responses!AF64), \"\", Responses!AF64)","v":""},{"$f":"IF(ISBLANK(Responses!AG64), \"\", Responses!AG64)","v":""},{"$f":"IF(ISBLANK(Responses!AH64), \"\", Responses!AH64)","v":""},{"$f":"IF(ISBLANK(Responses!AI64), \"\", Responses!AI64)","v":""},{"$f":"IF(ISBLANK(Responses!AJ64), \"\", Responses!AJ64)","v":""},{"$f":"IF(ISBLANK(Responses!AK64), \"\", Responses!AK64)","v":""},{"$f":"IF(ISBLANK(Responses!AL64), \"\", Responses!AL64)","v":""},{"$f":"IF(ISBLANK(Responses!AM64), \"\", Responses!AM64)","v":""},{"$f":"IF(ISBLANK(Responses!AN64), \"\", Responses!AN64)","v":""},{"$f":"IF(ISBLANK(Responses!AO64), \"\", Responses!AO64)","v":""},{"$f":"IF(ISBLANK(Responses!AP64), \"\", Responses!AP64)","v":""},{"$error":"#N/A"},{"$error":"#N/A"},{"$f":"IF(ISBLANK(C64),0,VLOOKUP(C64,LUTs!$A$6:$B$8,2))","v":{"$error":"#N/A"}},{"$f":"IF(ISBLANK(D64),0,VLOOKUP(D64,LUTs!$A$6:$B$8,2))","v":{"$error":"#N/A"}},{"$f":"IF(ISBLANK(E64),0,VLOOKUP(E64,LUTs!$A$6:$B$8,2))","v":{"$error":"#N/A"}},{"$f":"IF(ISBLANK(F64),0,VLOOKUP(F64,LUTs!$A$6:$B$8,2))","v":{"$error":"#N/A"}},{"$f":"IF(ISBLANK(G64),0,VLOOKUP(G64,LUTs!$A$6:$B$8,2))","v":{"$error":"#N/A"}},{"$f":"IF(ISBLANK(H64),0,VLOOKUP(H64,LUTs!$A$6:$B$8,2))","v":{"$error":"#N/A"}},{"$f":"IF(ISBLANK(I64),0,VLOOKUP(I64,LUTs!$A$6:$B$8,2))","v":{"$error":"#N/A"}},{"$f":"IF(ISBLANK(J64),0,VLOOKUP(J64,LUTs!$A$6:$B$8,2))","v":{"$error":"#N/A"}},{"$f":"IF(ISBLANK(K64),0,VLOOKUP(K64,LUTs!$A$6:$B$8,2))","v":{"$error":"#N/A"}},{"$f":"IF(ISBLANK(L64),0,VLOOKUP(L64,LUTs!$A$6:$B$8,2))","v":{"$error":"#N/A"}},{"$f":"IF(ISBLANK(M64),0,VLOOKUP(M64,LUTs!$A$6:$B$8,2))","v":{"$error":"#N/A"}},{"$f":"IF(ISBLANK(N64),0,VLOOKUP(N64,LUTs!$A$6:$B$8,2))","v":{"$error":"#N/A"}},{"$f":"IF(ISBLANK(O64),0,VLOOKUP(O64,LUTs!$A$6:$B$8,2))","v":{"$error":"#N/A"}},{"$f":"IF(ISBLANK(P64),0,VLOOKUP(P64,LUTs!$A$6:$B$8,2))","v":{"$error":"#N/A"}},{"$f":"IF(ISBLANK(Q64),0,VLOOKUP(Q64,LUTs!$A$6:$B$8,2))","v":{"$error":"#N/A"}},{"$f":"IF(ISBLANK(R64),0,IF(ISERROR(VLOOKUP(R64,LUTs!$A$6:$B$8,2)),R64,VLOOKUP(R64,LUTs!$A$6:$B$8,2)))","v":""},{"$f":"IF(ISBLANK(S64),0,VLOOKUP(S64,LUTs!$A$6:$B$8,2))","v":{"$error":"#N/A"}},{"$f":"IF(ISBLANK(T64),0,IF(ISERROR(VLOOKUP(T64,LUTs!$A$6:$B$8,2)),T64,VLOOKUP(T64,LUTs!$A$6:$B$8,2)))","v":""},{"$f":"IF(ISBLANK(U64),0,VLOOKUP(U64,LUTs!$A$6:$B$8,2))","v":{"$error":"#N/A"}},{"$f":"IF(ISBLANK(V64),0,VLOOKUP(V64,LUTs!$A$6:$B$8,2))","v":{"$error":"#N/A"}},{"$f":"IF(ISBLANK(W64),0,VLOOKUP(W64,LUTs!$A$6:$B$8,2))","v":{"$error":"#N/A"}},{"$f":"IF(ISBLANK(X64),0,VLOOKUP(X64,LUTs!$A$6:$B$8,2))","v":{"$error":"#N/A"}}]
[{"$f":"IF(ISBLANK(Responses!A65), \"\", Responses!A65)","v":""},{"$f":"IF(ISBLANK(Responses!B65), \"\", Responses!B65)","v":""},{"$f":"IF(ISBLANK(Responses!U65), \"\", Responses!U65)","v":""},{"$f":"IF(ISBLANK(Responses!V65), \"\", Responses!V65)","v":""},{"$f":"IF(ISBLANK(Responses!W65), \"\", Responses!W65)","v":""},{"$f":"IF(ISBLANK(Responses!X65), \"\", Responses!X65)","v":""},{"$f":"IF(ISBLANK(Responses!Y65), \"\", Responses!Y65)","v":""},{"$f":"IF(ISBLANK(Responses!Z65), \"\", Responses!Z65)","v":""},{"$f":"IF(ISBLANK(Responses!AA65), \"\", Responses!AA65)","v":""},{"$f":"IF(ISBLANK(Responses!AB65), \"\", Responses!AB65)","v":""},{"$f":"IF(ISBLANK(Responses!AC65), \"\", Responses!AC65)","v":""},{"$f":"IF(ISBLANK(Responses!AD65), \"\", Responses!AD65)","v":""},{"$f":"IF(ISBLANK(Responses!AE65), \"\", Responses!AE65)","v":""},{"$f":"IF(ISBLANK(Responses!AF65), \"\", Responses!AF65)","v":""},{"$f":"IF(ISBLANK(Responses!AG65), \"\", Responses!AG65)","v":""},{"$f":"IF(ISBLANK(Responses!AH65), \"\", Responses!AH65)","v":""},{"$f":"IF(ISBLANK(Responses!AI65), \"\", Responses!AI65)","v":""},{"$f":"IF(ISBLANK(Responses!AJ65), \"\", Responses!AJ65)","v":""},{"$f":"IF(ISBLANK(Responses!AK65), \"\", Responses!AK65)","v":""},{"$f":"IF(ISBLANK(Responses!AL65), \"\", Responses!AL65)","v":""},{"$f":"IF(ISBLANK(Responses!AM65), \"\", Responses!AM65)","v":""},{"$f":"IF(ISBLANK(Responses!AN65), \"\", Responses!AN65)","v":""},{"$f":"IF(ISBLANK(Responses!AO65), \"\", Responses!AO65)","v":""},{"$f":"IF(ISBLANK(Responses!AP65), \"\", Responses!AP65)","v":""},{"$error":"#N/A"},{"$error":"#N/A"},{"$f":"IF(ISBLANK(C65),0,VLOOKUP(C65,LUTs!$A$6:$B$8,2))","v":{"$error":"#N/A"}},{"$f":"IF(ISBLANK(D65),0,VLOOKUP(D65,LUTs!$A$6:$B$8,2))","v":{"$error":"#N/A"}},{"$f":"IF(ISBLANK(E65),0,VLOOKUP(E65,LUTs!$A$6:$B$8,2))","v":{"$error":"#N/A"}},{"$f":"IF(ISBLANK(F65),0,VLOOKUP(F65,LUTs!$A$6:$B$8,2))","v":{"$error":"#N/A"}},{"$f":"IF(ISBLANK(G65),0,VLOOKUP(G65,LUTs!$A$6:$B$8,2))","v":{"$error":"#N/A"}},{"$f":"IF(ISBLANK(H65),0,VLOOKUP(H65,LUTs!$A$6:$B$8,2))","v":{"$error":"#N/A"}},{"$f":"IF(ISBLANK(I65),0,VLOOKUP(I65,LUTs!$A$6:$B$8,2))","v":{"$error":"#N/A"}},{"$f":"IF(ISBLANK(J65),0,VLOOKUP(J65,LUTs!$A$6:$B$8,2))","v":{"$error":"#N/A"}},{"$f":"IF(ISBLANK(K65),0,VLOOKUP(K65,LUTs!$A$6:$B$8,2))","v":{"$error":"#N/A"}},{"$f":"IF(ISBLANK(L65),0,VLOOKUP(L65,LUTs!$A$6:$B$8,2))","v":{"$error":"#N/A"}},{"$f":"IF(ISBLANK(M65),0,VLOOKUP(M65,LUTs!$A$6:$B$8,2))","v":{"$error":"#N/A"}},{"$f":"IF(ISBLANK(N65),0,VLOOKUP(N65,LUTs!$A$6:$B$8,2))","v":{"$error":"#N/A"}},{"$f":"IF(ISBLANK(O65),0,VLOOKUP(O65,LUTs!$A$6:$B$8,2))","v":{"$error":"#N/A"}},{"$f":"IF(ISBLANK(P65),0,VLOOKUP(P65,LUTs!$A$6:$B$8,2))","v":{"$error":"#N/A"}},{"$f":"IF(ISBLANK(Q65),0,VLOOKUP(Q65,LUTs!$A$6:$B$8,2))","v":{"$error":"#N/A"}},{"$f":"IF(ISBLANK(R65),0,IF(ISERROR(VLOOKUP(R65,LUTs!$A$6:$B$8,2)),R65,VLOOKUP(R65,LUTs!$A$6:$B$8,2)))","v":""},{"$f":"IF(ISBLANK(S65),0,VLOOKUP(S65,LUTs!$A$6:$B$8,2))","v":{"$error":"#N/A"}},{"$f":"IF(ISBLANK(T65),0,IF(ISERROR(VLOOKUP(T65,LUTs!$A$6:$B$8,2)),T65,VLOOKUP(T65,LUTs!$A$6:$B$8,2)))","v":""},{"$f":"IF(ISBLANK(U65),0,VLOOKUP(U65,LUTs!$A$6:$B$8,2))","v":{"$error":"#N/A"}},{"$f":"IF(ISBLANK(V65),0,VLOOKUP(V65,LUTs!$A$6:$B$8,2))","v":{"$error":"#N/A"}},{"$f":"IF(ISBLANK(W65),0,VLOOKUP(W65,LUTs!$A$6:$B$8,2))","v":{"$error":"#N/A"}},{"$f":"IF(ISBLANK(X65),0,VLOOKUP(X65,LUTs!$A$6:$B$8,2))","v":{"$error":"#N/A"}}]
[{"$f":"IF(ISBLANK(Responses!A66), \"\", Responses!A66)","v":""},{"$f":"IF(ISBLANK(Responses!B66), \"\", Responses!B66)","v":""},{"$f":"IF(ISBLANK(Responses!U66), \"\", Responses!U66)","v":""},{"$f":"IF(ISBLANK(Responses!V66), \"\", Responses!V66)","v":""},{"$f":"IF(ISBLANK(Responses!W66), \"\", Responses!W66)","v":""},{"$f":"IF(ISBLANK(Responses!X66), \"\", Responses!X66)","v":""},{"$f":"IF(ISBLANK(Responses!Y66), \"\", Responses!Y66)","v":""},{"$f":"IF(ISBLANK(Responses!Z66), \"\", Responses!Z66)","v":""},{"$f":"IF(ISBLANK(Responses!AA66), \"\", Responses!AA66)","v":""},{"$f":"IF(ISBLANK(Responses!AB66), \"\", Responses!AB66)","v":""},{"$f":"IF(ISBLANK(Responses!AC66), \"\", Responses!AC66)","v":""},{"$f":"IF(ISBLANK(Responses!AD66), \"\", Responses!AD66)","v":""},{"$f":"IF(ISBLANK(Responses!AE66), \"\", Responses!AE66)","v":""},{"$f":"IF(ISBLANK(Responses!AF66), \"\", Responses!AF66)","v":""},{"$f":"IF(ISBLANK(Responses!AG66), \"\", Responses!AG66)","v":""},{"$f":"IF(ISBLANK(Responses!AH66), \"\", Responses!AH66)","v":""},{"$f":"IF(ISBLANK(Responses!AI66), \"\", Responses!AI66)","v":""},{"$f":"IF(ISBLANK(Responses!AJ66), \"\", Responses!AJ66)","v":""},{"$f":"IF(ISBLANK(Responses!AK66), \"\", Responses!AK66)","v":""},{"$f":"IF(ISBLANK(Responses!AL66), \"\", Responses!AL66)","v":""},{"$f":"IF(ISBLANK(Responses!AM66), \"\", Responses!AM66)","v":""},{"$f":"IF(ISBLANK(Responses!AN66), \"\", Responses!AN66)","v":""},{"$f":"IF(ISBLANK(Responses!AO66), \"\", Responses!AO66)","v":""},{"$f":"IF(ISBLANK(Responses!AP66), \"\", Responses!AP66)","v":""},{"$error":"#N/A"},{"$error":"#N/A"},{"$f":"IF(ISBLANK(C66),0,VLOOKUP(C66,LUTs!$A$6:$B$8,2))","v":{"$error":"#N/A"}},{"$f":"IF(ISBLANK(D66),0,VLOOKUP(D66,LUTs!$A$6:$B$8,2))","v":{"$error":"#N/A"}},{"$f":"IF(ISBLANK(E66),0,VLOOKUP(E66,LUTs!$A$6:$B$8,2))","v":{"$error":"#N/A"}},{"$f":"IF(ISBLANK(F66),0,VLOOKUP(F66,LUTs!$A$6:$B$8,2))","v":{"$error":"#N/A"}},{"$f":"IF(ISBLANK(G66),0,VLOOKUP(G66,LUTs!$A$6:$B$8,2))","v":{"$error":"#N/A"}},{"$f":"IF(ISBLANK(H66),0,VLOOKUP(H66,LUTs!$A$6:$B$8,2))","v":{"$error":"#N/A"}},{"$f":"IF(ISBLANK(I66),0,VLOOKUP(I66,LUTs!$A$6:$B$8,2))","v":{"$error":"#N/A"}},{"$f":"IF(ISBLANK(J66),0,VLOOKUP(J66,LUTs!$A$6:$B$8,2))","v":{"$error":"#N/A"}},{"$f":"IF(ISBLANK(K66),0,VLOOKUP(K66,LUTs!$A$6:$B$8,2))","v":{"$error":"#N/A"}},{"$f":"IF(ISBLANK(L66),0,VLOOKUP(L66,LUTs!$A$6:$B$8,2))","v":{"$error":"#N/A"}},{"$f":"IF(ISBLANK(M66),0,VLOOKUP(M66,LUTs!$A$6:$B$8,2))","v":{"$error":"#N/A"}},{"$f":"IF(ISBLANK(N66),0,VLOOKUP(N66,LUTs!$A$6:$B$8,2))","v":{"$error":"#N/A"}},{"$f":"IF(ISBLANK(O66),0,VLOOKUP(O66,LUTs!$A$6:$B$8,2))","v":{"$error":"#N/A"}},{"$f":"IF(ISBLANK(P66),0,VLOOKUP(P66,LUTs!$A$6:$B$8,2))","v":{"$error":"#N/A"}},{"$f":"IF(ISBLANK(Q66),0,VLOOKUP(Q66,LUTs!$A$6:$B$8,2))","v":{"$error":"#N/A"}},{"$f":"IF(ISBLANK(R66),0,IF(ISERROR(VLOOKUP(R66,LUTs!$A$6:$B$8,2)),R66,VLOOKUP(R66,LUTs!$A$6:$B$8,2)))","v":""},{"$f":"IF(ISBLANK(S66),0,VLOOKUP(S66,LUTs!$A$6:$B$8,2))","v":{"$error":"#N/A"}},{"$f":"IF(ISBLANK(T66),0,IF(ISERROR(VLOOKUP(T66,LUTs!$A$6:$B$8,2)),T66,VLOOKUP(T66,LUTs!$A$6:$B$8,2)))","v":""},{"$f":"IF(ISBLANK(U66),0,VLOOKUP(U66,LUTs!$A$6:$B$8,2))","v":{"$error":"#N/A"}},{"$f":"IF(ISBLANK(V66),0,VLOOKUP(V66,LUTs!$A$6:$B$8,2))","v":{"$error":"#N/A"}},{"$f":"IF(ISBLANK(W66),0,VLOOKUP(W66,LUTs!$A$6:$B$8,2))","v":{"$error":"#N/A"}},{"$f":"IF(ISBLANK(X66),0,VLOOKUP(X66,LUTs!$A$6:$B$8,2))","v":{"$error":"#N/A"}}]
[{"$f":"IF(ISBLANK(Responses!A67), \"\", Responses!A67)","v":""},{"$f":"IF(ISBLANK(Responses!B67), \"\", Responses!B67)","v":""},{"$f":"IF(ISBLANK(Responses!U67), \"\", Responses!U67)","v":""},{"$f":"IF(ISBLANK(Responses!V67), \"\", Responses!V67)","v":""},{"$f":"IF(ISBLANK(Responses!W67), \"\", Responses!W67)","v":""},{"$f":"IF(ISBLANK(Responses!X67), \"\", Responses!X67)","v":""},{"$f":"IF(ISBLANK(Responses!Y67), \"\", Responses!Y67)","v":""},{"$f":"IF(ISBLANK(Responses!Z67), \"\", Responses!Z67)","v":""},{"$f":"IF(ISBLANK(Responses!AA67), \"\", Responses!AA67)","v":""},{"$f":"IF(ISBLANK(Responses!AB67), \"\", Responses!AB67)","v":""},{"$f":"IF(ISBLANK(Responses!AC67), \"\", Responses!AC67)","v":""},{"$f":"IF(ISBLANK(Responses!AD67), \"\", Responses!AD67)","v":""},{"$f":"IF(ISBLANK(Responses!AE67), \"\", Responses!AE67)","v":""},{"$f":"IF(ISBLANK(Responses!AF67), \"\", Responses!AF67)","v":""},{"$f":"IF(ISBLANK(Responses!AG67), \"\", Responses!AG67)","v":""},{"$f":"IF(ISBLANK(Responses!AH67), \"\", Responses!AH67)","v":""},{"$f":"IF(ISBLANK(Responses!AI67), \"\", Responses!AI67)","v":""},{"$f":"IF(ISBLANK(Responses!AJ67), \"\", Responses!AJ67)","v":""},{"$f":"IF(ISBLANK(Responses!AK67), \"\", Responses!AK67)","v":""},{"$f":"IF(ISBLANK(Responses!AL67), \"\", Responses!AL67)","v":""},{"$f":"IF(ISBLANK(Responses!AM67), \"\", Responses!AM67)","v":""},{"$f":"IF(ISBLANK(Responses!AN67), \"\", Responses!AN67)","v":""},{"$f":"IF(ISBLANK(Responses!AO67), \"\", Responses!AO67)","v":""},{"$f":"IF(ISBLANK(Responses!AP67), \"\", Responses!AP67)","v":""},{"$error":"#N/A"},{"$error":"#N/A"},{"$f":"IF(ISBLANK(C67),0,VLOOKUP(C67,LUTs!$A$6:$B$8,2))","v":{"$error":"#N/A"}},{"$f":"IF(ISBLANK(D67),0,VLOOKUP(D67,LUTs!$A$6:$B$8,2))","v":{"$error":"#N/A"}},{"$f":"IF(ISBLANK(E67),0,VLOOKUP(E67,LUTs!$A$6:$B$8,2))","v":{"$error":"#N/A"}},{"$f":"IF(ISBLANK(F67),0,VLOOKUP(F67,LUTs!$A$6:$B$8,2))","v":{"$error":"#N/A"}},{"$f":"IF(ISBLANK(G67),0,VLOOKUP(G67,LUTs!$A$6:$B$8,2))","v":{"$error":"#N/A"}},{"$f":"IF(ISBLANK(H67),0,VLOOKUP(H67,LUTs!$A$6:$B$8,2))","v":{"$error":"#N/A"}},{"$f":"IF(ISBLANK(I67),0,VLOOKUP(I67,LUTs!$A$6:$B$8,2))","v":{"$error":"#N/A"}},{"$f":"IF(ISBLANK(J67),0,VLOOKUP(J67,LUTs!$A$6:$B$8,2))","v":{"$error":"#N/A"}},{"$f":"IF(ISBLANK(K67),0,VLOOKUP(K67,LUTs!$A$6:$B$8,2))","v":{"$error":"#N/A"}},{"$f":"IF(ISBLANK(L67),0,VLOOKUP(L67,LUTs!$A$6:$B$8,2))","v":{"$error":"#N/A"}},{"$f":"IF(ISBLANK(M67),0,VLOOKUP(M67,LUTs!$A$6:$B$8,2))","v":{"$error":"#N/A"}},{"$f":"IF(ISBLANK(N67),0,VLOOKUP(N67,LUTs!$A$6:$B$8,2))","v":{"$error":"#N/A"}},{"$f":"IF(ISBLANK(O67),0,VLOOKUP(O67,LUTs!$A$6:$B$8,2))","v":{"$error":"#N/A"}},{"$f":"IF(ISBLANK(P67),0,VLOOKUP(P67,LUTs!$A$6:$B$8,2))","v":{"$error":"#N/A"}},{"$f":"IF(ISBLANK(Q67),0,VLOOKUP(Q67,LUTs!$A$6:$B$8,2))","v":{"$error":"#N/A"}},{"$f":"IF(ISBLANK(R67),0,IF(ISERROR(VLOOKUP(R67,LUTs!$A$6:$B$8,2)),R67,VLOOKUP(R67,LUTs!$A$6:$B$8,2)))","v":""},{"$f":"IF(ISBLANK(S67),0,VLOOKUP(S67,LUTs!$A$6:$B$8,2))","v":{"$error":"#N/A"}},{"$f":"IF(ISBLANK(T67),0,IF(ISERROR(VLOOKUP(T67,LUTs!$A$6:$B$8,2)),T67,VLOOKUP(T67,LUTs!$A$6:$B$8,2)))","v":""},{"$f":"IF(ISBLANK(U67),0,VLOOKUP(U67,LUTs!$A$6:$B$8,2))","v":{"$error":"#N/A"}},{"$f":"IF(ISBLANK(V67),0,VLOOKUP(V67,LUTs!$A$6:$B$8,2))","v":{"$error":"#N/A"}},{"$f":"IF(ISBLANK(W67),0,VLOOKUP(W67,LUTs!$A$6:$B$8,2))","v":{"$error":"#N/A"}},{"$f":"IF(ISBLANK(X67),0,VLOOKUP(X67,LUTs!$A$6:$B$8,2))","v":{"$error":"#N/A"}}]
[{"$f":"IF(ISBLANK(Responses!A68), \"\", Responses!A68)","v":""},{"$f":"IF(ISBLANK(Responses!B68), \"\", Responses!B68)","v":""},{"$f":"IF(ISBLANK(Responses!U68), \"\", Responses!U68)","v":""},{"$f":"IF(ISBLANK(Responses!V68), \"\", Responses!V68)","v":""},{"$f":"IF(ISBLANK(Responses!W68), \"\", Responses!W68)","v":""},{"$f":"IF(ISBLANK(Responses!X68), \"\", Responses!X68)","v":""},{"$f":"IF(ISBLANK(Responses!Y68), \"\", Responses!Y68)","v":""},{"$f":"IF(ISBLANK(Responses!Z68), \"\", Responses!Z68)","v":""},{"$f":"IF(ISBLANK(Responses!AA68), \"\", Responses!AA68)","v":""},{"$f":"IF(ISBLANK(Responses!AB68), \"\", Responses!AB68)","v":""},{"$f":"IF(ISBLANK(Responses!AC68), \"\", Responses!AC68)","v":""},{"$f":"IF(ISBLANK(Responses!AD68), \"\", Responses!AD68)","v":""},{"$f":"IF(ISBLANK(Responses!AE68), \"\", Responses!AE68)","v":""},{"$f":"IF(ISBLANK(Responses!AF68), \"\", Responses!AF68)","v":""},{"$f":"IF(ISBLANK(Responses!AG68), \"\", Responses!AG68)","v":""},{"$f":"IF(ISBLANK(Responses!AH68), \"\", Responses!AH68)","v":""},{"$f":"IF(ISBLANK(Responses!AI68), \"\", Responses!AI68)","v":""},{"$f":"IF(ISBLANK(Responses!AJ68), \"\", Responses!AJ68)","v":""},{"$f":"IF(ISBLANK(Responses!AK68), \"\", Responses!AK68)","v":""},{"$f":"IF(ISBLANK(Responses!AL68), \"\", Responses!AL68)","v":""},{"$f":"IF(ISBLANK(Responses!AM68), \"\", Responses!AM68)","v":""},{"$f":"IF(ISBLANK(Responses!AN68), \"\", Responses!AN68)","v":""},{"$f":"IF(ISBLANK(Responses!AO68), \"\", Responses!AO68)","v":""},{"$f":"IF(ISBLANK(Responses!AP68), \"\", Responses!AP68)","v":""},{"$error":"#N/A"},{"$error":"#N/A"},{"$f":"IF(ISBLANK(C68),0,VLOOKUP(C68,LUTs!$A$6:$B$8,2))","v":{"$error":"#N/A"}},{"$f":"IF(ISBLANK(D68),0,VLOOKUP(D68,LUTs!$A$6:$B$8,2))","v":{"$error":"#N/A"}},{"$f":"IF(ISBLANK(E68),0,VLOOKUP(E68,LUTs!$A$6:$B$8,2))","v":{"$error":"#N/A"}},{"$f":"IF(ISBLANK(F68),0,VLOOKUP(F68,LUTs!$A$6:$B$8,2))","v":{"$error":"#N/A"}},{"$f":"IF(ISBLANK(G68),0,VLOOKUP(G68,LUTs!$A$6:$B$8,2))","v":{"$error":"#N/A"}},{"$f":"IF(ISBLANK(H68),0,VLOOKUP(H68,LUTs!$A$6:$B$8,2))","v":{"$error":"#N/A"}},{"$f":"IF(ISBLANK(I68),0,VLOOKUP(I68,LUTs!$A$6:$B$8,2))","v":{"$error":"#N/A"}},{"$f":"IF(ISBLANK(J68),0,VLOOKUP(J68,LUTs!$A$6:$B$8,2))","v":{"$error":"#N/A"}},{"$f":"IF(ISBLANK(K68),0,VLOOKUP(K68,LUTs!$A$6:$B$8,2))","v":{"$error":"#N/A"}},{"$f":"IF(ISBLANK(L68),0,VLOOKUP(L68,LUTs!$A$6:$B$8,2))","v":{"$error":"#N/A"}},{"$f":"IF(ISBLANK(M68),0,VLOOKUP(M68,LUTs!$A$6:$B$8,2))","v":{"$error":"#N/A"}},{"$f":"IF(ISBLANK(N68),0,VLOOKUP(N68,LUTs!$A$6:$B$8,2))","v":{"$error":"#N/A"}},{"$f":"IF(ISBLANK(O68),0,VLOOKUP(O68,LUTs!$A$6:$B$8,2))","v":{"$error":"#N/A"}},{"$f":"IF(ISBLANK(P68),0,VLOOKUP(P68,LUTs!$A$6:$B$8,2))","v":{"$error":"#N/A"}},{"$f":"IF(ISBLANK(Q68),0,VLOOKUP(Q68,LUTs!$A$6:$B$8,2))","v":{"$error":"#N/A"}},{"$f":"IF(ISBLANK(R68),0,IF(ISERROR(VLOOKUP(R68,LUTs!$A$6:$B$8,2)),R68,VLOOKUP(R68,LUTs!$A$6:$B$8,2)))","v":""},{"$f":"IF(ISBLANK(S68),0,VLOOKUP(S68,LUTs!$A$6:$B$8,2))","v":{"$error":"#N/A"}},{"$f":"IF(ISBLANK(T68),0,IF(ISERROR(VLOOKUP(T68,LUTs!$A$6:$B$8,2)),T68,VLOOKUP(T68,LUTs!$A$6:$B$8,2)))","v":""},{"$f":"IF(ISBLANK(U68),0,VLOOKUP(U68,LUTs!$A$6:$B$8,2))","v":{"$error":"#N/A"}},{"$f":"IF(ISBLANK(V68),0,VLOOKUP(V68,LUTs!$A$6:$B$8,2))","v":{"$error":"#N/A"}},{"$f":"IF(ISBLANK(W68),0,VLOOKUP(W68,LUTs!$A$6:$B$8,2))","v":{"$error":"#N/A"}},{"$f":"IF(ISBLANK(X68),0,VLOOKUP(X68,LUTs!$A$6:$B$8,2))","v":{"$error":"#N/A"}}]
[{"$f":"IF(ISBLANK(Responses!A69), \"\", Responses!A69)","v":""},{"$f":"IF(ISBLANK(Responses!B69), \"\", Responses!B69)","v":""},{"$f":"IF(ISBLANK(Responses!U69), \"\", Responses!U69)","v":""},{"$f":"IF(ISBLANK(Responses!V69), \"\", Responses!V69)","v":""},{"$f":"IF(ISBLANK(Responses!W69), \"\", Responses!W69)","v":""},{"$f":"IF(ISBLANK(Responses!X69), \"\", Responses!X69)","v":""},{"$f":"IF(ISBLANK(Responses!Y69), \"\", Responses!Y69)","v":""},{"$f":"IF(ISBLANK(Responses!Z69), \"\", Responses!Z69)","v":""},{"$f":"IF(ISBLANK(Responses!AA69), \"\", Responses!AA69)","v":""},{"$f":"IF(ISBLANK(Responses!AB69), \"\", Responses!AB69)","v":""},{"$f":"IF(ISBLANK(Responses!AC69), \"\", Responses!AC69)","v":""},{"$f":"IF(ISBLANK(Responses!AD69), \"\", Responses!AD69)","v":""},{"$f":"IF(ISBLANK(Responses!AE69), \"\", Responses!AE69)","v":""},{"$f":"IF(ISBLANK(Responses!AF69), \"\", Responses!AF69)","v":""},{"$f":"IF(ISBLANK(Responses!AG69), \"\", Responses!AG69)","v":""},{"$f":"IF(ISBLANK(Responses!AH69), \"\", Responses!AH69)","v":""},{"$f":"IF(ISBLANK(Responses!AI69), \"\", Responses!AI69)","v":""},{"$f":"IF(ISBLANK(Responses!AJ69), \"\", Responses!AJ69)","v":""},{"$f":"IF(ISBLANK(Responses!AK69), \"\", Responses!AK69)","v":""},{"$f":"IF(ISBLANK(Responses!AL69), \"\", Responses!AL69)","v":""},{"$f":"IF(ISBLANK(Responses!AM69), \"\", Responses!AM69)","v":""},{"$f":"IF(ISBLANK(Responses!AN69), \"\", Responses!AN69)","v":""},{"$f":"IF(ISBLANK(Responses!AO69), \"\", Responses!AO69)","v":""},{"$f":"IF(ISBLANK(Responses!AP69), \"\", Responses!AP69)","v":""},{"$error":"#N/A"},{"$error":"#N/A"},{"$f":"IF(ISBLANK(C69),0,VLOOKUP(C69,LUTs!$A$6:$B$8,2))","v":{"$error":"#N/A"}},{"$f":"IF(ISBLANK(D69),0,VLOOKUP(D69,LUTs!$A$6:$B$8,2))","v":{"$error":"#N/A"}},{"$f":"IF(ISBLANK(E69),0,VLOOKUP(E69,LUTs!$A$6:$B$8,2))","v":{"$error":"#N/A"}},{"$f":"IF(ISBLANK(F69),0,VLOOKUP(F69,LUTs!$A$6:$B$8,2))","v":{"$error":"#N/A"}},{"$f":"IF(ISBLANK(G69),0,VLOOKUP(G69,LUTs!$A$6:$B$8,2))","v":{"$error":"#N/A"}},{"$f":"IF(ISBLANK(H69),0,VLOOKUP(H69,LUTs!$A$6:$B$8,2))","v":{"$error":"#N/A"}},{"$f":"IF(ISBLANK(I69),0,VLOOKUP(I69,LUTs!$A$6:$B$8,2))","v":{"$error":"#N/A"}},{"$f":"IF(ISBLANK(J69),0,VLOOKUP(J69,LUTs!$A$6:$B$8,2))","v":{"$error":"#N/A"}},{"$f":"IF(ISBLANK(K69),0,VLOOKUP(K69,LUTs!$A$6:$B$8,2))","v":{"$error":"#N/A"}},{"$f":"IF(ISBLANK(L69),0,VLOOKUP(L69,LUTs!$A$6:$B$8,2))","v":{"$error":"#N/A"}},{"$f":"IF(ISBLANK(M69),0,VLOOKUP(M69,LUTs!$A$6:$B$8,2))","v":{"$error":"#N/A"}},{"$f":"IF(ISBLANK(N69),0,VLOOKUP(N69,LUTs!$A$6:$B$8,2))","v":{"$error":"#N/A"}},{"$f":"IF(ISBLANK(O69),0,VLOOKUP(O69,LUTs!$A$6:$B$8,2))","v":{"$error":"#N/A"}},{"$f":"IF(ISBLANK(P69),0,VLOOKUP(P69,LUTs!$A$6:$B$8,2))","v":{"$error":"#N/A"}},{"$f":"IF(ISBLANK(Q69),0,VLOOKUP(Q69,LUTs!$A$6:$B$8,2))","v":{"$error":"#N/A"}},{"$f":"IF(ISBLANK(R69),0,IF(ISERROR(VLOOKUP(R69,LUTs!$A$6:$B$8,2)),R69,VLOOKUP(R69,LUTs!$A$6:$B$8,2)))","v":""},{"$f":"IF(ISBLANK(S69),0,VLOOKUP(S69,LUTs!$A$6:$B$8,2))","v":{"$error":"#N/A"}},{"$f":"IF(ISBLANK(T69),0,IF(ISERROR(VLOOKUP(T69,LUTs!$A$6:$B$8,2)),T69,VLOOKUP(T69,LUTs!$A$6:$B$8,2)))","v":""},{"$f":"IF(ISBLANK(U69),0,VLOOKUP(U69,LUTs!$A$6:$B$8,2))","v":{"$error":"#N/A"}},{"$f":"IF(ISBLANK(V69),0,VLOOKUP(V69,LUTs!$A$6:$B$8,2))","v":{"$error":"#N/A"}},{"$f":"IF(ISBLANK(W69),0,VLOOKUP(W69,LUTs!$A$6:$B$8,2))","v":{"$error":"#N/A"}},{"$f":"IF(ISBLANK(X69),0,VLOOKUP(X69,LUTs!$A$6:$B$8,2))","v":{"$error":"#N/A"}}]
[{"$f":"IF(ISBLANK(Responses!A70), \"\", Responses!A70)","v":""},{"$f":"IF(ISBLANK(Responses!B70), \"\", Responses!B70)","v":""},{"$f":"IF(ISBLANK(Responses!U70), \"\", Responses!U70)","v":""},{"$f":"IF(ISBLANK(Responses!V70), \"\", Responses!V70)","v":""},{"$f":"IF(ISBLANK(Responses!W70), \"\", Responses!W70)","v":""},{"$f":"IF(ISBLANK(Responses!X70), \"\", Responses!X70)","v":""},{"$f":"IF(ISBLANK(Responses!Y70), \"\", Responses!Y70)","v":""},{"$f":"IF(ISBLANK(Responses!Z70), \"\", Responses!Z70)","v":""},{"$f":"IF(ISBLANK(Responses!AA70), \"\", Responses!AA70)","v":""},{"$f":"IF(ISBLANK(Responses!AB70), \"\", Responses!AB70)","v":""},{"$f":"IF(ISBLANK(Responses!AC70), \"\", Responses!AC70)","v":""},{"$f":"IF(ISBLANK(Responses!AD70), \"\", Responses!AD70)","v":""},{"$f":"IF(ISBLANK(Responses!AE70), \"\", Responses!AE70)","v":""},{"$f":"IF(ISBLANK(Responses!AF70), \"\", Responses!AF70)","v":""},{"$f":"IF(ISBLANK(Responses!AG70), \"\", Responses!AG70)","v":""},{"$f":"IF(ISBLANK(Responses!AH70), \"\", Responses!AH70)","v":""},{"$f":"IF(ISBLANK(Responses!AI70), \"\", Responses!AI70)","v":""},{"$f":"IF(ISBLANK(Responses!AJ70), \"\", Responses!AJ70)","v":""},{"$f":"IF(ISBLANK(Responses!AK70), \"\", Responses!AK70)","v":""},{"$f":"IF(ISBLANK(Responses!AL70), \"\", Responses!AL70)","v":""},{"$f":"IF(ISBLANK(Responses!AM70), \"\", Responses!AM70)","v":""},{"$f":"IF(ISBLANK(Responses!AN70), \"\", Responses!AN70)","v":""},{"$f":"IF(ISBLANK(Responses!AO70), \"\", Responses!AO70)","v":""},{"$f":"IF(ISBLANK(Responses!AP70), \"\", Responses!AP70)","v":""},{"$error":"#N/A"},{"$error":"#N/A"},{"$f":"IF(ISBLANK(C70),0,VLOOKUP(C70,LUTs!$A$6:$B$8,2))","v":{"$error":"#N/A"}},{"$f":"IF(ISBLANK(D70),0,VLOOKUP(D70,LUTs!$A$6:$B$8,2))","v":{"$error":"#N/A"}},{"$f":"IF(ISBLANK(E70),0,VLOOKUP(E70,LUTs!$A$6:$B$8,2))","v":{"$error":"#N/A"}},{"$f":"IF(ISBLANK(F70),0,VLOOKUP(F70,LUTs!$A$6:$B$8,2))","v":{"$error":"#N/A"}},{"$f":"IF(ISBLANK(G70),0,VLOOKUP(G70,LUTs!$A$6:$B$8,2))","v":{"$error":"#N/A"}},{"$f":"IF(ISBLANK(H70),0,VLOOKUP(H70,LUTs!$A$6:$B$8,2))","v":{"$error":"#N/A"}},{"$f":"IF(ISBLANK(I70),0,VLOOKUP(I70,LUTs!$A$6:$B$8,2))","v":{"$error":"#N/A"}},{"$f":"IF(ISBLANK(J70),0,VLOOKUP(J70,LUTs!$A$6:$B$8,2))","v":{"$error":"#N/A"}},{"$f":"IF(ISBLANK(K70),0,VLOOKUP(K70,LUTs!$A$6:$B$8,2))","v":{"$error":"#N/A"}},{"$f":"IF(ISBLANK(L70),0,VLOOKUP(L70,LUTs!$A$6:$B$8,2))","v":{"$error":"#N/A"}},{"$f":"IF(ISBLANK(M70),0,VLOOKUP(M70,LUTs!$A$6:$B$8,2))","v":{"$error":"#N/A"}},{"$f":"IF(ISBLANK(N70),0,VLOOKUP(N70,LUTs!$A$6:$B$8,2))","v":{"$error":"#N/A"}},{"$f":"IF(ISBLANK(O70),0,VLOOKUP(O70,LUTs!$A$6:$B$8,2))","v":{"$error":"#N/A"}},{"$f":"IF(ISBLANK(P70),0,VLOOKUP(P70,LUTs!$A$6:$B$8,2))","v":{"$error":"#N/A"}},{"$f":"IF(ISBLANK(Q70),0,VLOOKUP(Q70,LUTs!$A$6:$B$8,2))","v":{"$error":"#N/A"}},{"$f":"IF(ISBLANK(R70),0,IF(ISERROR(VLOOKUP(R70,LUTs!$A$6:$B$8,2)),R70,VLOOKUP(R70,LUTs!$A$6:$B$8,2)))","v":""},{"$f":"IF(ISBLANK(S70),0,VLOOKUP(S70,LUTs!$A$6:$B$8,2))","v":{"$error":"#N/A"}},{"$f":"IF(ISBLANK(T70),0,IF(ISERROR(VLOOKUP(T70,LUTs!$A$6:$B$8,2)),T70,VLOOKUP(T70,LUTs!$A$6:$B$8,2)))","v":""},{"$f":"IF(ISBLANK(U70),0,VLOOKUP(U70,LUTs!$A$6:$B$8,2))","v":{"$error":"#N/A"}},{"$f":"IF(ISBLANK(V70),0,VLOOKUP(V70,LUTs!$A$6:$B$8,2))","v":{"$error":"#N/A"}},{"$f":"IF(ISBLANK(W70),0,VLOOKUP(W70,LUTs!$A$6:$B$8,2))","v":{"$error":"#N/A"}},{"$f":"IF(ISBLANK(X70),0,VLOOKUP(X70,LUTs!$A$6:$B$8,2))","v":{"$error":"#N/A"}}]
[{"$f":"IF(ISBLANK(Responses!A71), \"\", Responses!A71)","v":""},{"$f":"IF(ISBLANK(Responses!B71), \"\", Responses!B71)","v":""},{"$f":"IF(ISBLANK(Responses!U71), \"\", Responses!U71)","v":""},{"$f":"IF(ISBLANK(Responses!V71), \"\", Responses!V71)","v":""},{"$f":"IF(ISBLANK(Responses!W71), \"\", Responses!W71)","v":""},{"$f":"IF(ISBLANK(Responses!X71), \"\", Responses!X71)","v":""},{"$f":"IF(ISBLANK(Responses!Y71), \"\", Responses!Y71)","v":""},{"$f":"IF(ISBLANK(Responses!Z71), \"\", Responses!Z71)","v":""},{"$f":"IF(ISBLANK(Responses!AA71), \"\", Responses!AA71)","v":""},{"$f":"IF(ISBLANK(Responses!AB71), \"\", Responses!AB71)","v":""},{"$f":"IF(ISBLANK(Responses!AC71), \"\", Responses!AC71)","v":""},{"$f":"IF(ISBLANK(Responses!AD71), \"\", Responses!AD71)","v":""},{"$f":"IF(ISBLANK(Responses!AE71), \"\", Responses!AE71)","v":""},{"$f":"IF(ISBLANK(Responses!AF71), \"\", Responses!AF71)","v":""},{"$f":"IF(ISBLANK(Responses!AG71), \"\", Responses!AG71)","v":""},{"$f":"IF(ISBLANK(Responses!AH71), \"\", Responses!AH71)","v":""},{"$f":"IF(ISBLANK(Responses!AI71), \"\", Responses!AI71)","v":""},{"$f":"IF(ISBLANK(Responses!AJ71), \"\", Responses!AJ71)","v":""},{"$f":"IF(ISBLANK(Responses!AK71), \"\", Responses!AK71)","v":""},{"$f":"IF(ISBLANK(Responses!AL71), \"\", Responses!AL71)","v":""},{"$f":"IF(ISBLANK(Responses!AM71), \"\", Responses!AM71)","v":""},{"$f":"IF(ISBLANK(Responses!AN71), \"\", Responses!AN71)","v":""},{"$f":"IF(ISBLANK(Responses!AO71), \"\", Responses!AO71)","v":""},{"$f":"IF(ISBLANK(Responses!AP71), \"\", Responses!AP71)","v":""},{"$error":"#N/A"},{"$error":"#N/A"},{"$f":"IF(ISBLANK(C71),0,VLOOKUP(C71,LUTs!$A$6:$B$8,2))","v":{"$error":"#N/A"}},{"$f":"IF(ISBLANK(D71),0,VLOOKUP(D71,LUTs!$A$6:$B$8,2))","v":{"$error":"#N/A"}},{"$f":"IF(ISBLANK(E71),0,VLOOKUP(E71,LUTs!$A$6:$B$8,2))","v":{"$error":"#N/A"}},{"$f":"IF(ISBLANK(F71),0,VLOOKUP(F71,LUTs!$A$6:$B$8,2))","v":{"$error":"#N/A"}},{"$f":"IF(ISBLANK(G71),0,VLOOKUP(G71,LUTs!$A$6:$B$8,2))","v":{"$error":"#N/A"}},{"$f":"IF(ISBLANK(H71),0,VLOOKUP(H71,LUTs!$A$6:$B$8,2))","v":{"$error":"#N/A"}},{"$f":"IF(ISBLANK(I71),0,VLOOKUP(I71,LUTs!$A$6:$B$8,2))","v":{"$error":"#N/A"}},{"$f":"IF(ISBLANK(J71),0,VLOOKUP(J71,LUTs!$A$6:$B$8,2))","v":{"$error":"#N/A"}},{"$f":"IF(ISBLANK(K71),0,VLOOKUP(K71,LUTs!$A$6:$B$8,2))","v":{"$error":"#N/A"}},{"$f":"IF(ISBLANK(L71),0,VLOOKUP(L71,LUTs!$A$6:$B$8,2))","v":{"$error":"#N/A"}},{"$f":"IF(ISBLANK(M71),0,VLOOKUP(M71,LUTs!$A$6:$B$8,2))","v":{"$error":"#N/A"}},{"$f":"IF(ISBLANK(N71),0,VLOOKUP(N71,LUTs!$A$6:$B$8,2))","v":{"$error":"#N/A"}},{"$f":"IF(ISBLANK(O71),0,VLOOKUP(O71,LUTs!$A$6:$B$8,2))","v":{"$error":"#N/A"}},{"$f":"IF(ISBLANK(P71),0,VLOOKUP(P71,LUTs!$A$6:$B$8,2))","v":{"$error":"#N/A"}},{"$f":"IF(ISBLANK(Q71),0,VLOOKUP(Q71,LUTs!$A$6:$B$8,2))","v":{"$error":"#N/A"}},{"$f":"IF(ISBLANK(R71),0,IF(ISERROR(VLOOKUP(R71,LUTs!$A$6:$B$8,2)),R71,VLOOKUP(R71,LUTs!$A$6:$B$8,2)))","v":""},{"$f":"IF(ISBLANK(S71),0,VLOOKUP(S71,LUTs!$A$6:$B$8,2))","v":{"$error":"#N/A"}},{"$f":"IF(ISBLANK(T71),0,IF(ISERROR(VLOOKUP(T71,LUTs!$A$6:$B$8,2)),T71,VLOOKUP(T71,LUTs!$A$6:$B$8,2)))","v":""},{"$f":"IF(ISBLANK(U71),0,VLOOKUP(U71,LUTs!$A$6:$B$8,2))","v":{"$error":"#N/A"}},{"$f":"IF(ISBLANK(V71),0,VLOOKUP(V71,LUTs!$A$6:$B$8,2))","v":{"$error":"#N/A"}},{"$f":"IF(ISBLANK(W71),0,VLOOKUP(W71,LUTs!$A$6:$B$8,2))","v":{"$error":"#N/A"}},{"$f":"IF(ISBLANK(X71),0,VLOOKUP(X71,LUTs!$A$6:$B$8,2))","v":{"$error":"#N/A"}}]
[{"$f":"IF(ISBLANK(Responses!A72), \"\", Responses!A72)","v":""},{"$f":"IF(ISBLANK(Responses!B72), \"\", Responses!B72)","v":""},{"$f":"IF(ISBLANK(Responses!U72), \"\", Responses!U72)","v":""},{"$f":"IF(ISBLANK(Responses!V72), \"\", Responses!V72)","v":""},{"$f":"IF(ISBLANK(Responses!W72), \"\", Responses!W72)","v":""},{"$f":"IF(ISBLANK(Responses!X72), \"\", Responses!X72)","v":""},{"$f":"IF(ISBLANK(Responses!Y72), \"\", Responses!Y72)","v":""},{"$f":"IF(ISBLANK(Responses!Z72), \"\", Responses!Z72)","v":""},{"$f":"IF(ISBLANK(Responses!AA72), \"\", Responses!AA72)","v":""},{"$f":"IF(ISBLANK(Responses!AB72), \"\", Responses!AB72)","v":""},{"$f":"IF(ISBLANK(Responses!AC72), \"\", Responses!AC72)","v":""},{"$f":"IF(ISBLANK(Responses!AD72), \"\", Responses!AD72)","v":""},{"$f":"IF(ISBLANK(Responses!AE72), \"\", Responses!AE72)","v":""},{"$f":"IF(ISBLANK(Responses!AF72), \"\", Responses!AF72)","v":""},{"$f":"IF(ISBLANK(Responses!AG72), \"\", Responses!AG72)","v":""},{"$f":"IF(ISBLANK(Responses!AH72), \"\", Responses!AH72)","v":""},{"$f":"IF(ISBLANK(Responses!AI72), \"\", Responses!AI72)","v":""},{"$f":"IF(ISBLANK(Responses!AJ72), \"\", Responses!AJ72)","v":""},{"$f":"IF(ISBLANK(Responses!AK72), \"\", Responses!AK72)","v":""},{"$f":"IF(ISBLANK(Responses!AL72), \"\", Responses!AL72)","v":""},{"$f":"IF(ISBLANK(Responses!AM72), \"\", Responses!AM72)","v":""},{"$f":"IF(ISBLANK(Responses!AN72), \"\", Responses!AN72)","v":""},{"$f":"IF(ISBLANK(Responses!AO72), \"\", Responses!AO72)","v":""},{"$f":"IF(ISBLANK(Responses!AP72), \"\", Responses!AP72)","v":""},{"$error":"#N/A"},{"$error":"#N/A"},{"$f":"IF(ISBLANK(C72),0,VLOOKUP(C72,LUTs!$A$6:$B$8,2))","v":{"$error":"#N/A"}},{"$f":"IF(ISBLANK(D72),0,VLOOKUP(D72,LUTs!$A$6:$B$8,2))","v":{"$error":"#N/A"}},{"$f":"IF(ISBLANK(E72),0,VLOOKUP(E72,LUTs!$A$6:$B$8,2))","v":{"$error":"#N/A"}},{"$f":"IF(ISBLANK(F72),0,VLOOKUP(F72,LUTs!$A$6:$B$8,2))","v":{"$error":"#N/A"}},{"$f":"IF(ISBLANK(G72),0,VLOOKUP(G72,LUTs!$A$6:$B$8,2))","v":{"$error":"#N/A"}},{"$f":"IF(ISBLANK(H72),0,VLOOKUP(H72,LUTs!$A$6:$B$8,2))","v":{"$error":"#N/A"}},{"$f":"IF(ISBLANK(I72),0,VLOOKUP(I72,LUTs!$A$6:$B$8,2))","v":{"$error":"#N/A"}},{"$f":"IF(ISBLANK(J72),0,VLOOKUP(J72,LUTs!$A$6:$B$8,2))","v":{"$error":"#N/A"}},{"$f":"IF(ISBLANK(K72),0,VLOOKUP(K72,LUTs!$A$6:$B$8,2))","v":{"$error":"#N/A"}},{"$f":"IF(ISBLANK(L72),0,VLOOKUP(L72,LUTs!$A$6:$B$8,2))","v":{"$error":"#N/A"}},{"$f":"IF(ISBLANK(M72),0,VLOOKUP(M72,LUTs!$A$6:$B$8,2))","v":{"$error":"#N/A"}},{"$f":"IF(ISBLANK(N72),0,VLOOKUP(N72,LUTs!$A$6:$B$8,2))","v":{"$error":"#N/A"}},{"$f":"IF(ISBLANK(O72),0,VLOOKUP(O72,LUTs!$A$6:$B$8,2))","v":{"$error":"#N/A"}},{"$f":"IF(ISBLANK(P72),0,VLOOKUP(P72,LUTs!$A$6:$B$8,2))","v":{"$error":"#N/A"}},{"$f":"IF(ISBLANK(Q72),0,VLOOKUP(Q72,LUTs!$A$6:$B$8,2))","v":{"$error":"#N/A"}},{"$f":"IF(ISBLANK(R72),0,IF(ISERROR(VLOOKUP(R72,LUTs!$A$6:$B$8,2)),R72,VLOOKUP(R72,LUTs!$A$6:$B$8,2)))","v":""},{"$f":"IF(ISBLANK(S72),0,VLOOKUP(S72,LUTs!$A$6:$B$8,2))","v":{"$error":"#N/A"}},{"$f":"IF(ISBLANK(T72),0,IF(ISERROR(VLOOKUP(T72,LUTs!$A$6:$B$8,2)),T72,VLOOKUP(T72,LUTs!$A$6:$B$8,2)))","v":""},{"$f":"IF(ISBLANK(U72),0,VLOOKUP(U72,LUTs!$A$6:$B$8,2))","v":{"$error":"#N/A"}},{"$f":"IF(ISBLANK(V72),0,VLOOKUP(V72,LUTs!$A$6:$B$8,2))","v":{"$error":"#N/A"}},{"$f":"IF(ISBLANK(W72),0,VLOOKUP(W72,LUTs!$A$6:$B$8,2))","v":{"$error":"#N/A"}},{"$f":"IF(ISBLANK(X72),0,VLOOKUP(X72,LUTs!$A$6:$B$8,2))","v":{"$error":"#N/A"}}]
[{"$f":"IF(ISBLANK(Responses!A73), \"\", Responses!A73)","v":""},{"$f":"IF(ISBLANK(Responses!B73), \"\", Responses!B73)","v":""},{"$f":"IF(ISBLANK(Responses!U73), \"\", Responses!U73)","v":""},{"$f":"IF(ISBLANK(Responses!V73), \"\", Responses!V73)","v":""},{"$f":"IF(ISBLANK(Responses!W73), \"\", Responses!W73)","v":""},{"$f":"IF(ISBLANK(Responses!X73), \"\", Responses!X73)","v":""},{"$f":"IF(ISBLANK(Responses!Y73), \"\", Responses!Y73)","v":""},{"$f":"IF(ISBLANK(Responses!Z73), \"\", Responses!Z73)","v":""},{"$f":"IF(ISBLANK(Responses!AA73), \"\", Responses!AA73)","v":""},{"$f":"IF(ISBLANK(Responses!AB73), \"\", Responses!AB73)","v":""},{"$f":"IF(ISBLANK(Responses!AC73), \"\", Responses!AC73)","v":""},{"$f":"IF(ISBLANK(Responses!AD73), \"\", Responses!AD73)","v":""},{"$f":"IF(ISBLANK(Responses!AE73), \"\", Responses!AE73)","v":""},{"$f":"IF(ISBLANK(Responses!AF73), \"\", Responses!AF73)","v":""},{"$f":"IF(ISBLANK(Responses!AG73), \"\", Responses!AG73)","v":""},{"$f":"IF(ISBLANK(Responses!AH73), \"\", Responses!AH73)","v":""},{"$f":"IF(ISBLANK(Responses!AI73), \"\", Responses!AI73)","v":""},{"$f":"IF(ISBLANK(Responses!AJ73), \"\", Responses!AJ73)","v":""},{"$f":"IF(ISBLANK(Responses!AK73), \"\", Responses!AK73)","v":""},{"$f":"IF(ISBLANK(Responses!AL73), \"\", Responses!AL73)","v":""},{"$f":"IF(ISBLANK(Responses!AM73), \"\", Responses!AM73)","v":""},{"$f":"IF(ISBLANK(Responses!AN73), \"\", Responses!AN73)","v":""},{"$f":"IF(ISBLANK(Responses!AO73), \"\", Responses!AO73)","v":""},{"$f":"IF(ISBLANK(Responses!AP73), \"\", Responses!AP73)","v":""},{"$error":"#N/A"},{"$error":"#N/A"},{"$f":"IF(ISBLANK(C73),0,VLOOKUP(C73,LUTs!$A$6:$B$8,2))","v":{"$error":"#N/A"}},{"$f":"IF(ISBLANK(D73),0,VLOOKUP(D73,LUTs!$A$6:$B$8,2))","v":{"$error":"#N/A"}},{"$f":"IF(ISBLANK(E73),0,VLOOKUP(E73,LUTs!$A$6:$B$8,2))","v":{"$error":"#N/A"}},{"$f":"IF(ISBLANK(F73),0,VLOOKUP(F73,LUTs!$A$6:$B$8,2))","v":{"$error":"#N/A"}},{"$f":"IF(ISBLANK(G73),0,VLOOKUP(G73,LUTs!$A$6:$B$8,2))","v":{"$error":"#N/A"}},{"$f":"IF(ISBLANK(H73),0,VLOOKUP(H73,LUTs!$A$6:$B$8,2))","v":{"$error":"#N/A"}},{"$f":"IF(ISBLANK(I73),0,VLOOKUP(I73,LUTs!$A$6:$B$8,2))","v":{"$error":"#N/A"}},{"$f":"IF(ISBLANK(J73),0,VLOOKUP(J73,LUTs!$A$6:$B$8,2))","v":{"$error":"#N/A"}},{"$f":"IF(ISBLANK(K73),0,VLOOKUP(K73,LUTs!$A$6:$B$8,2))","v":{"$error":"#N/A"}},{"$f":"IF(ISBLANK(L73),0,VLOOKUP(L73,LUTs!$A$6:$B$8,2))","v":{"$error":"#N/A"}},{"$f":"IF(ISBLANK(M73),0,VLOOKUP(M73,LUTs!$A$6:$B$8,2))","v":{"$error":"#N/A"}},{"$f":"IF(ISBLANK(N73),0,VLOOKUP(N73,LUTs!$A$6:$B$8,2))","v":{"$error":"#N/A"}},{"$f":"IF(ISBLANK(O73),0,VLOOKUP(O73,LUTs!$A$6:$B$8,2))","v":{"$error":"#N/A"}},{"$f":"IF(ISBLANK(P73),0,VLOOKUP(P73,LUTs!$A$6:$B$8,2))","v":{"$error":"#N/A"}},{"$f":"IF(ISBLANK(Q73),0,VLOOKUP(Q73,LUTs!$A$6:$B$8,2))","v":{"$error":"#N/A"}},{"$f":"IF(ISBLANK(R73),0,IF(ISERROR(VLOOKUP(R73,LUTs!$A$6:$B$8,2)),R73,VLOOKUP(R73,LUTs!$A$6:$B$8,2)))","v":""},{"$f":"IF(ISBLANK(S73),0,VLOOKUP(S73,LUTs!$A$6:$B$8,2))","v":{"$error":"#N/A"}},{"$f":"IF(ISBLANK(T73),0,IF(ISERROR(VLOOKUP(T73,LUTs!$A$6:$B$8,2)),T73,VLOOKUP(T73,LUTs!$A$6:$B$8,2)))","v":""},{"$f":"IF(ISBLANK(U73),0,VLOOKUP(U73,LUTs!$A$6:$B$8,2))","v":{"$error":"#N/A"}},{"$f":"IF(ISBLANK(V73),0,VLOOKUP(V73,LUTs!$A$6:$B$8,2))","v":{"$error":"#N/A"}},{"$f":"IF(ISBLANK(W73),0,VLOOKUP(W73,LUTs!$A$6:$B$8,2))","v":{"$error":"#N/A"}},{"$f":"IF(ISBLANK(X73),0,VLOOKUP(X73,LUTs!$A$6:$B$8,2))","v":{"$error":"#N/A"}}]
[{"$f":"IF(ISBLANK(Responses!A74), \"\", Responses!A74)","v":""},{"$f":"IF(ISBLANK(Responses!B74), \"\", Responses!B74)","v":""},{"$f":"IF(ISBLANK(Responses!U74), \"\", Responses!U74)","v":""},{"$f":"IF(ISBLANK(Responses!V74), \"\", Responses!V74)","v":""},{"$f":"IF(ISBLANK(Responses!W74), \"\", Responses!W74)","v":""},{"$f":"IF(ISBLANK(Responses!X74), \"\", Responses!X74)","v":""},{"$f":"IF(ISBLANK(Responses!Y74), \"\", Responses!Y74)","v":""},{"$f":"IF(ISBLANK(Responses!Z74), \"\", Responses!Z74)","v":""},{"$f":"IF(ISBLANK(Responses!AA74), \"\", Responses!AA74)","v":""},{"$f":"IF(ISBLANK(Responses!AB74), \"\", Responses!AB74)","v":""},{"$f":"IF(ISBLANK(Responses!AC74), \"\", Responses!AC74)","v":""},{"$f":"IF(ISBLANK(Responses!AD74), \"\", Responses!AD74)","v":""},{"$f":"IF(ISBLANK(Responses!AE74), \"\", Responses!AE74)","v":""},{"$f":"IF(ISBLANK(Responses!AF74), \"\", Responses!AF74)","v":""},{"$f":"IF(ISBLANK(Responses!AG74), \"\", Responses!AG74)","v":""},{"$f":"IF(ISBLANK(Responses!AH74), \"\", Responses!AH74)","v":""},{"$f":"IF(ISBLANK(Responses!AI74), \"\", Responses!AI74)","v":""},{"$f":"IF(ISBLANK(Responses!AJ74), \"\", Responses!AJ74)","v":""},{"$f":"IF(ISBLANK(Responses!AK74), \"\", Responses!AK74)","v":""},{"$f":"IF(ISBLANK(Responses!AL74), \"\", Responses!AL74)","v":""},{"$f":"IF(ISBLANK(Responses!AM74), \"\", Responses!AM74)","v":""},{"$f":"IF(ISBLANK(Responses!AN74), \"\", Responses!AN74)","v":""},{"$f":"IF(ISBLANK(Responses!AO74), \"\", Responses!AO74)","v":""},{"$f":"IF(ISBLANK(Responses!AP74), \"\", Responses!AP74)","v":""},{"$error":"#N/A"},{"$error":"#N/A"},{"$f":"IF(ISBLANK(C74),0,VLOOKUP(C74,LUTs!$A$6:$B$8,2))","v":{"$error":"#N/A"}},{"$f":"IF(ISBLANK(D74),0,VLOOKUP(D74,LUTs!$A$6:$B$8,2))","v":{"$error":"#N/A"}},{"$f":"IF(ISBLANK(E74),0,VLOOKUP(E74,LUTs!$A$6:$B$8,2))","v":{"$error":"#N/A"}},{"$f":"IF(ISBLANK(F74),0,VLOOKUP(F74,LUTs!$A$6:$B$8,2))","v":{"$error":"#N/A"}},{"$f":"IF(ISBLANK(G74),0,VLOOKUP(G74,LUTs!$A$6:$B$8,2))","v":{"$error":"#N/A"}},{"$f":"IF(ISBLANK(H74),0,VLOOKUP(H74,LUTs!$A$6:$B$8,2))","v":{"$error":"#N/A"}},{"$f":"IF(ISBLANK(I74),0,VLOOKUP(I74,LUTs!$A$6:$B$8,2))","v":{"$error":"#N/A"}},{"$f":"IF(ISBLANK(J74),0,VLOOKUP(J74,LUTs!$A$6:$B$8,2))","v":{"$error":"#N/A"}},{"$f":"IF(ISBLANK(K74),0,VLOOKUP(K74,LUTs!$A$6:$B$8,2))","v":{"$error":"#N/A"}},{"$f":"IF(ISBLANK(L74),0,VLOOKUP(L74,LUTs!$A$6:$B$8,2))","v":{"$error":"#N/A"}},{"$f":"IF(ISBLANK(M74),0,VLOOKUP(M74,LUTs!$A$6:$B$8,2))","v":{"$error":"#N/A"}},{"$f":"IF(ISBLANK(N74),0,VLOOKUP(N74,LUTs!$A$6:$B$8,2))","v":{"$error":"#N/A"}},{"$f":"IF(ISBLANK(O74),0,VLOOKUP(O74,LUTs!$A$6:$B$8,2))","v":{"$error":"#N/A"}},{"$f":"IF(ISBLANK(P74),0,VLOOKUP(P74,LUTs!$A$6:$B$8,2))","v":{"$error":"#N/A"}},{"$f":"IF(ISBLANK(Q74),0,VLOOKUP(Q74,LUTs!$A$6:$B$8,2))","v":{"$error":"#N/A"}},{"$f":"IF(ISBLANK(R74),0,IF(ISERROR(VLOOKUP(R74,LUTs!$A$6:$B$8,2)),R74,VLOOKUP(R74,LUTs!$A$6:$B$8,2)))","v":""},{"$f":"IF(ISBLANK(S74),0,VLOOKUP(S74,LUTs!$A$6:$B$8,2))","v":{"$error":"#N/A"}},{"$f":"IF(ISBLANK(T74),0,IF(ISERROR(VLOOKUP(T74,LUTs!$A$6:$B$8,2)),T74,VLOOKUP(T74,LUTs!$A$6:$B$8,2)))","v":""},{"$f":"IF(ISBLANK(U74),0,VLOOKUP(U74,LUTs!$A$6:$B$8,2))","v":{"$error":"#N/A"}},{"$f":"IF(ISBLANK(V74),0,VLOOKUP(V74,LUTs!$A$6:$B$8,2))","v":{"$error":"#N/A"}},{"$f":"IF(ISBLANK(W74),0,VLOOKUP(W74,LUTs!$A$6:$B$8,2))","v":{"$error":"#N/A"}},{"$f":"IF(ISBLANK(X74),0,VLOOKUP(X74,LUTs!$A$6:$B$8,2))","v":{"$error":"#N/A"}}]
[{"$f":"IF(ISBLANK(Responses!A75), \"\", Responses!A75)","v":""},{"$f":"IF(ISBLANK(Responses!B75), \"\", Responses!B75)","v":""},{"$f":"IF(ISBLANK(Responses!U75), \"\", Responses!U75)","v":""},{"$f":"IF(ISBLANK(Responses!V75), \"\", Responses!V75)","v":""},{"$f":"IF(ISBLANK(Responses!W75), \"\", Responses!W75)","v":""},{"$f":"IF(ISBLANK(Responses!X75), \"\", Responses!X75)","v":""},{"$f":"IF(ISBLANK(Responses!Y75), \"\", Responses!Y75)","v":""},{"$f":"IF(ISBLANK(Responses!Z75), \"\", Responses!Z75)","v":""},{"$f":"IF(ISBLANK(Responses!AA75), \"\", Responses!AA75)","v":""},{"$f":"IF(ISBLANK(Responses!AB75), \"\", Responses!AB75)","v":""},{"$f":"IF(ISBLANK(Responses!AC75), \"\", Responses!AC75)","v":""},{"$f":"IF(ISBLANK(Responses!AD75), \"\", Responses!AD75)","v":""},{"$f":"IF(ISBLANK(Responses!AE75), \"\", Responses!AE75)","v":""},{"$f":"IF(ISBLANK(Responses!AF75), \"\", Responses!AF75)","v":""},{"$f":"IF(ISBLANK(Responses!AG75), \"\", Responses!AG75)","v":""},{"$f":"IF(ISBLANK(Responses!AH75), \"\", Responses!AH75)","v":""},{"$f":"IF(ISBLANK(Responses!AI75), \"\", Responses!AI75)","v":""},{"$f":"IF(ISBLANK(Responses!AJ75), \"\", Responses!AJ75)","v":""},{"$f":"IF(ISBLANK(Responses!AK75), \"\", Responses!AK75)","v":""},{"$f":"IF(ISBLANK(Responses!AL75), \"\", Responses!AL75)","v":""},{"$f":"IF(ISBLANK(Responses!AM75), \"\", Responses!AM75)","v":""},{"$f":"IF(ISBLANK(Responses!AN75), \"\", Responses!AN75)","v":""},{"$f":"IF(ISBLANK(Responses!AO75), \"\", Responses!AO75)","v":""},{"$f":"IF(ISBLANK(Responses!AP75), \"\", Responses!AP75)","v":""},{"$error":"#N/A"},{"$error":"#N/A"},{"$f":"IF(ISBLANK(C75),0,VLOOKUP(C75,LUTs!$A$6:$B$8,2))","v":{"$error":"#N/A"}},{"$f":"IF(ISBLANK(D75),0,VLOOKUP(D75,LUTs!$A$6:$B$8,2))","v":{"$error":"#N/A"}},{"$f":"IF(ISBLANK(E75),0,VLOOKUP(E75,LUTs!$A$6:$B$8,2))","v":{"$error":"#N/A"}},{"$f":"IF(ISBLANK(F75),0,VLOOKUP(F75,LUTs!$A$6:$B$8,2))","v":{"$error":"#N/A"}},{"$f":"IF(ISBLANK(G75),0,VLOOKUP(G75,LUTs!$A$6:$B$8,2))","v":{"$error":"#N/A"}},{"$f":"IF(ISBLANK(H75),0,VLOOKUP(H75,LUTs!$A$6:$B$8,2))","v":{"$error":"#N/A"}},{"$f":"IF(ISBLANK(I75),0,VLOOKUP(I75,LUTs!$A$6:$B$8,2))","v":{"$error":"#N/A"}},{"$f":"IF(ISBLANK(J75),0,VLOOKUP(J75,LUTs!$A$6:$B$8,2))","v":{"$error":"#N/A"}},{"$f":"IF(ISBLANK(K75),0,VLOOKUP(K75,LUTs!$A$6:$B$8,2))","v":{"$error":"#N/A"}},{"$f":"IF(ISBLANK(L75),0,VLOOKUP(L75,LUTs!$A$6:$B$8,2))","v":{"$error":"#N/A"}},{"$f":"IF(ISBLANK(M75),0,VLOOKUP(M75,LUTs!$A$6:$B$8,2))","v":{"$error":"#N/A"}},{"$f":"IF(ISBLANK(N75),0,VLOOKUP(N75,LUTs!$A$6:$B$8,2))","v":{"$error":"#N/A"}},{"$f":"IF(ISBLANK(O75),0,VLOOKUP(O75,LUTs!$A$6:$B$8,2))","v":{"$error":"#N/A"}},{"$f":"IF(ISBLANK(P75),0,VLOOKUP(P75,LUTs!$A$6:$B$8,2))","v":{"$error":"#N/A"}},{"$f":"IF(ISBLANK(Q75),0,VLOOKUP(Q75,LUTs!$A$6:$B$8,2))","v":{"$error":"#N/A"}},{"$f":"IF(ISBLANK(R75),0,IF(ISERROR(VLOOKUP(R75,LUTs!$A$6:$B$8,2)),R75,VLOOKUP(R75,LUTs!$A$6:$B$8,2)))","v":""},{"$f":"IF(ISBLANK(S75),0,VLOOKUP(S75,LUTs!$A$6:$B$8,2))","v":{"$error":"#N/A"}},{"$f":"IF(ISBLANK(T75),0,IF(ISERROR(VLOOKUP(T75,LUTs!$A$6:$B$8,2)),T75,VLOOKUP(T75,LUTs!$A$6:$B$8,2)))","v":""},{"$f":"IF(ISBLANK(U75),0,VLOOKUP(U75,LUTs!$A$6:$B$8,2))","v":{"$error":"#N/A"}},{"$f":"IF(ISBLANK(V75),0,VLOOKUP(V75,LUTs!$A$6:$B$8,2))","v":{"$error":"#N/A"}},{"$f":"IF(ISBLANK(W75),0,VLOOKUP(W75,LUTs!$A$6:$B$8,2))","v":{"$error":"#N/A"}},{"$f":"IF(ISBLANK(X75),0,VLOOKUP(X75,LUTs!$A$6:$B$8,2))","v":{"$error":"#N/A"}}]
[{"$f":"IF(ISBLANK(Responses!A76), \"\", Responses!A76)","v":""},{"$f":"IF(ISBLANK(Responses!B76), \"\", Responses!B76)","v":""},{"$f":"IF(ISBLANK(Responses!U76), \"\", Responses!U76)","v":""},{"$f":"IF(ISBLANK(Responses!V76), \"\", Responses!V76)","v":""},{"$f":"IF(ISBLANK(Responses!W76), \"\", Responses!W76)","v":""},{"$f":"IF(ISBLANK(Responses!X76), \"\", Responses!X76)","v":""},{"$f":"IF(ISBLANK(Responses!Y76), \"\", Responses!Y76)","v":""},{"$f":"IF(ISBLANK(Responses!Z76), \"\", Responses!Z76)","v":""},{"$f":"IF(ISBLANK(Responses!AA76), \"\", Responses!AA76)","v":""},{"$f":"IF(ISBLANK(Responses!AB76), \"\", Responses!AB76)","v":""},{"$f":"IF(ISBLANK(Responses!AC76), \"\", Responses!AC76)","v":""},{"$f":"IF(ISBLANK(Responses!AD76), \"\", Responses!AD76)","v":""},{"$f":"IF(ISBLANK(Responses!AE76), \"\", Responses!AE76)","v":""},{"$f":"IF(ISBLANK(Responses!AF76), \"\", Responses!AF76)","v":""},{"$f":"IF(ISBLANK(Responses!AG76), \"\", Responses!AG76)","v":""},{"$f":"IF(ISBLANK(Responses!AH76), \"\", Responses!AH76)","v":""},{"$f":"IF(ISBLANK(Responses!AI76), \"\", Responses!AI76)","v":""},{"$f":"IF(ISBLANK(Responses!AJ76), \"\", Responses!AJ76)","v":""},{"$f":"IF(ISBLANK(Responses!AK76), \"\", Responses!AK76)","v":""},{"$f":"IF(ISBLANK(Responses!AL76), \"\", Responses!AL76)","v":""},{"$f":"IF(ISBLANK(Responses!AM76), \"\", Responses!AM76)","v":""},{"$f":"IF(ISBLANK(Responses!AN76), \"\", Responses!AN76)","v":""},{"$f":"IF(ISBLANK(Responses!AO76), \"\", Responses!AO76)","v":""},{"$f":"IF(ISBLANK(Responses!AP76), \"\", Responses!AP76)","v":""},{"$error":"#N/A"},{"$error":"#N/A"},{"$f":"IF(ISBLANK(C76),0,VLOOKUP(C76,LUTs!$A$6:$B$8,2))","v":{"$error":"#N/A"}},{"$f":"IF(ISBLANK(D76),0,VLOOKUP(D76,LUTs!$A$6:$B$8,2))","v":{"$error":"#N/A"}},{"$f":"IF(ISBLANK(E76),0,VLOOKUP(E76,LUTs!$A$6:$B$8,2))","v":{"$error":"#N/A"}},{"$f":"IF(ISBLANK(F76),0,VLOOKUP(F76,LUTs!$A$6:$B$8,2))","v":{"$error":"#N/A"}},{"$f":"IF(ISBLANK(G76),0,VLOOKUP(G76,LUTs!$A$6:$B$8,2))","v":{"$error":"#N/A"}},{"$f":"IF(ISBLANK(H76),0,VLOOKUP(H76,LUTs!$A$6:$B$8,2))","v":{"$error":"#N/A"}},{"$f":"IF(ISBLANK(I76),0,VLOOKUP(I76,LUTs!$A$6:$B$8,2))","v":{"$error":"#N/A"}},{"$f":"IF(ISBLANK(J76),0,VLOOKUP(J76,LUTs!$A$6:$B$8,2))","v":{"$error":"#N/A"}},{"$f":"IF(ISBLANK(K76),0,VLOOKUP(K76,LUTs!$A$6:$B$8,2))","v":{"$error":"#N/A"}},{"$f":"IF(ISBLANK(L76),0,VLOOKUP(L76,LUTs!$A$6:$B$8,2))","v":{"$error":"#N/A"}},{"$f":"IF(ISBLANK(M76),0,VLOOKUP(M76,LUTs!$A$6:$B$8,2))","v":{"$error":"#N/A"}},{"$f":"IF(ISBLANK(N76),0,VLOOKUP(N76,LUTs!$A$6:$B$8,2))","v":{"$error":"#N/A"}},{"$f":"IF(ISBLANK(O76),0,VLOOKUP(O76,LUTs!$A$6:$B$8,2))","v":{"$error":"#N/A"}},{"$f":"IF(ISBLANK(P76),0,VLOOKUP(P76,LUTs!$A$6:$B$8,2))","v":{"$error":"#N/A"}},{"$f":"IF(ISBLANK(Q76),0,VLOOKUP(Q76,LUTs!$A$6:$B$8,2))","v":{"$error":"#N/A"}},{"$f":"IF(ISBLANK(R76),0,IF(ISERROR(VLOOKUP(R76,LUTs!$A$6:$B$8,2)),R76,VLOOKUP(R76,LUTs!$A$6:$B$8,2)))","v":""},{"$f":"IF(ISBLANK(S76),0,VLOOKUP(S76,LUTs!$A$6:$B$8,2))","v":{"$error":"#N/A"}},{"$f":"IF(ISBLANK(T76),0,IF(ISERROR(VLOOKUP(T76,LUTs!$A$6:$B$8,2)),T76,VLOOKUP(T76,LUTs!$A$6:$B$8,2)))","v":""},{"$f":"IF(ISBLANK(U76),0,VLOOKUP(U76,LUTs!$A$6:$B$8,2))","v":{"$error":"#N/A"}},{"$f":"IF(ISBLANK(V76),0,VLOOKUP(V76,LUTs!$A$6:$B$8,2))","v":{"$error":"#N/A"}},{"$f":"IF(ISBLANK(W76),0,VLOOKUP(W76,LUTs!$A$6:$B$8,2))","v":{"$error":"#N/A"}},{"$f":"IF(ISBLANK(X76),0,VLOOKUP(X76,LUTs!$A$6:$B$8,2))","v":{"$error":"#N/A"}}]
[{"$f":"IF(ISBLANK(Responses!A77), \"\", Responses!A77)","v":""},{"$f":"IF(ISBLANK(Responses!B77), \"\", Responses!B77)","v":""},{"$f":"IF(ISBLANK(Responses!U77), \"\", Responses!U77)","v":""},{"$f":"IF(ISBLANK(Responses!V77), \"\", Responses!V77)","v":""},{"$f":"IF(ISBLANK(Responses!W77), \"\", Responses!W77)","v":""},{"$f":"IF(ISBLANK(Responses!X77), \"\", Responses!X77)","v":""},{"$f":"IF(ISBLANK(Responses!Y77), \"\", Responses!Y77)","v":""},{"$f":"IF(ISBLANK(Responses!Z77), \"\", Responses!Z77)","v":""},{"$f":"IF(ISBLANK(Responses!AA77), \"\", Responses!AA77)","v":""},{"$f":"IF(ISBLANK(Responses!AB77), \"\", Responses!AB77)","v":""},{"$f":"IF(ISBLANK(Responses!AC77), \"\", Responses!AC77)","v":""},{"$f":"IF(ISBLANK(Responses!AD77), \"\", Responses!AD77)","v":""},{"$f":"IF(ISBLANK(Responses!AE77), \"\", Responses!AE77)","v":""},{"$f":"IF(ISBLANK(Responses!AF77), \"\", Responses!AF77)","v":""},{"$f":"IF(ISBLANK(Responses!AG77), \"\", Responses!AG77)","v":""},{"$f":"IF(ISBLANK(Responses!AH77), \"\", Responses!AH77)","v":""},{"$f":"IF(ISBLANK(Responses!AI77), \"\", Responses!AI77)","v":""},{"$f":"IF(ISBLANK(Responses!AJ77), \"\", Responses!AJ77)","v":""},{"$f":"IF(ISBLANK(Responses!AK77), \"\", Responses!AK77)","v":""},{"$f":"IF(ISBLANK(Responses!AL77), \"\", Responses!AL77)","v":""},{"$f":"IF(ISBLANK(Responses!AM77), \"\", Responses!AM77)","v":""},{"$f":"IF(ISBLANK(Responses!AN77), \"\", Responses!AN77)","v":""},{"$f":"IF(ISBLANK(Responses!AO77), \"\", Responses!AO77)","v":""},{"$f":"IF(ISBLANK(Responses!AP77), \"\", Responses!AP77)","v":""},{"$error":"#N/A"},{"$error":"#N/A"},{"$f":"IF(ISBLANK(C77),0,VLOOKUP(C77,LUTs!$A$6:$B$8,2))","v":{"$error":"#N/A"}},{"$f":"IF(ISBLANK(D77),0,VLOOKUP(D77,LUTs!$A$6:$B$8,2))","v":{"$error":"#N/A"}},{"$f":"IF(ISBLANK(E77),0,VLOOKUP(E77,LUTs!$A$6:$B$8,2))","v":{"$error":"#N/A"}},{"$f":"IF(ISBLANK(F77),0,VLOOKUP(F77,LUTs!$A$6:$B$8,2))","v":{"$error":"#N/A"}},{"$f":"IF(ISBLANK(G77),0,VLOOKUP(G77,LUTs!$A$6:$B$8,2))","v":{"$error":"#N/A"}},{"$f":"IF(ISBLANK(H77),0,VLOOKUP(H77,LUTs!$A$6:$B$8,2))","v":{"$error":"#N/A"}},{"$f":"IF(ISBLANK(I77),0,VLOOKUP(I77,LUTs!$A$6:$B$8,2))","v":{"$error":"#N/A"}},{"$f":"IF(ISBLANK(J77),0,VLOOKUP(J77,LUTs!$A$6:$B$8,2))","v":{"$error":"#N/A"}},{"$f":"IF(ISBLANK(K77),0,VLOOKUP(K77,LUTs!$A$6:$B$8,2))","v":{"$error":"#N/A"}},{"$f":"IF(ISBLANK(L77),0,VLOOKUP(L77,LUTs!$A$6:$B$8,2))","v":{"$error":"#N/A"}},{"$f":"IF(ISBLANK(M77),0,VLOOKUP(M77,LUTs!$A$6:$B$8,2))","v":{"$error":"#N/A"}},{"$f":"IF(ISBLANK(N77),0,VLOOKUP(N77,LUTs!$A$6:$B$8,2))","v":{"$error":"#N/A"}},{"$f":"IF(ISBLANK(O77),0,VLOOKUP(O77,LUTs!$A$6:$B$8,2))","v":{"$error":"#N/A"}},{"$f":"IF(ISBLANK(P77),0,VLOOKUP(P77,LUTs!$A$6:$B$8,2))","v":{"$error":"#N/A"}},{"$f":"IF(ISBLANK(Q77),0,VLOOKUP(Q77,LUTs!$A$6:$B$8,2))","v":{"$error":"#N/A"}},{"$f":"IF(ISBLANK(R77),0,IF(ISERROR(VLOOKUP(R77,LUTs!$A$6:$B$8,2)),R77,VLOOKUP(R77,LUTs!$A$6:$B$8,2)))","v":""},{"$f":"IF(ISBLANK(S77),0,VLOOKUP(S77,LUTs!$A$6:$B$8,2))","v":{"$error":"#N/A"}},{"$f":"IF(ISBLANK(T77),0,IF(ISERROR(VLOOKUP(T77,LUTs!$A$6:$B$8,2)),T77,VLOOKUP(T77,LUTs!$A$6:$B$8,2)))","v":""},{"$f":"IF(ISBLANK(U77),0,VLOOKUP(U77,LUTs!$A$6:$B$8,2))","v":{"$error":"#N/A"}},{"$f":"IF(ISBLANK(V77),0,VLOOKUP(V77,LUTs!$A$6:$B$8,2))","v":{"$error":"#N/A"}},{"$f":"IF(ISBLANK(W77),0,VLOOKUP(W77,LUTs!$A$6:$B$8,2))","v":{"$error":"#N/A"}},{"$f":"IF(ISBLANK(X77),0,VLOOKUP(X77,LUTs!$A$6:$B$8,2))","v":{"$error":"#N/A"}}]
[{"$f":"IF(ISBLANK(Responses!A78), \"\", Responses!A78)","v":""},{"$f":"IF(ISBLANK(Responses!B78), \"\", Responses!B78)","v":""},{"$f":"IF(ISBLANK(Responses!U78), \"\", Responses!U78)","v":""},{"$f":"IF(ISBLANK(Responses!V78), \"\", Responses!V78)","v":""},{"$f":"IF(ISBLANK(Responses!W78), \"\", Responses!W78)","v":""},{"$f":"IF(ISBLANK(Responses!X78), \"\", Responses!X78)","v":""},{"$f":"IF(ISBLANK(Responses!Y78), \"\", Responses!Y78)","v":""},{"$f":"IF(ISBLANK(Responses!Z78), \"\", Responses!Z78)","v":""},{"$f":"IF(ISBLANK(Responses!AA78), \"\", Responses!AA78)","v":""},{"$f":"IF(ISBLANK(Responses!AB78), \"\", Responses!AB78)","v":""},{"$f":"IF(ISBLANK(Responses!AC78), \"\", Responses!AC78)","v":""},{"$f":"IF(ISBLANK(Responses!AD78), \"\", Responses!AD78)","v":""},{"$f":"IF(ISBLANK(Responses!AE78), \"\", Responses!AE78)","v":""},{"$f":"IF(ISBLANK(Responses!AF78), \"\", Responses!AF78)","v":""},{"$f":"IF(ISBLANK(Responses!AG78), \"\", Responses!AG78)","v":""},{"$f":"IF(ISBLANK(Responses!AH78), \"\", Responses!AH78)","v":""},{"$f":"IF(ISBLANK(Responses!AI78), \"\", Responses!AI78)","v":""},{"$f":"IF(ISBLANK(Responses!AJ78), \"\", Responses!AJ78)","v":""},{"$f":"IF(ISBLANK(Responses!AK78), \"\", Responses!AK78)","v":""},{"$f":"IF(ISBLANK(Responses!AL78), \"\", Responses!AL78)","v":""},{"$f":"IF(ISBLANK(Responses!AM78), \"\", Responses!AM78)","v":""},{"$f":"IF(ISBLANK(Responses!AN78), \"\", Responses!AN78)","v":""},{"$f":"IF(ISBLANK(Responses!AO78), \"\", Responses!AO78)","v":""},{"$f":"IF(ISBLANK(Responses!AP78), \"\", Responses!AP78)","v":""},{"$error":"#N/A"},{"$error":"#N/A"},{"$f":"IF(ISBLANK(C78),0,VLOOKUP(C78,LUTs!$A$6:$B$8,2))","v":{"$error":"#N/A"}},{"$f":"IF(ISBLANK(D78),0,VLOOKUP(D78,LUTs!$A$6:$B$8,2))","v":{"$error":"#N/A"}},{"$f":"IF(ISBLANK(E78),0,VLOOKUP(E78,LUTs!$A$6:$B$8,2))","v":{"$error":"#N/A"}},{"$f":"IF(ISBLANK(F78),0,VLOOKUP(F78,LUTs!$A$6:$B$8,2))","v":{"$error":"#N/A"}},{"$f":"IF(ISBLANK(G78),0,VLOOKUP(G78,LUTs!$A$6:$B$8,2))","v":{"$error":"#N/A"}},{"$f":"IF(ISBLANK(H78),0,VLOOKUP(H78,LUTs!$A$6:$B$8,2))","v":{"$error":"#N/A"}},{"$f":"IF(ISBLANK(I78),0,VLOOKUP(I78,LUTs!$A$6:$B$8,2))","v":{"$error":"#N/A"}},{"$f":"IF(ISBLANK(J78),0,VLOOKUP(J78,LUTs!$A$6:$B$8,2))","v":{"$error":"#N/A"}},{"$f":"IF(ISBLANK(K78),0,VLOOKUP(K78,LUTs!$A$6:$B$8,2))","v":{"$error":"#N/A"}},{"$f":"IF(ISBLANK(L78),0,VLOOKUP(L78,LUTs!$A$6:$B$8,2))","v":{"$error":"#N/A"}},{"$f":"IF(ISBLANK(M78),0,VLOOKUP(M78,LUTs!$A$6:$B$8,2))","v":{"$error":"#N/A"}},{"$f":"IF(ISBLANK(N78),0,VLOOKUP(N78,LUTs!$A$6:$B$8,2))","v":{"$error":"#N/A"}},{"$f":"IF(ISBLANK(O78),0,VLOOKUP(O78,LUTs!$A$6:$B$8,2))","v":{"$error":"#N/A"}},{"$f":"IF(ISBLANK(P78),0,VLOOKUP(P78,LUTs!$A$6:$B$8,2))","v":{"$error":"#N/A"}},{"$f":"IF(ISBLANK(Q78),0,VLOOKUP(Q78,LUTs!$A$6:$B$8,2))","v":{"$error":"#N/A"}},{"$f":"IF(ISBLANK(R78),0,IF(ISERROR(VLOOKUP(R78,LUTs!$A$6:$B$8,2)),R78,VLOOKUP(R78,LUTs!$A$6:$B$8,2)))","v":""},{"$f":"IF(ISBLANK(S78),0,VLOOKUP(S78,LUTs!$A$6:$B$8,2))","v":{"$error":"#N/A"}},{"$f":"IF(ISBLANK(T78),0,IF(ISERROR(VLOOKUP(T78,LUTs!$A$6:$B$8,2)),T78,VLOOKUP(T78,LUTs!$A$6:$B$8,2)))","v":""},{"$f":"IF(ISBLANK(U78),0,VLOOKUP(U78,LUTs!$A$6:$B$8,2))","v":{"$error":"#N/A"}},{"$f":"IF(ISBLANK(V78),0,VLOOKUP(V78,LUTs!$A$6:$B$8,2))","v":{"$error":"#N/A"}},{"$f":"IF(ISBLANK(W78),0,VLOOKUP(W78,LUTs!$A$6:$B$8,2))","v":{"$error":"#N/A"}},{"$f":"IF(ISBLANK(X78),0,VLOOKUP(X78,LUTs!$A$6:$B$8,2))","v":{"$error":"#N/A"}}]
[{"$f":"IF(ISBLANK(Responses!A79), \"\", Responses!A79)","v":""},{"$f":"IF(ISBLANK(Responses!B79), \"\", Responses!B79)","v":""},{"$f":"IF(ISBLANK(Responses!U79), \"\", Responses!U79)","v":""},{"$f":"IF(ISBLANK(Responses!V79), \"\", Responses!V79)","v":""},{"$f":"IF(ISBLANK(Responses!W79), \"\", Responses!W79)","v":""},{"$f":"IF(ISBLANK(Responses!X79), \"\", Responses!X79)","v":""},{"$f":"IF(ISBLANK(Responses!Y79), \"\", Responses!Y79)","v":""},{"$f":"IF(ISBLANK(Responses!Z79), \"\", Responses!Z79)","v":""},{"$f":"IF(ISBLANK(Responses!AA79), \"\", Responses!AA79)","v":""},{"$f":"IF(ISBLANK(Responses!AB79), \"\", Responses!AB79)","v":""},{"$f":"IF(ISBLANK(Responses!AC79), \"\", Responses!AC79)","v":""},{"$f":"IF(ISBLANK(Responses!AD79), \"\", Responses!AD79)","v":""},{"$f":"IF(ISBLANK(Responses!AE79), \"\", Responses!AE79)","v":""},{"$f":"IF(ISBLANK(Responses!AF79), \"\", Responses!AF79)","v":""},{"$f":"IF(ISBLANK(Responses!AG79), \"\", Responses!AG79)","v":""},{"$f":"IF(ISBLANK(Responses!AH79), \"\", Responses!AH79)","v":""},{"$f":"IF(ISBLANK(Responses!AI79), \"\", Responses!AI79)","v":""},{"$f":"IF(ISBLANK(Responses!AJ79), \"\", Responses!AJ79)","v":""},{"$f":"IF(ISBLANK(Responses!AK79), \"\", Responses!AK79)","v":""},{"$f":"IF(ISBLANK(Responses!AL79), \"\", Responses!AL79)","v":""},{"$f":"IF(ISBLANK(Responses!AM79), \"\", Responses!AM79)","v":""},{"$f":"IF(ISBLANK(Responses!AN79), \"\", Responses!AN79)","v":""},{"$f":"IF(ISBLANK(Responses!AO79), \"\", Responses!AO79)","v":""},{"$f":"IF(ISBLANK(Responses!AP79), \"\", Responses!AP79)","v":""},{"$error":"#N/A"},{"$error":"#N/A"},{"$f":"IF(ISBLANK(C79),0,VLOOKUP(C79,LUTs!$A$6:$B$8,2))","v":{"$error":"#N/A"}},{"$f":"IF(ISBLANK(D79),0,VLOOKUP(D79,LUTs!$A$6:$B$8,2))","v":{"$error":"#N/A"}},{"$f":"IF(ISBLANK(E79),0,VLOOKUP(E79,LUTs!$A$6:$B$8,2))","v":{"$error":"#N/A"}},{"$f":"IF(ISBLANK(F79),0,VLOOKUP(F79,LUTs!$A$6:$B$8,2))","v":{"$error":"#N/A"}},{"$f":"IF(ISBLANK(G79),0,VLOOKUP(G79,LUTs!$A$6:$B$8,2))","v":{"$error":"#N/A"}},{"$f":"IF(ISBLANK(H79),0,VLOOKUP(H79,LUTs!$A$6:$B$8,2))","v":{"$error":"#N/A"}},{"$f":"IF(ISBLANK(I79),0,VLOOKUP(I79,LUTs!$A$6:$B$8,2))","v":{"$error":"#N/A"}},{"$f":"IF(ISBLANK(J79),0,VLOOKUP(J79,LUTs!$A$6:$B$8,2))","v":{"$error":"#N/A"}},{"$f":"IF(ISBLANK(K79),0,VLOOKUP(K79,LUTs!$A$6:$B$8,2))","v":{"$error":"#N/A"}},{"$f":"IF(ISBLANK(L79),0,VLOOKUP(L79,LUTs!$A$6:$B$8,2))","v":{"$error":"#N/A"}},{"$f":"IF(ISBLANK(M79),0,VLOOKUP(M79,LUTs!$A$6:$B$8,2))","v":{"$error":"#N/A"}},{"$f":"IF(ISBLANK(N79),0,VLOOKUP(N79,LUTs!$A$6:$B$8,2))","v":{"$error":"#N/A"}},{"$f":"IF(ISBLANK(O79),0,VLOOKUP(O79,LUTs!$A$6:$B$8,2))","v":{"$error":"#N/A"}},{"$f":"IF(ISBLANK(P79),0,VLOOKUP(P79,LUTs!$A$6:$B$8,2))","v":{"$error":"#N/A"}},{"$f":"IF(ISBLANK(Q79),0,VLOOKUP(Q79,LUTs!$A$6:$B$8,2))","v":{"$error":"#N/A"}},{"$f":"IF(ISBLANK(R79),0,IF(ISERROR(VLOOKUP(R79,LUTs!$A$6:$B$8,2)),R79,VLOOKUP(R79,LUTs!$A$6:$B$8,2)))","v":""},{"$f":"IF(ISBLANK(S79),0,VLOOKUP(S79,LUTs!$A$6:$B$8,2))","v":{"$error":"#N/A"}},{"$f":"IF(ISBLANK(T79),0,IF(ISERROR(VLOOKUP(T79,LUTs!$A$6:$B$8,2)),T79,VLOOKUP(T79,LUTs!$A$6:$B$8,2)))","v":""},{"$f":"IF(ISBLANK(U79),0,VLOOKUP(U79,LUTs!$A$6:$B$8,2))","v":{"$error":"#N/A"}},{"$f":"IF(ISBLANK(V79),0,VLOOKUP(V79,LUTs!$A$6:$B$8,2))","v":{"$error":"#N/A"}},{"$f":"IF(ISBLANK(W79),0,VLOOKUP(W79,LUTs!$A$6:$B$8,2))","v":{"$error":"#N/A"}},{"$f":"IF(ISBLANK(X79),0,VLOOKUP(X79,LUTs!$A$6:$B$8,2))","v":{"$error":"#N/A"}}]
[{"$f":"IF(ISBLANK(Responses!A80), \"\", Responses!A80)","v":""},{"$f":"IF(ISBLANK(Responses!B80), \"\", Responses!B80)","v":""},{"$f":"IF(ISBLANK(Responses!U80), \"\", Responses!U80)","v":""},{"$f":"IF(ISBLANK(Responses!V80), \"\", Responses!V80)","v":""},{"$f":"IF(ISBLANK(Responses!W80), \"\", Responses!W80)","v":""},{"$f":"IF(ISBLANK(Responses!X80), \"\", Responses!X80)","v":""},{"$f":"IF(ISBLANK(Responses!Y80), \"\", Responses!Y80)","v":""},{"$f":"IF(ISBLANK(Responses!Z80), \"\", Responses!Z80)","v":""},{"$f":"IF(ISBLANK(Responses!AA80), \"\", Responses!AA80)","v":""},{"$f":"IF(ISBLANK(Responses!AB80), \"\", Responses!AB80)","v":""},{"$f":"IF(ISBLANK(Responses!AC80), \"\", Responses!AC80)","v":""},{"$f":"IF(ISBLANK(Responses!AD80), \"\", Responses!AD80)","v":""},{"$f":"IF(ISBLANK(Responses!AE80), \"\", Responses!AE80)","v":""},{"$f":"IF(ISBLANK(Responses!AF80), \"\", Responses!AF80)","v":""},{"$f":"IF(ISBLANK(Responses!AG80), \"\", Responses!AG80)","v":""},{"$f":"IF(ISBLANK(Responses!AH80), \"\", Responses!AH80)","v":""},{"$f":"IF(ISBLANK(Responses!AI80), \"\", Responses!AI80)","v":""},{"$f":"IF(ISBLANK(Responses!AJ80), \"\", Responses!AJ80)","v":""},{"$f":"IF(ISBLANK(Responses!AK80), \"\", Responses!AK80)","v":""},{"$f":"IF(ISBLANK(Responses!AL80), \"\", Responses!AL80)","v":""},{"$f":"IF(ISBLANK(Responses!AM80), \"\", Responses!AM80)","v":""},{"$f":"IF(ISBLANK(Responses!AN80), \"\", Responses!AN80)","v":""},{"$f":"IF(ISBLANK(Responses!AO80), \"\", Responses!AO80)","v":""},{"$f":"IF(ISBLANK(Responses!AP80), \"\", Responses!AP80)","v":""},{"$error":"#N/A"},{"$error":"#N/A"},{"$f":"IF(ISBLANK(C80),0,VLOOKUP(C80,LUTs!$A$6:$B$8,2))","v":{"$error":"#N/A"}},{"$f":"IF(ISBLANK(D80),0,VLOOKUP(D80,LUTs!$A$6:$B$8,2))","v":{"$error":"#N/A"}},{"$f":"IF(ISBLANK(E80),0,VLOOKUP(E80,LUTs!$A$6:$B$8,2))","v":{"$error":"#N/A"}},{"$f":"IF(ISBLANK(F80),0,VLOOKUP(F80,LUTs!$A$6:$B$8,2))","v":{"$error":"#N/A"}},{"$f":"IF(ISBLANK(G80),0,VLOOKUP(G80,LUTs!$A$6:$B$8,2))","v":{"$error":"#N/A"}},{"$f":"IF(ISBLANK(H80),0,VLOOKUP(H80,LUTs!$A$6:$B$8,2))","v":{"$error":"#N/A"}},{"$f":"IF(ISBLANK(I80),0,VLOOKUP(I80,LUTs!$A$6:$B$8,2))","v":{"$error":"#N/A"}},{"$f":"IF(ISBLANK(J80),0,VLOOKUP(J80,LUTs!$A$6:$B$8,2))","v":{"$error":"#N/A"}},{"$f":"IF(ISBLANK(K80),0,VLOOKUP(K80,LUTs!$A$6:$B$8,2))","v":{"$error":"#N/A"}},{"$f":"IF(ISBLANK(L80),0,VLOOKUP(L80,LUTs!$A$6:$B$8,2))","v":{"$error":"#N/A"}},{"$f":"IF(ISBLANK(M80),0,VLOOKUP(M80,LUTs!$A$6:$B$8,2))","v":{"$error":"#N/A"}},{"$f":"IF(ISBLANK(N80),0,VLOOKUP(N80,LUTs!$A$6:$B$8,2))","v":{"$error":"#N/A"}},{"$f":"IF(ISBLANK(O80),0,VLOOKUP(O80,LUTs!$A$6:$B$8,2))","v":{"$error":"#N/A"}},{"$f":"IF(ISBLANK(P80),0,VLOOKUP(P80,LUTs!$A$6:$B$8,2))","v":{"$error":"#N/A"}},{"$f":"IF(ISBLANK(Q80),0,VLOOKUP(Q80,LUTs!$A$6:$B$8,2))","v":{"$error":"#N/A"}},{"$f":"IF(ISBLANK(R80),0,IF(ISERROR(VLOOKUP(R80,LUTs!$A$6:$B$8,2)),R80,VLOOKUP(R80,LUTs!$A$6:$B$8,2)))","v":""},{"$f":"IF(ISBLANK(S80),0,VLOOKUP(S80,LUTs!$A$6:$B$8,2))","v":{"$error":"#N/A"}},{"$f":"IF(ISBLANK(T80),0,IF(ISERROR(VLOOKUP(T80,LUTs!$A$6:$B$8,2)),T80,VLOOKUP(T80,LUTs!$A$6:$B$8,2)))","v":""},{"$f":"IF(ISBLANK(U80),0,VLOOKUP(U80,LUTs!$A$6:$B$8,2))","v":{"$error":"#N/A"}},{"$f":"IF(ISBLANK(V80),0,VLOOKUP(V80,LUTs!$A$6:$B$8,2))","v":{"$error":"#N/A"}},{"$f":"IF(ISBLANK(W80),0,VLOOKUP(W80,LUTs!$A$6:$B$8,2))","v":{"$error":"#N/A"}},{"$f":"IF(ISBLANK(X80),0,VLOOKUP(X80,LUTs!$A$6:$B$8,2))","v":{"$error":"#N/A"}}]
[{"$f":"IF(ISBLANK(Responses!A81), \"\", Responses!A81)","v":""},{"$f":"IF(ISBLANK(Responses!B81), \"\", Responses!B81)","v":""},{"$f":"IF(ISBLANK(Responses!U81), \"\", Responses!U81)","v":""},{"$f":"IF(ISBLANK(Responses!V81), \"\", Responses!V81)","v":""},{"$f":"IF(ISBLANK(Responses!W81), \"\", Responses!W81)","v":""},{"$f":"IF(ISBLANK(Responses!X81), \"\", Responses!X81)","v":""},{"$f":"IF(ISBLANK(Responses!Y81), \"\", Responses!Y81)","v":""},{"$f":"IF(ISBLANK(Responses!Z81), \"\", Responses!Z81)","v":""},{"$f":"IF(ISBLANK(Responses!AA81), \"\", Responses!AA81)","v":""},{"$f":"IF(ISBLANK(Responses!AB81), \"\", Responses!AB81)","v":""},{"$f":"IF(ISBLANK(Responses!AC81), \"\", Responses!AC81)","v":""},{"$f":"IF(ISBLANK(Responses!AD81), \"\", Responses!AD81)","v":""},{"$f":"IF(ISBLANK(Responses!AE81), \"\", Responses!AE81)","v":""},{"$f":"IF(ISBLANK(Responses!AF81), \"\", Responses!AF81)","v":""},{"$f":"IF(ISBLANK(Responses!AG81), \"\", Responses!AG81)","v":""},{"$f":"IF(ISBLANK(Responses!AH81), \"\", Responses!AH81)","v":""},{"$f":"IF(ISBLANK(Responses!AI81), \"\", Responses!AI81)","v":""},{"$f":"IF(ISBLANK(Responses!AJ81), \"\", Responses!AJ81)","v":""},{"$f":"IF(ISBLANK(Responses!AK81), \"\", Responses!AK81)","v":""},{"$f":"IF(ISBLANK(Responses!AL81), \"\", Responses!AL81)","v":""},{"$f":"IF(ISBLANK(Responses!AM81), \"\", Responses!AM81)","v":""},{"$f":"IF(ISBLANK(Responses!AN81), \"\", Responses!AN81)","v":""},{"$f":"IF(ISBLANK(Responses!AO81), \"\", Responses!AO81)","v":""},{"$f":"IF(ISBLANK(Responses!AP81), \"\", Responses!AP81)","v":""},{"$error":"#N/A"},{"$error":"#N/A"},{"$f":"IF(ISBLANK(C81),0,VLOOKUP(C81,LUTs!$A$6:$B$8,2))","v":{"$error":"#N/A"}},{"$f":"IF(ISBLANK(D81),0,VLOOKUP(D81,LUTs!$A$6:$B$8,2))","v":{"$error":"#N/A"}},{"$f":"IF(ISBLANK(E81),0,VLOOKUP(E81,LUTs!$A$6:$B$8,2))","v":{"$error":"#N/A"}},{"$f":"IF(ISBLANK(F81),0,VLOOKUP(F81,LUTs!$A$6:$B$8,2))","v":{"$error":"#N/A"}},{"$f":"IF(ISBLANK(G81),0,VLOOKUP(G81,LUTs!$A$6:$B$8,2))","v":{"$error":"#N/A"}},{"$f":"IF(ISBLANK(H81),0,VLOOKUP(H81,LUTs!$A$6:$B$8,2))","v":{"$error":"#N/A"}},{"$f":"IF(ISBLANK(I81),0,VLOOKUP(I81,LUTs!$A$6:$B$8,2))","v":{"$error":"#N/A"}},{"$f":"IF(ISBLANK(J81),0,VLOOKUP(J81,LUTs!$A$6:$B$8,2))","v":{"$error":"#N/A"}},{"$f":"IF(ISBLANK(K81),0,VLOOKUP(K81,LUTs!$A$6:$B$8,2))","v":{"$error":"#N/A"}},{"$f":"IF(ISBLANK(L81),0,VLOOKUP(L81,LUTs!$A$6:$B$8,2))","v":{"$error":"#N/A"}},{"$f":"IF(ISBLANK(M81),0,VLOOKUP(M81,LUTs!$A$6:$B$8,2))","v":{"$error":"#N/A"}},{"$f":"IF(ISBLANK(N81),0,VLOOKUP(N81,LUTs!$A$6:$B$8,2))","v":{"$error":"#N/A"}},{"$f":"IF(ISBLANK(O81),0,VLOOKUP(O81,LUTs!$A$6:$B$8,2))","v":{"$error":"#N/A"}},{"$f":"IF(ISBLANK(P81),0,VLOOKUP(P81,LUTs!$A$6:$B$8,2))","v":{"$error":"#N/A"}},{"$f":"IF(ISBLANK(Q81),0,VLOOKUP(Q81,LUTs!$A$6:$B$8,2))","v":{"$error":"#N/A"}},{"$f":"IF(ISBLANK(R81),0,IF(ISERROR(VLOOKUP(R81,LUTs!$A$6:$B$8,2)),R81,VLOOKUP(R81,LUTs!$A$6:$B$8,2)))","v":""},{"$f":"IF(ISBLANK(S81),0,VLOOKUP(S81,LUTs!$A$6:$B$8,2))","v":{"$error":"#N/A"}},{"$f":"IF(ISBLANK(T81),0,IF(ISERROR(VLOOKUP(T81,LUTs!$A$6:$B$8,2)),T81,VLOOKUP(T81,LUTs!$A$6:$B$8,2)))","v":""},{"$f":"IF(ISBLANK(U81),0,VLOOKUP(U81,LUTs!$A$6:$B$8,2))","v":{"$error":"#N/A"}},{"$f":"IF(ISBLANK(V81),0,VLOOKUP(V81,LUTs!$A$6:$B$8,2))","v":{"$error":"#N/A"}},{"$f":"IF(ISBLANK(W81),0,VLOOKUP(W81,LUTs!$A$6:$B$8,2))","v":{"$error":"#N/A"}},{"$f":"IF(ISBLANK(X81),0,VLOOKUP(X81,LUTs!$A$6:$B$8,2))","v":{"$error":"#N/A"}}]
[{"$f":"IF(ISBLANK(Responses!A82), \"\", Responses!A82)","v":""},{"$f":"IF(ISBLANK(Responses!B82), \"\", Responses!B82)","v":""},{"$f":"IF(ISBLANK(Responses!U82), \"\", Responses!U82)","v":""},{"$f":"IF(ISBLANK(Responses!V82), \"\", Responses!V82)","v":""},{"$f":"IF(ISBLANK(Responses!W82), \"\", Responses!W82)","v":""},{"$f":"IF(ISBLANK(Responses!X82), \"\", Responses!X82)","v":""},{"$f":"IF(ISBLANK(Responses!Y82), \"\", Responses!Y82)","v":""},{"$f":"IF(ISBLANK(Responses!Z82), \"\", Responses!Z82)","v":""},{"$f":"IF(ISBLANK(Responses!AA82), \"\", Responses!AA82)","v":""},{"$f":"IF(ISBLANK(Responses!AB82), \"\", Responses!AB82)","v":""},{"$f":"IF(ISBLANK(Responses!AC82), \"\", Responses!AC82)","v":""},{"$f":"IF(ISBLANK(Responses!AD82), \"\", Responses!AD82)","v":""},{"$f":"IF(ISBLANK(Responses!AE82), \"\", Responses!AE82)","v":""},{"$f":"IF(ISBLANK(Responses!AF82), \"\", Responses!AF82)","v":""},{"$f":"IF(ISBLANK(Responses!AG82), \"\", Responses!AG82)","v":""},{"$f":"IF(ISBLANK(Responses!AH82), \"\", Responses!AH82)","v":""},{"$f":"IF(ISBLANK(Responses!AI82), \"\", Responses!AI82)","v":""},{"$f":"IF(ISBLANK(Responses!AJ82), \"\", Responses!AJ82)","v":""},{"$f":"IF(ISBLANK(Responses!AK82), \"\", Responses!AK82)","v":""},{"$f":"IF(ISBLANK(Responses!AL82), \"\", Responses!AL82)","v":""},{"$f":"IF(ISBLANK(Responses!AM82), \"\", Responses!AM82)","v":""},{"$f":"IF(ISBLANK(Responses!AN82), \"\", Responses!AN82)","v":""},{"$f":"IF(ISBLANK(Responses!AO82), \"\", Responses!AO82)","v":""},{"$f":"IF(ISBLANK(Responses!AP82), \"\", Responses!AP82)","v":""},{"$error":"#N/A"},{"$error":"#N/A"},{"$f":"IF(ISBLANK(C82),0,VLOOKUP(C82,LUTs!$A$6:$B$8,2))","v":{"$error":"#N/A"}},{"$f":"IF(ISBLANK(D82),0,VLOOKUP(D82,LUTs!$A$6:$B$8,2))","v":{"$error":"#N/A"}},{"$f":"IF(ISBLANK(E82),0,VLOOKUP(E82,LUTs!$A$6:$B$8,2))","v":{"$error":"#N/A"}},{"$f":"IF(ISBLANK(F82),0,VLOOKUP(F82,LUTs!$A$6:$B$8,2))","v":{"$error":"#N/A"}},{"$f":"IF(ISBLANK(G82),0,VLOOKUP(G82,LUTs!$A$6:$B$8,2))","v":{"$error":"#N/A"}},{"$f":"IF(ISBLANK(H82),0,VLOOKUP(H82,LUTs!$A$6:$B$8,2))","v":{"$error":"#N/A"}},{"$f":"IF(ISBLANK(I82),0,VLOOKUP(I82,LUTs!$A$6:$B$8,2))","v":{"$error":"#N/A"}},{"$f":"IF(ISBLANK(J82),0,VLOOKUP(J82,LUTs!$A$6:$B$8,2))","v":{"$error":"#N/A"}},{"$f":"IF(ISBLANK(K82),0,VLOOKUP(K82,LUTs!$A$6:$B$8,2))","v":{"$error":"#N/A"}},{"$f":"IF(ISBLANK(L82),0,VLOOKUP(L82,LUTs!$A$6:$B$8,2))","v":{"$error":"#N/A"}},{"$f":"IF(ISBLANK(M82),0,VLOOKUP(M82,LUTs!$A$6:$B$8,2))","v":{"$error":"#N/A"}},{"$f":"IF(ISBLANK(N82),0,VLOOKUP(N82,LUTs!$A$6:$B$8,2))","v":{"$error":"#N/A"}},{"$f":"IF(ISBLANK(O82),0,VLOOKUP(O82,LUTs!$A$6:$B$8,2))","v":{"$error":"#N/A"}},{"$f":"IF(ISBLANK(P82),0,VLOOKUP(P82,LUTs!$A$6:$B$8,2))","v":{"$error":"#N/A"}},{"$f":"IF(ISBLANK(Q82),0,VLOOKUP(Q82,LUTs!$A$6:$B$8,2))","v":{"$error":"#N/A"}},{"$f":"IF(ISBLANK(R82),0,IF(ISERROR(VLOOKUP(R82,LUTs!$A$6:$B$8,2)),R82,VLOOKUP(R82,LUTs!$A$6:$B$8,2)))","v":""},{"$f":"IF(ISBLANK(S82),0,VLOOKUP(S82,LUTs!$A$6:$B$8,2))","v":{"$error":"#N/A"}},{"$f":"IF(ISBLANK(T82),0,IF(ISERROR(VLOOKUP(T82,LUTs!$A$6:$B$8,2)),T82,VLOOKUP(T82,LUTs!$A$6:$B$8,2)))","v":""},{"$f":"IF(ISBLANK(U82),0,VLOOKUP(U82,LUTs!$A$6:$B$8,2))","v":{"$error":"#N/A"}},{"$f":"IF(ISBLANK(V82),0,VLOOKUP(V82,LUTs!$A$6:$B$8,2))","v":{"$error":"#N/A"}},{"$f":"IF(ISBLANK(W82),0,VLOOKUP(W82,LUTs!$A$6:$B$8,2))","v":{"$error":"#N/A"}},{"$f":"IF(ISBLANK(X82),0,VLOOKUP(X82,LUTs!$A$6:$B$8,2))","v":{"$error":"#N/A"}}]
[{"$f":"IF(ISBLANK(Responses!A83), \"\", Responses!A83)","v":""},{"$f":"IF(ISBLANK(Responses!B83), \"\", Responses!B83)","v":""},{"$f":"IF(ISBLANK(Responses!U83), \"\", Responses!U83)","v":""},{"$f":"IF(ISBLANK(Responses!V83), \"\", Responses!V83)","v":""},{"$f":"IF(ISBLANK(Responses!W83), \"\", Responses!W83)","v":""},{"$f":"IF(ISBLANK(Responses!X83), \"\", Responses!X83)","v":""},{"$f":"IF(ISBLANK(Responses!Y83), \"\", Responses!Y83)","v":""},{"$f":"IF(ISBLANK(Responses!Z83), \"\", Responses!Z83)","v":""},{"$f":"IF(ISBLANK(Responses!AA83), \"\", Responses!AA83)","v":""},{"$f":"IF(ISBLANK(Responses!AB83), \"\", Responses!AB83)","v":""},{"$f":"IF(ISBLANK(Responses!AC83), \"\", Responses!AC83)","v":""},{"$f":"IF(ISBLANK(Responses!AD83), \"\", Responses!AD83)","v":""},{"$f":"IF(ISBLANK(Responses!AE83), \"\", Responses!AE83)","v":""},{"$f":"IF(ISBLANK(Responses!AF83), \"\", Responses!AF83)","v":""},{"$f":"IF(ISBLANK(Responses!AG83), \"\", Responses!AG83)","v":""},{"$f":"IF(ISBLANK(Responses!AH83), \"\", Responses!AH83)","v":""},{"$f":"IF(ISBLANK(Responses!AI83), \"\", Responses!AI83)","v":""},{"$f":"IF(ISBLANK(Responses!AJ83), \"\", Responses!AJ83)","v":""},{"$f":"IF(ISBLANK(Responses!AK83), \"\", Responses!AK83)","v":""},{"$f":"IF(ISBLANK(Responses!AL83), \"\", Responses!AL83)","v":""},{"$f":"IF(ISBLANK(Responses!AM83), \"\", Responses!AM83)","v":""},{"$f":"IF(ISBLANK(Responses!AN83), \"\", Responses!AN83)","v":""},{"$f":"IF(ISBLANK(Responses!AO83), \"\", Responses!AO83)","v":""},{"$f":"IF(ISBLANK(Responses!AP83), \"\", Responses!AP83)","v":""},{"$error":"#N/A"},{"$error":"#N/A"},{"$f":"IF(ISBLANK(C83),0,VLOOKUP(C83,LUTs!$A$6:$B$8,2))","v":{"$error":"#N/A"}},{"$f":"IF(ISBLANK(D83),0,VLOOKUP(D83,LUTs!$A$6:$B$8,2))","v":{"$error":"#N/A"}},{"$f":"IF(ISBLANK(E83),0,VLOOKUP(E83,LUTs!$A$6:$B$8,2))","v":{"$error":"#N/A"}},{"$f":"IF(ISBLANK(F83),0,VLOOKUP(F83,LUTs!$A$6:$B$8,2))","v":{"$error":"#N/A"}},{"$f":"IF(ISBLANK(G83),0,VLOOKUP(G83,LUTs!$A$6:$B$8,2))","v":{"$error":"#N/A"}},{"$f":"IF(ISBLANK(H83),0,VLOOKUP(H83,LUTs!$A$6:$B$8,2))","v":{"$error":"#N/A"}},{"$f":"IF(ISBLANK(I83),0,VLOOKUP(I83,LUTs!$A$6:$B$8,2))","v":{"$error":"#N/A"}},{"$f":"IF(ISBLANK(J83),0,VLOOKUP(J83,LUTs!$A$6:$B$8,2))","v":{"$error":"#N/A"}},{"$f":"IF(ISBLANK(K83),0,VLOOKUP(K83,LUTs!$A$6:$B$8,2))","v":{"$error":"#N/A"}},{"$f":"IF(ISBLANK(L83),0,VLOOKUP(L83,LUTs!$A$6:$B$8,2))","v":{"$error":"#N/A"}},{"$f":"IF(ISBLANK(M83),0,VLOOKUP(M83,LUTs!$A$6:$B$8,2))","v":{"$error":"#N/A"}},{"$f":"IF(ISBLANK(N83),0,VLOOKUP(N83,LUTs!$A$6:$B$8,2))","v":{"$error":"#N/A"}},{"$f":"IF(ISBLANK(O83),0,VLOOKUP(O83,LUTs!$A$6:$B$8,2))","v":{"$error":"#N/A"}},{"$f":"IF(ISBLANK(P83),0,VLOOKUP(P83,LUTs!$A$6:$B$8,2))","v":{"$error":"#N/A"}},{"$f":"IF(ISBLANK(Q83),0,VLOOKUP(Q83,LUTs!$A$6:$B$8,2))","v":{"$error":"#N/A"}},{"$f":"IF(ISBLANK(R83),0,IF(ISERROR(VLOOKUP(R83,LUTs!$A$6:$B$8,2)),R83,VLOOKUP(R83,LUTs!$A$6:$B$8,2)))","v":""},{"$f":"IF(ISBLANK(S83),0,VLOOKUP(S83,LUTs!$A$6:$B$8,2))","v":{"$error":"#N/A"}},{"$f":"IF(ISBLANK(T83),0,IF(ISERROR(VLOOKUP(T83,LUTs!$A$6:$B$8,2)),T83,VLOOKUP(T83,LUTs!$A$6:$B$8,2)))","v":""},{"$f":"IF(ISBLANK(U83),0,VLOOKUP(U83,LUTs!$A$6:$B$8,2))","v":{"$error":"#N/A"}},{"$f":"IF(ISBLANK(V83),0,VLOOKUP(V83,LUTs!$A$6:$B$8,2))","v":{"$error":"#N/A"}},{"$f":"IF(ISBLANK(W83),0,VLOOKUP(W83,LUTs!$A$6:$B$8,2))","v":{"$error":"#N/A"}},{"$f":"IF(ISBLANK(X83),0,VLOOKUP(X83,LUTs!$A$6:$B$8,2))","v":{"$error":"#N/A"}}]
[{"$f":"IF(ISBLANK(Responses!A84), \"\", Responses!A84)","v":""},{"$f":"IF(ISBLANK(Responses!B84), \"\", Responses!B84)","v":""},{"$f":"IF(ISBLANK(Responses!U84), \"\", Responses!U84)","v":""},{"$f":"IF(ISBLANK(Responses!V84), \"\", Responses!V84)","v":""},{"$f":"IF(ISBLANK(Responses!W84), \"\", Responses!W84)","v":""},{"$f":"IF(ISBLANK(Responses!X84), \"\", Responses!X84)","v":""},{"$f":"IF(ISBLANK(Responses!Y84), \"\", Responses!Y84)","v":""},{"$f":"IF(ISBLANK(Responses!Z84), \"\", Responses!Z84)","v":""},{"$f":"IF(ISBLANK(Responses!AA84), \"\", Responses!AA84)","v":""},{"$f":"IF(ISBLANK(Responses!AB84), \"\", Responses!AB84)","v":""},{"$f":"IF(ISBLANK(Responses!AC84), \"\", Responses!AC84)","v":""},{"$f":"IF(ISBLANK(Responses!AD84), \"\", Responses!AD84)","v":""},{"$f":"IF(ISBLANK(Responses!AE84), \"\", Responses!AE84)","v":""},{"$f":"IF(ISBLANK(Responses!AF84), \"\", Responses!AF84)","v":""},{"$f":"IF(ISBLANK(Responses!AG84), \"\", Responses!AG84)","v":""},{"$f":"IF(ISBLANK(Responses!AH84), \"\", Responses!AH84)","v":""},{"$f":"IF(ISBLANK(Responses!AI84), \"\", Responses!AI84)","v":""},{"$f":"IF(ISBLANK(Responses!AJ84), \"\", Responses!AJ84)","v":""},{"$f":"IF(ISBLANK(Responses!AK84), \"\", Responses!AK84)","v":""},{"$f":"IF(ISBLANK(Responses!AL84), \"\", Responses!AL84)","v":""},{"$f":"IF(ISBLANK(Responses!AM84), \"\", Responses!AM84)","v":""},{"$f":"IF(ISBLANK(Responses!AN84), \"\", Responses!AN84)","v":""},{"$f":"IF(ISBLANK(Responses!AO84), \"\", Responses!AO84)","v":""},{"$f":"IF(ISBLANK(Responses!AP84), \"\", Responses!AP84)","v":""},{"$error":"#N/A"},{"$error":"#N/A"},{"$f":"IF(ISBLANK(C84),0,VLOOKUP(C84,LUTs!$A$6:$B$8,2))","v":{"$error":"#N/A"}},{"$f":"IF(ISBLANK(D84),0,VLOOKUP(D84,LUTs!$A$6:$B$8,2))","v":{"$error":"#N/A"}},{"$f":"IF(ISBLANK(E84),0,VLOOKUP(E84,LUTs!$A$6:$B$8,2))","v":{"$error":"#N/A"}},{"$f":"IF(ISBLANK(F84),0,VLOOKUP(F84,LUTs!$A$6:$B$8,2))","v":{"$error":"#N/A"}},{"$f":"IF(ISBLANK(G84),0,VLOOKUP(G84,LUTs!$A$6:$B$8,2))","v":{"$error":"#N/A"}},{"$f":"IF(ISBLANK(H84),0,VLOOKUP(H84,LUTs!$A$6:$B$8,2))","v":{"$error":"#N/A"}},{"$f":"IF(ISBLANK(I84),0,VLOOKUP(I84,LUTs!$A$6:$B$8,2))","v":{"$error":"#N/A"}},{"$f":"IF(ISBLANK(J84),0,VLOOKUP(J84,LUTs!$A$6:$B$8,2))","v":{"$error":"#N/A"}},{"$f":"IF(ISBLANK(K84),0,VLOOKUP(K84,LUTs!$A$6:$B$8,2))","v":{"$error":"#N/A"}},{"$f":"IF(ISBLANK(L84),0,VLOOKUP(L84,LUTs!$A$6:$B$8,2))","v":{"$error":"#N/A"}},{"$f":"IF(ISBLANK(M84),0,VLOOKUP(M84,LUTs!$A$6:$B$8,2))","v":{"$error":"#N/A"}},{"$f":"IF(ISBLANK(N84),0,VLOOKUP(N84,LUTs!$A$6:$B$8,2))","v":{"$error":"#N/A"}},{"$f":"IF(ISBLANK(O84),0,VLOOKUP(O84,LUTs!$A$6:$B$8,2))","v":{"$error":"#N/A"}},{"$f":"IF(ISBLANK(P84),0,VLOOKUP(P84,LUTs!$A$6:$B$8,2))","v":{"$error":"#N/A"}},{"$f":"IF(ISBLANK(Q84),0,VLOOKUP(Q84,LUTs!$A$6:$B$8,2))","v":{"$error":"#N/A"}},{"$f":"IF(ISBLANK(R84),0,IF(ISERROR(VLOOKUP(R84,LUTs!$A$6:$B$8,2)),R84,VLOOKUP(R84,LUTs!$A$6:$B$8,2)))","v":""},{"$f":"IF(ISBLANK(S84),0,VLOOKUP(S84,LUTs!$A$6:$B$8,2))","v":{"$error":"#N/A"}},{"$f":"IF(ISBLANK(T84),0,IF(ISERROR(VLOOKUP(T84,LUTs!$A$6:$B$8,2)),T84,VLOOKUP(T84,LUTs!$A$6:$B$8,2)))","v":""},{"$f":"IF(ISBLANK(U84),0,VLOOKUP(U84,LUTs!$A$6:$B$8,2))","v":{"$error":"#N/A"}},{"$f":"IF(ISBLANK(V84),0,VLOOKUP(V84,LUTs!$A$6:$B$8,2))","v":{"$error":"#N/A"}},{"$f":"IF(ISBLANK(W84),0,VLOOKUP(W84,LUTs!$A$6:$B$8,2))","v":{"$error":"#N/A"}},{"$f":"IF(ISBLANK(X84),0,VLOOKUP(X84,LUTs!$A$6:$B$8,2))","v":{"$error":"#N/A"}}]
[{"$f":"IF(ISBLANK(Responses!A85), \"\", Responses!A85)","v":""},{"$f":"IF(ISBLANK(Responses!B85), \"\", Responses!B85)","v":""},{"$f":"IF(ISBLANK(Responses!U85), \"\", Responses!U85)","v":""},{"$f":"IF(ISBLANK(Responses!V85), \"\", Responses!V85)","v":""},{"$f":"IF(ISBLANK(Responses!W85), \"\", Responses!W85)","v":""},{"$f":"IF(ISBLANK(Responses!X85), \"\", Responses!X85)","v":""},{"$f":"IF(ISBLANK(Responses!Y85), \"\", Responses!Y85)","v":""},{"$f":"IF(ISBLANK(Responses!Z85), \"\", Responses!Z85)","v":""},{"$f":"IF(ISBLANK(Responses!AA85), \"\", Responses!AA85)","v":""},{"$f":"IF(ISBLANK(Responses!AB85), \"\", Responses!AB85)","v":""},{"$f":"IF(ISBLANK(Responses!AC85), \"\", Responses!AC85)","v":""},{"$f":"IF(ISBLANK(Responses!AD85), \"\", Responses!AD85)","v":""},{"$f":"IF(ISBLANK(Responses!AE85), \"\", Responses!AE85)","v":""},{"$f":"IF(ISBLANK(Responses!AF85), \"\", Responses!AF85)","v":""},{"$f":"IF(ISBLANK(Responses!AG85), \"\", Responses!AG85)","v":""},{"$f":"IF(ISBLANK(Responses!AH85), \"\", Responses!AH85)","v":""},{"$f":"IF(ISBLANK(Responses!AI85), \"\", Responses!AI85)","v":""},{"$f":"IF(ISBLANK(Responses!AJ85), \"\", Responses!AJ85)","v":""},{"$f":"IF(ISBLANK(Responses!AK85), \"\", Responses!AK85)","v":""},{"$f":"IF(ISBLANK(Responses!AL85), \"\", Responses!AL85)","v":""},{"$f":"IF(ISBLANK(Responses!AM85), \"\", Responses!AM85)","v":""},{"$f":"IF(ISBLANK(Responses!AN85), \"\", Responses!AN85)","v":""},{"$f":"IF(ISBLANK(Responses!AO85), \"\", Responses!AO85)","v":""},{"$f":"IF(ISBLANK(Responses!AP85), \"\", Responses!AP85)","v":""},{"$error":"#N/A"},{"$error":"#N/A"},{"$f":"IF(ISBLANK(C85),0,VLOOKUP(C85,LUTs!$A$6:$B$8,2))","v":{"$error":"#N/A"}},{"$f":"IF(ISBLANK(D85),0,VLOOKUP(D85,LUTs!$A$6:$B$8,2))","v":{"$error":"#N/A"}},{"$f":"IF(ISBLANK(E85),0,VLOOKUP(E85,LUTs!$A$6:$B$8,2))","v":{"$error":"#N/A"}},{"$f":"IF(ISBLANK(F85),0,VLOOKUP(F85,LUTs!$A$6:$B$8,2))","v":{"$error":"#N/A"}},{"$f":"IF(ISBLANK(G85),0,VLOOKUP(G85,LUTs!$A$6:$B$8,2))","v":{"$error":"#N/A"}},{"$f":"IF(ISBLANK(H85),0,VLOOKUP(H85,LUTs!$A$6:$B$8,2))","v":{"$error":"#N/A"}},{"$f":"IF(ISBLANK(I85),0,VLOOKUP(I85,LUTs!$A$6:$B$8,2))","v":{"$error":"#N/A"}},{"$f":"IF(ISBLANK(J85),0,VLOOKUP(J85,LUTs!$A$6:$B$8,2))","v":{"$error":"#N/A"}},{"$f":"IF(ISBLANK(K85),0,VLOOKUP(K85,LUTs!$A$6:$B$8,2))","v":{"$error":"#N/A"}},{"$f":"IF(ISBLANK(L85),0,VLOOKUP(L85,LUTs!$A$6:$B$8,2))","v":{"$error":"#N/A"}},{"$f":"IF(ISBLANK(M85),0,VLOOKUP(M85,LUTs!$A$6:$B$8,2))","v":{"$error":"#N/A"}},{"$f":"IF(ISBLANK(N85),0,VLOOKUP(N85,LUTs!$A$6:$B$8,2))","v":{"$error":"#N/A"}},{"$f":"IF(ISBLANK(O85),0,VLOOKUP(O85,LUTs!$A$6:$B$8,2))","v":{"$error":"#N/A"}},{"$f":"IF(ISBLANK(P85),0,VLOOKUP(P85,LUTs!$A$6:$B$8,2))","v":{"$error":"#N/A"}},{"$f":"IF(ISBLANK(Q85),0,VLOOKUP(Q85,LUTs!$A$6:$B$8,2))","v":{"$error":"#N/A"}},{"$f":"IF(ISBLANK(R85),0,IF(ISERROR(VLOOKUP(R85,LUTs!$A$6:$B$8,2)),R85,VLOOKUP(R85,LUTs!$A$6:$B$8,2)))","v":""},{"$f":"IF(ISBLANK(S85),0,VLOOKUP(S85,LUTs!$A$6:$B$8,2))","v":{"$error":"#N/A"}},{"$f":"IF(ISBLANK(T85),0,IF(ISERROR(VLOOKUP(T85,LUTs!$A$6:$B$8,2)),T85,VLOOKUP(T85,LUTs!$A$6:$B$8,2)))","v":""},{"$f":"IF(ISBLANK(U85),0,VLOOKUP(U85,LUTs!$A$6:$B$8,2))","v":{"$error":"#N/A"}},{"$f":"IF(ISBLANK(V85),0,VLOOKUP(V85,LUTs!$A$6:$B$8,2))","v":{"$error":"#N/A"}},{"$f":"IF(ISBLANK(W85),0,VLOOKUP(W85,LUTs!$A$6:$B$8,2))","v":{"$error":"#N/A"}},{"$f":"IF(ISBLANK(X85),0,VLOOKUP(X85,LUTs!$A$6:$B$8,2))","v":{"$error":"#N/A"}}]
[{"$f":"IF(ISBLANK(Responses!A86), \"\", Responses!A86)","v":""},{"$f":"IF(ISBLANK(Responses!B86), \"\", Responses!B86)","v":""},{"$f":"IF(ISBLANK(Responses!U86), \"\", Responses!U86)","v":""},{"$f":"IF(ISBLANK(Responses!V86), \"\", Responses!V86)","v":""},{"$f":"IF(ISBLANK(Responses!W86), \"\", Responses!W86)","v":""},{"$f":"IF(ISBLANK(Responses!X86), \"\", Responses!X86)","v":""},{"$f":"IF(ISBLANK(Responses!Y86), \"\", Responses!Y86)","v":""},{"$f":"IF(ISBLANK(Responses!Z86), \"\", Responses!Z86)","v":""},{"$f":"IF(ISBLANK(Responses!AA86), \"\", Responses!AA86)","v":""},{"$f":"IF(ISBLANK(Responses!AB86), \"\", Responses!AB86)","v":""},{"$f":"IF(ISBLANK(Responses!AC86), \"\", Responses!AC86)","v":""},{"$f":"IF(ISBLANK(Responses!AD86), \"\", Responses!AD86)","v":""},{"$f":"IF(ISBLANK(Responses!AE86), \"\", Responses!AE86)","v":""},{"$f":"IF(ISBLANK(Responses!AF86), \"\", Responses!AF86)","v":""},{"$f":"IF(ISBLANK(Responses!AG86), \"\", Responses!AG86)","v":""},{"$f":"IF(ISBLANK(Responses!AH86), \"\", Responses!AH86)","v":""},{"$f":"IF(ISBLANK(Responses!AI86), \"\", Responses!AI86)","v":""},{"$f":"IF(ISBLANK(Responses!AJ86), \"\", Responses!AJ86)","v":""},{"$f":"IF(ISBLANK(Responses!AK86), \"\", Responses!AK86)","v":""},{"$f":"IF(ISBLANK(Responses!AL86), \"\", Responses!AL86)","v":""},{"$f":"IF(ISBLANK(Responses!AM86), \"\", Responses!AM86)","v":""},{"$f":"IF(ISBLANK(Responses!AN86), \"\", Responses!AN86)","v":""},{"$f":"IF(ISBLANK(Responses!AO86), \"\", Responses!AO86)","v":""},{"$f":"IF(ISBLANK(Responses!AP86), \"\", Responses!AP86)","v":""},{"$error":"#N/A"},{"$error":"#N/A"},{"$f":"IF(ISBLANK(C86),0,VLOOKUP(C86,LUTs!$A$6:$B$8,2))","v":{"$error":"#N/A"}},{"$f":"IF(ISBLANK(D86),0,VLOOKUP(D86,LUTs!$A$6:$B$8,2))","v":{"$error":"#N/A"}},{"$f":"IF(ISBLANK(E86),0,VLOOKUP(E86,LUTs!$A$6:$B$8,2))","v":{"$error":"#N/A"}},{"$f":"IF(ISBLANK(F86),0,VLOOKUP(F86,LUTs!$A$6:$B$8,2))","v":{"$error":"#N/A"}},{"$f":"IF(ISBLANK(G86),0,VLOOKUP(G86,LUTs!$A$6:$B$8,2))","v":{"$error":"#N/A"}},{"$f":"IF(ISBLANK(H86),0,VLOOKUP(H86,LUTs!$A$6:$B$8,2))","v":{"$error":"#N/A"}},{"$f":"IF(ISBLANK(I86),0,VLOOKUP(I86,LUTs!$A$6:$B$8,2))","v":{"$error":"#N/A"}},{"$f":"IF(ISBLANK(J86),0,VLOOKUP(J86,LUTs!$A$6:$B$8,2))","v":{"$error":"#N/A"}},{"$f":"IF(ISBLANK(K86),0,VLOOKUP(K86,LUTs!$A$6:$B$8,2))","v":{"$error":"#N/A"}},{"$f":"IF(ISBLANK(L86),0,VLOOKUP(L86,LUTs!$A$6:$B$8,2))","v":{"$error":"#N/A"}},{"$f":"IF(ISBLANK(M86),0,VLOOKUP(M86,LUTs!$A$6:$B$8,2))","v":{"$error":"#N/A"}},{"$f":"IF(ISBLANK(N86),0,VLOOKUP(N86,LUTs!$A$6:$B$8,2))","v":{"$error":"#N/A"}},{"$f":"IF(ISBLANK(O86),0,VLOOKUP(O86,LUTs!$A$6:$B$8,2))","v":{"$error":"#N/A"}},{"$f":"IF(ISBLANK(P86),0,VLOOKUP(P86,LUTs!$A$6:$B$8,2))","v":{"$error":"#N/A"}},{"$f":"IF(ISBLANK(Q86),0,VLOOKUP(Q86,LUTs!$A$6:$B$8,2))","v":{"$error":"#N/A"}},{"$f":"IF(ISBLANK(R86),0,IF(ISERROR(VLOOKUP(R86,LUTs!$A$6:$B$8,2)),R86,VLOOKUP(R86,LUTs!$A$6:$B$8,2)))","v":""},{"$f":"IF(ISBLANK(S86),0,VLOOKUP(S86,LUTs!$A$6:$B$8,2))","v":{"$error":"#N/A"}},{"$f":"IF(ISBLANK(T86),0,IF(ISERROR(VLOOKUP(T86,LUTs!$A$6:$B$8,2)),T86,VLOOKUP(T86,LUTs!$A$6:$B$8,2)))","v":""},{"$f":"IF(ISBLANK(U86),0,VLOOKUP(U86,LUTs!$A$6:$B$8,2))","v":{"$error":"#N/A"}},{"$f":"IF(ISBLANK(V86),0,VLOOKUP(V86,LUTs!$A$6:$B$8,2))","v":{"$error":"#N/A"}},{"$f":"IF(ISBLANK(W86),0,VLOOKUP(W86,LUTs!$A$6:$B$8,2))","v":{"$error":"#N/A"}},{"$f":"IF(ISBLANK(X86),0,VLOOKUP(X86,LUTs!$A$6:$B$8,2))","v":{"$error":"#N/A"}}]
[{"$f":"IF(ISBLANK(Responses!A87), \"\", Responses!A87)","v":""},{"$f":"IF(ISBLANK(Responses!B87), \"\", Responses!B87)","v":""},{"$f":"IF(ISBLANK(Responses!U87), \"\", Responses!U87)","v":""},{"$f":"IF(ISBLANK(Responses!V87), \"\", Responses!V87)","v":""},{"$f":"IF(ISBLANK(Responses!W87), \"\", Responses!W87)","v":""},{"$f":"IF(ISBLANK(Responses!X87), \"\", Responses!X87)","v":""},{"$f":"IF(ISBLANK(Responses!Y87), \"\", Responses!Y87)","v":""},{"$f":"IF(ISBLANK(Responses!Z87), \"\", Responses!Z87)","v":""},{"$f":"IF(ISBLANK(Responses!AA87), \"\", Responses!AA87)","v":""},{"$f":"IF(ISBLANK(Responses!AB87), \"\", Responses!AB87)","v":""},{"$f":"IF(ISBLANK(Responses!AC87), \"\", Responses!AC87)","v":""},{"$f":"IF(ISBLANK(Responses!AD87), \"\", Responses!AD87)","v":""},{"$f":"IF(ISBLANK(Responses!AE87), \"\", Responses!AE87)","v":""},{"$f":"IF(ISBLANK(Responses!AF87), \"\", Responses!AF87)","v":""},{"$f":"IF(ISBLANK(Responses!AG87), \"\", Responses!AG87)","v":""},{"$f":"IF(ISBLANK(Responses!AH87), \"\", Responses!AH87)","v":""},{"$f":"IF(ISBLANK(Responses!AI87), \"\", Responses!AI87)","v":""},{"$f":"IF(ISBLANK(Responses!AJ87), \"\", Responses!AJ87)","v":""},{"$f":"IF(ISBLANK(Responses!AK87), \"\", Responses!AK87)","v":""},{"$f":"IF(ISBLANK(Responses!AL87), \"\", Responses!AL87)","v":""},{"$f":"IF(ISBLANK(Responses!AM87), \"\", Responses!AM87)","v":""},{"$f":"IF(ISBLANK(Responses!AN87), \"\", Responses!AN87)","v":""},{"$f":"IF(ISBLANK(Responses!AO87), \"\", Responses!AO87)","v":""},{"$f":"IF(ISBLANK(Responses!AP87), \"\", Responses!AP87)","v":""},{"$error":"#N/A"},{"$error":"#N/A"},{"$f":"IF(ISBLANK(C87),0,VLOOKUP(C87,LUTs!$A$6:$B$8,2))","v":{"$error":"#N/A"}},{"$f":"IF(ISBLANK(D87),0,VLOOKUP(D87,LUTs!$A$6:$B$8,2))","v":{"$error":"#N/A"}},{"$f":"IF(ISBLANK(E87),0,VLOOKUP(E87,LUTs!$A$6:$B$8,2))","v":{"$error":"#N/A"}},{"$f":"IF(ISBLANK(F87),0,VLOOKUP(F87,LUTs!$A$6:$B$8,2))","v":{"$error":"#N/A"}},{"$f":"IF(ISBLANK(G87),0,VLOOKUP(G87,LUTs!$A$6:$B$8,2))","v":{"$error":"#N/A"}},{"$f":"IF(ISBLANK(H87),0,VLOOKUP(H87,LUTs!$A$6:$B$8,2))","v":{"$error":"#N/A"}},{"$f":"IF(ISBLANK(I87),0,VLOOKUP(I87,LUTs!$A$6:$B$8,2))","v":{"$error":"#N/A"}},{"$f":"IF(ISBLANK(J87),0,VLOOKUP(J87,LUTs!$A$6:$B$8,2))","v":{"$error":"#N/A"}},{"$f":"IF(ISBLANK(K87),0,VLOOKUP(K87,LUTs!$A$6:$B$8,2))","v":{"$error":"#N/A"}},{"$f":"IF(ISBLANK(L87),0,VLOOKUP(L87,LUTs!$A$6:$B$8,2))","v":{"$error":"#N/A"}},{"$f":"IF(ISBLANK(M87),0,VLOOKUP(M87,LUTs!$A$6:$B$8,2))","v":{"$error":"#N/A"}},{"$f":"IF(ISBLANK(N87),0,VLOOKUP(N87,LUTs!$A$6:$B$8,2))","v":{"$error":"#N/A"}},{"$f":"IF(ISBLANK(O87),0,VLOOKUP(O87,LUTs!$A$6:$B$8,2))","v":{"$error":"#N/A"}},{"$f":"IF(ISBLANK(P87),0,VLOOKUP(P87,LUTs!$A$6:$B$8,2))","v":{"$error":"#N/A"}},{"$f":"IF(ISBLANK(Q87),0,VLOOKUP(Q87,LUTs!$A$6:$B$8,2))","v":{"$error":"#N/A"}},{"$f":"IF(ISBLANK(R87),0,IF(ISERROR(VLOOKUP(R87,LUTs!$A$6:$B$8,2)),R87,VLOOKUP(R87,LUTs!$A$6:$B$8,2)))","v":""},{"$f":"IF(ISBLANK(S87),0,VLOOKUP(S87,LUTs!$A$6:$B$8,2))","v":{"$error":"#N/A"}},{"$f":"IF(ISBLANK(T87),0,IF(ISERROR(VLOOKUP(T87,LUTs!$A$6:$B$8,2)),T87,VLOOKUP(T87,LUTs!$A$6:$B$8,2)))","v":""},{"$f":"IF(ISBLANK(U87),0,VLOOKUP(U87,LUTs!$A$6:$B$8,2))","v":{"$error":"#N/A"}},{"$f":"IF(ISBLANK(V87),0,VLOOKUP(V87,LUTs!$A$6:$B$8,2))","v":{"$error":"#N/A"}},{"$f":"IF(ISBLANK(W87),0,VLOOKUP(W87,LUTs!$A$6:$B$8,2))","v":{"$error":"#N/A"}},{"$f":"IF(ISBLANK(X87),0,VLOOKUP(X87,LUTs!$A$6:$B$8,2))","v":{"$error":"#N/A"}}]
[{"$f":"IF(ISBLANK(Responses!A88), \"\", Responses!A88)","v":""},{"$f":"IF(ISBLANK(Responses!B88), \"\", Responses!B88)","v":""},{"$f":"IF(ISBLANK(Responses!U88), \"\", Responses!U88)","v":""},{"$f":"IF(ISBLANK(Responses!V88), \"\", Responses!V88)","v":""},{"$f":"IF(ISBLANK(Responses!W88), \"\", Responses!W88)","v":""},{"$f":"IF(ISBLANK(Responses!X88), \"\", Responses!X88)","v":""},{"$f":"IF(ISBLANK(Responses!Y88), \"\", Responses!Y88)","v":""},{"$f":"IF(ISBLANK(Responses!Z88), \"\", Responses!Z88)","v":""},{"$f":"IF(ISBLANK(Responses!AA88), \"\", Responses!AA88)","v":""},{"$f":"IF(ISBLANK(Responses!AB88), \"\", Responses!AB88)","v":""},{"$f":"IF(ISBLANK(Responses!AC88), \"\", Responses!AC88)","v":""},{"$f":"IF(ISBLANK(Responses!AD88), \"\", Responses!AD88)","v":""},{"$f":"IF(ISBLANK(Responses!AE88), \"\", Responses!AE88)","v":""},{"$f":"IF(ISBLANK(Responses!AF88), \"\", Responses!AF88)","v":""},{"$f":"IF(ISBLANK(Responses!AG88), \"\", Responses!AG88)","v":""},{"$f":"IF(ISBLANK(Responses!AH88), \"\", Responses!AH88)","v":""},{"$f":"IF(ISBLANK(Responses!AI88), \"\", Responses!AI88)","v":""},{"$f":"IF(ISBLANK(Responses!AJ88), \"\", Responses!AJ88)","v":""},{"$f":"IF(ISBLANK(Responses!AK88), \"\", Responses!AK88)","v":""},{"$f":"IF(ISBLANK(Responses!AL88), \"\", Responses!AL88)","v":""},{"$f":"IF(ISBLANK(Responses!AM88), \"\", Responses!AM88)","v":""},{"$f":"IF(ISBLANK(Responses!AN88), \"\", Responses!AN88)","v":""},{"$f":"IF(ISBLANK(Responses!AO88), \"\", Responses!AO88)","v":""},{"$f":"IF(ISBLANK(Responses!AP88), \"\", Responses!AP88)","v":""},{"$error":"#N/A"},{"$error":"#N/A"},{"$f":"IF(ISBLANK(C88),0,VLOOKUP(C88,LUTs!$A$6:$B$8,2))","v":{"$error":"#N/A"}},{"$f":"IF(ISBLANK(D88),0,VLOOKUP(D88,LUTs!$A$6:$B$8,2))","v":{"$error":"#N/A"}},{"$f":"IF(ISBLANK(E88),0,VLOOKUP(E88,LUTs!$A$6:$B$8,2))","v":{"$error":"#N/A"}},{"$f":"IF(ISBLANK(F88),0,VLOOKUP(F88,LUTs!$A$6:$B$8,2))","v":{"$error":"#N/A"}},{"$f":"IF(ISBLANK(G88),0,VLOOKUP(G88,LUTs!$A$6:$B$8,2))","v":{"$error":"#N/A"}},{"$f":"IF(ISBLANK(H88),0,VLOOKUP(H88,LUTs!$A$6:$B$8,2))","v":{"$error":"#N/A"}},{"$f":"IF(ISBLANK(I88),0,VLOOKUP(I88,LUTs!$A$6:$B$8,2))","v":{"$error":"#N/A"}},{"$f":"IF(ISBLANK(J88),0,VLOOKUP(J88,LUTs!$A$6:$B$8,2))","v":{"$error":"#N/A"}},{"$f":"IF(ISBLANK(K88),0,VLOOKUP(K88,LUTs!$A$6:$B$8,2))","v":{"$error":"#N/A"}},{"$f":"IF(ISBLANK(L88),0,VLOOKUP(L88,LUTs!$A$6:$B$8,2))","v":{"$error":"#N/A"}},{"$f":"IF(ISBLANK(M88),0,VLOOKUP(M88,LUTs!$A$6:$B$8,2))","v":{"$error":"#N/A"}},{"$f":"IF(ISBLANK(N88),0,VLOOKUP(N88,LUTs!$A$6:$B$8,2))","v":{"$error":"#N/A"}},{"$f":"IF(ISBLANK(O88),0,VLOOKUP(O88,LUTs!$A$6:$B$8,2))","v":{"$error":"#N/A"}},{"$f":"IF(ISBLANK(P88),0,VLOOKUP(P88,LUTs!$A$6:$B$8,2))","v":{"$error":"#N/A"}},{"$f":"IF(ISBLANK(Q88),0,VLOOKUP(Q88,LUTs!$A$6:$B$8,2))","v":{"$error":"#N/A"}},{"$f":"IF(ISBLANK(R88),0,IF(ISERROR(VLOOKUP(R88,LUTs!$A$6:$B$8,2)),R88,VLOOKUP(R88,LUTs!$A$6:$B$8,2)))","v":""},{"$f":"IF(ISBLANK(S88),0,VLOOKUP(S88,LUTs!$A$6:$B$8,2))","v":{"$error":"#N/A"}},{"$f":"IF(ISBLANK(T88),0,IF(ISERROR(VLOOKUP(T88,LUTs!$A$6:$B$8,2)),T88,VLOOKUP(T88,LUTs!$A$6:$B$8,2)))","v":""},{"$f":"IF(ISBLANK(U88),0,VLOOKUP(U88,LUTs!$A$6:$B$8,2))","v":{"$error":"#N/A"}},{"$f":"IF(ISBLANK(V88),0,VLOOKUP(V88,LUTs!$A$6:$B$8,2))","v":{"$error":"#N/A"}},{"$f":"IF(ISBLANK(W88),0,VLOOKUP(W88,LUTs!$A$6:$B$8,2))","v":{"$error":"#N/A"}},{"$f":"IF(ISBLANK(X88),0,VLOOKUP(X88,LUTs!$A$6:$B$8,2))","v":{"$error":"#N/A"}}]
[{"$f":"IF(ISBLANK(Responses!A89), \"\", Responses!A89)","v":""},{"$f":"IF(ISBLANK(Responses!B89), \"\", Responses!B89)","v":""},{"$f":"IF(ISBLANK(Responses!U89), \"\", Responses!U89)","v":""},{"$f":"IF(ISBLANK(Responses!V89), \"\", Responses!V89)","v":""},{"$f":"IF(ISBLANK(Responses!W89), \"\", Responses!W89)","v":""},{"$f":"IF(ISBLANK(Responses!X89), \"\", Responses!X89)","v":""},{"$f":"IF(ISBLANK(Responses!Y89), \"\", Responses!Y89)","v":""},{"$f":"IF(ISBLANK(Responses!Z89), \"\", Responses!Z89)","v":""},{"$f":"IF(ISBLANK(Responses!AA89), \"\", Responses!AA89)","v":""},{"$f":"IF(ISBLANK(Responses!AB89), \"\", Responses!AB89)","v":""},{"$f":"IF(ISBLANK(Responses!AC89), \"\", Responses!AC89)","v":""},{"$f":"IF(ISBLANK(Responses!AD89), \"\", Responses!AD89)","v":""},{"$f":"IF(ISBLANK(Responses!AE89), \"\", Responses!AE89)","v":""},{"$f":"IF(ISBLANK(Responses!AF89), \"\", Responses!AF89)","v":""},{"$f":"IF(ISBLANK(Responses!AG89), \"\", Responses!AG89)","v":""},{"$f":"IF(ISBLANK(Responses!AH89), \"\", Responses!AH89)","v":""},{"$f":"IF(ISBLANK(Responses!AI89), \"\", Responses!AI89)","v":""},{"$f":"IF(ISBLANK(Responses!AJ89), \"\", Responses!AJ89)","v":""},{"$f":"IF(ISBLANK(Responses!AK89), \"\", Responses!AK89)","v":""},{"$f":"IF(ISBLANK(Responses!AL89), \"\", Responses!AL89)","v":""},{"$f":"IF(ISBLANK(Responses!AM89), \"\", Responses!AM89)","v":""},{"$f":"IF(ISBLANK(Responses!AN89), \"\", Responses!AN89)","v":""},{"$f":"IF(ISBLANK(Responses!AO89), \"\", Responses!AO89)","v":""},{"$f":"IF(ISBLANK(Responses!AP89), \"\", Responses!AP89)","v":""},{"$error":"#N/A"},{"$error":"#N/A"},{"$f":"IF(ISBLANK(C89),0,VLOOKUP(C89,LUTs!$A$6:$B$8,2))","v":{"$error":"#N/A"}},{"$f":"IF(ISBLANK(D89),0,VLOOKUP(D89,LUTs!$A$6:$B$8,2))","v":{"$error":"#N/A"}},{"$f":"IF(ISBLANK(E89),0,VLOOKUP(E89,LUTs!$A$6:$B$8,2))","v":{"$error":"#N/A"}},{"$f":"IF(ISBLANK(F89),0,VLOOKUP(F89,LUTs!$A$6:$B$8,2))","v":{"$error":"#N/A"}},{"$f":"IF(ISBLANK(G89),0,VLOOKUP(G89,LUTs!$A$6:$B$8,2))","v":{"$error":"#N/A"}},{"$f":"IF(ISBLANK(H89),0,VLOOKUP(H89,LUTs!$A$6:$B$8,2))","v":{"$error":"#N/A"}},{"$f":"IF(ISBLANK(I89),0,VLOOKUP(I89,LUTs!$A$6:$B$8,2))","v":{"$error":"#N/A"}},{"$f":"IF(ISBLANK(J89),0,VLOOKUP(J89,LUTs!$A$6:$B$8,2))","v":{"$error":"#N/A"}},{"$f":"IF(ISBLANK(K89),0,VLOOKUP(K89,LUTs!$A$6:$B$8,2))","v":{"$error":"#N/A"}},{"$f":"IF(ISBLANK(L89),0,VLOOKUP(L89,LUTs!$A$6:$B$8,2))","v":{"$error":"#N/A"}},{"$f":"IF(ISBLANK(M89),0,VLOOKUP(M89,LUTs!$A$6:$B$8,2))","v":{"$error":"#N/A"}},{"$f":"IF(ISBLANK(N89),0,VLOOKUP(N89,LUTs!$A$6:$B$8,2))","v":{"$error":"#N/A"}},{"$f":"IF(ISBLANK(O89),0,VLOOKUP(O89,LUTs!$A$6:$B$8,2))","v":{"$error":"#N/A"}},{"$f":"IF(ISBLANK(P89),0,VLOOKUP(P89,LUTs!$A$6:$B$8,2))","v":{"$error":"#N/A"}},{"$f":"IF(ISBLANK(Q89),0,VLOOKUP(Q89,LUTs!$A$6:$B$8,2))","v":{"$error":"#N/A"}},{"$f":"IF(ISBLANK(R89),0,IF(ISERROR(VLOOKUP(R89,LUTs!$A$6:$B$8,2)),R89,VLOOKUP(R89,LUTs!$A$6:$B$8,2)))","v":""},{"$f":"IF(ISBLANK(S89),0,VLOOKUP(S89,LUTs!$A$6:$B$8,2))","v":{"$error":"#N/A"}},{"$f":"IF(ISBLANK(T89),0,IF(ISERROR(VLOOKUP(T89,LUTs!$A$6:$B$8,2)),T89,VLOOKUP(T89,LUTs!$A$6:$B$8,2)))","v":""},{"$f":"IF(ISBLANK(U89),0,VLOOKUP(U89,LUTs!$A$6:$B$8,2))","v":{"$error":"#N/A"}},{"$f":"IF(ISBLANK(V89),0,VLOOKUP(V89,LUTs!$A$6:$B$8,2))","v":{"$error":"#N/A"}},{"$f":"IF(ISBLANK(W89),0,VLOOKUP(W89,LUTs!$A$6:$B$8,2))","v":{"$error":"#N/A"}},{"$f":"IF(ISBLANK(X89),0,VLOOKUP(X89,LUTs!$A$6:$B$8,2))","v":{"$error":"#N/A"}}]
[{"$f":"IF(ISBLANK(Responses!A90), \"\", Responses!A90)","v":""},{"$f":"IF(ISBLANK(Responses!B90), \"\", Responses!B90)","v":""},{"$f":"IF(ISBLANK(Responses!U90), \"\", Responses!U90)","v":""},{"$f":"IF(ISBLANK(Responses!V90), \"\", Responses!V90)","v":""},{"$f":"IF(ISBLANK(Responses!W90), \"\", Responses!W90)","v":""},{"$f":"IF(ISBLANK(Responses!X90), \"\", Responses!X90)","v":""},{"$f":"IF(ISBLANK(Responses!Y90), \"\", Responses!Y90)","v":""},{"$f":"IF(ISBLANK(Responses!Z90), \"\", Responses!Z90)","v":""},{"$f":"IF(ISBLANK(Responses!AA90), \"\", Responses!AA90)","v":""},{"$f":"IF(ISBLANK(Responses!AB90), \"\", Responses!AB90)","v":""},{"$f":"IF(ISBLANK(Responses!AC90), \"\", Responses!AC90)","v":""},{"$f":"IF(ISBLANK(Responses!AD90), \"\", Responses!AD90)","v":""},{"$f":"IF(ISBLANK(Responses!AE90), \"\", Responses!AE90)","v":""},{"$f":"IF(ISBLANK(Responses!AF90), \"\", Responses!AF90)","v":""},{"$f":"IF(ISBLANK(Responses!AG90), \"\", Responses!AG90)","v":""},{"$f":"IF(ISBLANK(Responses!AH90), \"\", Responses!AH90)","v":""},{"$f":"IF(ISBLANK(Responses!AI90), \"\", Responses!AI90)","v":""},{"$f":"IF(ISBLANK(Responses!AJ90), \"\", Responses!AJ90)","v":""},{"$f":"IF(ISBLANK(Responses!AK90), \"\", Responses!AK90)","v":""},{"$f":"IF(ISBLANK(Responses!AL90), \"\", Responses!AL90)","v":""},{"$f":"IF(ISBLANK(Responses!AM90), \"\", Responses!AM90)","v":""},{"$f":"IF(ISBLANK(Responses!AN90), \"\", Responses!AN90)","v":""},{"$f":"IF(ISBLANK(Responses!AO90), \"\", Responses!AO90)","v":""},{"$f":"IF(ISBLANK(Responses!AP90), \"\", Responses!AP90)","v":""},{"$error":"#N/A"},{"$error":"#N/A"},{"$f":"IF(ISBLANK(C90),0,VLOOKUP(C90,LUTs!$A$6:$B$8,2))","v":{"$error":"#N/A"}},{"$f":"IF(ISBLANK(D90),0,VLOOKUP(D90,LUTs!$A$6:$B$8,2))","v":{"$error":"#N/A"}},{"$f":"IF(ISBLANK(E90),0,VLOOKUP(E90,LUTs!$A$6:$B$8,2))","v":{"$error":"#N/A"}},{"$f":"IF(ISBLANK(F90),0,VLOOKUP(F90,LUTs!$A$6:$B$8,2))","v":{"$error":"#N/A"}},{"$f":"IF(ISBLANK(G90),0,VLOOKUP(G90,LUTs!$A$6:$B$8,2))","v":{"$error":"#N/A"}},{"$f":"IF(ISBLANK(H90),0,VLOOKUP(H90,LUTs!$A$6:$B$8,2))","v":{"$error":"#N/A"}},{"$f":"IF(ISBLANK(I90),0,VLOOKUP(I90,LUTs!$A$6:$B$8,2))","v":{"$error":"#N/A"}},{"$f":"IF(ISBLANK(J90),0,VLOOKUP(J90,LUTs!$A$6:$B$8,2))","v":{"$error":"#N/A"}},{"$f":"IF(ISBLANK(K90),0,VLOOKUP(K90,LUTs!$A$6:$B$8,2))","v":{"$error":"#N/A"}},{"$f":"IF(ISBLANK(L90),0,VLOOKUP(L90,LUTs!$A$6:$B$8,2))","v":{"$error":"#N/A"}},{"$f":"IF(ISBLANK(M90),0,VLOOKUP(M90,LUTs!$A$6:$B$8,2))","v":{"$error":"#N/A"}},{"$f":"IF(ISBLANK(N90),0,VLOOKUP(N90,LUTs!$A$6:$B$8,2))","v":{"$error":"#N/A"}},{"$f":"IF(ISBLANK(O90),0,VLOOKUP(O90,LUTs!$A$6:$B$8,2))","v":{"$error":"#N/A"}},{"$f":"IF(ISBLANK(P90),0,VLOOKUP(P90,LUTs!$A$6:$B$8,2))","v":{"$error":"#N/A"}},{"$f":"IF(ISBLANK(Q90),0,VLOOKUP(Q90,LUTs!$A$6:$B$8,2))","v":{"$error":"#N/A"}},{"$f":"IF(ISBLANK(R90),0,IF(ISERROR(VLOOKUP(R90,LUTs!$A$6:$B$8,2)),R90,VLOOKUP(R90,LUTs!$A$6:$B$8,2)))","v":""},{"$f":"IF(ISBLANK(S90),0,VLOOKUP(S90,LUTs!$A$6:$B$8,2))","v":{"$error":"#N/A"}},{"$f":"IF(ISBLANK(T90),0,IF(ISERROR(VLOOKUP(T90,LUTs!$A$6:$B$8,2)),T90,VLOOKUP(T90,LUTs!$A$6:$B$8,2)))","v":""},{"$f":"IF(ISBLANK(U90),0,VLOOKUP(U90,LUTs!$A$6:$B$8,2))","v":{"$error":"#N/A"}},{"$f":"IF(ISBLANK(V90),0,VLOOKUP(V90,LUTs!$A$6:$B$8,2))","v":{"$error":"#N/A"}},{"$f":"IF(ISBLANK(W90),0,VLOOKUP(W90,LUTs!$A$6:$B$8,2))","v":{"$error":"#N/A"}},{"$f":"IF(ISBLANK(X90),0,VLOOKUP(X90,LUTs!$A$6:$B$8,2))","v":{"$error":"#N/A"}}]
[{"$f":"IF(ISBLANK(Responses!A91), \"\", Responses!A91)","v":""},{"$f":"IF(ISBLANK(Responses!B91), \"\", Responses!B91)","v":""},{"$f":"IF(ISBLANK(Responses!U91), \"\", Responses!U91)","v":""},{"$f":"IF(ISBLANK(Responses!V91), \"\", Responses!V91)","v":""},{"$f":"IF(ISBLANK(Responses!W91), \"\", Responses!W91)","v":""},{"$f":"IF(ISBLANK(Responses!X91), \"\", Responses!X91)","v":""},{"$f":"IF(ISBLANK(Responses!Y91), \"\", Responses!Y91)","v":""},{"$f":"IF(ISBLANK(Responses!Z91), \"\", Responses!Z91)","v":""},{"$f":"IF(ISBLANK(Responses!AA91), \"\", Responses!AA91)","v":""},{"$f":"IF(ISBLANK(Responses!AB91), \"\", Responses!AB91)","v":""},{"$f":"IF(ISBLANK(Responses!AC91), \"\", Responses!AC91)","v":""},{"$f":"IF(ISBLANK(Responses!AD91), \"\", Responses!AD91)","v":""},{"$f":"IF(ISBLANK(Responses!AE91), \"\", Responses!AE91)","v":""},{"$f":"IF(ISBLANK(Responses!AF91), \"\", Responses!AF91)","v":""},{"$f":"IF(ISBLANK(Responses!AG91), \"\", Responses!AG91)","v":""},{"$f":"IF(ISBLANK(Responses!AH91), \"\", Responses!AH91)","v":""},{"$f":"IF(ISBLANK(Responses!AI91), \"\", Responses!AI91)","v":""},{"$f":"IF(ISBLANK(Responses!AJ91), \"\", Responses!AJ91)","v":""},{"$f":"IF(ISBLANK(Responses!AK91), \"\", Responses!AK91)","v":""},{"$f":"IF(ISBLANK(Responses!AL91), \"\", Responses!AL91)","v":""},{"$f":"IF(ISBLANK(Responses!AM91), \"\", Responses!AM91)","v":""},{"$f":"IF(ISBLANK(Responses!AN91), \"\", Responses!AN91)","v":""},{"$f":"IF(ISBLANK(Responses!AO91), \"\", Responses!AO91)","v":""},{"$f":"IF(ISBLANK(Responses!AP91), \"\", Responses!AP91)","v":""},{"$error":"#N/A"},{"$error":"#N/A"},{"$f":"IF(ISBLANK(C91),0,VLOOKUP(C91,LUTs!$A$6:$B$8,2))","v":{"$error":"#N/A"}},{"$f":"IF(ISBLANK(D91),0,VLOOKUP(D91,LUTs!$A$6:$B$8,2))","v":{"$error":"#N/A"}},{"$f":"IF(ISBLANK(E91),0,VLOOKUP(E91,LUTs!$A$6:$B$8,2))","v":{"$error":"#N/A"}},{"$f":"IF(ISBLANK(F91),0,VLOOKUP(F91,LUTs!$A$6:$B$8,2))","v":{"$error":"#N/A"}},{"$f":"IF(ISBLANK(G91),0,VLOOKUP(G91,LUTs!$A$6:$B$8,2))","v":{"$error":"#N/A"}},{"$f":"IF(ISBLANK(H91),0,VLOOKUP(H91,LUTs!$A$6:$B$8,2))","v":{"$error":"#N/A"}},{"$f":"IF(ISBLANK(I91),0,VLOOKUP(I91,LUTs!$A$6:$B$8,2))","v":{"$error":"#N/A"}},{"$f":"IF(ISBLANK(J91),0,VLOOKUP(J91,LUTs!$A$6:$B$8,2))","v":{"$error":"#N/A"}},{"$f":"IF(ISBLANK(K91),0,VLOOKUP(K91,LUTs!$A$6:$B$8,2))","v":{"$error":"#N/A"}},{"$f":"IF(ISBLANK(L91),0,VLOOKUP(L91,LUTs!$A$6:$B$8,2))","v":{"$error":"#N/A"}},{"$f":"IF(ISBLANK(M91),0,VLOOKUP(M91,LUTs!$A$6:$B$8,2))","v":{"$error":"#N/A"}},{"$f":"IF(ISBLANK(N91),0,VLOOKUP(N91,LUTs!$A$6:$B$8,2))","v":{"$error":"#N/A"}},{"$f":"IF(ISBLANK(O91),0,VLOOKUP(O91,LUTs!$A$6:$B$8,2))","v":{"$error":"#N/A"}},{"$f":"IF(ISBLANK(P91),0,VLOOKUP(P91,LUTs!$A$6:$B$8,2))","v":{"$error":"#N/A"}},{"$f":"IF(ISBLANK(Q91),0,VLOOKUP(Q91,LUTs!$A$6:$B$8,2))","v":{"$error":"#N/A"}},{"$f":"IF(ISBLANK(R91),0,IF(ISERROR(VLOOKUP(R91,LUTs!$A$6:$B$8,2)),R91,VLOOKUP(R91,LUTs!$A$6:$B$8,2)))","v":""},{"$f":"IF(ISBLANK(S91),0,VLOOKUP(S91,LUTs!$A$6:$B$8,2))","v":{"$error":"#N/A"}},{"$f":"IF(ISBLANK(T91),0,IF(ISERROR(VLOOKUP(T91,LUTs!$A$6:$B$8,2)),T91,VLOOKUP(T91,LUTs!$A$6:$B$8,2)))","v":""},{"$f":"IF(ISBLANK(U91),0,VLOOKUP(U91,LUTs!$A$6:$B$8,2))","v":{"$error":"#N/A"}},{"$f":"IF(ISBLANK(V91),0,VLOOKUP(V91,LUTs!$A$6:$B$8,2))","v":{"$error":"#N/A"}},{"$f":"IF(ISBLANK(W91),0,VLOOKUP(W91,LUTs!$A$6:$B$8,2))","v":{"$error":"#N/A"}},{"$f":"IF(ISBLANK(X91),0,VLOOKUP(X91,LUTs!$A$6:$B$8,2))","v":{"$error":"#N/A"}}]
[{"$f":"IF(ISBLANK(Responses!A92), \"\", Responses!A92)","v":""},{"$f":"IF(ISBLANK(Responses!B92), \"\", Responses!B92)","v":""},{"$f":"IF(ISBLANK(Responses!U92), \"\", Responses!U92)","v":""},{"$f":"IF(ISBLANK(Responses!V92), \"\", Responses!V92)","v":""},{"$f":"IF(ISBLANK(Responses!W92), \"\", Responses!W92)","v":""},{"$f":"IF(ISBLANK(Responses!X92), \"\", Responses!X92)","v":""},{"$f":"IF(ISBLANK(Responses!Y92), \"\", Responses!Y92)","v":""},{"$f":"IF(ISBLANK(Responses!Z92), \"\", Responses!Z92)","v":""},{"$f":"IF(ISBLANK(Responses!AA92), \"\", Responses!AA92)","v":""},{"$f":"IF(ISBLANK(Responses!AB92), \"\", Responses!AB92)","v":""},{"$f":"IF(ISBLANK(Responses!AC92), \"\", Responses!AC92)","v":""},{"$f":"IF(ISBLANK(Responses!AD92), \"\", Responses!AD92)","v":""},{"$f":"IF(ISBLANK(Responses!AE92), \"\", Responses!AE92)","v":""},{"$f":"IF(ISBLANK(Responses!AF92), \"\", Responses!AF92)","v":""},{"$f":"IF(ISBLANK(Responses!AG92), \"\", Responses!AG92)","v":""},{"$f":"IF(ISBLANK(Responses!AH92), \"\", Responses!AH92)","v":""},{"$f":"IF(ISBLANK(Responses!AI92), \"\", Responses!AI92)","v":""},{"$f":"IF(ISBLANK(Responses!AJ92), \"\", Responses!AJ92)","v":""},{"$f":"IF(ISBLANK(Responses!AK92), \"\", Responses!AK92)","v":""},{"$f":"IF(ISBLANK(Responses!AL92), \"\", Responses!AL92)","v":""},{"$f":"IF(ISBLANK(Responses!AM92), \"\", Responses!AM92)","v":""},{"$f":"IF(ISBLANK(Responses!AN92), \"\", Responses!AN92)","v":""},{"$f":"IF(ISBLANK(Responses!AO92), \"\", Responses!AO92)","v":""},{"$f":"IF(ISBLANK(Responses!AP92), \"\", Responses!AP92)","v":""},{"$error":"#N/A"},{"$error":"#N/A"},{"$f":"IF(ISBLANK(C92),0,VLOOKUP(C92,LUTs!$A$6:$B$8,2))","v":{"$error":"#N/A"}},{"$f":"IF(ISBLANK(D92),0,VLOOKUP(D92,LUTs!$A$6:$B$8,2))","v":{"$error":"#N/A"}},{"$f":"IF(ISBLANK(E92),0,VLOOKUP(E92,LUTs!$A$6:$B$8,2))","v":{"$error":"#N/A"}},{"$f":"IF(ISBLANK(F92),0,VLOOKUP(F92,LUTs!$A$6:$B$8,2))","v":{"$error":"#N/A"}},{"$f":"IF(ISBLANK(G92),0,VLOOKUP(G92,LUTs!$A$6:$B$8,2))","v":{"$error":"#N/A"}},{"$f":"IF(ISBLANK(H92),0,VLOOKUP(H92,LUTs!$A$6:$B$8,2))","v":{"$error":"#N/A"}},{"$f":"IF(ISBLANK(I92),0,VLOOKUP(I92,LUTs!$A$6:$B$8,2))","v":{"$error":"#N/A"}},{"$f":"IF(ISBLANK(J92),0,VLOOKUP(J92,LUTs!$A$6:$B$8,2))","v":{"$error":"#N/A"}},{"$f":"IF(ISBLANK(K92),0,VLOOKUP(K92,LUTs!$A$6:$B$8,2))","v":{"$error":"#N/A"}},{"$f":"IF(ISBLANK(L92),0,VLOOKUP(L92,LUTs!$A$6:$B$8,2))","v":{"$error":"#N/A"}},{"$f":"IF(ISBLANK(M92),0,VLOOKUP(M92,LUTs!$A$6:$B$8,2))","v":{"$error":"#N/A"}},{"$f":"IF(ISBLANK(N92),0,VLOOKUP(N92,LUTs!$A$6:$B$8,2))","v":{"$error":"#N/A"}},{"$f":"IF(ISBLANK(O92),0,VLOOKUP(O92,LUTs!$A$6:$B$8,2))","v":{"$error":"#N/A"}},{"$f":"IF(ISBLANK(P92),0,VLOOKUP(P92,LUTs!$A$6:$B$8,2))","v":{"$error":"#N/A"}},{"$f":"IF(ISBLANK(Q92),0,VLOOKUP(Q92,LUTs!$A$6:$B$8,2))","v":{"$error":"#N/A"}},{"$f":"IF(ISBLANK(R92),0,IF(ISERROR(VLOOKUP(R92,LUTs!$A$6:$B$8,2)),R92,VLOOKUP(R92,LUTs!$A$6:$B$8,2)))","v":""},{"$f":"IF(ISBLANK(S92),0,VLOOKUP(S92,LUTs!$A$6:$B$8,2))","v":{"$error":"#N/A"}},{"$f":"IF(ISBLANK(T92),0,IF(ISERROR(VLOOKUP(T92,LUTs!$A$6:$B$8,2)),T92,VLOOKUP(T92,LUTs!$A$6:$B$8,2)))","v":""},{"$f":"IF(ISBLANK(U92),0,VLOOKUP(U92,LUTs!$A$6:$B$8,2))","v":{"$error":"#N/A"}},{"$f":"IF(ISBLANK(V92),0,VLOOKUP(V92,LUTs!$A$6:$B$8,2))","v":{"$error":"#N/A"}},{"$f":"IF(ISBLANK(W92),0,VLOOKUP(W92,LUTs!$A$6:$B$8,2))","v":{"$error":"#N/A"}},{"$f":"IF(ISBLANK(X92),0,VLOOKUP(X92,LUTs!$A$6:$B$8,2))","v":{"$error":"#N/A"}}]
[{"$f":"IF(ISBLANK(Responses!A93), \"\", Responses!A93)","v":""},{"$f":"IF(ISBLANK(Responses!B93), \"\", Responses!B93)","v":""},{"$f":"IF(ISBLANK(Responses!U93), \"\", Responses!U93)","v":""},{"$f":"IF(ISBLANK(Responses!V93), \"\", Responses!V93)","v":""},{"$f":"IF(ISBLANK(Responses!W93), \"\", Responses!W93)","v":""},{"$f":"IF(ISBLANK(Responses!X93), \"\", Responses!X93)","v":""},{"$f":"IF(ISBLANK(Responses!Y93), \"\", Responses!Y93)","v":""},{"$f":"IF(ISBLANK(Responses!Z93), \"\", Responses!Z93)","v":""},{"$f":"IF(ISBLANK(Responses!AA93), \"\", Responses!AA93)","v":""},{"$f":"IF(ISBLANK(Responses!AB93), \"\", Responses!AB93)","v":""},{"$f":"IF(ISBLANK(Responses!AC93), \"\", Responses!AC93)","v":""},{"$f":"IF(ISBLANK(Responses!AD93), \"\", Responses!AD93)","v":""},{"$f":"IF(ISBLANK(Responses!AE93), \"\", Responses!AE93)","v":""},{"$f":"IF(ISBLANK(Responses!AF93), \"\", Responses!AF93)","v":""},{"$f":"IF(ISBLANK(Responses!AG93), \"\", Responses!AG93)","v":""},{"$f":"IF(ISBLANK(Responses!AH93), \"\", Responses!AH93)","v":""},{"$f":"IF(ISBLANK(Responses!AI93), \"\", Responses!AI93)","v":""},{"$f":"IF(ISBLANK(Responses!AJ93), \"\", Responses!AJ93)","v":""},{"$f":"IF(ISBLANK(Responses!AK93), \"\", Responses!AK93)","v":""},{"$f":"IF(ISBLANK(Responses!AL93), \"\", Responses!AL93)","v":""},{"$f":"IF(ISBLANK(Responses!AM93), \"\", Responses!AM93)","v":""},{"$f":"IF(ISBLANK(Responses!AN93), \"\", Responses!AN93)","v":""},{"$f":"IF(ISBLANK(Responses!AO93), \"\", Responses!AO93)","v":""},{"$f":"IF(ISBLANK(Responses!AP93), \"\", Responses!AP93)","v":""},{"$error":"#N/A"},{"$error":"#N/A"},{"$f":"IF(ISBLANK(C93),0,VLOOKUP(C93,LUTs!$A$6:$B$8,2))","v":{"$error":"#N/A"}},{"$f":"IF(ISBLANK(D93),0,VLOOKUP(D93,LUTs!$A$6:$B$8,2))","v":{"$error":"#N/A"}},{"$f":"IF(ISBLANK(E93),0,VLOOKUP(E93,LUTs!$A$6:$B$8,2))","v":{"$error":"#N/A"}},{"$f":"IF(ISBLANK(F93),0,VLOOKUP(F93,LUTs!$A$6:$B$8,2))","v":{"$error":"#N/A"}},{"$f":"IF(ISBLANK(G93),0,VLOOKUP(G93,LUTs!$A$6:$B$8,2))","v":{"$error":"#N/A"}},{"$f":"IF(ISBLANK(H93),0,VLOOKUP(H93,LUTs!$A$6:$B$8,2))","v":{"$error":"#N/A"}},{"$f":"IF(ISBLANK(I93),0,VLOOKUP(I93,LUTs!$A$6:$B$8,2))","v":{"$error":"#N/A"}},{"$f":"IF(ISBLANK(J93),0,VLOOKUP(J93,LUTs!$A$6:$B$8,2))","v":{"$error":"#N/A"}},{"$f":"IF(ISBLANK(K93),0,VLOOKUP(K93,LUTs!$A$6:$B$8,2))","v":{"$error":"#N/A"}},{"$f":"IF(ISBLANK(L93),0,VLOOKUP(L93,LUTs!$A$6:$B$8,2))","v":{"$error":"#N/A"}},{"$f":"IF(ISBLANK(M93),0,VLOOKUP(M93,LUTs!$A$6:$B$8,2))","v":{"$error":"#N/A"}},{"$f":"IF(ISBLANK(N93),0,VLOOKUP(N93,LUTs!$A$6:$B$8,2))","v":{"$error":"#N/A"}},{"$f":"IF(ISBLANK(O93),0,VLOOKUP(O93,LUTs!$A$6:$B$8,2))","v":{"$error":"#N/A"}},{"$f":"IF(ISBLANK(P93),0,VLOOKUP(P93,LUTs!$A$6:$B$8,2))","v":{"$error":"#N/A"}},{"$f":"IF(ISBLANK(Q93),0,VLOOKUP(Q93,LUTs!$A$6:$B$8,2))","v":{"$error":"#N/A"}},{"$f":"IF(ISBLANK(R93),0,IF(ISERROR(VLOOKUP(R93,LUTs!$A$6:$B$8,2)),R93,VLOOKUP(R93,LUTs!$A$6:$B$8,2)))","v":""},{"$f":"IF(ISBLANK(S93),0,VLOOKUP(S93,LUTs!$A$6:$B$8,2))","v":{"$error":"#N/A"}},{"$f":"IF(ISBLANK(T93),0,IF(ISERROR(VLOOKUP(T93,LUTs!$A$6:$B$8,2)),T93,VLOOKUP(T93,LUTs!$A$6:$B$8,2)))","v":""},{"$f":"IF(ISBLANK(U93),0,VLOOKUP(U93,LUTs!$A$6:$B$8,2))","v":{"$error":"#N/A"}},{"$f":"IF(ISBLANK(V93),0,VLOOKUP(V93,LUTs!$A$6:$B$8,2))","v":{"$error":"#N/A"}},{"$f":"IF(ISBLANK(W93),0,VLOOKUP(W93,LUTs!$A$6:$B$8,2))","v":{"$error":"#N/A"}},{"$f":"IF(ISBLANK(X93),0,VLOOKUP(X93,LUTs!$A$6:$B$8,2))","v":{"$error":"#N/A"}}]
[{"$f":"IF(ISBLANK(Responses!A94), \"\", Responses!A94)","v":""},{"$f":"IF(ISBLANK(Responses!B94), \"\", Responses!B94)","v":""},{"$f":"IF(ISBLANK(Responses!U94), \"\", Responses!U94)","v":""},{"$f":"IF(ISBLANK(Responses!V94), \"\", Responses!V94)","v":""},{"$f":"IF(ISBLANK(Responses!W94), \"\", Responses!W94)","v":""},{"$f":"IF(ISBLANK(Responses!X94), \"\", Responses!X94)","v":""},{"$f":"IF(ISBLANK(Responses!Y94), \"\", Responses!Y94)","v":""},{"$f":"IF(ISBLANK(Responses!Z94), \"\", Responses!Z94)","v":""},{"$f":"IF(ISBLANK(Responses!AA94), \"\", Responses!AA94)","v":""},{"$f":"IF(ISBLANK(Responses!AB94), \"\", Responses!AB94)","v":""},{"$f":"IF(ISBLANK(Responses!AC94), \"\", Responses!AC94)","v":""},{"$f":"IF(ISBLANK(Responses!AD94), \"\", Responses!AD94)","v":""},{"$f":"IF(ISBLANK(Responses!AE94), \"\", Responses!AE94)","v":""},{"$f":"IF(ISBLANK(Responses!AF94), \"\", Responses!AF94)","v":""},{"$f":"IF(ISBLANK(Responses!AG94), \"\", Responses!AG94)","v":""},{"$f":"IF(ISBLANK(Responses!AH94), \"\", Responses!AH94)","v":""},{"$f":"IF(ISBLANK(Responses!AI94), \"\", Responses!AI94)","v":""},{"$f":"IF(ISBLANK(Responses!AJ94), \"\", Responses!AJ94)","v":""},{"$f":"IF(ISBLANK(Responses!AK94), \"\", Responses!AK94)","v":""},{"$f":"IF(ISBLANK(Responses!AL94), \"\", Responses!AL94)","v":""},{"$f":"IF(ISBLANK(Responses!AM94), \"\", Responses!AM94)","v":""},{"$f":"IF(ISBLANK(Responses!AN94), \"\", Responses!AN94)","v":""},{"$f":"IF(ISBLANK(Responses!AO94), \"\", Responses!AO94)","v":""},{"$f":"IF(ISBLANK(Responses!AP94), \"\", Responses!AP94)","v":""},{"$error":"#N/A"},{"$error":"#N/A"},{"$f":"IF(ISBLANK(C94),0,VLOOKUP(C94,LUTs!$A$6:$B$8,2))","v":{"$error":"#N/A"}},{"$f":"IF(ISBLANK(D94),0,VLOOKUP(D94,LUTs!$A$6:$B$8,2))","v":{"$error":"#N/A"}},{"$f":"IF(ISBLANK(E94),0,VLOOKUP(E94,LUTs!$A$6:$B$8,2))","v":{"$error":"#N/A"}},{"$f":"IF(ISBLANK(F94),0,VLOOKUP(F94,LUTs!$A$6:$B$8,2))","v":{"$error":"#N/A"}},{"$f":"IF(ISBLANK(G94),0,VLOOKUP(G94,LUTs!$A$6:$B$8,2))","v":{"$error":"#N/A"}},{"$f":"IF(ISBLANK(H94),0,VLOOKUP(H94,LUTs!$A$6:$B$8,2))","v":{"$error":"#N/A"}},{"$f":"IF(ISBLANK(I94),0,VLOOKUP(I94,LUTs!$A$6:$B$8,2))","v":{"$error":"#N/A"}},{"$f":"IF(ISBLANK(J94),0,VLOOKUP(J94,LUTs!$A$6:$B$8,2))","v":{"$error":"#N/A"}},{"$f":"IF(ISBLANK(K94),0,VLOOKUP(K94,LUTs!$A$6:$B$8,2))","v":{"$error":"#N/A"}},{"$f":"IF(ISBLANK(L94),0,VLOOKUP(L94,LUTs!$A$6:$B$8,2))","v":{"$error":"#N/A"}},{"$f":"IF(ISBLANK(M94),0,VLOOKUP(M94,LUTs!$A$6:$B$8,2))","v":{"$error":"#N/A"}},{"$f":"IF(ISBLANK(N94),0,VLOOKUP(N94,LUTs!$A$6:$B$8,2))","v":{"$error":"#N/A"}},{"$f":"IF(ISBLANK(O94),0,VLOOKUP(O94,LUTs!$A$6:$B$8,2))","v":{"$error":"#N/A"}},{"$f":"IF(ISBLANK(P94),0,VLOOKUP(P94,LUTs!$A$6:$B$8,2))","v":{"$error":"#N/A"}},{"$f":"IF(ISBLANK(Q94),0,VLOOKUP(Q94,LUTs!$A$6:$B$8,2))","v":{"$error":"#N/A"}},{"$f":"IF(ISBLANK(R94),0,IF(ISERROR(VLOOKUP(R94,LUTs!$A$6:$B$8,2)),R94,VLOOKUP(R94,LUTs!$A$6:$B$8,2)))","v":""},{"$f":"IF(ISBLANK(S94),0,VLOOKUP(S94,LUTs!$A$6:$B$8,2))","v":{"$error":"#N/A"}},{"$f":"IF(ISBLANK(T94),0,IF(ISERROR(VLOOKUP(T94,LUTs!$A$6:$B$8,2)),T94,VLOOKUP(T94,LUTs!$A$6:$B$8,2)))","v":""},{"$f":"IF(ISBLANK(U94),0,VLOOKUP(U94,LUTs!$A$6:$B$8,2))","v":{"$error":"#N/A"}},{"$f":"IF(ISBLANK(V94),0,VLOOKUP(V94,LUTs!$A$6:$B$8,2))","v":{"$error":"#N/A"}},{"$f":"IF(ISBLANK(W94),0,VLOOKUP(W94,LUTs!$A$6:$B$8,2))","v":{"$error":"#N/A"}},{"$f":"IF(ISBLANK(X94),0,VLOOKUP(X94,LUTs!$A$6:$B$8,2))","v":{"$error":"#N/A"}}]
[{"$f":"IF(ISBLANK(Responses!A95), \"\", Responses!A95)","v":""},{"$f":"IF(ISBLANK(Responses!B95), \"\", Responses!B95)","v":""},{"$f":"IF(ISBLANK(Responses!U95), \"\", Responses!U95)","v":""},{"$f":"IF(ISBLANK(Responses!V95), \"\", Responses!V95)","v":""},{"$f":"IF(ISBLANK(Responses!W95), \"\", Responses!W95)","v":""},{"$f":"IF(ISBLANK(Responses!X95), \"\", Responses!X95)","v":""},{"$f":"IF(ISBLANK(Responses!Y95), \"\", Responses!Y95)","v":""},{"$f":"IF(ISBLANK(Responses!Z95), \"\", Responses!Z95)","v":""},{"$f":"IF(ISBLANK(Responses!AA95), \"\", Responses!AA95)","v":""},{"$f":"IF(ISBLANK(Responses!AB95), \"\", Responses!AB95)","v":""},{"$f":"IF(ISBLANK(Responses!AC95), \"\", Responses!AC95)","v":""},{"$f":"IF(ISBLANK(Responses!AD95), \"\", Responses!AD95)","v":""},{"$f":"IF(ISBLANK(Responses!AE95), \"\", Responses!AE95)","v":""},{"$f":"IF(ISBLANK(Responses!AF95), \"\", Responses!AF95)","v":""},{"$f":"IF(ISBLANK(Responses!AG95), \"\", Responses!AG95)","v":""},{"$f":"IF(ISBLANK(Responses!AH95), \"\", Responses!AH95)","v":""},{"$f":"IF(ISBLANK(Responses!AI95), \"\", Responses!AI95)","v":""},{"$f":"IF(ISBLANK(Responses!AJ95), \"\", Responses!AJ95)","v":""},{"$f":"IF(ISBLANK(Responses!AK95), \"\", Responses!AK95)","v":""},{"$f":"IF(ISBLANK(Responses!AL95), \"\", Responses!AL95)","v":""},{"$f":"IF(ISBLANK(Responses!AM95), \"\", Responses!AM95)","v":""},{"$f":"IF(ISBLANK(Responses!AN95), \"\", Responses!AN95)","v":""},{"$f":"IF(ISBLANK(Responses!AO95), \"\", Responses!AO95)","v":""},{"$f":"IF(ISBLANK(Responses!AP95), \"\", Responses!AP95)","v":""},{"$error":"#N/A"},{"$error":"#N/A"},{"$f":"IF(ISBLANK(C95),0,VLOOKUP(C95,LUTs!$A$6:$B$8,2))","v":{"$error":"#N/A"}},{"$f":"IF(ISBLANK(D95),0,VLOOKUP(D95,LUTs!$A$6:$B$8,2))","v":{"$error":"#N/A"}},{"$f":"IF(ISBLANK(E95),0,VLOOKUP(E95,LUTs!$A$6:$B$8,2))","v":{"$error":"#N/A"}},{"$f":"IF(ISBLANK(F95),0,VLOOKUP(F95,LUTs!$A$6:$B$8,2))","v":{"$error":"#N/A"}},{"$f":"IF(ISBLANK(G95),0,VLOOKUP(G95,LUTs!$A$6:$B$8,2))","v":{"$error":"#N/A"}},{"$f":"IF(ISBLANK(H95),0,VLOOKUP(H95,LUTs!$A$6:$B$8,2))","v":{"$error":"#N/A"}},{"$f":"IF(ISBLANK(I95),0,VLOOKUP(I95,LUTs!$A$6:$B$8,2))","v":{"$error":"#N/A"}},{"$f":"IF(ISBLANK(J95),0,VLOOKUP(J95,LUTs!$A$6:$B$8,2))","v":{"$error":"#N/A"}},{"$f":"IF(ISBLANK(K95),0,VLOOKUP(K95,LUTs!$A$6:$B$8,2))","v":{"$error":"#N/A"}},{"$f":"IF(ISBLANK(L95),0,VLOOKUP(L95,LUTs!$A$6:$B$8,2))","v":{"$error":"#N/A"}},{"$f":"IF(ISBLANK(M95),0,VLOOKUP(M95,LUTs!$A$6:$B$8,2))","v":{"$error":"#N/A"}},{"$f":"IF(ISBLANK(N95),0,VLOOKUP(N95,LUTs!$A$6:$B$8,2))","v":{"$error":"#N/A"}},{"$f":"IF(ISBLANK(O95),0,VLOOKUP(O95,LUTs!$A$6:$B$8,2))","v":{"$error":"#N/A"}},{"$f":"IF(ISBLANK(P95),0,VLOOKUP(P95,LUTs!$A$6:$B$8,2))","v":{"$error":"#N/A"}},{"$f":"IF(ISBLANK(Q95),0,VLOOKUP(Q95,LUTs!$A$6:$B$8,2))","v":{"$error":"#N/A"}},{"$f":"IF(ISBLANK(R95),0,IF(ISERROR(VLOOKUP(R95,LUTs!$A$6:$B$8,2)),R95,VLOOKUP(R95,LUTs!$A$6:$B$8,2)))","v":""},{"$f":"IF(ISBLANK(S95),0,VLOOKUP(S95,LUTs!$A$6:$B$8,2))","v":{"$error":"#N/A"}},{"$f":"IF(ISBLANK(T95),0,IF(ISERROR(VLOOKUP(T95,LUTs!$A$6:$B$8,2)),T95,VLOOKUP(T95,LUTs!$A$6:$B$8,2)))","v":""},{"$f":"IF(ISBLANK(U95),0,VLOOKUP(U95,LUTs!$A$6:$B$8,2))","v":{"$error":"#N/A"}},{"$f":"IF(ISBLANK(V95),0,VLOOKUP(V95,LUTs!$A$6:$B$8,2))","v":{"$error":"#N/A"}},{"$f":"IF(ISBLANK(W95),0,VLOOKUP(W95,LUTs!$A$6:$B$8,2))","v":{"$error":"#N/A"}},{"$f":"IF(ISBLANK(X95),0,VLOOKUP(X95,LUTs!$A$6:$B$8,2))","v":{"$error":"#N/A"}}]
[{"$f":"IF(ISBLANK(Responses!A96), \"\", Responses!A96)","v":""},{"$f":"IF(ISBLANK(Responses!B96), \"\", Responses!B96)","v":""},{"$f":"IF(ISBLANK(Responses!U96), \"\", Responses!U96)","v":""},{"$f":"IF(ISBLANK(Responses!V96), \"\", Responses!V96)","v":""},{"$f":"IF(ISBLANK(Responses!W96), \"\", Responses!W96)","v":""},{"$f":"IF(ISBLANK(Responses!X96), \"\", Responses!X96)","v":""},{"$f":"IF(ISBLANK(Responses!Y96), \"\", Responses!Y96)","v":""},{"$f":"IF(ISBLANK(Responses!Z96), \"\", Responses!Z96)","v":""},{"$f":"IF(ISBLANK(Responses!AA96), \"\", Responses!AA96)","v":""},{"$f":"IF(ISBLANK(Responses!AB96), \"\", Responses!AB96)","v":""},{"$f":"IF(ISBLANK(Responses!AC96), \"\", Responses!AC96)","v":""},{"$f":"IF(ISBLANK(Responses!AD96), \"\", Responses!AD96)","v":""},{"$f":"IF(ISBLANK(Responses!AE96), \"\", Responses!AE96)","v":""},{"$f":"IF(ISBLANK(Responses!AF96), \"\", Responses!AF96)","v":""},{"$f":"IF(ISBLANK(Responses!AG96), \"\", Responses!AG96)","v":""},{"$f":"IF(ISBLANK(Responses!AH96), \"\", Responses!AH96)","v":""},{"$f":"IF(ISBLANK(Responses!AI96), \"\", Responses!AI96)","v":""},{"$f":"IF(ISBLANK(Responses!AJ96), \"\", Responses!AJ96)","v":""},{"$f":"IF(ISBLANK(Responses!AK96), \"\", Responses!AK96)","v":""},{"$f":"IF(ISBLANK(Responses!AL96), \"\", Responses!AL96)","v":""},{"$f":"IF(ISBLANK(Responses!AM96), \"\", Responses!AM96)","v":""},{"$f":"IF(ISBLANK(Responses!AN96), \"\", Responses!AN96)","v":""},{"$f":"IF(ISBLANK(Responses!AO96), \"\", Responses!AO96)","v":""},{"$f":"IF(ISBLANK(Responses!AP96), \"\", Responses!AP96)","v":""},{"$error":"#N/A"},{"$error":"#N/A"},{"$f":"IF(ISBLANK(C96),0,VLOOKUP(C96,LUTs!$A$6:$B$8,2))","v":{"$error":"#N/A"}},{"$f":"IF(ISBLANK(D96),0,VLOOKUP(D96,LUTs!$A$6:$B$8,2))","v":{"$error":"#N/A"}},{"$f":"IF(ISBLANK(E96),0,VLOOKUP(E96,LUTs!$A$6:$B$8,2))","v":{"$error":"#N/A"}},{"$f":"IF(ISBLANK(F96),0,VLOOKUP(F96,LUTs!$A$6:$B$8,2))","v":{"$error":"#N/A"}},{"$f":"IF(ISBLANK(G96),0,VLOOKUP(G96,LUTs!$A$6:$B$8,2))","v":{"$error":"#N/A"}},{"$f":"IF(ISBLANK(H96),0,VLOOKUP(H96,LUTs!$A$6:$B$8,2))","v":{"$error":"#N/A"}},{"$f":"IF(ISBLANK(I96),0,VLOOKUP(I96,LUTs!$A$6:$B$8,2))","v":{"$error":"#N/A"}},{"$f":"IF(ISBLANK(J96),0,VLOOKUP(J96,LUTs!$A$6:$B$8,2))","v":{"$error":"#N/A"}},{"$f":"IF(ISBLANK(K96),0,VLOOKUP(K96,LUTs!$A$6:$B$8,2))","v":{"$error":"#N/A"}},{"$f":"IF(ISBLANK(L96),0,VLOOKUP(L96,LUTs!$A$6:$B$8,2))","v":{"$error":"#N/A"}},{"$f":"IF(ISBLANK(M96),0,VLOOKUP(M96,LUTs!$A$6:$B$8,2))","v":{"$error":"#N/A"}},{"$f":"IF(ISBLANK(N96),0,VLOOKUP(N96,LUTs!$A$6:$B$8,2))","v":{"$error":"#N/A"}},{"$f":"IF(ISBLANK(O96),0,VLOOKUP(O96,LUTs!$A$6:$B$8,2))","v":{"$error":"#N/A"}},{"$f":"IF(ISBLANK(P96),0,VLOOKUP(P96,LUTs!$A$6:$B$8,2))","v":{"$error":"#N/A"}},{"$f":"IF(ISBLANK(Q96),0,VLOOKUP(Q96,LUTs!$A$6:$B$8,2))","v":{"$error":"#N/A"}},{"$f":"IF(ISBLANK(R96),0,IF(ISERROR(VLOOKUP(R96,LUTs!$A$6:$B$8,2)),R96,VLOOKUP(R96,LUTs!$A$6:$B$8,2)))","v":""},{"$f":"IF(ISBLANK(S96),0,VLOOKUP(S96,LUTs!$A$6:$B$8,2))","v":{"$error":"#N/A"}},{"$f":"IF(ISBLANK(T96),0,IF(ISERROR(VLOOKUP(T96,LUTs!$A$6:$B$8,2)),T96,VLOOKUP(T96,LUTs!$A$6:$B$8,2)))","v":""},{"$f":"IF(ISBLANK(U96),0,VLOOKUP(U96,LUTs!$A$6:$B$8,2))","v":{"$error":"#N/A"}},{"$f":"IF(ISBLANK(V96),0,VLOOKUP(V96,LUTs!$A$6:$B$8,2))","v":{"$error":"#N/A"}},{"$f":"IF(ISBLANK(W96),0,VLOOKUP(W96,LUTs!$A$6:$B$8,2))","v":{"$error":"#N/A"}},{"$f":"IF(ISBLANK(X96),0,VLOOKUP(X96,LUTs!$A$6:$B$8,2))","v":{"$error":"#N/A"}}]
[{"$f":"IF(ISBLANK(Responses!A97), \"\", Responses!A97)","v":""},{"$f":"IF(ISBLANK(Responses!B97), \"\", Responses!B97)","v":""},{"$f":"IF(ISBLANK(Responses!U97), \"\", Responses!U97)","v":""},{"$f":"IF(ISBLANK(Responses!V97), \"\", Responses!V97)","v":""},{"$f":"IF(ISBLANK(Responses!W97), \"\", Responses!W97)","v":""},{"$f":"IF(ISBLANK(Responses!X97), \"\", Responses!X97)","v":""},{"$f":"IF(ISBLANK(Responses!Y97), \"\", Responses!Y97)","v":""},{"$f":"IF(ISBLANK(Responses!Z97), \"\", Responses!Z97)","v":""},{"$f":"IF(ISBLANK(Responses!AA97), \"\", Responses!AA97)","v":""},{"$f":"IF(ISBLANK(Responses!AB97), \"\", Responses!AB97)","v":""},{"$f":"IF(ISBLANK(Responses!AC97), \"\", Responses!AC97)","v":""},{"$f":"IF(ISBLANK(Responses!AD97), \"\", Responses!AD97)","v":""},{"$f":"IF(ISBLANK(Responses!AE97), \"\", Responses!AE97)","v":""},{"$f":"IF(ISBLANK(Responses!AF97), \"\", Responses!AF97)","v":""},{"$f":"IF(ISBLANK(Responses!AG97), \"\", Responses!AG97)","v":""},{"$f":"IF(ISBLANK(Responses!AH97), \"\", Responses!AH97)","v":""},{"$f":"IF(ISBLANK(Responses!AI97), \"\", Responses!AI97)","v":""},{"$f":"IF(ISBLANK(Responses!AJ97), \"\", Responses!AJ97)","v":""},{"$f":"IF(ISBLANK(Responses!AK97), \"\", Responses!AK97)","v":""},{"$f":"IF(ISBLANK(Responses!AL97), \"\", Responses!AL97)","v":""},{"$f":"IF(ISBLANK(Responses!AM97), \"\", Responses!AM97)","v":""},{"$f":"IF(ISBLANK(Responses!AN97), \"\", Responses!AN97)","v":""},{"$f":"IF(ISBLANK(Responses!AO97), \"\", Responses!AO97)","v":""},{"$f":"IF(ISBLANK(Responses!AP97), \"\", Responses!AP97)","v":""},{"$error":"#N/A"},{"$error":"#N/A"},{"$f":"IF(ISBLANK(C97),0,VLOOKUP(C97,LUTs!$A$6:$B$8,2))","v":{"$error":"#N/A"}},{"$f":"IF(ISBLANK(D97),0,VLOOKUP(D97,LUTs!$A$6:$B$8,2))","v":{"$error":"#N/A"}},{"$f":"IF(ISBLANK(E97),0,VLOOKUP(E97,LUTs!$A$6:$B$8,2))","v":{"$error":"#N/A"}},{"$f":"IF(ISBLANK(F97),0,VLOOKUP(F97,LUTs!$A$6:$B$8,2))","v":{"$error":"#N/A"}},{"$f":"IF(ISBLANK(G97),0,VLOOKUP(G97,LUTs!$A$6:$B$8,2))","v":{"$error":"#N/A"}},{"$f":"IF(ISBLANK(H97),0,VLOOKUP(H97,LUTs!$A$6:$B$8,2))","v":{"$error":"#N/A"}},{"$f":"IF(ISBLANK(I97),0,VLOOKUP(I97,LUTs!$A$6:$B$8,2))","v":{"$error":"#N/A"}},{"$f":"IF(ISBLANK(J97),0,VLOOKUP(J97,LUTs!$A$6:$B$8,2))","v":{"$error":"#N/A"}},{"$f":"IF(ISBLANK(K97),0,VLOOKUP(K97,LUTs!$A$6:$B$8,2))","v":{"$error":"#N/A"}},{"$f":"IF(ISBLANK(L97),0,VLOOKUP(L97,LUTs!$A$6:$B$8,2))","v":{"$error":"#N/A"}},{"$f":"IF(ISBLANK(M97),0,VLOOKUP(M97,LUTs!$A$6:$B$8,2))","v":{"$error":"#N/A"}},{"$f":"IF(ISBLANK(N97),0,VLOOKUP(N97,LUTs!$A$6:$B$8,2))","v":{"$error":"#N/A"}},{"$f":"IF(ISBLANK(O97),0,VLOOKUP(O97,LUTs!$A$6:$B$8,2))","v":{"$error":"#N/A"}},{"$f":"IF(ISBLANK(P97),0,VLOOKUP(P97,LUTs!$A$6:$B$8,2))","v":{"$error":"#N/A"}},{"$f":"IF(ISBLANK(Q97),0,VLOOKUP(Q97,LUTs!$A$6:$B$8,2))","v":{"$error":"#N/A"}},{"$f":"IF(ISBLANK(R97),0,IF(ISERROR(VLOOKUP(R97,LUTs!$A$6:$B$8,2)),R97,VLOOKUP(R97,LUTs!$A$6:$B$8,2)))","v":""},{"$f":"IF(ISBLANK(S97),0,VLOOKUP(S97,LUTs!$A$6:$B$8,2))","v":{"$error":"#N/A"}},{"$f":"IF(ISBLANK(T97),0,IF(ISERROR(VLOOKUP(T97,LUTs!$A$6:$B$8,2)),T97,VLOOKUP(T97,LUTs!$A$6:$B$8,2)))","v":""},{"$f":"IF(ISBLANK(U97),0,VLOOKUP(U97,LUTs!$A$6:$B$8,2))","v":{"$error":"#N/A"}},{"$f":"IF(ISBLANK(V97),0,VLOOKUP(V97,LUTs!$A$6:$B$8,2))","v":{"$error":"#N/A"}},{"$f":"IF(ISBLANK(W97),0,VLOOKUP(W97,LUTs!$A$6:$B$8,2))","v":{"$error":"#N/A"}},{"$f":"IF(ISBLANK(X97),0,VLOOKUP(X97,LUTs!$A$6:$B$8,2))","v":{"$error":"#N/A"}}]
[{"$f":"IF(ISBLANK(Responses!A98), \"\", Responses!A98)","v":""},{"$f":"IF(ISBLANK(Responses!B98), \"\", Responses!B98)","v":""},{"$f":"IF(ISBLANK(Responses!U98), \"\", Responses!U98)","v":""},{"$f":"IF(ISBLANK(Responses!V98), \"\", Responses!V98)","v":""},{"$f":"IF(ISBLANK(Responses!W98), \"\", Responses!W98)","v":""},{"$f":"IF(ISBLANK(Responses!X98), \"\", Responses!X98)","v":""},{"$f":"IF(ISBLANK(Responses!Y98), \"\", Responses!Y98)","v":""},{"$f":"IF(ISBLANK(Responses!Z98), \"\", Responses!Z98)","v":""},{"$f":"IF(ISBLANK(Responses!AA98), \"\", Responses!AA98)","v":""},{"$f":"IF(ISBLANK(Responses!AB98), \"\", Responses!AB98)","v":""},{"$f":"IF(ISBLANK(Responses!AC98), \"\", Responses!AC98)","v":""},{"$f":"IF(ISBLANK(Responses!AD98), \"\", Responses!AD98)","v":""},{"$f":"IF(ISBLANK(Responses!AE98), \"\", Responses!AE98)","v":""},{"$f":"IF(ISBLANK(Responses!AF98), \"\", Responses!AF98)","v":""},{"$f":"IF(ISBLANK(Responses!AG98), \"\", Responses!AG98)","v":""},{"$f":"IF(ISBLANK(Responses!AH98), \"\", Responses!AH98)","v":""},{"$f":"IF(ISBLANK(Responses!AI98), \"\", Responses!AI98)","v":""},{"$f":"IF(ISBLANK(Responses!AJ98), \"\", Responses!AJ98)","v":""},{"$f":"IF(ISBLANK(Responses!AK98), \"\", Responses!AK98)","v":""},{"$f":"IF(ISBLANK(Responses!AL98), \"\", Responses!AL98)","v":""},{"$f":"IF(ISBLANK(Responses!AM98), \"\", Responses!AM98)","v":""},{"$f":"IF(ISBLANK(Responses!AN98), \"\", Responses!AN98)","v":""},{"$f":"IF(ISBLANK(Responses!AO98), \"\", Responses!AO98)","v":""},{"$f":"IF(ISBLANK(Responses!AP98), \"\", Responses!AP98)","v":""},{"$error":"#N/A"},{"$error":"#N/A"},{"$f":"IF(ISBLANK(C98),0,VLOOKUP(C98,LUTs!$A$6:$B$8,2))","v":{"$error":"#N/A"}},{"$f":"IF(ISBLANK(D98),0,VLOOKUP(D98,LUTs!$A$6:$B$8,2))","v":{"$error":"#N/A"}},{"$f":"IF(ISBLANK(E98),0,VLOOKUP(E98,LUTs!$A$6:$B$8,2))","v":{"$error":"#N/A"}},{"$f":"IF(ISBLANK(F98),0,VLOOKUP(F98,LUTs!$A$6:$B$8,2))","v":{"$error":"#N/A"}},{"$f":"IF(ISBLANK(G98),0,VLOOKUP(G98,LUTs!$A$6:$B$8,2))","v":{"$error":"#N/A"}},{"$f":"IF(ISBLANK(H98),0,VLOOKUP(H98,LUTs!$A$6:$B$8,2))","v":{"$error":"#N/A"}},{"$f":"IF(ISBLANK(I98),0,VLOOKUP(I98,LUTs!$A$6:$B$8,2))","v":{"$error":"#N/A"}},{"$f":"IF(ISBLANK(J98),0,VLOOKUP(J98,LUTs!$A$6:$B$8,2))","v":{"$error":"#N/A"}},{"$f":"IF(ISBLANK(K98),0,VLOOKUP(K98,LUTs!$A$6:$B$8,2))","v":{"$error":"#N/A"}},{"$f":"IF(ISBLANK(L98),0,VLOOKUP(L98,LUTs!$A$6:$B$8,2))","v":{"$error":"#N/A"}},{"$f":"IF(ISBLANK(M98),0,VLOOKUP(M98,LUTs!$A$6:$B$8,2))","v":{"$error":"#N/A"}},{"$f":"IF(ISBLANK(N98),0,VLOOKUP(N98,LUTs!$A$6:$B$8,2))","v":{"$error":"#N/A"}},{"$f":"IF(ISBLANK(O98),0,VLOOKUP(O98,LUTs!$A$6:$B$8,2))","v":{"$error":"#N/A"}},{"$f":"IF(ISBLANK(P98),0,VLOOKUP(P98,LUTs!$A$6:$B$8,2))","v":{"$error":"#N/A"}},{"$f":"IF(ISBLANK(Q98),0,VLOOKUP(Q98,LUTs!$A$6:$B$8,2))","v":{"$error":"#N/A"}},{"$f":"IF(ISBLANK(R98),0,IF(ISERROR(VLOOKUP(R98,LUTs!$A$6:$B$8,2)),R98,VLOOKUP(R98,LUTs!$A$6:$B$8,2)))","v":""},{"$f":"IF(ISBLANK(S98),0,VLOOKUP(S98,LUTs!$A$6:$B$8,2))","v":{"$error":"#N/A"}},{"$f":"IF(ISBLANK(T98),0,IF(ISERROR(VLOOKUP(T98,LUTs!$A$6:$B$8,2)),T98,VLOOKUP(T98,LUTs!$A$6:$B$8,2)))","v":""},{"$f":"IF(ISBLANK(U98),0,VLOOKUP(U98,LUTs!$A$6:$B$8,2))","v":{"$error":"#N/A"}},{"$f":"IF(ISBLANK(V98),0,VLOOKUP(V98,LUTs!$A$6:$B$8,2))","v":{"$error":"#N/A"}},{"$f":"IF(ISBLANK(W98),0,VLOOKUP(W98,LUTs!$A$6:$B$8,2))","v":{"$error":"#N/A"}},{"$f":"IF(ISBLANK(X98),0,VLOOKUP(X98,LUTs!$A$6:$B$8,2))","v":{"$error":"#N/A"}}]
[{"$f":"IF(ISBLANK(Responses!A99), \"\", Responses!A99)","v":""},{"$f":"IF(ISBLANK(Responses!B99), \"\", Responses!B99)","v":""},{"$f":"IF(ISBLANK(Responses!U99), \"\", Responses!U99)","v":""},{"$f":"IF(ISBLANK(Responses!V99), \"\", Responses!V99)","v":""},{"$f":"IF(ISBLANK(Responses!W99), \"\", Responses!W99)","v":""},{"$f":"IF(ISBLANK(Responses!X99), \"\", Responses!X99)","v":""},{"$f":"IF(ISBLANK(Responses!Y99), \"\", Responses!Y99)","v":""},{"$f":"IF(ISBLANK(Responses!Z99), \"\", Responses!Z99)","v":""},{"$f":"IF(ISBLANK(Responses!AA99), \"\", Responses!AA99)","v":""},{"$f":"IF(ISBLANK(Responses!AB99), \"\", Responses!AB99)","v":""},{"$f":"IF(ISBLANK(Responses!AC99), \"\", Responses!AC99)","v":""},{"$f":"IF(ISBLANK(Responses!AD99), \"\", Responses!AD99)","v":""},{"$f":"IF(ISBLANK(Responses!AE99), \"\", Responses!AE99)","v":""},{"$f":"IF(ISBLANK(Responses!AF99), \"\", Responses!AF99)","v":""},{"$f":"IF(ISBLANK(Responses!AG99), \"\", Responses!AG99)","v":""},{"$f":"IF(ISBLANK(Responses!AH99), \"\", Responses!AH99)","v":""},{"$f":"IF(ISBLANK(Responses!AI99), \"\", Responses!AI99)","v":""},{"$f":"IF(ISBLANK(Responses!AJ99), \"\", Responses!AJ99)","v":""},{"$f":"IF(ISBLANK(Responses!AK99), \"\", Responses!AK99)","v":""},{"$f":"IF(ISBLANK(Responses!AL99), \"\", Responses!AL99)","v":""},{"$f":"IF(ISBLANK(Responses!AM99), \"\", Responses!AM99)","v":""},{"$f":"IF(ISBLANK(Responses!AN99), \"\", Responses!AN99)","v":""},{"$f":"IF(ISBLANK(Responses!AO99), \"\", Responses!AO99)","v":""},{"$f":"IF(ISBLANK(Responses!AP99), \"\", Responses!AP99)","v":""},{"$error":"#N/A"},{"$error":"#N/A"},{"$f":"IF(ISBLANK(C99),0,VLOOKUP(C99,LUTs!$A$6:$B$8,2))","v":{"$error":"#N/A"}},{"$f":"IF(ISBLANK(D99),0,VLOOKUP(D99,LUTs!$A$6:$B$8,2))","v":{"$error":"#N/A"}},{"$f":"IF(ISBLANK(E99),0,VLOOKUP(E99,LUTs!$A$6:$B$8,2))","v":{"$error":"#N/A"}},{"$f":"IF(ISBLANK(F99),0,VLOOKUP(F99,LUTs!$A$6:$B$8,2))","v":{"$error":"#N/A"}},{"$f":"IF(ISBLANK(G99),0,VLOOKUP(G99,LUTs!$A$6:$B$8,2))","v":{"$error":"#N/A"}},{"$f":"IF(ISBLANK(H99),0,VLOOKUP(H99,LUTs!$A$6:$B$8,2))","v":{"$error":"#N/A"}},{"$f":"IF(ISBLANK(I99),0,VLOOKUP(I99,LUTs!$A$6:$B$8,2))","v":{"$error":"#N/A"}},{"$f":"IF(ISBLANK(J99),0,VLOOKUP(J99,LUTs!$A$6:$B$8,2))","v":{"$error":"#N/A"}},{"$f":"IF(ISBLANK(K99),0,VLOOKUP(K99,LUTs!$A$6:$B$8,2))","v":{"$error":"#N/A"}},{"$f":"IF(ISBLANK(L99),0,VLOOKUP(L99,LUTs!$A$6:$B$8,2))","v":{"$error":"#N/A"}},{"$f":"IF(ISBLANK(M99),0,VLOOKUP(M99,LUTs!$A$6:$B$8,2))","v":{"$error":"#N/A"}},{"$f":"IF(ISBLANK(N99),0,VLOOKUP(N99,LUTs!$A$6:$B$8,2))","v":{"$error":"#N/A"}},{"$f":"IF(ISBLANK(O99),0,VLOOKUP(O99,LUTs!$A$6:$B$8,2))","v":{"$error":"#N/A"}},{"$f":"IF(ISBLANK(P99),0,VLOOKUP(P99,LUTs!$A$6:$B$8,2))","v":{"$error":"#N/A"}},{"$f":"IF(ISBLANK(Q99),0,VLOOKUP(Q99,LUTs!$A$6:$B$8,2))","v":{"$error":"#N/A"}},{"$f":"IF(ISBLANK(R99),0,IF(ISERROR(VLOOKUP(R99,LUTs!$A$6:$B$8,2)),R99,VLOOKUP(R99,LUTs!$A$6:$B$8,2)))","v":""},{"$f":"IF(ISBLANK(S99),0,VLOOKUP(S99,LUTs!$A$6:$B$8,2))","v":{"$error":"#N/A"}},{"$f":"IF(ISBLANK(T99),0,IF(ISERROR(VLOOKUP(T99,LUTs!$A$6:$B$8,2)),T99,VLOOKUP(T99,LUTs!$A$6:$B$8,2)))","v":""},{"$f":"IF(ISBLANK(U99),0,VLOOKUP(U99,LUTs!$A$6:$B$8,2))","v":{"$error":"#N/A"}},{"$f":"IF(ISBLANK(V99),0,VLOOKUP(V99,LUTs!$A$6:$B$8,2))","v":{"$error":"#N/A"}},{"$f":"IF(ISBLANK(W99),0,VLOOKUP(W99,LUTs!$A$6:$B$8,2))","v":{"$error":"#N/A"}},{"$f":"IF(ISBLANK(X99),0,VLOOKUP(X99,LUTs!$A$6:$B$8,2))","v":{"$error":"#N/A"}}]
[{"$f":"IF(ISBLANK(Responses!A100), \"\", Responses!A100)","v":""},{"$f":"IF(ISBLANK(Responses!B100), \"\", Responses!B100)","v":""},{"$f":"IF(ISBLANK(Responses!U100), \"\", Responses!U100)","v":""},{"$f":"IF(ISBLANK(Responses!V100), \"\", Responses!V100)","v":""},{"$f":"IF(ISBLANK(Responses!W100), \"\", Responses!W100)","v":""},{"$f":"IF(ISBLANK(Responses!X100), \"\", Responses!X100)","v":""},{"$f":"IF(ISBLANK(Responses!Y100), \"\", Responses!Y100)","v":""},{"$f":"IF(ISBLANK(Responses!Z100), \"\", Responses!Z100)","v":""},{"$f":"IF(ISBLANK(Responses!AA100), \"\", Responses!AA100)","v":""},{"$f":"IF(ISBLANK(Responses!AB100), \"\", Responses!AB100)","v":""},{"$f":"IF(ISBLANK(Responses!AC100), \"\", Responses!AC100)","v":""},{"$f":"IF(ISBLANK(Responses!AD100), \"\", Responses!AD100)","v":""},{"$f":"IF(ISBLANK(Responses!AE100), \"\", Responses!AE100)","v":""},{"$f":"IF(ISBLANK(Responses!AF100), \"\", Responses!AF100)","v":""},{"$f":"IF(ISBLANK(Responses!AG100), \"\", Responses!AG100)","v":""},{"$f":"IF(ISBLANK(Responses!AH100), \"\", Responses!AH100)","v":""},{"$f":"IF(ISBLANK(Responses!AI100), \"\", Responses!AI100)","v":""},{"$f":"IF(ISBLANK(Responses!AJ100), \"\", Responses!AJ100)","v":""},{"$f":"IF(ISBLANK(Responses!AK100), \"\", Responses!AK100)","v":""},{"$f":"IF(ISBLANK(Responses!AL100), \"\", Responses!AL100)","v":""},{"$f":"IF(ISBLANK(Responses!AM100), \"\", Responses!AM100)","v":""},{"$f":"IF(ISBLANK(Responses!AN100), \"\", Responses!AN100)","v":""},{"$f":"IF(ISBLANK(Responses!AO100), \"\", Responses!AO100)","v":""},{"$f":"IF(ISBLANK(Responses!AP100), \"\", Responses!AP100)","v":""},{"$error":"#N/A"},{"$error":"#N/A"},{"$f":"IF(ISBLANK(C100),0,VLOOKUP(C100,LUTs!$A$6:$B$8,2))","v":{"$error":"#N/A"}},{"$f":"IF(ISBLANK(D100),0,VLOOKUP(D100,LUTs!$A$6:$B$8,2))","v":{"$error":"#N/A"}},{"$f":"IF(ISBLANK(E100),0,VLOOKUP(E100,LUTs!$A$6:$B$8,2))","v":{"$error":"#N/A"}},{"$f":"IF(ISBLANK(F100),0,VLOOKUP(F100,LUTs!$A$6:$B$8,2))","v":{"$error":"#N/A"}},{"$f":"IF(ISBLANK(G100),0,VLOOKUP(G100,LUTs!$A$6:$B$8,2))","v":{"$error":"#N/A"}},{"$f":"IF(ISBLANK(H100),0,VLOOKUP(H100,LUTs!$A$6:$B$8,2))","v":{"$error":"#N/A"}},{"$f":"IF(ISBLANK(I100),0,VLOOKUP(I100,LUTs!$A$6:$B$8,2))","v":{"$error":"#N/A"}},{"$f":"IF(ISBLANK(J100),0,VLOOKUP(J100,LUTs!$A$6:$B$8,2))","v":{"$error":"#N/A"}},{"$f":"IF(ISBLANK(K100),0,VLOOKUP(K100,LUTs!$A$6:$B$8,2))","v":{"$error":"#N/A"}},{"$f":"IF(ISBLANK(L100),0,VLOOKUP(L100,LUTs!$A$6:$B$8,2))","v":{"$error":"#N/A"}},{"$f":"IF(ISBLANK(M100),0,VLOOKUP(M100,LUTs!$A$6:$B$8,2))","v":{"$error":"#N/A"}},{"$f":"IF(ISBLANK(N100),0,VLOOKUP(N100,LUTs!$A$6:$B$8,2))","v":{"$error":"#N/A"}},{"$f":"IF(ISBLANK(O100),0,VLOOKUP(O100,LUTs!$A$6:$B$8,2))","v":{"$error":"#N/A"}},{"$f":"IF(ISBLANK(P100),0,VLOOKUP(P100,LUTs!$A$6:$B$8,2))","v":{"$error":"#N/A"}},{"$f":"IF(ISBLANK(Q100),0,VLOOKUP(Q100,LUTs!$A$6:$B$8,2))","v":{"$error":"#N/A"}},{"$f":"IF(ISBLANK(R100),0,IF(ISERROR(VLOOKUP(R100,LUTs!$A$6:$B$8,2)),R100,VLOOKUP(R100,LUTs!$A$6:$B$8,2)))","v":""},{"$f":"IF(ISBLANK(S100),0,VLOOKUP(S100,LUTs!$A$6:$B$8,2))","v":{"$error":"#N/A"}},{"$f":"IF(ISBLANK(T100),0,IF(ISERROR(VLOOKUP(T100,LUTs!$A$6:$B$8,2)),T100,VLOOKUP(T100,LUTs!$A$6:$B$8,2)))","v":""},{"$f":"IF(ISBLANK(U100),0,VLOOKUP(U100,LUTs!$A$6:$B$8,2))","v":{"$error":"#N/A"}},{"$f":"IF(ISBLANK(V100),0,VLOOKUP(V100,LUTs!$A$6:$B$8,2))","v":{"$error":"#N/A"}},{"$f":"IF(ISBLANK(W100),0,VLOOKUP(W100,LUTs!$A$6:$B$8,2))","v":{"$error":"#N/A"}},{"$f":"IF(ISBLANK(X100),0,VLOOKUP(X100,LUTs!$A$6:$B$8,2))","v":{"$error":"#N/A"}}]
[{"$f":"IF(ISBLANK(Responses!A101), \"\", Responses!A101)","v":""},{"$f":"IF(ISBLANK(Responses!B101), \"\", Responses!B101)","v":""},{"$f":"IF(ISBLANK(Responses!U101), \"\", Responses!U101)","v":""},{"$f":"IF(ISBLANK(Responses!V101), \"\", Responses!V101)","v":""},{"$f":"IF(ISBLANK(Responses!W101), \"\", Responses!W101)","v":""},{"$f":"IF(ISBLANK(Responses!X101), \"\", Responses!X101)","v":""},{"$f":"IF(ISBLANK(Responses!Y101), \"\", Responses!Y101)","v":""},{"$f":"IF(ISBLANK(Responses!Z101), \"\", Responses!Z101)","v":""},{"$f":"IF(ISBLANK(Responses!AA101), \"\", Responses!AA101)","v":""},{"$f":"IF(ISBLANK(Responses!AB101), \"\", Responses!AB101)","v":""},{"$f":"IF(ISBLANK(Responses!AC101), \"\", Responses!AC101)","v":""},{"$f":"IF(ISBLANK(Responses!AD101), \"\", Responses!AD101)","v":""},{"$f":"IF(ISBLANK(Responses!AE101), \"\", Responses!AE101)","v":""},{"$f":"IF(ISBLANK(Responses!AF101), \"\", Responses!AF101)","v":""},{"$f":"IF(ISBLANK(Responses!AG101), \"\", Responses!AG101)","v":""},{"$f":"IF(ISBLANK(Responses!AH101), \"\", Responses!AH101)","v":""},{"$f":"IF(ISBLANK(Responses!AI101), \"\", Responses!AI101)","v":""},{"$f":"IF(ISBLANK(Responses!AJ101), \"\", Responses!AJ101)","v":""},{"$f":"IF(ISBLANK(Responses!AK101), \"\", Responses!AK101)","v":""},{"$f":"IF(ISBLANK(Responses!AL101), \"\", Responses!AL101)","v":""},{"$f":"IF(ISBLANK(Responses!AM101), \"\", Responses!AM101)","v":""},{"$f":"IF(ISBLANK(Responses!AN101), \"\", Responses!AN101)","v":""},{"$f":"IF(ISBLANK(Responses!AO101), \"\", Responses!AO101)","v":""},{"$f":"IF(ISBLANK(Responses!AP101), \"\", Responses!AP101)","v":""},{"$error":"#N/A"},{"$error":"#N/A"},{"$f":"IF(ISBLANK(C101),0,VLOOKUP(C101,LUTs!$A$6:$B$8,2))","v":{"$error":"#N/A"}},{"$f":"IF(ISBLANK(D101),0,VLOOKUP(D101,LUTs!$A$6:$B$8,2))","v":{"$error":"#N/A"}},{"$f":"IF(ISBLANK(E101),0,VLOOKUP(E101,LUTs!$A$6:$B$8,2))","v":{"$error":"#N/A"}},{"$f":"IF(ISBLANK(F101),0,VLOOKUP(F101,LUTs!$A$6:$B$8,2))","v":{"$error":"#N/A"}},{"$f":"IF(ISBLANK(G101),0,VLOOKUP(G101,LUTs!$A$6:$B$8,2))","v":{"$error":"#N/A"}},{"$f":"IF(ISBLANK(H101),0,VLOOKUP(H101,LUTs!$A$6:$B$8,2))","v":{"$error":"#N/A"}},{"$f":"IF(ISBLANK(I101),0,VLOOKUP(I101,LUTs!$A$6:$B$8,2))","v":{"$error":"#N/A"}},{"$f":"IF(ISBLANK(J101),0,VLOOKUP(J101,LUTs!$A$6:$B$8,2))","v":{"$error":"#N/A"}},{"$f":"IF(ISBLANK(K101),0,VLOOKUP(K101,LUTs!$A$6:$B$8,2))","v":{"$error":"#N/A"}},{"$f":"IF(ISBLANK(L101),0,VLOOKUP(L101,LUTs!$A$6:$B$8,2))","v":{"$error":"#N/A"}},{"$f":"IF(ISBLANK(M101),0,VLOOKUP(M101,LUTs!$A$6:$B$8,2))","v":{"$error":"#N/A"}},{"$f":"IF(ISBLANK(N101),0,VLOOKUP(N101,LUTs!$A$6:$B$8,2))","v":{"$error":"#N/A"}},{"$f":"IF(ISBLANK(O101),0,VLOOKUP(O101,LUTs!$A$6:$B$8,2))","v":{"$error":"#N/A"}},{"$f":"IF(ISBLANK(P101),0,VLOOKUP(P101,LUTs!$A$6:$B$8,2))","v":{"$error":"#N/A"}},{"$f":"IF(ISBLANK(Q101),0,VLOOKUP(Q101,LUTs!$A$6:$B$8,2))","v":{"$error":"#N/A"}},{"$f":"IF(ISBLANK(R101),0,IF(ISERROR(VLOOKUP(R101,LUTs!$A$6:$B$8,2)),R101,VLOOKUP(R101,LUTs!$A$6:$B$8,2)))","v":""},{"$f":"IF(ISBLANK(S101),0,VLOOKUP(S101,LUTs!$A$6:$B$8,2))","v":{"$error":"#N/A"}},{"$f":"IF(ISBLANK(T101),0,IF(ISERROR(VLOOKUP(T101,LUTs!$A$6:$B$8,2)),T101,VLOOKUP(T101,LUTs!$A$6:$B$8,2)))","v":""},{"$f":"IF(ISBLANK(U101),0,VLOOKUP(U101,LUTs!$A$6:$B$8,2))","v":{"$error":"#N/A"}},{"$f":"IF(ISBLANK(V101),0,VLOOKUP(V101,LUTs!$A$6:$B$8,2))","v":{"$error":"#N/A"}},{"$f":"IF(ISBLANK(W101),0,VLOOKUP(W101,LUTs!$A$6:$B$8,2))","v":{"$error":"#N/A"}},{"$f":"IF(ISBLANK(X101),0,VLOOKUP(X101,LUTs!$A$6:$B$8,2))","v":{"$error":"#N/A"}}]
[{"$f":"IF(ISBLANK(Responses!A102), \"\", Responses!A102)","v":""},{"$f":"IF(ISBLANK(Responses!B102), \"\", Responses!B102)","v":""},{"$f":"IF(ISBLANK(Responses!U102), \"\", Responses!U102)","v":""},{"$f":"IF(ISBLANK(Responses!V102), \"\", Responses!V102)","v":""},{"$f":"IF(ISBLANK(Responses!W102), \"\", Responses!W102)","v":""},{"$f":"IF(ISBLANK(Responses!X102), \"\", Responses!X102)","v":""},{"$f":"IF(ISBLANK(Responses!Y102), \"\", Responses!Y102)","v":""},{"$f":"IF(ISBLANK(Responses!Z102), \"\", Responses!Z102)","v":""},{"$f":"IF(ISBLANK(Responses!AA102), \"\", Responses!AA102)","v":""},{"$f":"IF(ISBLANK(Responses!AB102), \"\", Responses!AB102)","v":""},{"$f":"IF(ISBLANK(Responses!AC102), \"\", Responses!AC102)","v":""},{"$f":"IF(ISBLANK(Responses!AD102), \"\", Responses!AD102)","v":""},{"$f":"IF(ISBLANK(Responses!AE102), \"\", Responses!AE102)","v":""},{"$f":"IF(ISBLANK(Responses!AF102), \"\", Responses!AF102)","v":""},{"$f":"IF(ISBLANK(Responses!AG102), \"\", Responses!AG102)","v":""},{"$f":"IF(ISBLANK(Responses!AH102), \"\", Responses!AH102)","v":""},{"$f":"IF(ISBLANK(Responses!AI102), \"\", Responses!AI102)","v":""},{"$f":"IF(ISBLANK(Responses!AJ102), \"\", Responses!AJ102)","v":""},{"$f":"IF(ISBLANK(Responses!AK102), \"\", Responses!AK102)","v":""},{"$f":"IF(ISBLANK(Responses!AL102), \"\", Responses!AL102)","v":""},{"$f":"IF(ISBLANK(Responses!AM102), \"\", Responses!AM102)","v":""},{"$f":"IF(ISBLANK(Responses!AN102), \"\", Responses!AN102)","v":""},{"$f":"IF(ISBLANK(Responses!AO102), \"\", Responses!AO102)","v":""},{"$f":"IF(ISBLANK(Responses!AP102), \"\", Responses!AP102)","v":""},{"$error":"#N/A"},{"$error":"#N/A"},{"$f":"IF(ISBLANK(C102),0,VLOOKUP(C102,LUTs!$A$6:$B$8,2))","v":{"$error":"#N/A"}},{"$f":"IF(ISBLANK(D102),0,VLOOKUP(D102,LUTs!$A$6:$B$8,2))","v":{"$error":"#N/A"}},{"$f":"IF(ISBLANK(E102),0,VLOOKUP(E102,LUTs!$A$6:$B$8,2))","v":{"$error":"#N/A"}},{"$f":"IF(ISBLANK(F102),0,VLOOKUP(F102,LUTs!$A$6:$B$8,2))","v":{"$error":"#N/A"}},{"$f":"IF(ISBLANK(G102),0,VLOOKUP(G102,LUTs!$A$6:$B$8,2))","v":{"$error":"#N/A"}},{"$f":"IF(ISBLANK(H102),0,VLOOKUP(H102,LUTs!$A$6:$B$8,2))","v":{"$error":"#N/A"}},{"$f":"IF(ISBLANK(I102),0,VLOOKUP(I102,LUTs!$A$6:$B$8,2))","v":{"$error":"#N/A"}},{"$f":"IF(ISBLANK(J102),0,VLOOKUP(J102,LUTs!$A$6:$B$8,2))","v":{"$error":"#N/A"}},{"$f":"IF(ISBLANK(K102),0,VLOOKUP(K102,LUTs!$A$6:$B$8,2))","v":{"$error":"#N/A"}},{"$f":"IF(ISBLANK(L102),0,VLOOKUP(L102,LUTs!$A$6:$B$8,2))","v":{"$error":"#N/A"}},{"$f":"IF(ISBLANK(M102),0,VLOOKUP(M102,LUTs!$A$6:$B$8,2))","v":{"$error":"#N/A"}},{"$f":"IF(ISBLANK(N102),0,VLOOKUP(N102,LUTs!$A$6:$B$8,2))","v":{"$error":"#N/A"}},{"$f":"IF(ISBLANK(O102),0,VLOOKUP(O102,LUTs!$A$6:$B$8,2))","v":{"$error":"#N/A"}},{"$f":"IF(ISBLANK(P102),0,VLOOKUP(P102,LUTs!$A$6:$B$8,2))","v":{"$error":"#N/A"}},{"$f":"IF(ISBLANK(Q102),0,VLOOKUP(Q102,LUTs!$A$6:$B$8,2))","v":{"$error":"#N/A"}},{"$f":"IF(ISBLANK(R102),0,IF(ISERROR(VLOOKUP(R102,LUTs!$A$6:$B$8,2)),R102,VLOOKUP(R102,LUTs!$A$6:$B$8,2)))","v":""},{"$f":"IF(ISBLANK(S102),0,VLOOKUP(S102,LUTs!$A$6:$B$8,2))","v":{"$error":"#N/A"}},{"$f":"IF(ISBLANK(T102),0,IF(ISERROR(VLOOKUP(T102,LUTs!$A$6:$B$8,2)),T102,VLOOKUP(T102,LUTs!$A$6:$B$8,2)))","v":""},{"$f":"IF(ISBLANK(U102),0,VLOOKUP(U102,LUTs!$A$6:$B$8,2))","v":{"$error":"#N/A"}},{"$f":"IF(ISBLANK(V102),0,VLOOKUP(V102,LUTs!$A$6:$B$8,2))","v":{"$error":"#N/A"}},{"$f":"IF(ISBLANK(W102),0,VLOOKUP(W102,LUTs!$A$6:$B$8,2))","v":{"$error":"#N/A"}},{"$f":"IF(ISBLANK(X102),0,VLOOKUP(X102,LUTs!$A$6:$B$8,2))","v":{"$error":"#N/A"}}]
[{"$f":"IF(ISBLANK(Responses!A103), \"\", Responses!A103)","v":""},{"$f":"IF(ISBLANK(Responses!B103), \"\", Responses!B103)","v":""},{"$f":"IF(ISBLANK(Responses!U103), \"\", Responses!U103)","v":""},{"$f":"IF(ISBLANK(Responses!V103), \"\", Responses!V103)","v":""},{"$f":"IF(ISBLANK(Responses!W103), \"\", Responses!W103)","v":""},{"$f":"IF(ISBLANK(Responses!X103), \"\", Responses!X103)","v":""},{"$f":"IF(ISBLANK(Responses!Y103), \"\", Responses!Y103)","v":""},{"$f":"IF(ISBLANK(Responses!Z103), \"\", Responses!Z103)","v":""},{"$f":"IF(ISBLANK(Responses!AA103), \"\", Responses!AA103)","v":""},{"$f":"IF(ISBLANK(Responses!AB103), \"\", Responses!AB103)","v":""},{"$f":"IF(ISBLANK(Responses!AC103), \"\", Responses!AC103)","v":""},{"$f":"IF(ISBLANK(Responses!AD103), \"\", Responses!AD103)","v":""},{"$f":"IF(ISBLANK(Responses!AE103), \"\", Responses!AE103)","v":""},{"$f":"IF(ISBLANK(Responses!AF103), \"\", Responses!AF103)","v":""},{"$f":"IF(ISBLANK(Responses!AG103), \"\", Responses!AG103)","v":""},{"$f":"IF(ISBLANK(Responses!AH103), \"\", Responses!AH103)","v":""},{"$f":"IF(ISBLANK(Responses!AI103), \"\", Responses!AI103)","v":""},{"$f":"IF(ISBLANK(Responses!AJ103), \"\", Responses!AJ103)","v":""},{"$f":"IF(ISBLANK(Responses!AK103), \"\", Responses!AK103)","v":""},{"$f":"IF(ISBLANK(Responses!AL103), \"\", Responses!AL103)","v":""},{"$f":"IF(ISBLANK(Responses!AM103), \"\", Responses!AM103)","v":""},{"$f":"IF(ISBLANK(Responses!AN103), \"\", Responses!AN103)","v":""},{"$f":"IF(ISBLANK(Responses!AO103), \"\", Responses!AO103)","v":""},{"$f":"IF(ISBLANK(Responses!AP103), \"\", Responses!AP103)","v":""},{"$error":"#N/A"},{"$error":"#N/A"},{"$f":"IF(ISBLANK(C103),0,VLOOKUP(C103,LUTs!$A$6:$B$8,2))","v":{"$error":"#N/A"}},{"$f":"IF(ISBLANK(D103),0,VLOOKUP(D103,LUTs!$A$6:$B$8,2))","v":{"$error":"#N/A"}},{"$f":"IF(ISBLANK(E103),0,VLOOKUP(E103,LUTs!$A$6:$B$8,2))","v":{"$error":"#N/A"}},{"$f":"IF(ISBLANK(F103),0,VLOOKUP(F103,LUTs!$A$6:$B$8,2))","v":{"$error":"#N/A"}},{"$f":"IF(ISBLANK(G103),0,VLOOKUP(G103,LUTs!$A$6:$B$8,2))","v":{"$error":"#N/A"}},{"$f":"IF(ISBLANK(H103),0,VLOOKUP(H103,LUTs!$A$6:$B$8,2))","v":{"$error":"#N/A"}},{"$f":"IF(ISBLANK(I103),0,VLOOKUP(I103,LUTs!$A$6:$B$8,2))","v":{"$error":"#N/A"}},{"$f":"IF(ISBLANK(J103),0,VLOOKUP(J103,LUTs!$A$6:$B$8,2))","v":{"$error":"#N/A"}},{"$f":"IF(ISBLANK(K103),0,VLOOKUP(K103,LUTs!$A$6:$B$8,2))","v":{"$error":"#N/A"}},{"$f":"IF(ISBLANK(L103),0,VLOOKUP(L103,LUTs!$A$6:$B$8,2))","v":{"$error":"#N/A"}},{"$f":"IF(ISBLANK(M103),0,VLOOKUP(M103,LUTs!$A$6:$B$8,2))","v":{"$error":"#N/A"}},{"$f":"IF(ISBLANK(N103),0,VLOOKUP(N103,LUTs!$A$6:$B$8,2))","v":{"$error":"#N/A"}},{"$f":"IF(ISBLANK(O103),0,VLOOKUP(O103,LUTs!$A$6:$B$8,2))","v":{"$error":"#N/A"}},{"$f":"IF(ISBLANK(P103),0,VLOOKUP(P103,LUTs!$A$6:$B$8,2))","v":{"$error":"#N/A"}},{"$f":"IF(ISBLANK(Q103),0,VLOOKUP(Q103,LUTs!$A$6:$B$8,2))","v":{"$error":"#N/A"}},{"$f":"IF(ISBLANK(R103),0,IF(ISERROR(VLOOKUP(R103,LUTs!$A$6:$B$8,2)),R103,VLOOKUP(R103,LUTs!$A$6:$B$8,2)))","v":""},{"$f":"IF(ISBLANK(S103),0,VLOOKUP(S103,LUTs!$A$6:$B$8,2))","v":{"$error":"#N/A"}},{"$f":"IF(ISBLANK(T103),0,IF(ISERROR(VLOOKUP(T103,LUTs!$A$6:$B$8,2)),T103,VLOOKUP(T103,LUTs!$A$6:$B$8,2)))","v":""},{"$f":"IF(ISBLANK(U103),0,VLOOKUP(U103,LUTs!$A$6:$B$8,2))","v":{"$error":"#N/A"}},{"$f":"IF(ISBLANK(V103),0,VLOOKUP(V103,LUTs!$A$6:$B$8,2))","v":{"$error":"#N/A"}},{"$f":"IF(ISBLANK(W103),0,VLOOKUP(W103,LUTs!$A$6:$B$8,2))","v":{"$error":"#N/A"}},{"$f":"IF(ISBLANK(X103),0,VLOOKUP(X103,LUTs!$A$6:$B$8,2))","v":{"$error":"#N/A"}}]
[{"$f":"IF(ISBLANK(Responses!A104), \"\", Responses!A104)","v":""},{"$f":"IF(ISBLANK(Responses!B104), \"\", Responses!B104)","v":""},{"$f":"IF(ISBLANK(Responses!U104), \"\", Responses!U104)","v":""},{"$f":"IF(ISBLANK(Responses!V104), \"\", Responses!V104)","v":""},{"$f":"IF(ISBLANK(Responses!W104), \"\", Responses!W104)","v":""},{"$f":"IF(ISBLANK(Responses!X104), \"\", Responses!X104)","v":""},{"$f":"IF(ISBLANK(Responses!Y104), \"\", Responses!Y104)","v":""},{"$f":"IF(ISBLANK(Responses!Z104), \"\", Responses!Z104)","v":""},{"$f":"IF(ISBLANK(Responses!AA104), \"\", Responses!AA104)","v":""},{"$f":"IF(ISBLANK(Responses!AB104), \"\", Responses!AB104)","v":""},{"$f":"IF(ISBLANK(Responses!AC104), \"\", Responses!AC104)","v":""},{"$f":"IF(ISBLANK(Responses!AD104), \"\", Responses!AD104)","v":""},{"$f":"IF(ISBLANK(Responses!AE104), \"\", Responses!AE104)","v":""},{"$f":"IF(ISBLANK(Responses!AF104), \"\", Responses!AF104)","v":""},{"$f":"IF(ISBLANK(Responses!AG104), \"\", Responses!AG104)","v":""},{"$f":"IF(ISBLANK(Responses!AH104), \"\", Responses!AH104)","v":""},{"$f":"IF(ISBLANK(Responses!AI104), \"\", Responses!AI104)","v":""},{"$f":"IF(ISBLANK(Responses!AJ104), \"\", Responses!AJ104)","v":""},{"$f":"IF(ISBLANK(Responses!AK104), \"\", Responses!AK104)","v":""},{"$f":"IF(ISBLANK(Responses!AL104), \"\", Responses!AL104)","v":""},{"$f":"IF(ISBLANK(Responses!AM104), \"\", Responses!AM104)","v":""},{"$f":"IF(ISBLANK(Responses!AN104), \"\", Responses!AN104)","v":""},{"$f":"IF(ISBLANK(Responses!AO104), \"\", Responses!AO104)","v":""},{"$f":"IF(ISBLANK(Responses!AP104), \"\", Responses!AP104)","v":""},{"$error":"#N/A"},{"$error":"#N/A"},{"$f":"IF(ISBLANK(C104),0,VLOOKUP(C104,LUTs!$A$6:$B$8,2))","v":{"$error":"#N/A"}},{"$f":"IF(ISBLANK(D104),0,VLOOKUP(D104,LUTs!$A$6:$B$8,2))","v":{"$error":"#N/A"}},{"$f":"IF(ISBLANK(E104),0,VLOOKUP(E104,LUTs!$A$6:$B$8,2))","v":{"$error":"#N/A"}},{"$f":"IF(ISBLANK(F104),0,VLOOKUP(F104,LUTs!$A$6:$B$8,2))","v":{"$error":"#N/A"}},{"$f":"IF(ISBLANK(G104),0,VLOOKUP(G104,LUTs!$A$6:$B$8,2))","v":{"$error":"#N/A"}},{"$f":"IF(ISBLANK(H104),0,VLOOKUP(H104,LUTs!$A$6:$B$8,2))","v":{"$error":"#N/A"}},{"$f":"IF(ISBLANK(I104),0,VLOOKUP(I104,LUTs!$A$6:$B$8,2))","v":{"$error":"#N/A"}},{"$f":"IF(ISBLANK(J104),0,VLOOKUP(J104,LUTs!$A$6:$B$8,2))","v":{"$error":"#N/A"}},{"$f":"IF(ISBLANK(K104),0,VLOOKUP(K104,LUTs!$A$6:$B$8,2))","v":{"$error":"#N/A"}},{"$f":"IF(ISBLANK(L104),0,VLOOKUP(L104,LUTs!$A$6:$B$8,2))","v":{"$error":"#N/A"}},{"$f":"IF(ISBLANK(M104),0,VLOOKUP(M104,LUTs!$A$6:$B$8,2))","v":{"$error":"#N/A"}},{"$f":"IF(ISBLANK(N104),0,VLOOKUP(N104,LUTs!$A$6:$B$8,2))","v":{"$error":"#N/A"}},{"$f":"IF(ISBLANK(O104),0,VLOOKUP(O104,LUTs!$A$6:$B$8,2))","v":{"$error":"#N/A"}},{"$f":"IF(ISBLANK(P104),0,VLOOKUP(P104,LUTs!$A$6:$B$8,2))","v":{"$error":"#N/A"}},{"$f":"IF(ISBLANK(Q104),0,VLOOKUP(Q104,LUTs!$A$6:$B$8,2))","v":{"$error":"#N/A"}},{"$f":"IF(ISBLANK(R104),0,IF(ISERROR(VLOOKUP(R104,LUTs!$A$6:$B$8,2)),R104,VLOOKUP(R104,LUTs!$A$6:$B$8,2)))","v":""},{"$f":"IF(ISBLANK(S104),0,VLOOKUP(S104,LUTs!$A$6:$B$8,2))","v":{"$error":"#N/A"}},{"$f":"IF(ISBLANK(T104),0,IF(ISERROR(VLOOKUP(T104,LUTs!$A$6:$B$8,2)),T104,VLOOKUP(T104,LUTs!$A$6:$B$8,2)))","v":""},{"$f":"IF(ISBLANK(U104),0,VLOOKUP(U104,LUTs!$A$6:$B$8,2))","v":{"$error":"#N/A"}},{"$f":"IF(ISBLANK(V104),0,VLOOKUP(V104,LUTs!$A$6:$B$8,2))","v":{"$error":"#N/A"}},{"$f":"IF(ISBLANK(W104),0,VLOOKUP(W104,LUTs!$A$6:$B$8,2))","v":{"$error":"#N/A"}},{"$f":"IF(ISBLANK(X104),0,VLOOKUP(X104,LUTs!$A$6:$B$8,2))","v":{"$error":"#N/A"}}]
[{"$f":"IF(ISBLANK(Responses!A105), \"\", Responses!A105)","v":""},{"$f":"IF(ISBLANK(Responses!B105), \"\", Responses!B105)","v":""},{"$f":"IF(ISBLANK(Responses!U105), \"\", Responses!U105)","v":""},{"$f":"IF(ISBLANK(Responses!V105), \"\", Responses!V105)","v":""},{"$f":"IF(ISBLANK(Responses!W105), \"\", Responses!W105)","v":""},{"$f":"IF(ISBLANK(Responses!X105), \"\", Responses!X105)","v":""},{"$f":"IF(ISBLANK(Responses!Y105), \"\", Responses!Y105)","v":""},{"$f":"IF(ISBLANK(Responses!Z105), \"\", Responses!Z105)","v":""},{"$f":"IF(ISBLANK(Responses!AA105), \"\", Responses!AA105)","v":""},{"$f":"IF(ISBLANK(Responses!AB105), \"\", Responses!AB105)","v":""},{"$f":"IF(ISBLANK(Responses!AC105), \"\", Responses!AC105)","v":""},{"$f":"IF(ISBLANK(Responses!AD105), \"\", Responses!AD105)","v":""},{"$f":"IF(ISBLANK(Responses!AE105), \"\", Responses!AE105)","v":""},{"$f":"IF(ISBLANK(Responses!AF105), \"\", Responses!AF105)","v":""},{"$f":"IF(ISBLANK(Responses!AG105), \"\", Responses!AG105)","v":""},{"$f":"IF(ISBLANK(Responses!AH105), \"\", Responses!AH105)","v":""},{"$f":"IF(ISBLANK(Responses!AI105), \"\", Responses!AI105)","v":""},{"$f":"IF(ISBLANK(Responses!AJ105), \"\", Responses!AJ105)","v":""},{"$f":"IF(ISBLANK(Responses!AK105), \"\", Responses!AK105)","v":""},{"$f":"IF(ISBLANK(Responses!AL105), \"\", Responses!AL105)","v":""},{"$f":"IF(ISBLANK(Responses!AM105), \"\", Responses!AM105)","v":""},{"$f":"IF(ISBLANK(Responses!AN105), \"\", Responses!AN105)","v":""},{"$f":"IF(ISBLANK(Responses!AO105), \"\", Responses!AO105)","v":""},{"$f":"IF(ISBLANK(Responses!AP105), \"\", Responses!AP105)","v":""},{"$error":"#N/A"},{"$error":"#N/A"},{"$f":"IF(ISBLANK(C105),0,VLOOKUP(C105,LUTs!$A$6:$B$8,2))","v":{"$error":"#N/A"}},{"$f":"IF(ISBLANK(D105),0,VLOOKUP(D105,LUTs!$A$6:$B$8,2))","v":{"$error":"#N/A"}},{"$f":"IF(ISBLANK(E105),0,VLOOKUP(E105,LUTs!$A$6:$B$8,2))","v":{"$error":"#N/A"}},{"$f":"IF(ISBLANK(F105),0,VLOOKUP(F105,LUTs!$A$6:$B$8,2))","v":{"$error":"#N/A"}},{"$f":"IF(ISBLANK(G105),0,VLOOKUP(G105,LUTs!$A$6:$B$8,2))","v":{"$error":"#N/A"}},{"$f":"IF(ISBLANK(H105),0,VLOOKUP(H105,LUTs!$A$6:$B$8,2))","v":{"$error":"#N/A"}},{"$f":"IF(ISBLANK(I105),0,VLOOKUP(I105,LUTs!$A$6:$B$8,2))","v":{"$error":"#N/A"}},{"$f":"IF(ISBLANK(J105),0,VLOOKUP(J105,LUTs!$A$6:$B$8,2))","v":{"$error":"#N/A"}},{"$f":"IF(ISBLANK(K105),0,VLOOKUP(K105,LUTs!$A$6:$B$8,2))","v":{"$error":"#N/A"}},{"$f":"IF(ISBLANK(L105),0,VLOOKUP(L105,LUTs!$A$6:$B$8,2))","v":{"$error":"#N/A"}},{"$f":"IF(ISBLANK(M105),0,VLOOKUP(M105,LUTs!$A$6:$B$8,2))","v":{"$error":"#N/A"}},{"$f":"IF(ISBLANK(N105),0,VLOOKUP(N105,LUTs!$A$6:$B$8,2))","v":{"$error":"#N/A"}},{"$f":"IF(ISBLANK(O105),0,VLOOKUP(O105,LUTs!$A$6:$B$8,2))","v":{"$error":"#N/A"}},{"$f":"IF(ISBLANK(P105),0,VLOOKUP(P105,LUTs!$A$6:$B$8,2))","v":{"$error":"#N/A"}},{"$f":"IF(ISBLANK(Q105),0,VLOOKUP(Q105,LUTs!$A$6:$B$8,2))","v":{"$error":"#N/A"}},{"$f":"IF(ISBLANK(R105),0,IF(ISERROR(VLOOKUP(R105,LUTs!$A$6:$B$8,2)),R105,VLOOKUP(R105,LUTs!$A$6:$B$8,2)))","v":""},{"$f":"IF(ISBLANK(S105),0,VLOOKUP(S105,LUTs!$A$6:$B$8,2))","v":{"$error":"#N/A"}},{"$f":"IF(ISBLANK(T105),0,IF(ISERROR(VLOOKUP(T105,LUTs!$A$6:$B$8,2)),T105,VLOOKUP(T105,LUTs!$A$6:$B$8,2)))","v":""},{"$f":"IF(ISBLANK(U105),0,VLOOKUP(U105,LUTs!$A$6:$B$8,2))","v":{"$error":"#N/A"}},{"$f":"IF(ISBLANK(V105),0,VLOOKUP(V105,LUTs!$A$6:$B$8,2))","v":{"$error":"#N/A"}},{"$f":"IF(ISBLANK(W105),0,VLOOKUP(W105,LUTs!$A$6:$B$8,2))","v":{"$error":"#N/A"}},{"$f":"IF(ISBLANK(X105),0,VLOOKUP(X105,LUTs!$A$6:$B$8,2))","v":{"$error":"#N/A"}}]
[{"$f":"IF(ISBLANK(Responses!A106), \"\", Responses!A106)","v":""},{"$f":"IF(ISBLANK(Responses!B106), \"\", Responses!B106)","v":""},{"$f":"IF(ISBLANK(Responses!U106), \"\", Responses!U106)","v":""},{"$f":"IF(ISBLANK(Responses!V106), \"\", Responses!V106)","v":""},{"$f":"IF(ISBLANK(Responses!W106), \"\", Responses!W106)","v":""},{"$f":"IF(ISBLANK(Responses!X106), \"\", Responses!X106)","v":""},{"$f":"IF(ISBLANK(Responses!Y106), \"\", Responses!Y106)","v":""},{"$f":"IF(ISBLANK(Responses!Z106), \"\", Responses!Z106)","v":""},{"$f":"IF(ISBLANK(Responses!AA106), \"\", Responses!AA106)","v":""},{"$f":"IF(ISBLANK(Responses!AB106), \"\", Responses!AB106)","v":""},{"$f":"IF(ISBLANK(Responses!AC106), \"\", Responses!AC106)","v":""},{"$f":"IF(ISBLANK(Responses!AD106), \"\", Responses!AD106)","v":""},{"$f":"IF(ISBLANK(Responses!AE106), \"\", Responses!AE106)","v":""},{"$f":"IF(ISBLANK(Responses!AF106), \"\", Responses!AF106)","v":""},{"$f":"IF(ISBLANK(Responses!AG106), \"\", Responses!AG106)","v":""},{"$f":"IF(ISBLANK(Responses!AH106), \"\", Responses!AH106)","v":""},{"$f":"IF(ISBLANK(Responses!AI106), \"\", Responses!AI106)","v":""},{"$f":"IF(ISBLANK(Responses!AJ106), \"\", Responses!AJ106)","v":""},{"$f":"IF(ISBLANK(Responses!AK106), \"\", Responses!AK106)","v":""},{"$f":"IF(ISBLANK(Responses!AL106), \"\", Responses!AL106)","v":""},{"$f":"IF(ISBLANK(Responses!AM106), \"\", Responses!AM106)","v":""},{"$f":"IF(ISBLANK(Responses!AN106), \"\", Responses!AN106)","v":""},{"$f":"IF(ISBLANK(Responses!AO106), \"\", Responses!AO106)","v":""},{"$f":"IF(ISBLANK(Responses!AP106), \"\", Responses!AP106)","v":""},{"$error":"#N/A"},{"$error":"#N/A"},{"$f":"IF(ISBLANK(C106),0,VLOOKUP(C106,LUTs!$A$6:$B$8,2))","v":{"$error":"#N/A"}},{"$f":"IF(ISBLANK(D106),0,VLOOKUP(D106,LUTs!$A$6:$B$8,2))","v":{"$error":"#N/A"}},{"$f":"IF(ISBLANK(E106),0,VLOOKUP(E106,LUTs!$A$6:$B$8,2))","v":{"$error":"#N/A"}},{"$f":"IF(ISBLANK(F106),0,VLOOKUP(F106,LUTs!$A$6:$B$8,2))","v":{"$error":"#N/A"}},{"$f":"IF(ISBLANK(G106),0,VLOOKUP(G106,LUTs!$A$6:$B$8,2))","v":{"$error":"#N/A"}},{"$f":"IF(ISBLANK(H106),0,VLOOKUP(H106,LUTs!$A$6:$B$8,2))","v":{"$error":"#N/A"}},{"$f":"IF(ISBLANK(I106),0,VLOOKUP(I106,LUTs!$A$6:$B$8,2))","v":{"$error":"#N/A"}},{"$f":"IF(ISBLANK(J106),0,VLOOKUP(J106,LUTs!$A$6:$B$8,2))","v":{"$error":"#N/A"}},{"$f":"IF(ISBLANK(K106),0,VLOOKUP(K106,LUTs!$A$6:$B$8,2))","v":{"$error":"#N/A"}},{"$f":"IF(ISBLANK(L106),0,VLOOKUP(L106,LUTs!$A$6:$B$8,2))","v":{"$error":"#N/A"}},{"$f":"IF(ISBLANK(M106),0,VLOOKUP(M106,LUTs!$A$6:$B$8,2))","v":{"$error":"#N/A"}},{"$f":"IF(ISBLANK(N106),0,VLOOKUP(N106,LUTs!$A$6:$B$8,2))","v":{"$error":"#N/A"}},{"$f":"IF(ISBLANK(O106),0,VLOOKUP(O106,LUTs!$A$6:$B$8,2))","v":{"$error":"#N/A"}},{"$f":"IF(ISBLANK(P106),0,VLOOKUP(P106,LUTs!$A$6:$B$8,2))","v":{"$error":"#N/A"}},{"$f":"IF(ISBLANK(Q106),0,VLOOKUP(Q106,LUTs!$A$6:$B$8,2))","v":{"$error":"#N/A"}},{"$f":"IF(ISBLANK(R106),0,IF(ISERROR(VLOOKUP(R106,LUTs!$A$6:$B$8,2)),R106,VLOOKUP(R106,LUTs!$A$6:$B$8,2)))","v":""},{"$f":"IF(ISBLANK(S106),0,VLOOKUP(S106,LUTs!$A$6:$B$8,2))","v":{"$error":"#N/A"}},{"$f":"IF(ISBLANK(T106),0,IF(ISERROR(VLOOKUP(T106,LUTs!$A$6:$B$8,2)),T106,VLOOKUP(T106,LUTs!$A$6:$B$8,2)))","v":""},{"$f":"IF(ISBLANK(U106),0,VLOOKUP(U106,LUTs!$A$6:$B$8,2))","v":{"$error":"#N/A"}},{"$f":"IF(ISBLANK(V106),0,VLOOKUP(V106,LUTs!$A$6:$B$8,2))","v":{"$error":"#N/A"}},{"$f":"IF(ISBLANK(W106),0,VLOOKUP(W106,LUTs!$A$6:$B$8,2))","v":{"$error":"#N/A"}},{"$f":"IF(ISBLANK(X106),0,VLOOKUP(X106,LUTs!$A$6:$B$8,2))","v":{"$error":"#N/A"}}]
[{"$f":"IF(ISBLANK(Responses!A107), \"\", Responses!A107)","v":""},{"$f":"IF(ISBLANK(Responses!B107), \"\", Responses!B107)","v":""},{"$f":"IF(ISBLANK(Responses!U107), \"\", Responses!U107)","v":""},{"$f":"IF(ISBLANK(Responses!V107), \"\", Responses!V107)","v":""},{"$f":"IF(ISBLANK(Responses!W107), \"\", Responses!W107)","v":""},{"$f":"IF(ISBLANK(Responses!X107), \"\", Responses!X107)","v":""},{"$f":"IF(ISBLANK(Responses!Y107), \"\", Responses!Y107)","v":""},{"$f":"IF(ISBLANK(Responses!Z107), \"\", Responses!Z107)","v":""},{"$f":"IF(ISBLANK(Responses!AA107), \"\", Responses!AA107)","v":""},{"$f":"IF(ISBLANK(Responses!AB107), \"\", Responses!AB107)","v":""},{"$f":"IF(ISBLANK(Responses!AC107), \"\", Responses!AC107)","v":""},{"$f":"IF(ISBLANK(Responses!AD107), \"\", Responses!AD107)","v":""},{"$f":"IF(ISBLANK(Responses!AE107), \"\", Responses!AE107)","v":""},{"$f":"IF(ISBLANK(Responses!AF107), \"\", Responses!AF107)","v":""},{"$f":"IF(ISBLANK(Responses!AG107), \"\", Responses!AG107)","v":""},{"$f":"IF(ISBLANK(Responses!AH107), \"\", Responses!AH107)","v":""},{"$f":"IF(ISBLANK(Responses!AI107), \"\", Responses!AI107)","v":""},{"$f":"IF(ISBLANK(Responses!AJ107), \"\", Responses!AJ107)","v":""},{"$f":"IF(ISBLANK(Responses!AK107), \"\", Responses!AK107)","v":""},{"$f":"IF(ISBLANK(Responses!AL107), \"\", Responses!AL107)","v":""},{"$f":"IF(ISBLANK(Responses!AM107), \"\", Responses!AM107)","v":""},{"$f":"IF(ISBLANK(Responses!AN107), \"\", Responses!AN107)","v":""},{"$f":"IF(ISBLANK(Responses!AO107), \"\", Responses!AO107)","v":""},{"$f":"IF(ISBLANK(Responses!AP107), \"\", Responses!AP107)","v":""},{"$error":"#N/A"},{"$error":"#N/A"},{"$f":"IF(ISBLANK(C107),0,VLOOKUP(C107,LUTs!$A$6:$B$8,2))","v":{"$error":"#N/A"}},{"$f":"IF(ISBLANK(D107),0,VLOOKUP(D107,LUTs!$A$6:$B$8,2))","v":{"$error":"#N/A"}},{"$f":"IF(ISBLANK(E107),0,VLOOKUP(E107,LUTs!$A$6:$B$8,2))","v":{"$error":"#N/A"}},{"$f":"IF(ISBLANK(F107),0,VLOOKUP(F107,LUTs!$A$6:$B$8,2))","v":{"$error":"#N/A"}},{"$f":"IF(ISBLANK(G107),0,VLOOKUP(G107,LUTs!$A$6:$B$8,2))","v":{"$error":"#N/A"}},{"$f":"IF(ISBLANK(H107),0,VLOOKUP(H107,LUTs!$A$6:$B$8,2))","v":{"$error":"#N/A"}},{"$f":"IF(ISBLANK(I107),0,VLOOKUP(I107,LUTs!$A$6:$B$8,2))","v":{"$error":"#N/A"}},{"$f":"IF(ISBLANK(J107),0,VLOOKUP(J107,LUTs!$A$6:$B$8,2))","v":{"$error":"#N/A"}},{"$f":"IF(ISBLANK(K107),0,VLOOKUP(K107,LUTs!$A$6:$B$8,2))","v":{"$error":"#N/A"}},{"$f":"IF(ISBLANK(L107),0,VLOOKUP(L107,LUTs!$A$6:$B$8,2))","v":{"$error":"#N/A"}},{"$f":"IF(ISBLANK(M107),0,VLOOKUP(M107,LUTs!$A$6:$B$8,2))","v":{"$error":"#N/A"}},{"$f":"IF(ISBLANK(N107),0,VLOOKUP(N107,LUTs!$A$6:$B$8,2))","v":{"$error":"#N/A"}},{"$f":"IF(ISBLANK(O107),0,VLOOKUP(O107,LUTs!$A$6:$B$8,2))","v":{"$error":"#N/A"}},{"$f":"IF(ISBLANK(P107),0,VLOOKUP(P107,LUTs!$A$6:$B$8,2))","v":{"$error":"#N/A"}},{"$f":"IF(ISBLANK(Q107),0,VLOOKUP(Q107,LUTs!$A$6:$B$8,2))","v":{"$error":"#N/A"}},{"$f":"IF(ISBLANK(R107),0,IF(ISERROR(VLOOKUP(R107,LUTs!$A$6:$B$8,2)),R107,VLOOKUP(R107,LUTs!$A$6:$B$8,2)))","v":""},{"$f":"IF(ISBLANK(S107),0,VLOOKUP(S107,LUTs!$A$6:$B$8,2))","v":{"$error":"#N/A"}},{"$f":"IF(ISBLANK(T107),0,IF(ISERROR(VLOOKUP(T107,LUTs!$A$6:$B$8,2)),T107,VLOOKUP(T107,LUTs!$A$6:$B$8,2)))","v":""},{"$f":"IF(ISBLANK(U107),0,VLOOKUP(U107,LUTs!$A$6:$B$8,2))","v":{"$error":"#N/A"}},{"$f":"IF(ISBLANK(V107),0,VLOOKUP(V107,LUTs!$A$6:$B$8,2))","v":{"$error":"#N/A"}},{"$f":"IF(ISBLANK(W107),0,VLOOKUP(W107,LUTs!$A$6:$B$8,2))","v":{"$error":"#N/A"}},{"$f":"IF(ISBLANK(X107),0,VLOOKUP(X107,LUTs!$A$6:$B$8,2))","v":{"$error":"#N/A"}}]
[{"$f":"IF(ISBLANK(Responses!A108), \"\", Responses!A108)","v":""},{"$f":"IF(ISBLANK(Responses!B108), \"\", Responses!B108)","v":""},{"$f":"IF(ISBLANK(Responses!U108), \"\", Responses!U108)","v":""},{"$f":"IF(ISBLANK(Responses!V108), \"\", Responses!V108)","v":""},{"$f":"IF(ISBLANK(Responses!W108), \"\", Responses!W108)","v":""},{"$f":"IF(ISBLANK(Responses!X108), \"\", Responses!X108)","v":""},{"$f":"IF(ISBLANK(Responses!Y108), \"\", Responses!Y108)","v":""},{"$f":"IF(ISBLANK(Responses!Z108), \"\", Responses!Z108)","v":""},{"$f":"IF(ISBLANK(Responses!AA108), \"\", Responses!AA108)","v":""},{"$f":"IF(ISBLANK(Responses!AB108), \"\", Responses!AB108)","v":""},{"$f":"IF(ISBLANK(Responses!AC108), \"\", Responses!AC108)","v":""},{"$f":"IF(ISBLANK(Responses!AD108), \"\", Responses!AD108)","v":""},{"$f":"IF(ISBLANK(Responses!AE108), \"\", Responses!AE108)","v":""},{"$f":"IF(ISBLANK(Responses!AF108), \"\", Responses!AF108)","v":""},{"$f":"IF(ISBLANK(Responses!AG108), \"\", Responses!AG108)","v":""},{"$f":"IF(ISBLANK(Responses!AH108), \"\", Responses!AH108)","v":""},{"$f":"IF(ISBLANK(Responses!AI108), \"\", Responses!AI108)","v":""},{"$f":"IF(ISBLANK(Responses!AJ108), \"\", Responses!AJ108)","v":""},{"$f":"IF(ISBLANK(Responses!AK108), \"\", Responses!AK108)","v":""},{"$f":"IF(ISBLANK(Responses!AL108), \"\", Responses!AL108)","v":""},{"$f":"IF(ISBLANK(Responses!AM108), \"\", Responses!AM108)","v":""},{"$f":"IF(ISBLANK(Responses!AN108), \"\", Responses!AN108)","v":""},{"$f":"IF(ISBLANK(Responses!AO108), \"\", Responses!AO108)","v":""},{"$f":"IF(ISBLANK(Responses!AP108), \"\", Responses!AP108)","v":""},{"$error":"#N/A"},{"$error":"#N/A"},{"$f":"IF(ISBLANK(C108),0,VLOOKUP(C108,LUTs!$A$6:$B$8,2))","v":{"$error":"#N/A"}},{"$f":"IF(ISBLANK(D108),0,VLOOKUP(D108,LUTs!$A$6:$B$8,2))","v":{"$error":"#N/A"}},{"$f":"IF(ISBLANK(E108),0,VLOOKUP(E108,LUTs!$A$6:$B$8,2))","v":{"$error":"#N/A"}},{"$f":"IF(ISBLANK(F108),0,VLOOKUP(F108,LUTs!$A$6:$B$8,2))","v":{"$error":"#N/A"}},{"$f":"IF(ISBLANK(G108),0,VLOOKUP(G108,LUTs!$A$6:$B$8,2))","v":{"$error":"#N/A"}},{"$f":"IF(ISBLANK(H108),0,VLOOKUP(H108,LUTs!$A$6:$B$8,2))","v":{"$error":"#N/A"}},{"$f":"IF(ISBLANK(I108),0,VLOOKUP(I108,LUTs!$A$6:$B$8,2))","v":{"$error":"#N/A"}},{"$f":"IF(ISBLANK(J108),0,VLOOKUP(J108,LUTs!$A$6:$B$8,2))","v":{"$error":"#N/A"}},{"$f":"IF(ISBLANK(K108),0,VLOOKUP(K108,LUTs!$A$6:$B$8,2))","v":{"$error":"#N/A"}},{"$f":"IF(ISBLANK(L108),0,VLOOKUP(L108,LUTs!$A$6:$B$8,2))","v":{"$error":"#N/A"}},{"$f":"IF(ISBLANK(M108),0,VLOOKUP(M108,LUTs!$A$6:$B$8,2))","v":{"$error":"#N/A"}},{"$f":"IF(ISBLANK(N108),0,VLOOKUP(N108,LUTs!$A$6:$B$8,2))","v":{"$error":"#N/A"}},{"$f":"IF(ISBLANK(O108),0,VLOOKUP(O108,LUTs!$A$6:$B$8,2))","v":{"$error":"#N/A"}},{"$f":"IF(ISBLANK(P108),0,VLOOKUP(P108,LUTs!$A$6:$B$8,2))","v":{"$error":"#N/A"}},{"$f":"IF(ISBLANK(Q108),0,VLOOKUP(Q108,LUTs!$A$6:$B$8,2))","v":{"$error":"#N/A"}},{"$f":"IF(ISBLANK(R108),0,IF(ISERROR(VLOOKUP(R108,LUTs!$A$6:$B$8,2)),R108,VLOOKUP(R108,LUTs!$A$6:$B$8,2)))","v":""},{"$f":"IF(ISBLANK(S108),0,VLOOKUP(S108,LUTs!$A$6:$B$8,2))","v":{"$error":"#N/A"}},{"$f":"IF(ISBLANK(T108),0,IF(ISERROR(VLOOKUP(T108,LUTs!$A$6:$B$8,2)),T108,VLOOKUP(T108,LUTs!$A$6:$B$8,2)))","v":""},{"$f":"IF(ISBLANK(U108),0,VLOOKUP(U108,LUTs!$A$6:$B$8,2))","v":{"$error":"#N/A"}},{"$f":"IF(ISBLANK(V108),0,VLOOKUP(V108,LUTs!$A$6:$B$8,2))","v":{"$error":"#N/A"}},{"$f":"IF(ISBLANK(W108),0,VLOOKUP(W108,LUTs!$A$6:$B$8,2))","v":{"$error":"#N/A"}},{"$f":"IF(ISBLANK(X108),0,VLOOKUP(X108,LUTs!$A$6:$B$8,2))","v":{"$error":"#N/A"}}]
[{"$f":"IF(ISBLANK(Responses!A109), \"\", Responses!A109)","v":""},{"$f":"IF(ISBLANK(Responses!B109), \"\", Responses!B109)","v":""},{"$f":"IF(ISBLANK(Responses!U109), \"\", Responses!U109)","v":""},{"$f":"IF(ISBLANK(Responses!V109), \"\", Responses!V109)","v":""},{"$f":"IF(ISBLANK(Responses!W109), \"\", Responses!W109)","v":""},{"$f":"IF(ISBLANK(Responses!X109), \"\", Responses!X109)","v":""},{"$f":"IF(ISBLANK(Responses!Y109), \"\", Responses!Y109)","v":""},{"$f":"IF(ISBLANK(Responses!Z109), \"\", Responses!Z109)","v":""},{"$f":"IF(ISBLANK(Responses!AA109), \"\", Responses!AA109)","v":""},{"$f":"IF(ISBLANK(Responses!AB109), \"\", Responses!AB109)","v":""},{"$f":"IF(ISBLANK(Responses!AC109), \"\", Responses!AC109)","v":""},{"$f":"IF(ISBLANK(Responses!AD109), \"\", Responses!AD109)","v":""},{"$f":"IF(ISBLANK(Responses!AE109), \"\", Responses!AE109)","v":""},{"$f":"IF(ISBLANK(Responses!AF109), \"\", Responses!AF109)","v":""},{"$f":"IF(ISBLANK(Responses!AG109), \"\", Responses!AG109)","v":""},{"$f":"IF(ISBLANK(Responses!AH109), \"\", Responses!AH109)","v":""},{"$f":"IF(ISBLANK(Responses!AI109), \"\", Responses!AI109)","v":""},{"$f":"IF(ISBLANK(Responses!AJ109), \"\", Responses!AJ109)","v":""},{"$f":"IF(ISBLANK(Responses!AK109), \"\", Responses!AK109)","v":""},{"$f":"IF(ISBLANK(Responses!AL109), \"\", Responses!AL109)","v":""},{"$f":"IF(ISBLANK(Responses!AM109), \"\", Responses!AM109)","v":""},{"$f":"IF(ISBLANK(Responses!AN109), \"\", Responses!AN109)","v":""},{"$f":"IF(ISBLANK(Responses!AO109), \"\", Responses!AO109)","v":""},{"$f":"IF(ISBLANK(Responses!AP109), \"\", Responses!AP109)","v":""},{"$error":"#N/A"},{"$error":"#N/A"},{"$f":"IF(ISBLANK(C109),0,VLOOKUP(C109,LUTs!$A$6:$B$8,2))","v":{"$error":"#N/A"}},{"$f":"IF(ISBLANK(D109),0,VLOOKUP(D109,LUTs!$A$6:$B$8,2))","v":{"$error":"#N/A"}},{"$f":"IF(ISBLANK(E109),0,VLOOKUP(E109,LUTs!$A$6:$B$8,2))","v":{"$error":"#N/A"}},{"$f":"IF(ISBLANK(F109),0,VLOOKUP(F109,LUTs!$A$6:$B$8,2))","v":{"$error":"#N/A"}},{"$f":"IF(ISBLANK(G109),0,VLOOKUP(G109,LUTs!$A$6:$B$8,2))","v":{"$error":"#N/A"}},{"$f":"IF(ISBLANK(H109),0,VLOOKUP(H109,LUTs!$A$6:$B$8,2))","v":{"$error":"#N/A"}},{"$f":"IF(ISBLANK(I109),0,VLOOKUP(I109,LUTs!$A$6:$B$8,2))","v":{"$error":"#N/A"}},{"$f":"IF(ISBLANK(J109),0,VLOOKUP(J109,LUTs!$A$6:$B$8,2))","v":{"$error":"#N/A"}},{"$f":"IF(ISBLANK(K109),0,VLOOKUP(K109,LUTs!$A$6:$B$8,2))","v":{"$error":"#N/A"}},{"$f":"IF(ISBLANK(L109),0,VLOOKUP(L109,LUTs!$A$6:$B$8,2))","v":{"$error":"#N/A"}},{"$f":"IF(ISBLANK(M109),0,VLOOKUP(M109,LUTs!$A$6:$B$8,2))","v":{"$error":"#N/A"}},{"$f":"IF(ISBLANK(N109),0,VLOOKUP(N109,LUTs!$A$6:$B$8,2))","v":{"$error":"#N/A"}},{"$f":"IF(ISBLANK(O109),0,VLOOKUP(O109,LUTs!$A$6:$B$8,2))","v":{"$error":"#N/A"}},{"$f":"IF(ISBLANK(P109),0,VLOOKUP(P109,LUTs!$A$6:$B$8,2))","v":{"$error":"#N/A"}},{"$f":"IF(ISBLANK(Q109),0,VLOOKUP(Q109,LUTs!$A$6:$B$8,2))","v":{"$error":"#N/A"}},{"$f":"IF(ISBLANK(R109),0,IF(ISERROR(VLOOKUP(R109,LUTs!$A$6:$B$8,2)),R109,VLOOKUP(R109,LUTs!$A$6:$B$8,2)))","v":""},{"$f":"IF(ISBLANK(S109),0,VLOOKUP(S109,LUTs!$A$6:$B$8,2))","v":{"$error":"#N/A"}},{"$f":"IF(ISBLANK(T109),0,IF(ISERROR(VLOOKUP(T109,LUTs!$A$6:$B$8,2)),T109,VLOOKUP(T109,LUTs!$A$6:$B$8,2)))","v":""},{"$f":"IF(ISBLANK(U109),0,VLOOKUP(U109,LUTs!$A$6:$B$8,2))","v":{"$error":"#N/A"}},{"$f":"IF(ISBLANK(V109),0,VLOOKUP(V109,LUTs!$A$6:$B$8,2))","v":{"$error":"#N/A"}},{"$f":"IF(ISBLANK(W109),0,VLOOKUP(W109,LUTs!$A$6:$B$8,2))","v":{"$error":"#N/A"}},{"$f":"IF(ISBLANK(X109),0,VLOOKUP(X109,LUTs!$A$6:$B$8,2))","v":{"$error":"#N/A"}}]
[{"$f":"IF(ISBLANK(Responses!A110), \"\", Responses!A110)","v":""},{"$f":"IF(ISBLANK(Responses!B110), \"\", Responses!B110)","v":""},{"$f":"IF(ISBLANK(Responses!U110), \"\", Responses!U110)","v":""},{"$f":"IF(ISBLANK(Responses!V110), \"\", Responses!V110)","v":""},{"$f":"IF(ISBLANK(Responses!W110), \"\", Responses!W110)","v":""},{"$f":"IF(ISBLANK(Responses!X110), \"\", Responses!X110)","v":""},{"$f":"IF(ISBLANK(Responses!Y110), \"\", Responses!Y110)","v":""},{"$f":"IF(ISBLANK(Responses!Z110), \"\", Responses!Z110)","v":""},{"$f":"IF(ISBLANK(Responses!AA110), \"\", Responses!AA110)","v":""},{"$f":"IF(ISBLANK(Responses!AB110), \"\", Responses!AB110)","v":""},{"$f":"IF(ISBLANK(Responses!AC110), \"\", Responses!AC110)","v":""},{"$f":"IF(ISBLANK(Responses!AD110), \"\", Responses!AD110)","v":""},{"$f":"IF(ISBLANK(Responses!AE110), \"\", Responses!AE110)","v":""},{"$f":"IF(ISBLANK(Responses!AF110), \"\", Responses!AF110)","v":""},{"$f":"IF(ISBLANK(Responses!AG110), \"\", Responses!AG110)","v":""},{"$f":"IF(ISBLANK(Responses!AH110), \"\", Responses!AH110)","v":""},{"$f":"IF(ISBLANK(Responses!AI110), \"\", Responses!AI110)","v":""},{"$f":"IF(ISBLANK(Responses!AJ110), \"\", Responses!AJ110)","v":""},{"$f":"IF(ISBLANK(Responses!AK110), \"\", Responses!AK110)","v":""},{"$f":"IF(ISBLANK(Responses!AL110), \"\", Responses!AL110)","v":""},{"$f":"IF(ISBLANK(Responses!AM110), \"\", Responses!AM110)","v":""},{"$f":"IF(ISBLANK(Responses!AN110), \"\", Responses!AN110)","v":""},{"$f":"IF(ISBLANK(Responses!AO110), \"\", Responses!AO110)","v":""},{"$f":"IF(ISBLANK(Responses!AP110), \"\", Responses!AP110)","v":""}]
[{"$f":"IF(ISBLANK(Responses!A111), \"\", Responses!A111)","v":""},{"$f":"IF(ISBLANK(Responses!B111), \"\", Responses!B111)","v":""},{"$f":"IF(ISBLANK(Responses!U111), \"\", Responses!U111)","v":""},{"$f":"IF(ISBLANK(Responses!V111), \"\", Responses!V111)","v":""},{"$f":"IF(ISBLANK(Responses!W111), \"\", Responses!W111)","v":""},{"$f":"IF(ISBLANK(Responses!X111), \"\", Responses!X111)","v":""},{"$f":"IF(ISBLANK(Responses!Y111), \"\", Responses!Y111)","v":""},{"$f":"IF(ISBLANK(Responses!Z111), \"\", Responses!Z111)","v":""},{"$f":"IF(ISBLANK(Responses!AA111), \"\", Responses!AA111)","v":""},{"$f":"IF(ISBLANK(Responses!AB111), \"\", Responses!AB111)","v":""},{"$f":"IF(ISBLANK(Responses!AC111), \"\", Responses!AC111)","v":""},{"$f":"IF(ISBLANK(Responses!AD111), \"\", Responses!AD111)","v":""},{"$f":"IF(ISBLANK(Responses!AE111), \"\", Responses!AE111)","v":""},{"$f":"IF(ISBLANK(Responses!AF111), \"\", Responses!AF111)","v":""},{"$f":"IF(ISBLANK(Responses!AG111), \"\", Responses!AG111)","v":""},{"$f":"IF(ISBLANK(Responses!AH111), \"\", Responses!AH111)","v":""},{"$f":"IF(ISBLANK(Responses!AI111), \"\", Responses!AI111)","v":""},{"$f":"IF(ISBLANK(Responses!AJ111), \"\", Responses!AJ111)","v":""},{"$f":"IF(ISBLANK(Responses!AK111), \"\", Responses!AK111)","v":""},{"$f":"IF(ISBLANK(Responses!AL111), \"\", Responses!AL111)","v":""},{"$f":"IF(ISBLANK(Responses!AM111), \"\", Responses!AM111)","v":""},{"$f":"IF(ISBLANK(Responses!AN111), \"\", Responses!AN111)","v":""},{"$f":"IF(ISBLANK(Responses!AO111), \"\", Responses!AO111)","v":""},{"$f":"IF(ISBLANK(Responses!AP111), \"\", Responses!AP111)","v":""}]
[{"$f":"IF(ISBLANK(Responses!A112), \"\", Responses!A112)","v":""},{"$f":"IF(ISBLANK(Responses!B112), \"\", Responses!B112)","v":""},{"$f":"IF(ISBLANK(Responses!U112), \"\", Responses!U112)","v":""},{"$f":"IF(ISBLANK(Responses!V112), \"\", Responses!V112)","v":""},{"$f":"IF(ISBLANK(Responses!W112), \"\", Responses!W112)","v":""},{"$f":"IF(ISBLANK(Responses!X112), \"\", Responses!X112)","v":""},{"$f":"IF(ISBLANK(Responses!Y112), \"\", Responses!Y112)","v":""},{"$f":"IF(ISBLANK(Responses!Z112), \"\", Responses!Z112)","v":""},{"$f":"IF(ISBLANK(Responses!AA112), \"\", Responses!AA112)","v":""},{"$f":"IF(ISBLANK(Responses!AB112), \"\", Responses!AB112)","v":""},{"$f":"IF(ISBLANK(Responses!AC112), \"\", Responses!AC112)","v":""},{"$f":"IF(ISBLANK(Responses!AD112), \"\", Responses!AD112)","v":""},{"$f":"IF(ISBLANK(Responses!AE112), \"\", Responses!AE112)","v":""},{"$f":"IF(ISBLANK(Responses!AF112), \"\", Responses!AF112)","v":""},{"$f":"IF(ISBLANK(Responses!AG112), \"\", Responses!AG112)","v":""},{"$f":"IF(ISBLANK(Responses!AH112), \"\", Responses!AH112)","v":""},{"$f":"IF(ISBLANK(Responses!AI112), \"\", Responses!AI112)","v":""},{"$f":"IF(ISBLANK(Responses!AJ112), \"\", Responses!AJ112)","v":""},{"$f":"IF(ISBLANK(Responses!AK112), \"\", Responses!AK112)","v":""},{"$f":"IF(ISBLANK(Responses!AL112), \"\", Responses!AL112)","v":""},{"$f":"IF(ISBLANK(Responses!AM112), \"\", Responses!AM112)","v":""},{"$f":"IF(ISBLANK(Responses!AN112), \"\", Responses!AN112)","v":""},{"$f":"IF(ISBLANK(Responses!AO112), \"\", Responses!AO112)","v":""},{"$f":"IF(ISBLANK(Responses!AP112), \"\", Responses!AP112)","v":""}]
[{"$f":"IF(ISBLANK(Responses!A113), \"\", Responses!A113)","v":""},{"$f":"IF(ISBLANK(Responses!B113), \"\", Responses!B113)","v":""},{"$f":"IF(ISBLANK(Responses!U113), \"\", Responses!U113)","v":""},{"$f":"IF(ISBLANK(Responses!V113), \"\", Responses!V113)","v":""},{"$f":"IF(ISBLANK(Responses!W113), \"\", Responses!W113)","v":""},{"$f":"IF(ISBLANK(Responses!X113), \"\", Responses!X113)","v":""},{"$f":"IF(ISBLANK(Responses!Y113), \"\", Responses!Y113)","v":""},{"$f":"IF(ISBLANK(Responses!Z113), \"\", Responses!Z113)","v":""},{"$f":"IF(ISBLANK(Responses!AA113), \"\", Responses!AA113)","v":""},{"$f":"IF(ISBLANK(Responses!AB113), \"\", Responses!AB113)","v":""},{"$f":"IF(ISBLANK(Responses!AC113), \"\", Responses!AC113)","v":""},{"$f":"IF(ISBLANK(Responses!AD113), \"\", Responses!AD113)","v":""},{"$f":"IF(ISBLANK(Responses!AE113), \"\", Responses!AE113)","v":""},{"$f":"IF(ISBLANK(Responses!AF113), \"\", Responses!AF113)","v":""},{"$f":"IF(ISBLANK(Responses!AG113), \"\", Responses!AG113)","v":""},{"$f":"IF(ISBLANK(Responses!AH113), \"\", Responses!AH113)","v":""},{"$f":"IF(ISBLANK(Responses!AI113), \"\", Responses!AI113)","v":""},{"$f":"IF(ISBLANK(Responses!AJ113), \"\", Responses!AJ113)","v":""},{"$f":"IF(ISBLANK(Responses!AK113), \"\", Responses!AK113)","v":""},{"$f":"IF(ISBLANK(Responses!AL113), \"\", Responses!AL113)","v":""},{"$f":"IF(ISBLANK(Responses!AM113), \"\", Responses!AM113)","v":""},{"$f":"IF(ISBLANK(Responses!AN113), \"\", Responses!AN113)","v":""},{"$f":"IF(ISBLANK(Responses!AO113), \"\", Responses!AO113)","v":""},{"$f":"IF(ISBLANK(Responses!AP113), \"\", Responses!AP113)","v":""}]
[{"$f":"IF(ISBLANK(Responses!A114), \"\", Responses!A114)","v":""},{"$f":"IF(ISBLANK(Responses!B114), \"\", Responses!B114)","v":""},{"$f":"IF(ISBLANK(Responses!U114), \"\", Responses!U114)","v":""},{"$f":"IF(ISBLANK(Responses!V114), \"\", Responses!V114)","v":""},{"$f":"IF(ISBLANK(Responses!W114), \"\", Responses!W114)","v":""},{"$f":"IF(ISBLANK(Responses!X114), \"\", Responses!X114)","v":""},{"$f":"IF(ISBLANK(Responses!Y114), \"\", Responses!Y114)","v":""},{"$f":"IF(ISBLANK(Responses!Z114), \"\", Responses!Z114)","v":""},{"$f":"IF(ISBLANK(Responses!AA114), \"\", Responses!AA114)","v":""},{"$f":"IF(ISBLANK(Responses!AB114), \"\", Responses!AB114)","v":""},{"$f":"IF(ISBLANK(Responses!AC114), \"\", Responses!AC114)","v":""},{"$f":"IF(ISBLANK(Responses!AD114), \"\", Responses!AD114)","v":""},{"$f":"IF(ISBLANK(Responses!AE114), \"\", Responses!AE114)","v":""},{"$f":"IF(ISBLANK(Responses!AF114), \"\", Responses!AF114)","v":""},{"$f":"IF(ISBLANK(Responses!AG114), \"\", Responses!AG114)","v":""},{"$f":"IF(ISBLANK(Responses!AH114), \"\", Responses!AH114)","v":""},{"$f":"IF(ISBLANK(Responses!AI114), \"\", Responses!AI114)","v":""},{"$f":"IF(ISBLANK(Responses!AJ114), \"\", Responses!AJ114)","v":""},{"$f":"IF(ISBLANK(Responses!AK114), \"\", Responses!AK114)","v":""},{"$f":"IF(ISBLANK(Responses!AL114), \"\", Responses!AL114)","v":""},{"$f":"IF(ISBLANK(Responses!AM114), \"\", Responses!AM114)","v":""},{"$f":"IF(ISBLANK(Responses!AN114), \"\", Responses!AN114)","v":""},{"$f":"IF(ISBLANK(Responses!AO114), \"\", Responses!AO114)","v":""},{"$f":"IF(ISBLANK(Responses!AP114), \"\", Responses!AP114)","v":""}]
[{"$f":"IF(ISBLANK(Responses!A115), \"\", Responses!A115)","v":""},{"$f":"IF(ISBLANK(Responses!B115), \"\", Responses!B115)","v":""},{"$f":"IF(ISBLANK(Responses!U115), \"\", Responses!U115)","v":""},{"$f":"IF(ISBLANK(Responses!V115), \"\", Responses!V115)","v":""},{"$f":"IF(ISBLANK(Responses!W115), \"\", Responses!W115)","v":""},{"$f":"IF(ISBLANK(Responses!X115), \"\", Responses!X115)","v":""},{"$f":"IF(ISBLANK(Responses!Y115), \"\", Responses!Y115)","v":""},{"$f":"IF(ISBLANK(Responses!Z115), \"\", Responses!Z115)","v":""},{"$f":"IF(ISBLANK(Responses!AA115), \"\", Responses!AA115)","v":""},{"$f":"IF(ISBLANK(Responses!AB115), \"\", Responses!AB115)","v":""},{"$f":"IF(ISBLANK(Responses!AC115), \"\", Responses!AC115)","v":""},{"$f":"IF(ISBLANK(Responses!AD115), \"\", Responses!AD115)","v":""},{"$f":"IF(ISBLANK(Responses!AE115), \"\", Responses!AE115)","v":""},{"$f":"IF(ISBLANK(Responses!AF115), \"\", Responses!AF115)","v":""},{"$f":"IF(ISBLANK(Responses!AG115), \"\", Responses!AG115)","v":""},{"$f":"IF(ISBLANK(Responses!AH115), \"\", Responses!AH115)","v":""},{"$f":"IF(ISBLANK(Responses!AI115), \"\", Responses!AI115)","v":""},{"$f":"IF(ISBLANK(Responses!AJ115), \"\", Responses!AJ115)","v":""},{"$f":"IF(ISBLANK(Responses!AK115), \"\", Responses!AK115)","v":""},{"$f":"IF(ISBLANK(Responses!AL115), \"\", Responses!AL115)","v":""},{"$f":"IF(ISBLANK(Responses!AM115), \"\", Responses!AM115)","v":""},{"$f":"IF(ISBLANK(Responses!AN115), \"\", Responses!AN115)","v":""},{"$f":"IF(ISBLANK(Responses!AO115), \"\", Responses!AO115)","v":""},{"$f":"IF(ISBLANK(Responses!AP115), \"\", Responses!AP115)","v":""}]
[{"$f":"IF(ISBLANK(Responses!A116), \"\", Responses!A116)","v":""},{"$f":"IF(ISBLANK(Responses!B116), \"\", Responses!B116)","v":""},{"$f":"IF(ISBLANK(Responses!U116), \"\", Responses!U116)","v":""},{"$f":"IF(ISBLANK(Responses!V116), \"\", Responses!V116)","v":""},{"$f":"IF(ISBLANK(Responses!W116), \"\", Responses!W116)","v":""},{"$f":"IF(ISBLANK(Responses!X116), \"\", Responses!X116)","v":""},{"$f":"IF(ISBLANK(Responses!Y116), \"\", Responses!Y116)","v":""},{"$f":"IF(ISBLANK(Responses!Z116), \"\", Responses!Z116)","v":""},{"$f":"IF(ISBLANK(Responses!AA116), \"\", Responses!AA116)","v":""},{"$f":"IF(ISBLANK(Responses!AB116), \"\", Responses!AB116)","v":""},{"$f":"IF(ISBLANK(Responses!AC116), \"\", Responses!AC116)","v":""},{"$f":"IF(ISBLANK(Responses!AD116), \"\", Responses!AD116)","v":""},{"$f":"IF(ISBLANK(Responses!AE116), \"\", Responses!AE116)","v":""},{"$f":"IF(ISBLANK(Responses!AF116), \"\", Responses!AF116)","v":""},{"$f":"IF(ISBLANK(Responses!AG116), \"\", Responses!AG116)","v":""},{"$f":"IF(ISBLANK(Responses!AH116), \"\", Responses!AH116)","v":""},{"$f":"IF(ISBLANK(Responses!AI116), \"\", Responses!AI116)","v":""},{"$f":"IF(ISBLANK(Responses!AJ116), \"\", Responses!AJ116)","v":""},{"$f":"IF(ISBLANK(Responses!AK116), \"\", Responses!AK116)","v":""},{"$f":"IF(ISBLANK(Responses!AL116), \"\", Responses!AL116)","v":""},{"$f":"IF(ISBLANK(Responses!AM116), \"\", Responses!AM116)","v":""},{"$f":"IF(ISBLANK(Responses!AN116), \"\", Responses!AN116)","v":""},{"$f":"IF(ISBLANK(Responses!AO116), \"\", Responses!AO116)","v":""},{"$f":"IF(ISBLANK(Responses!AP116), \"\", Responses!AP116)","v":""}]
[{"$f":"IF(ISBLANK(Responses!A117), \"\", Responses!A117)","v":""},{"$f":"IF(ISBLANK(Responses!B117), \"\", Responses!B117)","v":""},{"$f":"IF(ISBLANK(Responses!U117), \"\", Responses!U117)","v":""},{"$f":"IF(ISBLANK(Responses!V117), \"\", Responses!V117)","v":""},{"$f":"IF(ISBLANK(Responses!W117), \"\", Responses!W117)","v":""},{"$f":"IF(ISBLANK(Responses!X117), \"\", Responses!X117)","v":""},{"$f":"IF(ISBLANK(Responses!Y117), \"\", Responses!Y117)","v":""},{"$f":"IF(ISBLANK(Responses!Z117), \"\", Responses!Z117)","v":""},{"$f":"IF(ISBLANK(Responses!AA117), \"\", Responses!AA117)","v":""},{"$f":"IF(ISBLANK(Responses!AB117), \"\", Responses!AB117)","v":""},{"$f":"IF(ISBLANK(Responses!AC117), \"\", Responses!AC117)","v":""},{"$f":"IF(ISBLANK(Responses!AD117), \"\", Responses!AD117)","v":""},{"$f":"IF(ISBLANK(Responses!AE117), \"\", Responses!AE117)","v":""},{"$f":"IF(ISBLANK(Responses!AF117), \"\", Responses!AF117)","v":""},{"$f":"IF(ISBLANK(Responses!AG117), \"\", Responses!AG117)","v":""},{"$f":"IF(ISBLANK(Responses!AH117), \"\", Responses!AH117)","v":""},{"$f":"IF(ISBLANK(Responses!AI117), \"\", Responses!AI117)","v":""},{"$f":"IF(ISBLANK(Responses!AJ117), \"\", Responses!AJ117)","v":""},{"$f":"IF(ISBLANK(Responses!AK117), \"\", Responses!AK117)","v":""},{"$f":"IF(ISBLANK(Responses!AL117), \"\", Responses!AL117)","v":""},{"$f":"IF(ISBLANK(Responses!AM117), \"\", Responses!AM117)","v":""},{"$f":"IF(ISBLANK(Responses!AN117), \"\", Responses!AN117)","v":""},{"$f":"IF(ISBLANK(Responses!AO117), \"\", Responses!AO117)","v":""},{"$f":"IF(ISBLANK(Responses!AP117), \"\", Responses!AP117)","v":""}]
[{"$f":"IF(ISBLANK(Responses!A118), \"\", Responses!A118)","v":""},{"$f":"IF(ISBLANK(Responses!B118), \"\", Responses!B118)","v":""},{"$f":"IF(ISBLANK(Responses!U118), \"\", Responses!U118)","v":""},{"$f":"IF(ISBLANK(Responses!V118), \"\", Responses!V118)","v":""},{"$f":"IF(ISBLANK(Responses!W118), \"\", Responses!W118)","v":""},{"$f":"IF(ISBLANK(Responses!X118), \"\", Responses!X118)","v":""},{"$f":"IF(ISBLANK(Responses!Y118), \"\", Responses!Y118)","v":""},{"$f":"IF(ISBLANK(Responses!Z118), \"\", Responses!Z118)","v":""},{"$f":"IF(ISBLANK(Responses!AA118), \"\", Responses!AA118)","v":""},{"$f":"IF(ISBLANK(Responses!AB118), \"\", Responses!AB118)","v":""},{"$f":"IF(ISBLANK(Responses!AC118), \"\", Responses!AC118)","v":""},{"$f":"IF(ISBLANK(Responses!AD118), \"\", Responses!AD118)","v":""},{"$f":"IF(ISBLANK(Responses!AE118), \"\", Responses!AE118)","v":""},{"$f":"IF(ISBLANK(Responses!AF118), \"\", Responses!AF118)","v":""},{"$f":"IF(ISBLANK(Responses!AG118), \"\", Responses!AG118)","v":""},{"$f":"IF(ISBLANK(Responses!AH118), \"\", Responses!AH118)","v":""},{"$f":"IF(ISBLANK(Responses!AI118), \"\", Responses!AI118)","v":""},{"$f":"IF(ISBLANK(Responses!AJ118), \"\", Responses!AJ118)","v":""},{"$f":"IF(ISBLANK(Responses!AK118), \"\", Responses!AK118)","v":""},{"$f":"IF(ISBLANK(Responses!AL118), \"\", Responses!AL118)","v":""},{"$f":"IF(ISBLANK(Responses!AM118), \"\", Responses!AM118)","v":""},{"$f":"IF(ISBLANK(Responses!AN118), \"\", Responses!AN118)","v":""},{"$f":"IF(ISBLANK(Responses!AO118), \"\", Responses!AO118)","v":""},{"$f":"IF(ISBLANK(Responses!AP118), \"\", Responses!AP118)","v":""}]
[{"$f":"IF(ISBLANK(Responses!A119), \"\", Responses!A119)","v":""}]
[{"$f":"IF(ISBLANK(Responses!A120), \"\", Responses!A120)","v":""}]
[{"$f":"IF(ISBLANK(Responses!A121), \"\", Responses!A121)","v":""}]
[{"$f":"IF(ISBLANK(Responses!A122), \"\", Responses!A122)","v":""}]
[{"$f":"IF(ISBLANK(Responses!A123), \"\", Responses!A123)","v":""}]
[{"$f":"IF(ISBLANK(Responses!A124), \"\", Responses!A124)","v":""}]
[{"$f":"IF(ISBLANK(Responses!A125), \"\", Responses!A125)","v":""}]
[{"$f":"IF(ISBLANK(Responses!A126), \"\", Responses!A126)","v":""}]
[{"$f":"IF(ISBLANK(Responses!A127), \"\", Responses!A127)","v":""}]
[{"$f":"IF(ISBLANK(Responses!A128), \"\", Responses!A128)","v":""}]
[{"$f":"IF(ISBLANK(Responses!A129), \"\", Responses!A129)","v":""}]
[{"$f":"IF(ISBLANK(Responses!A130), \"\", Responses!A130)","v":""}]
[{"$f":"IF(ISBLANK(Responses!A131), \"\", Responses!A131)","v":""}]
[{"$f":"IF(ISBLANK(Responses!A132), \"\", Responses!A132)","v":""}]
[{"$f":"IF(ISBLANK(Responses!A133), \"\", Responses!A133)","v":""}]
[{"$f":"IF(ISBLANK(Responses!A134), \"\", Responses!A134)","v":""}]
[{"$f":"IF(ISBLANK(Responses!A135), \"\", Responses!A135)","v":""}]
[{"$f":"IF(ISBLANK(Responses!A136), \"\", Responses!A136)","v":""}]
[{"$f":"IF(ISBLANK(Responses!A137), \"\", Responses!A137)","v":""}]
[{"$f":"IF(ISBLANK(Responses!A138), \"\", Responses!A138)","v":""}]
[{"$f":"IF(ISBLANK(Responses!A139), \"\", Responses!A139)","v":""}]
[{"$f":"IF(ISBLANK(Responses!A140), \"\", Responses!A140)","v":""}]
[{"$f":"IF(ISBLANK(Responses!A141), \"\", Responses!A141)","v":""}]
[{"$f":"IF(ISBLANK(Responses!A142), \"\", Responses!A142)","v":""}]
[{"$f":"IF(ISBLANK(Responses!A143), \"\", Responses!A143)","v":""}]
[{"$f":"IF(ISBLANK(Responses!A144), \"\", Responses!A144)","v":""}]
[{"$f":"IF(ISBLANK(Responses!A145), \"\", Responses!A145)","v":""}]
[{"$f":"IF(ISBLANK(Responses!A146), \"\", Responses!A146)","v":""}]
[{"$f":"IF(ISBLANK(Responses!A147), \"\", Responses!A147)","v":""}]
[{"$f":"IF(ISBLANK(Responses!A148), \"\", Responses!A148)","v":""}]
[{"$f":"IF(ISBLANK(Responses!A149), \"\", Responses!A149)","v":""}]
[{"$f":"IF(ISBLANK(Responses!A150), \"\", Responses!A150)","v":""}]
[{"$f":"IF(ISBLANK(Responses!A151), \"\", Responses!A151)","v":""}]
[{"$f":"IF(ISBLANK(Responses!A152), \"\", Responses!A152)","v":""}]
[{"$f":"IF(ISBLANK(Responses!A153), \"\", Responses!A153)","v":""}]
[{"$f":"IF(ISBLANK(Responses!A154), \"\", Responses!A154)","v":""}]
[{"$f":"IF(ISBLANK(Responses!A155), \"\", Responses!A155)","v":""}]
[{"$f":"IF(ISBLANK(Responses!A156), \"\", Responses!A156)","v":""}]
[{"$f":"IF(ISBLANK(Responses!A157), \"\", Responses!A157)","v":""}]
[{"$f":"IF(ISBLANK(Responses!A158), \"\", Responses!A158)","v":""}]
[{"$f":"IF(ISBLANK(Responses!A159), \"\", Responses!A159)","v":""}]
[{"$f":"IF(ISBLANK(Responses!A160), \"\", Responses!A160)","v":""}]
[{"$f":"IF(ISBLANK(Responses!A161), \"\", Responses!A161)","v":""}]
[{"$f":"IF(ISBLANK(Responses!A162), \"\", Responses!A162)","v":""}]
[{"$f":"IF(ISBLANK(Responses!A163), \"\", Responses!A163)","v":""}]
[{"$f":"IF(ISBLANK(Responses!A164), \"\", Responses!A164)","v":""}]
[{"$f":"IF(ISBLANK(Responses!A165), \"\", Responses!A165)","v":""}]
[{"$f":"IF(ISBLANK(Responses!A166), \"\", Responses!A166)","v":""}]
[{"$f":"IF(ISBLANK(Responses!A167), \"\", Responses!A167)","v":""}]
[{"$f":"IF(ISBLANK(Responses!A168), \"\", Responses!A168)","v":""}]
[{"$f":"IF(ISBLANK(Responses!A169), \"\", Responses!A169)","v":""}]
[{"$f":"IF(ISBLANK(Responses!A170), \"\", Responses!A170)","v":""}]
[{"$f":"IF(ISBLANK(Responses!A171), \"\", Responses!A171)","v":""}]
[{"$f":"IF(ISBLANK(Responses!A172), \"\", Responses!A172)","v":""}]
[{"$f":"IF(ISBLANK(Responses!A173), \"\", Responses!A173)","v":""}]
[{"$f":"IF(ISBLANK(Responses!A174), \"\", Responses!A174)","v":""}]
[{"$f":"IF(ISBLANK(Responses!A175), \"\", Responses!A175)","v":""}]
[{"$f":"IF(ISBLANK(Responses!A176), \"\", Responses!A176)","v":""}]
[{"$f":"IF(ISBLANK(Responses!A177), \"\", Responses!A177)","v":""}]
[{"$f":"IF(ISBLANK(Responses!A178), \"\", Responses!A178)","v":""}]
[{"$f":"IF(ISBLANK(Responses!A179), \"\", Responses!A179)","v":""}]
[{"$f":"IF(ISBLANK(Responses!A180), \"\", Responses!A180)","v":""}]
[{"$f":"IF(ISBLANK(Responses!A181), \"\", Responses!A181)","v":""}]
[{"$f":"IF(ISBLANK(Responses!A182), \"\", Responses!A182)","v":""}]
[{"$f":"IF(ISBLANK(Responses!A183), \"\", Responses!A183)","v":""}]
[{"$f":"IF(ISBLANK(Responses!A184), \"\", Responses!A184)","v":""}]
[{"$f":"IF(ISBLANK(Responses!A185), \"\", Responses!A185)","v":""}]
[{"$f":"IF(ISBLANK(Responses!A186), \"\", Responses!A186)","v":""}]
[{"$f":"IF(ISBLANK(Responses!A187), \"\", Responses!A187)","v":""}]
[{"$f":"IF(ISBLANK(Responses!A188), \"\", Responses!A188)","v":""}]
[{"$f":"IF(ISBLANK(Responses!A189), \"\", Responses!A189)","v":""}]
[{"$f":"IF(ISBLANK(Responses!A190), \"\", Responses!A190)","v":""}]
[{"$f":"IF(ISBLANK(Responses!A191), \"\", Responses!A191)","v":""}]
[{"$f":"IF(ISBLANK(Responses!A192), \"\", Responses!A192)","v":""}]
[{"$f":"IF(ISBLANK(Responses!A193), \"\", Responses!A193)","v":""}]
[{"$f":"IF(ISBLANK(Responses!A194), \"\", Responses!A194)","v":""}]
[{"$f":"IF(ISBLANK(Responses!A195), \"\", Responses!A195)","v":""}]
[{"$f":"IF(ISBLANK(Responses!A196), \"\", Responses!A196)","v":""}]
[{"$f":"IF(ISBLANK(Responses!A197), \"\", Responses!A197)","v":""}]
[{"$f":"IF(ISBLANK(Responses!A198), \"\", Responses!A198)","v":""}]
[{"$f":"IF(ISBLANK(Responses!A199), \"\", Responses!A199)","v":""}]
[{"$f":"IF(ISBLANK(Responses!A200), \"\", Responses!A200)","v":""}]
[{"$f":"IF(ISBLANK(Responses!A201), \"\", Responses!A201)","v":""}]
[{"$f":"IF(ISBLANK(Responses!A202), \"\", Responses!A202)","v":""}]
[{"$f":"IF(ISBLANK(Responses!A203), \"\", Responses!A203)","v":""}]
[{"$f":"IF(ISBLANK(Responses!A204), \"\", Responses!A204)","v":""}]
[{"$f":"IF(ISBLANK(Responses!A205), \"\", Responses!A205)","v":""}]
[{"$f":"IF(ISBLANK(Responses!A206), \"\", Responses!A206)","v":""}]
[{"$f":"IF(ISBLANK(Responses!A207), \"\", Responses!A207)","v":""}]
[{"$f":"IF(ISBLANK(Responses!A208), \"\", Responses!A208)","v":""}]
[{"$f":"IF(ISBLANK(Responses!A209), \"\", Responses!A209)","v":""}]
[{"$f":"IF(ISBLANK(Responses!A210), \"\", Responses!A210)","v":""}]
[{"$f":"IF(ISBLANK(Responses!A211), \"\", Responses!A211)","v":""}]
[{"$f":"IF(ISBLANK(Responses!A212), \"\", Responses!A212)","v":""}]
[{"$f":"IF(ISBLANK(Responses!A213), \"\", Responses!A213)","v":""}]
[{"$f":"IF(ISBLANK(Responses!A214), \"\", Responses!A214)","v":""}]
[{"$f":"IF(ISBLANK(Responses!A215), \"\", Responses!A215)","v":""}]
[{"$f":"IF(ISBLANK(Responses!A216), \"\", Responses!A216)","v":""}]
[{"$f":"IF(ISBLANK(Responses!A217), \"\", Responses!A217)","v":""}]
[{"$f":"IF(ISBLANK(Responses!A218), \"\", Responses!A218)","v":""}]
[{"$f":"IF(ISBLANK(Responses!A219), \"\", Responses!A219)","v":""}]
[{"$f":"IF(ISBLANK(Responses!A220), \"\", Responses!A220)","v":""}]
[{"$f":"IF(ISBLANK(Responses!A221), \"\", Responses!A221)","v":""}]
[{"$f":"IF(ISBLANK(Responses!A222), \"\", Responses!A222)","v":""}]
[{"$f":"IF(ISBLANK(Responses!A223), \"\", Responses!A223)","v":""}]
[{"$f":"IF(ISBLANK(Responses!A224), \"\", Responses!A224)","v":""}]
[{"$f":"IF(ISBLANK(Responses!A225), \"\", Responses!A225)","v":""}]
[{"$f":"IF(ISBLANK(Responses!A226), \"\", Responses!A226)","v":""}]
[{"$f":"IF(ISBLANK(Responses!A227), \"\", Responses!A227)","v":""}]
[{"$f":"IF(ISBLANK(Responses!A228), \"\", Responses!A228)","v":""}]
[{"$f":"IF(ISBLANK(Responses!A229), \"\", Responses!A229)","v":""}]
[{"$f":"IF(ISBLANK(Responses!A230), \"\", Responses!A230)","v":""}]
[{"$f":"IF(ISBLANK(Responses!A231), \"\", Responses!A231)","v":""}]
[{"$f":"IF(ISBLANK(Responses!A232), \"\", Responses!A232)","v":""}]
[{"$f":"IF(ISBLANK(Responses!A233), \"\", Responses!A233)","v":""}]
[{"$f":"IF(ISBLANK(Responses!A234), \"\", Responses!A234)","v":""}]
[{"$f":"IF(ISBLANK(Responses!A235), \"\", Responses!A235)","v":""}]
[{"$f":"IF(ISBLANK(Responses!A236), \"\", Responses!A236)","v":""}]
[{"$f":"IF(ISBLANK(Responses!A237), \"\", Responses!A237)","v":""}]
[{"$f":"IF(ISBLANK(Responses!A238), \"\", Responses!A238)","v":""}]
[{"$f":"IF(ISBLANK(Responses!A239), \"\", Responses!A239)","v":""}]
[{"$f":"IF(ISBLANK(Responses!A240), \"\", Responses!A240)","v":""}]
[{"$f":"IF(ISBLANK(Responses!A241), \"\", Responses!A241)","v":""}]
[{"$f":"IF(ISBLANK(Responses!A242), \"\", Responses!A242)","v":""}]
[{"$f":"IF(ISBLANK(Responses!A243), \"\", Responses!A243)","v":""}]
[{"$f":"IF(ISBLANK(Responses!A244), \"\", Responses!A244)","v":""}]
[{"$f":"IF(ISBLANK(Responses!A245), \"\", Responses!A245)","v":""}]
[{"$f":"IF(ISBLANK(Responses!A246), \"\", Responses!A246)","v":""}]
[{"$f":"IF(ISBLANK(Responses!A247), \"\", Responses!A247)","v":""}]
[{"$f":"IF(ISBLANK(Responses!A248), \"\", Responses!A248)","v":""}]
[{"$f":"IF(ISBLANK(Responses!A249), \"\", Responses!A249)","v":""}]
[{"$f":"IF(ISBLANK(Responses!A250), \"\", Responses!A250)","v":""}]
[{"$f":"IF(ISBLANK(Responses!A251), \"\", Responses!A251)","v":""}]
[{"$f":"IF(ISBLANK(Responses!A252), \"\", Responses!A252)","v":""}]
[{"$f":"IF(ISBLANK(Responses!A253), \"\", Responses!A253)","v":""}]
[{"$f":"IF(ISBLANK(Responses!A254), \"\", Responses!A254)","v":""}]
[{"$f":"IF(ISBLANK(Responses!A255), \"\", Responses!A255)","v":""}]
[{"$f":"IF(ISBLANK(Responses!A256), \"\", Responses!A256)","v":""}]
[{"$f":"IF(ISBLANK(Responses!A257), \"\", Responses!A257)","v":""}]
[{"$f":"IF(ISBLANK(Responses!A258), \"\", Responses!A258)","v":""}]
[{"$f":"IF(ISBLANK(Responses!A259), \"\", Responses!A259)","v":""}]
[{"$f":"IF(ISBLANK(Responses!A260), \"\", Responses!A260)","v":""}]
[{"$f":"IF(ISBLANK(Responses!A261), \"\", Responses!A261)","v":""}]
[{"$f":"IF(ISBLANK(Responses!A262), \"\", Responses!A262)","v":""}]
[{"$f":"IF(ISBLANK(Responses!A263), \"\", Responses!A263)","v":""}]
[{"$f":"IF(ISBLANK(Responses!A264), \"\", Responses!A264)","v":""}]
[{"$f":"IF(ISBLANK(Responses!A265), \"\", Responses!A265)","v":""}]
[{"$f":"IF(ISBLANK(Responses!A266), \"\", Responses!A266)","v":""}]
[{"$f":"IF(ISBLANK(Responses!A267), \"\", Responses!A267)","v":""}]
[{"$f":"IF(ISBLANK(Responses!A268), \"\", Responses!A268)","v":""}]
[{"$f":"IF(ISBLANK(Responses!A269), \"\", Responses!A269)","v":""}]
[{"$f":"IF(ISBLANK(Responses!A270), \"\", Responses!A270)","v":""}]
[{"$f":"IF(ISBLANK(Responses!A271), \"\", Responses!A271)","v":""}]
[{"$f":"IF(ISBLANK(Responses!A272), \"\", Responses!A272)","v":""}]
[{"$f":"IF(ISBLANK(Responses!A273), \"\", Responses!A273)","v":""}]
[{"$f":"IF(ISBLANK(Responses!A274), \"\", Responses!A274)","v":""}]
[{"$f":"IF(ISBLANK(Responses!A275), \"\", Responses!A275)","v":""}]
[{"$f":"IF(ISBLANK(Responses!A276), \"\", Responses!A276)","v":""}]
[{"$f":"IF(ISBLANK(Responses!A277), \"\", Responses!A277)","v":""}]
[{"$f":"IF(ISBLANK(Responses!A278), \"\", Responses!A278)","v":""}]
[{"$f":"IF(ISBLANK(Responses!A279), \"\", Responses!A279)","v":""}]
[{"$f":"IF(ISBLANK(Responses!A280), \"\", Responses!A280)","v":""}]
[{"$f":"IF(ISBLANK(Responses!A281), \"\", Responses!A281)","v":""}]
[{"$f":"IF(ISBLANK(Responses!A282), \"\", Responses!A282)","v":""}]
[{"$f":"IF(ISBLANK(Responses!A283), \"\", Responses!A283)","v":""}]
[{"$f":"IF(ISBLANK(Responses!A284), \"\", Responses!A284)","v":""}]
[{"$f":"IF(ISBLANK(Responses!A285), \"\", Responses!A285)","v":""}]
[{"$f":"IF(ISBLANK(Responses!A286), \"\", Responses!A286)","v":""}]
[{"$f":"IF(ISBLANK(Responses!A287), \"\", Responses!A287)","v":""}]
[{"$f":"IF(ISBLANK(Responses!A288), \"\", Responses!A288)","v":""}]
[{"$f":"IF(ISBLANK(Responses!A289), \"\", Responses!A289)","v":""}]
[{"$f":"IF(ISBLANK(Responses!A290), \"\", Responses!A290)","v":""}]
[{"$f":"IF(ISBLANK(Responses!A291), \"\", Responses!A291)","v":""}]
[{"$f":"IF(ISBLANK(Responses!A292), \"\", Responses!A292)","v":""}]
[{"$f":"IF(ISBLANK(Responses!A293), \"\", Responses!A293)","v":""}]
[{"$f":"IF(ISBLANK(Responses!A294), \"\", Responses!A294)","v":""}]
[{"$f":"IF(ISBLANK(Responses!A295), \"\", Responses!A295)","v":""}]
[{"$f":"IF(ISBLANK(Responses!A296), \"\", Responses!A296)","v":""}]
[{"$f":"IF(ISBLANK(Responses!A297), \"\", Responses!A297)","v":""}]
[{"$f":"IF(ISBLANK(Responses!A298), \"\", Responses!A298)","v":""}]
[{"$f":"IF(ISBLANK(Responses!A299), \"\", Responses!A299)","v":""}]
[{"$f":"IF(ISBLANK(Responses!A300), \"\", Responses!A300)","v":""}]
[{"$f":"IF(ISBLANK(Responses!A301), \"\", Responses!A301)","v":""}]
[{"$f":"IF(ISBLANK(Responses!A302), \"\", Responses!A302)","v":""}]
[{"$f":"IF(ISBLANK(Responses!A303), \"\", Responses!A303)","v":""}]
[{"$f":"IF(ISBLANK(Responses!A304), \"\", Responses!A304)","v":""}]
[{"$f":"IF(ISBLANK(Responses!A305), \"\", Responses!A305)","v":""}]
[{"$f":"IF(ISBLANK(Responses!A306), \"\", Responses!A306)","v":""}]
[{"$f":"IF(ISBLANK(Responses!A307), \"\", Responses!A307)","v":""}]
[{"$f":"IF(ISBLANK(Responses!A308), \"\", Responses!A308)","v":""}]
[{"$f":"IF(ISBLANK(Responses!A309), \"\", Responses!A309)","v":""}]
[{"$f":"IF(ISBLANK(Responses!A310), \"\", Responses!A310)","v":""}]
[{"$f":"IF(ISBLANK(Responses!A311), \"\", Responses!A311)","v":""}]
[{"$f":"IF(ISBLANK(Responses!A312), \"\", Responses!A312)","v":""}]
[{"$f":"IF(ISBLANK(Responses!A313), \"\", Responses!A313)","v":""}]
[{"$f":"IF(ISBLANK(Responses!A314), \"\", Responses!A314)","v":""}]
[{"$f":"IF(ISBLANK(Responses!A315), \"\", Responses!A315)","v":""}]
[{"$f":"IF(ISBLANK(Responses!A316), \"\", Responses!A316)","v":""}]
[{"$f":"IF(ISBLANK(Responses!A317), \"\", Responses!A317)","v":""}]
[{"$f":"IF(ISBLANK(Responses!A318), \"\", Responses!A318)","v":""}]
[{"$f":"IF(ISBLANK(Responses!A319), \"\", Responses!A319)","v":""}]
[{"$f":"IF(ISBLANK(Responses!A320), \"\", Responses!A320)","v":""}]
[{"$f":"IF(ISBLANK(Responses!A321), \"\", Responses!A321)","v":""}]
[{"$f":"IF(ISBLANK(Responses!A322), \"\", Responses!A322)","v":""}]
[{"$f":"IF(ISBLANK(Responses!A323), \"\", Responses!A323)","v":""}]
[{"$f":"IF(ISBLANK(Responses!A324), \"\", Responses!A324)","v":""}]
[{"$f":"IF(ISBLANK(Responses!A325), \"\", Responses!A325)","v":""}]
[{"$f":"IF(ISBLANK(Responses!A326), \"\", Responses!A326)","v":""}]
[{"$f":"IF(ISBLANK(Responses!A327), \"\", Responses!A327)","v":""}]
[{"$f":"IF(ISBLANK(Responses!A328), \"\", Responses!A328)","v":""}]
[{"$f":"IF(ISBLANK(Responses!A329), \"\", Responses!A329)","v":""}]
[{"$f":"IF(ISBLANK(Responses!A330), \"\", Responses!A330)","v":""}]
[{"$f":"IF(ISBLANK(Responses!A331), \"\", Responses!A331)","v":""}]
[{"$f":"IF(ISBLANK(Responses!A332), \"\", Responses!A332)","v":""}]
[{"$f":"IF(ISBLANK(Responses!A333), \"\", Responses!A333)","v":""}]
[{"$f":"IF(ISBLANK(Responses!A334), \"\", Responses!A334)","v":""}]
[{"$f":"IF(ISBLANK(Responses!A335), \"\", Responses!A335)","v":""}]
[{"$f":"IF(ISBLANK(Responses!A336), \"\", Responses!A336)","v":""}]
[{"$f":"IF(ISBLANK(Responses!A337), \"\", Responses!A337)","v":""}]
[{"$f":"IF(ISBLANK(Responses!A338), \"\", Responses!A338)","v":""}]
[{"$f":"IF(ISBLANK(Responses!A339), \"\", Responses!A339)","v":""}]
[{"$f":"IF(ISBLANK(Responses!A340), \"\", Responses!A340)","v":""}]
[{"$f":"IF(ISBLANK(Responses!A341), \"\", Responses!A341)","v":""}]
[{"$f":"IF(ISBLANK(Responses!A342), \"\", Responses!A342)","v":""}]
[{"$f":"IF(ISBLANK(Responses!A343), \"\", Responses!A343)","v":""}]
[{"$f":"IF(ISBLANK(Responses!A344), \"\", Responses!A344)","v":""}]
[{"$f":"IF(ISBLANK(Responses!A345), \"\", Responses!A345)","v":""}]
[{"$f":"IF(ISBLANK(Responses!A346), \"\", Responses!A346)","v":""}]
[{"$f":"IF(ISBLANK(Responses!A347), \"\", Responses!A347)","v":""}]
[{"$f":"IF(ISBLANK(Responses!A348), \"\", Responses!A348)","v":""}]

{"sheet":"Isolation Capacity","index":7,"n_rows":118,"n_cols":16,"rows_kept":118,"cut":false,"hidden":true,"merged":[]}
[{"$f":"IF(ISBLANK(Responses!A1), \"\", Responses!A1)","v":"Timestamp"},{"$f":"IF(ISBLANK(Responses!B1), \"\", Responses!B1)","v":"Sport Organization Name"},{"$f":"IF(ISBLANK(Responses!AQ1), \"\", Responses!AQ1)","v":"Are isolation arrangements in place in the event of a public health emergency, such as a cluster of suspected and confirmed cases of COVID-19 within the team?"},{"$f":"IF(ISBLANK(Responses!AR1), \"\", Responses!AR1)","v":"Do these isolation arrangements include family and team mates?"},{"$f":"IF(ISBLANK(Responses!AS1), \"\", Responses!AS1)","v":"Do these arrangements include funding for isolation accommodations?"},{"$f":"IF(ISBLANK(Responses!AT1), \"\", Responses!AT1)","v":"Do these isolation arrangements include sufficient equipment (e.g. personal protective equipment, sanitation supplies etc.)?"},{"$f":"IF(ISBLANK(Responses!AU1), \"\", Responses!AU1)","v":"Do these arrangements include training of extra staff if needed?"},"Isolation %","Isolation Score",3,2,3,3,2,null,"Max Isolation Score"]
[{"$f":"IF(ISBLANK(Responses!A2), \"\", Responses!A2)","v":""},{"$f":"IF(ISBLANK(Responses!B2), \"\", Responses!B2)","v":""},{"$f":"IF(ISBLANK(Responses!AQ2), \"\", Responses!AQ2)","v":""},{"$f":"IF(ISBLANK(Responses!AR2), \"\", Responses!AR2)","v":""},{"$f":"IF(ISBLANK(Responses!AS2), \"\", Responses!AS2)","v":""},{"$f":"IF(ISBLANK(Responses!AT2), \"\", Responses!AT2)","v":""},{"$f":"IF(ISBLANK(Responses!AU2), \"\", Responses!AU2)","v":""},{"$f":"I2/(2*SUM(J$1:N$1))","v":{"$error":"#N/A"}},{"$f":"SUM(J2*J$1,K2*K$1,L2*L$1,M2*M$1,N2*N$1)","v":{"$error":"#N/A"}},{"$f":"IF(ISBLANK(C2),0,VLOOKUP(C2,LUTs!$A$6:$B$8,2))","v":{"$error":"#N/A"}},{"$f":"IF(ISBLANK(D2),0,VLOOKUP(D2,LUTs!$A$6:$B$8,2))","v":{"$error":"#N/A"}},{"$f":"IF(ISBLANK(E2),0,VLOOKUP(E2,LUTs!$A$6:$B$8,2))","v":{"$error":"#N/A"}},{"$f":"IF(ISBLANK(F2),0,VLOOKUP(F2,LUTs!$A$6:$B$8,2))","v":{"$error":"#N/A"}},{"$f":"IF(ISBLANK(G2),0,VLOOKUP(G2,LUTs!$A$6:$B$8,2))","v":{"$error":"#N/A"}},null,{"$f":"SUM(J1:N1)*2","v":26}]
[{"$f":"IF(ISBLANK(Responses!A3), \"\", Responses!A3)","v":""},{"$f":"IF(ISBLANK(Responses!B3), \"\", Responses!B3)","v":""},{"$f":"IF(ISBLANK(Responses!AQ3), \"\", Responses!AQ3)","v":""},{"$f":"IF(ISBLANK(Responses!AR3), \"\", Responses!AR3)","v":""},{"$f":"IF(ISBLANK(Responses!AS3), \"\", Responses!AS3)","v":""},{"$f":"IF(ISBLANK(Responses!AT3), \"\", Responses!AT3)","v":""},{"$f":"IF(ISBLANK(Responses!AU3), \"\", Responses!AU3)","v":""},{"$error":"#N/A"},{"$error":"#N/A"},{"$f":"IF(ISBLANK(C3),0,VLOOKUP(C3,LUTs!$A$6:$B$8,2))","v":{"$error":"#N/A"}},{"$f":"IF(ISBLANK(D3),0,VLOOKUP(D3,LUTs!$A$6:$B$8,2))","v":{"$error":"#N/A"}},{"$f":"IF(ISBLANK(E3),0,VLOOKUP(E3,LUTs!$A$6:$B$8,2))","v":{"$error":"#N/A"}},{"$f":"IF(ISBLANK(F3),0,VLOOKUP(F3,LUTs!$A$6:$B$8,2))","v":{"$error":"#N/A"}},{"$f":"IF(ISBLANK(G3),0,VLOOKUP(G3,LUTs!$A$6:$B$8,2))","v":{"$error":"#N/A"}}]
[{"$f":"IF(ISBLANK(Responses!A4), \"\", Responses!A4)","v":""},{"$f":"IF(ISBLANK(Responses!B4), \"\", Responses!B4)","v":""},{"$f":"IF(ISBLANK(Responses!AQ4), \"\", Responses!AQ4)","v":""},{"$f":"IF(ISBLANK(Responses!AR4), \"\", Responses!AR4)","v":""},{"$f":"IF(ISBLANK(Responses!AS4), \"\", Responses!AS4)","v":""},{"$f":"IF(ISBLANK(Responses!AT4), \"\", Responses!AT4)","v":""},{"$f":"IF(ISBLANK(Responses!AU4), \"\", Responses!AU4)","v":""},{"$error":"#N/A"},{"$error":"#N/A"},{"$f":"IF(ISBLANK(C4),0,VLOOKUP(C4,LUTs!$A$6:$B$8,2))","v":{"$error":"#N/A"}},{"$f":"IF(ISBLANK(D4),0,VLOOKUP(D4,LUTs!$A$6:$B$8,2))","v":{"$error":"#N/A"}},{"$f":"IF(ISBLANK(E4),0,VLOOKUP(E4,LUTs!$A$6:$B$8,2))","v":{"$error":"#N/A"}},{"$f":"IF(ISBLANK(F4),0,VLOOKUP(F4,LUTs!$A$6:$B$8,2))","v":{"$error":"#N/A"}},{"$f":"IF(ISBLANK(G4),0,VLOOKUP(G4,LUTs!$A$6:$B$8,2))","v":{"$error":"#N/A"}}]
[{"$f":"IF(ISBLANK(Responses!A5), \"\", Responses!A5)","v":""},{"$f":"IF(ISBLANK(Responses!B5), \"\", Responses!B5)","v":""},{"$f":"IF(ISBLANK(Responses!AQ5), \"\", Responses!AQ5)","v":""},{"$f":"IF(ISBLANK(Responses!AR5), \"\", Responses!AR5)","v":""},{"$f":"IF(ISBLANK(Responses!AS5), \"\", Responses!AS5)","v":""},{"$f":"IF(ISBLANK(Responses!AT5), \"\", Responses!AT5)","v":""},{"$f":"IF(ISBLANK(Responses!AU5), \"\", Responses!AU5)","v":""},{"$error":"#N/A"},{"$error":"#N/A"},{"$f":"IF(ISBLANK(C5),0,VLOOKUP(C5,LUTs!$A$6:$B$8,2))","v":{"$error":"#N/A"}},{"$f":"IF(ISBLANK(D5),0,VLOOKUP(D5,LUTs!$A$6:$B$8,2))","v":{"$error":"#N/A"}},{"$f":"IF(ISBLANK(E5),0,VLOOKUP(E5,LUTs!$A$6:$B$8,2))","v":{"$error":"#N/A"}},{"$f":"IF(ISBLANK(F5),0,VLOOKUP(F5,LUTs!$A$6:$B$8,2))","v":{"$error":"#N/A"}},{"$f":"IF(ISBLANK(G5),0,VLOOKUP(G5,LUTs!$A$6:$B$8,2))","v":{"$error":"#N/A"}}]
[{"$f":"IF(ISBLANK(Responses!A6), \"\", Responses!A6)","v":""},{"$f":"IF(ISBLANK(Responses!B6), \"\", Responses!B6)","v":""},{"$f":"IF(ISBLANK(Responses!AQ6), \"\", Responses!AQ6)","v":""},{"$f":"IF(ISBLANK(Responses!AR6), \"\", Responses!AR6)","v":""},{"$f":"IF(ISBLANK(Responses!AS6), \"\", Responses!AS6)","v":""},{"$f":"IF(ISBLANK(Responses!AT6), \"\", Responses!AT6)","v":""},{"$f":"IF(ISBLANK(Responses!AU6), \"\", Responses!AU6)","v":""},{"$error":"#N/A"},{"$error":"#N/A"},{"$f":"IF(ISBLANK(C6),0,VLOOKUP(C6,LUTs!$A$6:$B$8,2))","v":{"$error":"#N/A"}},{"$f":"IF(ISBLANK(D6),0,VLOOKUP(D6,LUTs!$A$6:$B$8,2))","v":{"$error":"#N/A"}},{"$f":"IF(ISBLANK(E6),0,VLOOKUP(E6,LUTs!$A$6:$B$8,2))","v":{"$error":"#N/A"}},{"$f":"IF(ISBLANK(F6),0,VLOOKUP(F6,LUTs!$A$6:$B$8,2))","v":{"$error":"#N/A"}},{"$f":"IF(ISBLANK(G6),0,VLOOKUP(G6,LUTs!$A$6:$B$8,2))","v":{"$error":"#N/A"}}]
[{"$f":"IF(ISBLANK(Responses!A7), \"\", Responses!A7)","v":""},{"$f":"IF(ISBLANK(Responses!B7), \"\", Responses!B7)","v":""},{"$f":"IF(ISBLANK(Responses!AQ7), \"\", Responses!AQ7)","v":""},{"$f":"IF(ISBLANK(Responses!AR7), \"\", Responses!AR7)","v":""},{"$f":"IF(ISBLANK(Responses!AS7), \"\", Responses!AS7)","v":""},{"$f":"IF(ISBLANK(Responses!AT7), \"\", Responses!AT7)","v":""},{"$f":"IF(ISBLANK(Responses!AU7), \"\", Responses!AU7)","v":""},{"$error":"#N/A"},{"$error":"#N/A"},{"$f":"IF(ISBLANK(C7),0,VLOOKUP(C7,LUTs!$A$6:$B$8,2))","v":{"$error":"#N/A"}},{"$f":"IF(ISBLANK(D7),0,VLOOKUP(D7,LUTs!$A$6:$B$8,2))","v":{"$error":"#N/A"}},{"$f":"IF(ISBLANK(E7),0,VLOOKUP(E7,LUTs!$A$6:$B$8,2))","v":{"$error":"#N/A"}},{"$f":"IF(ISBLANK(F7),0,VLOOKUP(F7,LUTs!$A$6:$B$8,2))","v":{"$error":"#N/A"}},{"$f":"IF(ISBLANK(G7),0,VLOOKUP(G7,LUTs!$A$6:$B$8,2))","v":{"$error":"#N/A"}}]
[{"$f":"IF(ISBLANK(Responses!A8), \"\", Responses!A8)","v":""},{"$f":"IF(ISBLANK(Responses!B8), \"\", Responses!B8)","v":""},{"$f":"IF(ISBLANK(Responses!AQ8), \"\", Responses!AQ8)","v":""},{"$f":"IF(ISBLANK(Responses!AR8), \"\", Responses!AR8)","v":""},{"$f":"IF(ISBLANK(Responses!AS8), \"\", Responses!AS8)","v":""},{"$f":"IF(ISBLANK(Responses!AT8), \"\", Responses!AT8)","v":""},{"$f":"IF(ISBLANK(Responses!AU8), \"\", Responses!AU8)","v":""},{"$error":"#N/A"},{"$error":"#N/A"},{"$f":"IF(ISBLANK(C8),0,VLOOKUP(C8,LUTs!$A$6:$B$8,2))","v":{"$error":"#N/A"}},{"$f":"IF(ISBLANK(D8),0,VLOOKUP(D8,LUTs!$A$6:$B$8,2))","v":{"$error":"#N/A"}},{"$f":"IF(ISBLANK(E8),0,VLOOKUP(E8,LUTs!$A$6:$B$8,2))","v":{"$error":"#N/A"}},{"$f":"IF(ISBLANK(F8),0,VLOOKUP(F8,LUTs!$A$6:$B$8,2))","v":{"$error":"#N/A"}},{"$f":"IF(ISBLANK(G8),0,VLOOKUP(G8,LUTs!$A$6:$B$8,2))","v":{"$error":"#N/A"}}]
[{"$f":"IF(ISBLANK(Responses!A9), \"\", Responses!A9)","v":""},{"$f":"IF(ISBLANK(Responses!B9), \"\", Responses!B9)","v":""},{"$f":"IF(ISBLANK(Responses!AQ9), \"\", Responses!AQ9)","v":""},{"$f":"IF(ISBLANK(Responses!AR9), \"\", Responses!AR9)","v":""},{"$f":"IF(ISBLANK(Responses!AS9), \"\", Responses!AS9)","v":""},{"$f":"IF(ISBLANK(Responses!AT9), \"\", Responses!AT9)","v":""},{"$f":"IF(ISBLANK(Responses!AU9), \"\", Responses!AU9)","v":""},{"$error":"#N/A"},{"$error":"#N/A"},{"$f":"IF(ISBLANK(C9),0,VLOOKUP(C9,LUTs!$A$6:$B$8,2))","v":{"$error":"#N/A"}},{"$f":"IF(ISBLANK(D9),0,VLOOKUP(D9,LUTs!$A$6:$B$8,2))","v":{"$error":"#N/A"}},{"$f":"IF(ISBLANK(E9),0,VLOOKUP(E9,LUTs!$A$6:$B$8,2))","v":{"$error":"#N/A"}},{"$f":"IF(ISBLANK(F9),0,VLOOKUP(F9,LUTs!$A$6:$B$8,2))","v":{"$error":"#N/A"}},{"$f":"IF(ISBLANK(G9),0,VLOOKUP(G9,LUTs!$A$6:$B$8,2))","v":{"$error":"#N/A"}}]
[{"$f":"IF(ISBLANK(Responses!A10), \"\", Responses!A10)","v":""},{"$f":"IF(ISBLANK(Responses!B10), \"\", Responses!B10)","v":""},{"$f":"IF(ISBLANK(Responses!AQ10), \"\", Responses!AQ10)","v":""},{"$f":"IF(ISBLANK(Responses!AR10), \"\", Responses!AR10)","v":""},{"$f":"IF(ISBLANK(Responses!AS10), \"\", Responses!AS10)","v":""},{"$f":"IF(ISBLANK(Responses!AT10), \"\", Responses!AT10)","v":""},{"$f":"IF(ISBLANK(Responses!AU10), \"\", Responses!AU10)","v":""},{"$error":"#N/A"},{"$error":"#N/A"},{"$f":"IF(ISBLANK(C10),0,VLOOKUP(C10,LUTs!$A$6:$B$8,2))","v":{"$error":"#N/A"}},{"$f":"IF(ISBLANK(D10),0,VLOOKUP(D10,LUTs!$A$6:$B$8,2))","v":{"$error":"#N/A"}},{"$f":"IF(ISBLANK(E10),0,VLOOKUP(E10,LUTs!$A$6:$B$8,2))","v":{"$error":"#N/A"}},{"$f":"IF(ISBLANK(F10),0,VLOOKUP(F10,LUTs!$A$6:$B$8,2))","v":{"$error":"#N/A"}},{"$f":"IF(ISBLANK(G10),0,VLOOKUP(G10,LUTs!$A$6:$B$8,2))","v":{"$error":"#N/A"}}]
[{"$f":"IF(ISBLANK(Responses!A11), \"\", Responses!A11)","v":""},{"$f":"IF(ISBLANK(Responses!B11), \"\", Responses!B11)","v":""},{"$f":"IF(ISBLANK(Responses!AQ11), \"\", Responses!AQ11)","v":""},{"$f":"IF(ISBLANK(Responses!AR11), \"\", Responses!AR11)","v":""},{"$f":"IF(ISBLANK(Responses!AS11), \"\", Responses!AS11)","v":""},{"$f":"IF(ISBLANK(Responses!AT11), \"\", Responses!AT11)","v":""},{"$f":"IF(ISBLANK(Responses!AU11), \"\", Responses!AU11)","v":""},{"$error":"#N/A"},{"$error":"#N/A"},{"$f":"IF(ISBLANK(C11),0,VLOOKUP(C11,LUTs!$A$6:$B$8,2))","v":{"$error":"#N/A"}},{"$f":"IF(ISBLANK(D11),0,VLOOKUP(D11,LUTs!$A$6:$B$8,2))","v":{"$error":"#N/A"}},{"$f":"IF(ISBLANK(E11),0,VLOOKUP(E11,LUTs!$A$6:$B$8,2))","v":{"$error":"#N/A"}},{"$f":"IF(ISBLANK(F11),0,VLOOKUP(F11,LUTs!$A$6:$B$8,2))","v":{"$error":"#N/A"}},{"$f":"IF(ISBLANK(G11),0,VLOOKUP(G11,LUTs!$A$6:$B$8,2))","v":{"$error":"#N/A"}}]
[{"$f":"IF(ISBLANK(Responses!A12), \"\", Responses!A12)","v":""},{"$f":"IF(ISBLANK(Responses!B12), \"\", Responses!B12)","v":""},{"$f":"IF(ISBLANK(Responses!AQ12), \"\", Responses!AQ12)","v":""},{"$f":"IF(ISBLANK(Responses!AR12), \"\", Responses!AR12)","v":""},{"$f":"IF(ISBLANK(Responses!AS12), \"\", Responses!AS12)","v":""},{"$f":"IF(ISBLANK(Responses!AT12), \"\", Responses!AT12)","v":""},{"$f":"IF(ISBLANK(Responses!AU12), \"\", Responses!AU12)","v":""},{"$error":"#N/A"},{"$error":"#N/A"},{"$f":"IF(ISBLANK(C12),0,VLOOKUP(C12,LUTs!$A$6:$B$8,2))","v":{"$error":"#N/A"}},{"$f":"IF(ISBLANK(D12),0,VLOOKUP(D12,LUTs!$A$6:$B$8,2))","v":{"$error":"#N/A"}},{"$f":"IF(ISBLANK(E12),0,VLOOKUP(E12,LUTs!$A$6:$B$8,2))","v":{"$error":"#N/A"}},{"$f":"IF(ISBLANK(F12),0,VLOOKUP(F12,LUTs!$A$6:$B$8,2))","v":{"$error":"#N/A"}},{"$f":"IF(ISBLANK(G12),0,VLOOKUP(G12,LUTs!$A$6:$B$8,2))","v":{"$error":"#N/A"}}]
[{"$f":"IF(ISBLANK(Responses!A13), \"\", Responses!A13)","v":""},{"$f":"IF(ISBLANK(Responses!B13), \"\", Responses!B13)","v":""},{"$f":"IF(ISBLANK(Responses!AQ13), \"\", Responses!AQ13)","v":""},{"$f":"IF(ISBLANK(Responses!AR13), \"\", Responses!AR13)","v":""},{"$f":"IF(ISBLANK(Responses!AS13), \"\", Responses!AS13)","v":""},{"$f":"IF(ISBLANK(Responses!AT13), \"\", Responses!AT13)","v":""},{"$f":"IF(ISBLANK(Responses!AU13), \"\", Responses!AU13)","v":""},{"$error":"#N/A"},{"$error":"#N/A"},{"$f":"IF(ISBLANK(C13),0,VLOOKUP(C13,LUTs!$A$6:$B$8,2))","v":{"$error":"#N/A"}},{"$f":"IF(ISBLANK(D13),0,VLOOKUP(D13,LUTs!$A$6:$B$8,2))","v":{"$error":"#N/A"}},{"$f":"IF(ISBLANK(E13),0,VLOOKUP(E13,LUTs!$A$6:$B$8,2))","v":{"$error":"#N/A"}},{"$f":"IF(ISBLANK(F13),0,VLOOKUP(F13,LUTs!$A$6:$B$8,2))","v":{"$error":"#N/A"}},{"$f":"IF(ISBLANK(G13),0,VLOOKUP(G13,LUTs!$A$6:$B$8,2))","v":{"$error":"#N/A"}}]
[{"$f":"IF(ISBLANK(Responses!A14), \"\", Responses!A14)","v":""},{"$f":"IF(ISBLANK(Responses!B14), \"\", Responses!B14)","v":""},{"$f":"IF(ISBLANK(Responses!AQ14), \"\", Responses!AQ14)","v":""},{"$f":"IF(ISBLANK(Responses!AR14), \"\", Responses!AR14)","v":""},{"$f":"IF(ISBLANK(Responses!AS14), \"\", Responses!AS14)","v":""},{"$f":"IF(ISBLANK(Responses!AT14), \"\", Responses!AT14)","v":""},{"$f":"IF(ISBLANK(Responses!AU14), \"\", Responses!AU14)","v":""},{"$error":"#N/A"},{"$error":"#N/A"},{"$f":"IF(ISBLANK(C14),0,VLOOKUP(C14,LUTs!$A$6:$B$8,2))","v":{"$error":"#N/A"}},{"$f":"IF(ISBLANK(D14),0,VLOOKUP(D14,LUTs!$A$6:$B$8,2))","v":{"$error":"#N/A"}},{"$f":"IF(ISBLANK(E14),0,VLOOKUP(E14,LUTs!$A$6:$B$8,2))","v":{"$error":"#N/A"}},{"$f":"IF(ISBLANK(F14),0,VLOOKUP(F14,LUTs!$A$6:$B$8,2))","v":{"$error":"#N/A"}},{"$f":"IF(ISBLANK(G14),0,VLOOKUP(G14,LUTs!$A$6:$B$8,2))","v":{"$error":"#N/A"}}]
[{"$f":"IF(ISBLANK(Responses!A15), \"\", Responses!A15)","v":""},{"$f":"IF(ISBLANK(Responses!B15), \"\", Responses!B15)","v":""},{"$f":"IF(ISBLANK(Responses!AQ15), \"\", Responses!AQ15)","v":""},{"$f":"IF(ISBLANK(Responses!AR15), \"\", Responses!AR15)","v":""},{"$f":"IF(ISBLANK(Responses!AS15), \"\", Responses!AS15)","v":""},{"$f":"IF(ISBLANK(Responses!AT15), \"\", Responses!AT15)","v":""},{"$f":"IF(ISBLANK(Responses!AU15), \"\", Responses!AU15)","v":""},{"$error":"#N/A"},{"$error":"#N/A"},{"$f":"IF(ISBLANK(C15),0,VLOOKUP(C15,LUTs!$A$6:$B$8,2))","v":{"$error":"#N/A"}},{"$f":"IF(ISBLANK(D15),0,VLOOKUP(D15,LUTs!$A$6:$B$8,2))","v":{"$error":"#N/A"}},{"$f":"IF(ISBLANK(E15),0,VLOOKUP(E15,LUTs!$A$6:$B$8,2))","v":{"$error":"#N/A"}},{"$f":"IF(ISBLANK(F15),0,VLOOKUP(F15,LUTs!$A$6:$B$8,2))","v":{"$error":"#N/A"}},{"$f":"IF(ISBLANK(G15),0,VLOOKUP(G15,LUTs!$A$6:$B$8,2))","v":{"$error":"#N/A"}}]
[{"$f":"IF(ISBLANK(Responses!A16), \"\", Responses!A16)","v":""},{"$f":"IF(ISBLANK(Responses!B16), \"\", Responses!B16)","v":""},{"$f":"IF(ISBLANK(Responses!AQ16), \"\", Responses!AQ16)","v":""},{"$f":"IF(ISBLANK(Responses!AR16), \"\", Responses!AR16)","v":""},{"$f":"IF(ISBLANK(Responses!AS16), \"\", Responses!AS16)","v":""},{"$f":"IF(ISBLANK(Responses!AT16), \"\", Responses!AT16)","v":""},{"$f":"IF(ISBLANK(Responses!AU16), \"\", Responses!AU16)","v":""},{"$error":"#N/A"},{"$error":"#N/A"},{"$f":"IF(ISBLANK(C16),0,VLOOKUP(C16,LUTs!$A$6:$B$8,2))","v":{"$error":"#N/A"}},{"$f":"IF(ISBLANK(D16),0,VLOOKUP(D16,LUTs!$A$6:$B$8,2))","v":{"$error":"#N/A"}},{"$f":"IF(ISBLANK(E16),0,VLOOKUP(E16,LUTs!$A$6:$B$8,2))","v":{"$error":"#N/A"}},{"$f":"IF(ISBLANK(F16),0,VLOOKUP(F16,LUTs!$A$6:$B$8,2))","v":{"$error":"#N/A"}},{"$f":"IF(ISBLANK(G16),0,VLOOKUP(G16,LUTs!$A$6:$B$8,2))","v":{"$error":"#N/A"}}]
[{"$f":"IF(ISBLANK(Responses!A17), \"\", Responses!A17)","v":""},{"$f":"IF(ISBLANK(Responses!B17), \"\", Responses!B17)","v":""},{"$f":"IF(ISBLANK(Responses!AQ17), \"\", Responses!AQ17)","v":""},{"$f":"IF(ISBLANK(Responses!AR17), \"\", Responses!AR17)","v":""},{"$f":"IF(ISBLANK(Responses!AS17), \"\", Responses!AS17)","v":""},{"$f":"IF(ISBLANK(Responses!AT17), \"\", Responses!AT17)","v":""},{"$f":"IF(ISBLANK(Responses!AU17), \"\", Responses!AU17)","v":""},{"$error":"#N/A"},{"$error":"#N/A"},{"$f":"IF(ISBLANK(C17),0,VLOOKUP(C17,LUTs!$A$6:$B$8,2))","v":{"$error":"#N/A"}},{"$f":"IF(ISBLANK(D17),0,VLOOKUP(D17,LUTs!$A$6:$B$8,2))","v":{"$error":"#N/A"}},{"$f":"IF(ISBLANK(E17),0,VLOOKUP(E17,LUTs!$A$6:$B$8,2))","v":{"$error":"#N/A"}},{"$f":"IF(ISBLANK(F17),0,VLOOKUP(F17,LUTs!$A$6:$B$8,2))","v":{"$error":"#N/A"}},{"$f":"IF(ISBLANK(G17),0,VLOOKUP(G17,LUTs!$A$6:$B$8,2))","v":{"$error":"#N/A"}}]
[{"$f":"IF(ISBLANK(Responses!A18), \"\", Responses!A18)","v":""},{"$f":"IF(ISBLANK(Responses!B18), \"\", Responses!B18)","v":""},{"$f":"IF(ISBLANK(Responses!AQ18), \"\", Responses!AQ18)","v":""},{"$f":"IF(ISBLANK(Responses!AR18), \"\", Responses!AR18)","v":""},{"$f":"IF(ISBLANK(Responses!AS18), \"\", Responses!AS18)","v":""},{"$f":"IF(ISBLANK(Responses!AT18), \"\", Responses!AT18)","v":""},{"$f":"IF(ISBLANK(Responses!AU18), \"\", Responses!AU18)","v":""},{"$error":"#N/A"},{"$error":"#N/A"},{"$f":"IF(ISBLANK(C18),0,VLOOKUP(C18,LUTs!$A$6:$B$8,2))","v":{"$error":"#N/A"}},{"$f":"IF(ISBLANK(D18),0,VLOOKUP(D18,LUTs!$A$6:$B$8,2))","v":{"$error":"#N/A"}},{"$f":"IF(ISBLANK(E18),0,VLOOKUP(E18,LUTs!$A$6:$B$8,2))","v":{"$error":"#N/A"}},{"$f":"IF(ISBLANK(F18),0,VLOOKUP(F18,LUTs!$A$6:$B$8,2))","v":{"$error":"#N/A"}},{"$f":"IF(ISBLANK(G18),0,VLOOKUP(G18,LUTs!$A$6:$B$8,2))","v":{"$error":"#N/A"}}]
[{"$f":"IF(ISBLANK(Responses!A19), \"\", Responses!A19)","v":""},{"$f":"IF(ISBLANK(Responses!B19), \"\", Responses!B19)","v":""},{"$f":"IF(ISBLANK(Responses!AQ19), \"\", Responses!AQ19)","v":""},{"$f":"IF(ISBLANK(Responses!AR19), \"\", Responses!AR19)","v":""},{"$f":"IF(ISBLANK(Responses!AS19), \"\", Responses!AS19)","v":""},{"$f":"IF(ISBLANK(Responses!AT19), \"\", Responses!AT19)","v":""},{"$f":"IF(ISBLANK(Responses!AU19), \"\", Responses!AU19)","v":""},{"$error":"#N/A"},{"$error":"#N/A"},{"$f":"IF(ISBLANK(C19),0,VLOOKUP(C19,LUTs!$A$6:$B$8,2))","v":{"$error":"#N/A"}},{"$f":"IF(ISBLANK(D19),0,VLOOKUP(D19,LUTs!$A$6:$B$8,2))","v":{"$error":"#N/A"}},{"$f":"IF(ISBLANK(E19),0,VLOOKUP(E19,LUTs!$A$6:$B$8,2))","v":{"$error":"#N/A"}},{"$f":"IF(ISBLANK(F19),0,VLOOKUP(F19,LUTs!$A$6:$B$8,2))","v":{"$error":"#N/A"}},{"$f":"IF(ISBLANK(G19),0,VLOOKUP(G19,LUTs!$A$6:$B$8,2))","v":{"$error":"#N/A"}}]
[{"$f":"IF(ISBLANK(Responses!A20), \"\", Responses!A20)","v":""},{"$f":"IF(ISBLANK(Responses!B20), \"\", Responses!B20)","v":""},{"$f":"IF(ISBLANK(Responses!AQ20), \"\", Responses!AQ20)","v":""},{"$f":"IF(ISBLANK(Responses!AR20), \"\", Responses!AR20)","v":""},{"$f":"IF(ISBLANK(Responses!AS20), \"\", Responses!AS20)","v":""},{"$f":"IF(ISBLANK(Responses!AT20), \"\", Responses!AT20)","v":""},{"$f":"IF(ISBLANK(Responses!AU20), \"\", Responses!AU20)","v":""},{"$error":"#N/A"},{"$error":"#N/A"},{"$f":"IF(ISBLANK(C20),0,VLOOKUP(C20,LUTs!$A$6:$B$8,2))","v":{"$error":"#N/A"}},{"$f":"IF(ISBLANK(D20),0,VLOOKUP(D20,LUTs!$A$6:$B$8,2))","v":{"$error":"#N/A"}},{"$f":"IF(ISBLANK(E20),0,VLOOKUP(E20,LUTs!$A$6:$B$8,2))","v":{"$error":"#N/A"}},{"$f":"IF(ISBLANK(F20),0,VLOOKUP(F20,LUTs!$A$6:$B$8,2))","v":{"$error":"#N/A"}},{"$f":"IF(ISBLANK(G20),0,VLOOKUP(G20,LUTs!$A$6:$B$8,2))","v":{"$error":"#N/A"}}]
[{"$f":"IF(ISBLANK(Responses!A21), \"\", Responses!A21)","v":""},{"$f":"IF(ISBLANK(Responses!B21), \"\", Responses!B21)","v":""},{"$f":"IF(ISBLANK(Responses!AQ21), \"\", Responses!AQ21)","v":""},{"$f":"IF(ISBLANK(Responses!AR21), \"\", Responses!AR21)","v":""},{"$f":"IF(ISBLANK(Responses!AS21), \"\", Responses!AS21)","v":""},{"$f":"IF(ISBLANK(Responses!AT21), \"\", Responses!AT21)","v":""},{"$f":"IF(ISBLANK(Responses!AU21), \"\", Responses!AU21)","v":""},{"$error":"#N/A"},{"$error":"#N/A"},{"$f":"IF(ISBLANK(C21),0,VLOOKUP(C21,LUTs!$A$6:$B$8,2))","v":{"$error":"#N/A"}},{"$f":"IF(ISBLANK(D21),0,VLOOKUP(D21,LUTs!$A$6:$B$8,2))","v":{"$error":"#N/A"}},{"$f":"IF(ISBLANK(E21),0,VLOOKUP(E21,LUTs!$A$6:$B$8,2))","v":{"$error":"#N/A"}},{"$f":"IF(ISBLANK(F21),0,VLOOKUP(F21,LUTs!$A$6:$B$8,2))","v":{"$error":"#N/A"}},{"$f":"IF(ISBLANK(G21),0,VLOOKUP(G21,LUTs!$A$6:$B$8,2))","v":{"$error":"#N/A"}}]
[{"$f":"IF(ISBLANK(Responses!A22), \"\", Responses!A22)","v":""},{"$f":"IF(ISBLANK(Responses!B22), \"\", Responses!B22)","v":""},{"$f":"IF(ISBLANK(Responses!AQ22), \"\", Responses!AQ22)","v":""},{"$f":"IF(ISBLANK(Responses!AR22), \"\", Responses!AR22)","v":""},{"$f":"IF(ISBLANK(Responses!AS22), \"\", Responses!AS22)","v":""},{"$f":"IF(ISBLANK(Responses!AT22), \"\", Responses!AT22)","v":""},{"$f":"IF(ISBLANK(Responses!AU22), \"\", Responses!AU22)","v":""},{"$error":"#N/A"},{"$error":"#N/A"},{"$f":"IF(ISBLANK(C22),0,VLOOKUP(C22,LUTs!$A$6:$B$8,2))","v":{"$error":"#N/A"}},{"$f":"IF(ISBLANK(D22),0,VLOOKUP(D22,LUTs!$A$6:$B$8,2))","v":{"$error":"#N/A"}},{"$f":"IF(ISBLANK(E22),0,VLOOKUP(E22,LUTs!$A$6:$B$8,2))","v":{"$error":"#N/A"}},{"$f":"IF(ISBLANK(F22),0,VLOOKUP(F22,LUTs!$A$6:$B$8,2))","v":{"$error":"#N/A"}},{"$f":"IF(ISBLANK(G22),0,VLOOKUP(G22,LUTs!$A$6:$B$8,2))","v":{"$error":"#N/A"}}]
[{"$f":"IF(ISBLANK(Responses!A23), \"\", Responses!A23)","v":""},{"$f":"IF(ISBLANK(Responses!B23), \"\", Responses!B23)","v":""},{"$f":"IF(ISBLANK(Responses!AQ23), \"\", Responses!AQ23)","v":""},{"$f":"IF(ISBLANK(Responses!AR23), \"\", Responses!AR23)","v":""},{"$f":"IF(ISBLANK(Responses!AS23), \"\", Responses!AS23)","v":""},{"$f":"IF(ISBLANK(Responses!AT23), \"\", Responses!AT23)","v":""},{"$f":"IF(ISBLANK(Responses!AU23), \"\", Responses!AU23)","v":""},{"$error":"#N/A"},{"$error":"#N/A"},{"$f":"IF(ISBLANK(C23),0,VLOOKUP(C23,LUTs!$A$6:$B$8,2))","v":{"$error":"#N/A"}},{"$f":"IF(ISBLANK(D23),0,VLOOKUP(D23,LUTs!$A$6:$B$8,2))","v":{"$error":"#N/A"}},{"$f":"IF(ISBLANK(E23),0,VLOOKUP(E23,LUTs!$A$6:$B$8,2))","v":{"$error":"#N/A"}},{"$f":"IF(ISBLANK(F23),0,VLOOKUP(F23,LUTs!$A$6:$B$8,2))","v":{"$error":"#N/A"}},{"$f":"IF(ISBLANK(G23),0,VLOOKUP(G23,LUTs!$A$6:$B$8,2))","v":{"$error":"#N/A"}}]
[{"$f":"IF(ISBLANK(Responses!A24), \"\", Responses!A24)","v":""},{"$f":"IF(ISBLANK(Responses!B24), \"\", Responses!B24)","v":""},{"$f":"IF(ISBLANK(Responses!AQ24), \"\", Responses!AQ24)","v":""},{"$f":"IF(ISBLANK(Responses!AR24), \"\", Responses!AR24)","v":""},{"$f":"IF(ISBLANK(Responses!AS24), \"\", Responses!AS24)","v":""},{"$f":"IF(ISBLANK(Responses!AT24), \"\", Responses!AT24)","v":""},{"$f":"IF(ISBLANK(Responses!AU24), \"\", Responses!AU24)","v":""},{"$error":"#N/A"},{"$error":"#N/A"},{"$f":"IF(ISBLANK(C24),0,VLOOKUP(C24,LUTs!$A$6:$B$8,2))","v":{"$error":"#N/A"}},{"$f":"IF(ISBLANK(D24),0,VLOOKUP(D24,LUTs!$A$6:$B$8,2))","v":{"$error":"#N/A"}},{"$f":"IF(ISBLANK(E24),0,VLOOKUP(E24,LUTs!$A$6:$B$8,2))","v":{"$error":"#N/A"}},{"$f":"IF(ISBLANK(F24),0,VLOOKUP(F24,LUTs!$A$6:$B$8,2))","v":{"$error":"#N/A"}},{"$f":"IF(ISBLANK(G24),0,VLOOKUP(G24,LUTs!$A$6:$B$8,2))","v":{"$error":"#N/A"}}]
[{"$f":"IF(ISBLANK(Responses!A25), \"\", Responses!A25)","v":""},{"$f":"IF(ISBLANK(Responses!B25), \"\", Responses!B25)","v":""},{"$f":"IF(ISBLANK(Responses!AQ25), \"\", Responses!AQ25)","v":""},{"$f":"IF(ISBLANK(Responses!AR25), \"\", Responses!AR25)","v":""},{"$f":"IF(ISBLANK(Responses!AS25), \"\", Responses!AS25)","v":""},{"$f":"IF(ISBLANK(Responses!AT25), \"\", Responses!AT25)","v":""},{"$f":"IF(ISBLANK(Responses!AU25), \"\", Responses!AU25)","v":""},{"$error":"#N/A"},{"$error":"#N/A"},{"$f":"IF(ISBLANK(C25),0,VLOOKUP(C25,LUTs!$A$6:$B$8,2))","v":{"$error":"#N/A"}},{"$f":"IF(ISBLANK(D25),0,VLOOKUP(D25,LUTs!$A$6:$B$8,2))","v":{"$error":"#N/A"}},{"$f":"IF(ISBLANK(E25),0,VLOOKUP(E25,LUTs!$A$6:$B$8,2))","v":{"$error":"#N/A"}},{"$f":"IF(ISBLANK(F25),0,VLOOKUP(F25,LUTs!$A$6:$B$8,2))","v":{"$error":"#N/A"}},{"$f":"IF(ISBLANK(G25),0,VLOOKUP(G25,LUTs!$A$6:$B$8,2))","v":{"$error":"#N/A"}}]
[{"$f":"IF(ISBLANK(Responses!A26), \"\", Responses!A26)","v":""},{"$f":"IF(ISBLANK(Responses!B26), \"\", Responses!B26)","v":""},{"$f":"IF(ISBLANK(Responses!AQ26), \"\", Responses!AQ26)","v":""},{"$f":"IF(ISBLANK(Responses!AR26), \"\", Responses!AR26)","v":""},{"$f":"IF(ISBLANK(Responses!AS26), \"\", Responses!AS26)","v":""},{"$f":"IF(ISBLANK(Responses!AT26), \"\", Responses!AT26)","v":""},{"$f":"IF(ISBLANK(Responses!AU26), \"\", Responses!AU26)","v":""},{"$error":"#N/A"},{"$error":"#N/A"},{"$f":"IF(ISBLANK(C26),0,VLOOKUP(C26,LUTs!$A$6:$B$8,2))","v":{"$error":"#N/A"}},{"$f":"IF(ISBLANK(D26),0,VLOOKUP(D26,LUTs!$A$6:$B$8,2))","v":{"$error":"#N/A"}},{"$f":"IF(ISBLANK(E26),0,VLOOKUP(E26,LUTs!$A$6:$B$8,2))","v":{"$error":"#N/A"}},{"$f":"IF(ISBLANK(F26),0,VLOOKUP(F26,LUTs!$A$6:$B$8,2))","v":{"$error":"#N/A"}},{"$f":"IF(ISBLANK(G26),0,VLOOKUP(G26,LUTs!$A$6:$B$8,2))","v":{"$error":"#N/A"}}]
[{"$f":"IF(ISBLANK(Responses!A27), \"\", Responses!A27)","v":""},{"$f":"IF(ISBLANK(Responses!B27), \"\", Responses!B27)","v":""},{"$f":"IF(ISBLANK(Responses!AQ27), \"\", Responses!AQ27)","v":""},{"$f":"IF(ISBLANK(Responses!AR27), \"\", Responses!AR27)","v":""},{"$f":"IF(ISBLANK(Responses!AS27), \"\", Responses!AS27)","v":""},{"$f":"IF(ISBLANK(Responses!AT27), \"\", Responses!AT27)","v":""},{"$f":"IF(ISBLANK(Responses!AU27), \"\", Responses!AU27)","v":""},{"$error":"#N/A"},{"$error":"#N/A"},{"$f":"IF(ISBLANK(C27),0,VLOOKUP(C27,LUTs!$A$6:$B$8,2))","v":{"$error":"#N/A"}},{"$f":"IF(ISBLANK(D27),0,VLOOKUP(D27,LUTs!$A$6:$B$8,2))","v":{"$error":"#N/A"}},{"$f":"IF(ISBLANK(E27),0,VLOOKUP(E27,LUTs!$A$6:$B$8,2))","v":{"$error":"#N/A"}},{"$f":"IF(ISBLANK(F27),0,VLOOKUP(F27,LUTs!$A$6:$B$8,2))","v":{"$error":"#N/A"}},{"$f":"IF(ISBLANK(G27),0,VLOOKUP(G27,LUTs!$A$6:$B$8,2))","v":{"$error":"#N/A"}}]
[{"$f":"IF(ISBLANK(Responses!A28), \"\", Responses!A28)","v":""},{"$f":"IF(ISBLANK(Responses!B28), \"\", Responses!B28)","v":""},{"$f":"IF(ISBLANK(Responses!AQ28), \"\", Responses!AQ28)","v":""},{"$f":"IF(ISBLANK(Responses!AR28), \"\", Responses!AR28)","v":""},{"$f":"IF(ISBLANK(Responses!AS28), \"\", Responses!AS28)","v":""},{"$f":"IF(ISBLANK(Responses!AT28), \"\", Responses!AT28)","v":""},{"$f":"IF(ISBLANK(Responses!AU28), \"\", Responses!AU28)","v":""},{"$error":"#N/A"},{"$error":"#N/A"},{"$f":"IF(ISBLANK(C28),0,VLOOKUP(C28,LUTs!$A$6:$B$8,2))","v":{"$error":"#N/A"}},{"$f":"IF(ISBLANK(D28),0,VLOOKUP(D28,LUTs!$A$6:$B$8,2))","v":{"$error":"#N/A"}},{"$f":"IF(ISBLANK(E28),0,VLOOKUP(E28,LUTs!$A$6:$B$8,2))","v":{"$error":"#N/A"}},{"$f":"IF(ISBLANK(F28),0,VLOOKUP(F28,LUTs!$A$6:$B$8,2))","v":{"$error":"#N/A"}},{"$f":"IF(ISBLANK(G28),0,VLOOKUP(G28,LUTs!$A$6:$B$8,2))","v":{"$error":"#N/A"}}]
[{"$f":"IF(ISBLANK(Responses!A29), \"\", Responses!A29)","v":""},{"$f":"IF(ISBLANK(Responses!B29), \"\", Responses!B29)","v":""},{"$f":"IF(ISBLANK(Responses!AQ29), \"\", Responses!AQ29)","v":""},{"$f":"IF(ISBLANK(Responses!AR29), \"\", Responses!AR29)","v":""},{"$f":"IF(ISBLANK(Responses!AS29), \"\", Responses!AS29)","v":""},{"$f":"IF(ISBLANK(Responses!AT29), \"\", Responses!AT29)","v":""},{"$f":"IF(ISBLANK(Responses!AU29), \"\", Responses!AU29)","v":""},{"$error":"#N/A"},{"$error":"#N/A"},{"$f":"IF(ISBLANK(C29),0,VLOOKUP(C29,LUTs!$A$6:$B$8,2))","v":{"$error":"#N/A"}},{"$f":"IF(ISBLANK(D29),0,VLOOKUP(D29,LUTs!$A$6:$B$8,2))","v":{"$error":"#N/A"}},{"$f":"IF(ISBLANK(E29),0,VLOOKUP(E29,LUTs!$A$6:$B$8,2))","v":{"$error":"#N/A"}},{"$f":"IF(ISBLANK(F29),0,VLOOKUP(F29,LUTs!$A$6:$B$8,2))","v":{"$error":"#N/A"}},{"$f":"IF(ISBLANK(G29),0,VLOOKUP(G29,LUTs!$A$6:$B$8,2))","v":{"$error":"#N/A"}}]
[{"$f":"IF(ISBLANK(Responses!A30), \"\", Responses!A30)","v":""},{"$f":"IF(ISBLANK(Responses!B30), \"\", Responses!B30)","v":""},{"$f":"IF(ISBLANK(Responses!AQ30), \"\", Responses!AQ30)","v":""},{"$f":"IF(ISBLANK(Responses!AR30), \"\", Responses!AR30)","v":""},{"$f":"IF(ISBLANK(Responses!AS30), \"\", Responses!AS30)","v":""},{"$f":"IF(ISBLANK(Responses!AT30), \"\", Responses!AT30)","v":""},{"$f":"IF(ISBLANK(Responses!AU30), \"\", Responses!AU30)","v":""},{"$error":"#N/A"},{"$error":"#N/A"},{"$f":"IF(ISBLANK(C30),0,VLOOKUP(C30,LUTs!$A$6:$B$8,2))","v":{"$error":"#N/A"}},{"$f":"IF(ISBLANK(D30),0,VLOOKUP(D30,LUTs!$A$6:$B$8,2))","v":{"$error":"#N/A"}},{"$f":"IF(ISBLANK(E30),0,VLOOKUP(E30,LUTs!$A$6:$B$8,2))","v":{"$error":"#N/A"}},{"$f":"IF(ISBLANK(F30),0,VLOOKUP(F30,LUTs!$A$6:$B$8,2))","v":{"$error":"#N/A"}},{"$f":"IF(ISBLANK(G30),0,VLOOKUP(G30,LUTs!$A$6:$B$8,2))","v":{"$error":"#N/A"}}]
[{"$f":"IF(ISBLANK(Responses!A31), \"\", Responses!A31)","v":""},{"$f":"IF(ISBLANK(Responses!B31), \"\", Responses!B31)","v":""},{"$f":"IF(ISBLANK(Responses!AQ31), \"\", Responses!AQ31)","v":""},{"$f":"IF(ISBLANK(Responses!AR31), \"\", Responses!AR31)","v":""},{"$f":"IF(ISBLANK(Responses!AS31), \"\", Responses!AS31)","v":""},{"$f":"IF(ISBLANK(Responses!AT31), \"\", Responses!AT31)","v":""},{"$f":"IF(ISBLANK(Responses!AU31), \"\", Responses!AU31)","v":""},{"$error":"#N/A"},{"$error":"#N/A"},{"$f":"IF(ISBLANK(C31),0,VLOOKUP(C31,LUTs!$A$6:$B$8,2))","v":{"$error":"#N/A"}},{"$f":"IF(ISBLANK(D31),0,VLOOKUP(D31,LUTs!$A$6:$B$8,2))","v":{"$error":"#N/A"}},{"$f":"IF(ISBLANK(E31),0,VLOOKUP(E31,LUTs!$A$6:$B$8,2))","v":{"$error":"#N/A"}},{"$f":"IF(ISBLANK(F31),0,VLOOKUP(F31,LUTs!$A$6:$B$8,2))","v":{"$error":"#N/A"}},{"$f":"IF(ISBLANK(G31),0,VLOOKUP(G31,LUTs!$A$6:$B$8,2))","v":{"$error":"#N/A"}}]
[{"$f":"IF(ISBLANK(Responses!A32), \"\", Responses!A32)","v":""},{"$f":"IF(ISBLANK(Responses!B32), \"\", Responses!B32)","v":""},{"$f":"IF(ISBLANK(Responses!AQ32), \"\", Responses!AQ32)","v":""},{"$f":"IF(ISBLANK(Responses!AR32), \"\", Responses!AR32)","v":""},{"$f":"IF(ISBLANK(Responses!AS32), \"\", Responses!AS32)","v":""},{"$f":"IF(ISBLANK(Responses!AT32), \"\", Responses!AT32)","v":""},{"$f":"IF(ISBLANK(Responses!AU32), \"\", Responses!AU32)","v":""},{"$error":"#N/A"},{"$error":"#N/A"},{"$f":"IF(ISBLANK(C32),0,VLOOKUP(C32,LUTs!$A$6:$B$8,2))","v":{"$error":"#N/A"}},{"$f":"IF(ISBLANK(D32),0,VLOOKUP(D32,LUTs!$A$6:$B$8,2))","v":{"$error":"#N/A"}},{"$f":"IF(ISBLANK(E32),0,VLOOKUP(E32,LUTs!$A$6:$B$8,2))","v":{"$error":"#N/A"}},{"$f":"IF(ISBLANK(F32),0,VLOOKUP(F32,LUTs!$A$6:$B$8,2))","v":{"$error":"#N/A"}},{"$f":"IF(ISBLANK(G32),0,VLOOKUP(G32,LUTs!$A$6:$B$8,2))","v":{"$error":"#N/A"}}]
[{"$f":"IF(ISBLANK(Responses!A33), \"\", Responses!A33)","v":""},{"$f":"IF(ISBLANK(Responses!B33), \"\", Responses!B33)","v":""},{"$f":"IF(ISBLANK(Responses!AQ33), \"\", Responses!AQ33)","v":""},{"$f":"IF(ISBLANK(Responses!AR33), \"\", Responses!AR33)","v":""},{"$f":"IF(ISBLANK(Responses!AS33), \"\", Responses!AS33)","v":""},{"$f":"IF(ISBLANK(Responses!AT33), \"\", Responses!AT33)","v":""},{"$f":"IF(ISBLANK(Responses!AU33), \"\", Responses!AU33)","v":""},{"$error":"#N/A"},{"$error":"#N/A"},{"$f":"IF(ISBLANK(C33),0,VLOOKUP(C33,LUTs!$A$6:$B$8,2))","v":{"$error":"#N/A"}},{"$f":"IF(ISBLANK(D33),0,VLOOKUP(D33,LUTs!$A$6:$B$8,2))","v":{"$error":"#N/A"}},{"$f":"IF(ISBLANK(E33),0,VLOOKUP(E33,LUTs!$A$6:$B$8,2))","v":{"$error":"#N/A"}},{"$f":"IF(ISBLANK(F33),0,VLOOKUP(F33,LUTs!$A$6:$B$8,2))","v":{"$error":"#N/A"}},{"$f":"IF(ISBLANK(G33),0,VLOOKUP(G33,LUTs!$A$6:$B$8,2))","v":{"$error":"#N/A"}}]
[{"$f":"IF(ISBLANK(Responses!A34), \"\", Responses!A34)","v":""},{"$f":"IF(ISBLANK(Responses!B34), \"\", Responses!B34)","v":""},{"$f":"IF(ISBLANK(Responses!AQ34), \"\", Responses!AQ34)","v":""},{"$f":"IF(ISBLANK(Responses!AR34), \"\", Responses!AR34)","v":""},{"$f":"IF(ISBLANK(Responses!AS34), \"\", Responses!AS34)","v":""},{"$f":"IF(ISBLANK(Responses!AT34), \"\", Responses!AT34)","v":""},{"$f":"IF(ISBLANK(Responses!AU34), \"\", Responses!AU34)","v":""},{"$error":"#N/A"},{"$error":"#N/A"},{"$f":"IF(ISBLANK(C34),0,VLOOKUP(C34,LUTs!$A$6:$B$8,2))","v":{"$error":"#N/A"}},{"$f":"IF(ISBLANK(D34),0,VLOOKUP(D34,LUTs!$A$6:$B$8,2))","v":{"$error":"#N/A"}},{"$f":"IF(ISBLANK(E34),0,VLOOKUP(E34,LUTs!$A$6:$B$8,2))","v":{"$error":"#N/A"}},{"$f":"IF(ISBLANK(F34),0,VLOOKUP(F34,LUTs!$A$6:$B$8,2))","v":{"$error":"#N/A"}},{"$f":"IF(ISBLANK(G34),0,VLOOKUP(G34,LUTs!$A$6:$B$8,2))","v":{"$error":"#N/A"}}]
[{"$f":"IF(ISBLANK(Responses!A35), \"\", Responses!A35)","v":""},{"$f":"IF(ISBLANK(Responses!B35), \"\", Responses!B35)","v":""},{"$f":"IF(ISBLANK(Responses!AQ35), \"\", Responses!AQ35)","v":""},{"$f":"IF(ISBLANK(Responses!AR35), \"\", Responses!AR35)","v":""},{"$f":"IF(ISBLANK(Responses!AS35), \"\", Responses!AS35)","v":""},{"$f":"IF(ISBLANK(Responses!AT35), \"\", Responses!AT35)","v":""},{"$f":"IF(ISBLANK(Responses!AU35), \"\", Responses!AU35)","v":""},{"$error":"#N/A"},{"$error":"#N/A"},{"$f":"IF(ISBLANK(C35),0,VLOOKUP(C35,LUTs!$A$6:$B$8,2))","v":{"$error":"#N/A"}},{"$f":"IF(ISBLANK(D35),0,VLOOKUP(D35,LUTs!$A$6:$B$8,2))","v":{"$error":"#N/A"}},{"$f":"IF(ISBLANK(E35),0,VLOOKUP(E35,LUTs!$A$6:$B$8,2))","v":{"$error":"#N/A"}},{"$f":"IF(ISBLANK(F35),0,VLOOKUP(F35,LUTs!$A$6:$B$8,2))","v":{"$error":"#N/A"}},{"$f":"IF(ISBLANK(G35),0,VLOOKUP(G35,LUTs!$A$6:$B$8,2))","v":{"$error":"#N/A"}}]
[{"$f":"IF(ISBLANK(Responses!A36), \"\", Responses!A36)","v":""},{"$f":"IF(ISBLANK(Responses!B36), \"\", Responses!B36)","v":""},{"$f":"IF(ISBLANK(Responses!AQ36), \"\", Responses!AQ36)","v":""},{"$f":"IF(ISBLANK(Responses!AR36), \"\", Responses!AR36)","v":""},{"$f":"IF(ISBLANK(Responses!AS36), \"\", Responses!AS36)","v":""},{"$f":"IF(ISBLANK(Responses!AT36), \"\", Responses!AT36)","v":""},{"$f":"IF(ISBLANK(Responses!AU36), \"\", Responses!AU36)","v":""},{"$error":"#N/A"},{"$error":"#N/A"},{"$f":"IF(ISBLANK(C36),0,VLOOKUP(C36,LUTs!$A$6:$B$8,2))","v":{"$error":"#N/A"}},{"$f":"IF(ISBLANK(D36),0,VLOOKUP(D36,LUTs!$A$6:$B$8,2))","v":{"$error":"#N/A"}},{"$f":"IF(ISBLANK(E36),0,VLOOKUP(E36,LUTs!$A$6:$B$8,2))","v":{"$error":"#N/A"}},{"$f":"IF(ISBLANK(F36),0,VLOOKUP(F36,LUTs!$A$6:$B$8,2))","v":{"$error":"#N/A"}},{"$f":"IF(ISBLANK(G36),0,VLOOKUP(G36,LUTs!$A$6:$B$8,2))","v":{"$error":"#N/A"}}]
[{"$f":"IF(ISBLANK(Responses!A37), \"\", Responses!A37)","v":""},{"$f":"IF(ISBLANK(Responses!B37), \"\", Responses!B37)","v":""},{"$f":"IF(ISBLANK(Responses!AQ37), \"\", Responses!AQ37)","v":""},{"$f":"IF(ISBLANK(Responses!AR37), \"\", Responses!AR37)","v":""},{"$f":"IF(ISBLANK(Responses!AS37), \"\", Responses!AS37)","v":""},{"$f":"IF(ISBLANK(Responses!AT37), \"\", Responses!AT37)","v":""},{"$f":"IF(ISBLANK(Responses!AU37), \"\", Responses!AU37)","v":""},{"$error":"#N/A"},{"$error":"#N/A"},{"$f":"IF(ISBLANK(C37),0,VLOOKUP(C37,LUTs!$A$6:$B$8,2))","v":{"$error":"#N/A"}},{"$f":"IF(ISBLANK(D37),0,VLOOKUP(D37,LUTs!$A$6:$B$8,2))","v":{"$error":"#N/A"}},{"$f":"IF(ISBLANK(E37),0,VLOOKUP(E37,LUTs!$A$6:$B$8,2))","v":{"$error":"#N/A"}},{"$f":"IF(ISBLANK(F37),0,VLOOKUP(F37,LUTs!$A$6:$B$8,2))","v":{"$error":"#N/A"}},{"$f":"IF(ISBLANK(G37),0,VLOOKUP(G37,LUTs!$A$6:$B$8,2))","v":{"$error":"#N/A"}}]
[{"$f":"IF(ISBLANK(Responses!A38), \"\", Responses!A38)","v":""},{"$f":"IF(ISBLANK(Responses!B38), \"\", Responses!B38)","v":""},{"$f":"IF(ISBLANK(Responses!AQ38), \"\", Responses!AQ38)","v":""},{"$f":"IF(ISBLANK(Responses!AR38), \"\", Responses!AR38)","v":""},{"$f":"IF(ISBLANK(Responses!AS38), \"\", Responses!AS38)","v":""},{"$f":"IF(ISBLANK(Responses!AT38), \"\", Responses!AT38)","v":""},{"$f":"IF(ISBLANK(Responses!AU38), \"\", Responses!AU38)","v":""},{"$error":"#N/A"},{"$error":"#N/A"},{"$f":"IF(ISBLANK(C38),0,VLOOKUP(C38,LUTs!$A$6:$B$8,2))","v":{"$error":"#N/A"}},{"$f":"IF(ISBLANK(D38),0,VLOOKUP(D38,LUTs!$A$6:$B$8,2))","v":{"$error":"#N/A"}},{"$f":"IF(ISBLANK(E38),0,VLOOKUP(E38,LUTs!$A$6:$B$8,2))","v":{"$error":"#N/A"}},{"$f":"IF(ISBLANK(F38),0,VLOOKUP(F38,LUTs!$A$6:$B$8,2))","v":{"$error":"#N/A"}},{"$f":"IF(ISBLANK(G38),0,VLOOKUP(G38,LUTs!$A$6:$B$8,2))","v":{"$error":"#N/A"}}]
[{"$f":"IF(ISBLANK(Responses!A39), \"\", Responses!A39)","v":""},{"$f":"IF(ISBLANK(Responses!B39), \"\", Responses!B39)","v":""},{"$f":"IF(ISBLANK(Responses!AQ39), \"\", Responses!AQ39)","v":""},{"$f":"IF(ISBLANK(Responses!AR39), \"\", Responses!AR39)","v":""},{"$f":"IF(ISBLANK(Responses!AS39), \"\", Responses!AS39)","v":""},{"$f":"IF(ISBLANK(Responses!AT39), \"\", Responses!AT39)","v":""},{"$f":"IF(ISBLANK(Responses!AU39), \"\", Responses!AU39)","v":""},{"$error":"#N/A"},{"$error":"#N/A"},{"$f":"IF(ISBLANK(C39),0,VLOOKUP(C39,LUTs!$A$6:$B$8,2))","v":{"$error":"#N/A"}},{"$f":"IF(ISBLANK(D39),0,VLOOKUP(D39,LUTs!$A$6:$B$8,2))","v":{"$error":"#N/A"}},{"$f":"IF(ISBLANK(E39),0,VLOOKUP(E39,LUTs!$A$6:$B$8,2))","v":{"$error":"#N/A"}},{"$f":"IF(ISBLANK(F39),0,VLOOKUP(F39,LUTs!$A$6:$B$8,2))","v":{"$error":"#N/A"}},{"$f":"IF(ISBLANK(G39),0,VLOOKUP(G39,LUTs!$A$6:$B$8,2))","v":{"$error":"#N/A"}}]
[{"$f":"IF(ISBLANK(Responses!A40), \"\", Responses!A40)","v":""},{"$f":"IF(ISBLANK(Responses!B40), \"\", Responses!B40)","v":""},{"$f":"IF(ISBLANK(Responses!AQ40), \"\", Responses!AQ40)","v":""},{"$f":"IF(ISBLANK(Responses!AR40), \"\", Responses!AR40)","v":""},{"$f":"IF(ISBLANK(Responses!AS40), \"\", Responses!AS40)","v":""},{"$f":"IF(ISBLANK(Responses!AT40), \"\", Responses!AT40)","v":""},{"$f":"IF(ISBLANK(Responses!AU40), \"\", Responses!AU40)","v":""},{"$error":"#N/A"},{"$error":"#N/A"},{"$f":"IF(ISBLANK(C40),0,VLOOKUP(C40,LUTs!$A$6:$B$8,2))","v":{"$error":"#N/A"}},{"$f":"IF(ISBLANK(D40),0,VLOOKUP(D40,LUTs!$A$6:$B$8,2))","v":{"$error":"#N/A"}},{"$f":"IF(ISBLANK(E40),0,VLOOKUP(E40,LUTs!$A$6:$B$8,2))","v":{"$error":"#N/A"}},{"$f":"IF(ISBLANK(F40),0,VLOOKUP(F40,LUTs!$A$6:$B$8,2))","v":{"$error":"#N/A"}},{"$f":"IF(ISBLANK(G40),0,VLOOKUP(G40,LUTs!$A$6:$B$8,2))","v":{"$error":"#N/A"}}]
[{"$f":"IF(ISBLANK(Responses!A41), \"\", Responses!A41)","v":""},{"$f":"IF(ISBLANK(Responses!B41), \"\", Responses!B41)","v":""},{"$f":"IF(ISBLANK(Responses!AQ41), \"\", Responses!AQ41)","v":""},{"$f":"IF(ISBLANK(Responses!AR41), \"\", Responses!AR41)","v":""},{"$f":"IF(ISBLANK(Responses!AS41), \"\", Responses!AS41)","v":""},{"$f":"IF(ISBLANK(Responses!AT41), \"\", Responses!AT41)","v":""},{"$f":"IF(ISBLANK(Responses!AU41), \"\", Responses!AU41)","v":""},{"$error":"#N/A"},{"$error":"#N/A"},{"$f":"IF(ISBLANK(C41),0,VLOOKUP(C41,LUTs!$A$6:$B$8,2))","v":{"$error":"#N/A"}},{"$f":"IF(ISBLANK(D41),0,VLOOKUP(D41,LUTs!$A$6:$B$8,2))","v":{"$error":"#N/A"}},{"$f":"IF(ISBLANK(E41),0,VLOOKUP(E41,LUTs!$A$6:$B$8,2))","v":{"$error":"#N/A"}},{"$f":"IF(ISBLANK(F41),0,VLOOKUP(F41,LUTs!$A$6:$B$8,2))","v":{"$error":"#N/A"}},{"$f":"IF(ISBLANK(G41),0,VLOOKUP(G41,LUTs!$A$6:$B$8,2))","v":{"$error":"#N/A"}}]
[{"$f":"IF(ISBLANK(Responses!A42), \"\", Responses!A42)","v":""},{"$f":"IF(ISBLANK(Responses!B42), \"\", Responses!B42)","v":""},{"$f":"IF(ISBLANK(Responses!AQ42), \"\", Responses!AQ42)","v":""},{"$f":"IF(ISBLANK(Responses!AR42), \"\", Responses!AR42)","v":""},{"$f":"IF(ISBLANK(Responses!AS42), \"\", Responses!AS42)","v":""},{"$f":"IF(ISBLANK(Responses!AT42), \"\", Responses!AT42)","v":""},{"$f":"IF(ISBLANK(Responses!AU42), \"\", Responses!AU42)","v":""},{"$error":"#N/A"},{"$error":"#N/A"},{"$f":"IF(ISBLANK(C42),0,VLOOKUP(C42,LUTs!$A$6:$B$8,2))","v":{"$error":"#N/A"}},{"$f":"IF(ISBLANK(D42),0,VLOOKUP(D42,LUTs!$A$6:$B$8,2))","v":{"$error":"#N/A"}},{"$f":"IF(ISBLANK(E42),0,VLOOKUP(E42,LUTs!$A$6:$B$8,2))","v":{"$error":"#N/A"}},{"$f":"IF(ISBLANK(F42),0,VLOOKUP(F42,LUTs!$A$6:$B$8,2))","v":{"$error":"#N/A"}},{"$f":"IF(ISBLANK(G42),0,VLOOKUP(G42,LUTs!$A$6:$B$8,2))","v":{"$error":"#N/A"}}]
[{"$f":"IF(ISBLANK(Responses!A43), \"\", Responses!A43)","v":""},{"$f":"IF(ISBLANK(Responses!B43), \"\", Responses!B43)","v":""},{"$f":"IF(ISBLANK(Responses!AQ43), \"\", Responses!AQ43)","v":""},{"$f":"IF(ISBLANK(Responses!AR43), \"\", Responses!AR43)","v":""},{"$f":"IF(ISBLANK(Responses!AS43), \"\", Responses!AS43)","v":""},{"$f":"IF(ISBLANK(Responses!AT43), \"\", Responses!AT43)","v":""},{"$f":"IF(ISBLANK(Responses!AU43), \"\", Responses!AU43)","v":""},{"$error":"#N/A"},{"$error":"#N/A"},{"$f":"IF(ISBLANK(C43),0,VLOOKUP(C43,LUTs!$A$6:$B$8,2))","v":{"$error":"#N/A"}},{"$f":"IF(ISBLANK(D43),0,VLOOKUP(D43,LUTs!$A$6:$B$8,2))","v":{"$error":"#N/A"}},{"$f":"IF(ISBLANK(E43),0,VLOOKUP(E43,LUTs!$A$6:$B$8,2))","v":{"$error":"#N/A"}},{"$f":"IF(ISBLANK(F43),0,VLOOKUP(F43,LUTs!$A$6:$B$8,2))","v":{"$error":"#N/A"}},{"$f":"IF(ISBLANK(G43),0,VLOOKUP(G43,LUTs!$A$6:$B$8,2))","v":{"$error":"#N/A"}}]
[{"$f":"IF(ISBLANK(Responses!A44), \"\", Responses!A44)","v":""},{"$f":"IF(ISBLANK(Responses!B44), \"\", Responses!B44)","v":""},{"$f":"IF(ISBLANK(Responses!AQ44), \"\", Responses!AQ44)","v":""},{"$f":"IF(ISBLANK(Responses!AR44), \"\", Responses!AR44)","v":""},{"$f":"IF(ISBLANK(Responses!AS44), \"\", Responses!AS44)","v":""},{"$f":"IF(ISBLANK(Responses!AT44), \"\", Responses!AT44)","v":""},{"$f":"IF(ISBLANK(Responses!AU44), \"\", Responses!AU44)","v":""},{"$error":"#N/A"},{"$error":"#N/A"},{"$f":"IF(ISBLANK(C44),0,VLOOKUP(C44,LUTs!$A$6:$B$8,2))","v":{"$error":"#N/A"}},{"$f":"IF(ISBLANK(D44),0,VLOOKUP(D44,LUTs!$A$6:$B$8,2))","v":{"$error":"#N/A"}},{"$f":"IF(ISBLANK(E44),0,VLOOKUP(E44,LUTs!$A$6:$B$8,2))","v":{"$error":"#N/A"}},{"$f":"IF(ISBLANK(F44),0,VLOOKUP(F44,LUTs!$A$6:$B$8,2))","v":{"$error":"#N/A"}},{"$f":"IF(ISBLANK(G44),0,VLOOKUP(G44,LUTs!$A$6:$B$8,2))","v":{"$error":"#N/A"}}]
[{"$f":"IF(ISBLANK(Responses!A45), \"\", Responses!A45)","v":""},{"$f":"IF(ISBLANK(Responses!B45), \"\", Responses!B45)","v":""},{"$f":"IF(ISBLANK(Responses!AQ45), \"\", Responses!AQ45)","v":""},{"$f":"IF(ISBLANK(Responses!AR45), \"\", Responses!AR45)","v":""},{"$f":"IF(ISBLANK(Responses!AS45), \"\", Responses!AS45)","v":""},{"$f":"IF(ISBLANK(Responses!AT45), \"\", Responses!AT45)","v":""},{"$f":"IF(ISBLANK(Responses!AU45), \"\", Responses!AU45)","v":""},{"$error":"#N/A"},{"$error":"#N/A"},{"$f":"IF(ISBLANK(C45),0,VLOOKUP(C45,LUTs!$A$6:$B$8,2))","v":{"$error":"#N/A"}},{"$f":"IF(ISBLANK(D45),0,VLOOKUP(D45,LUTs!$A$6:$B$8,2))","v":{"$error":"#N/A"}},{"$f":"IF(ISBLANK(E45),0,VLOOKUP(E45,LUTs!$A$6:$B$8,2))","v":{"$error":"#N/A"}},{"$f":"IF(ISBLANK(F45),0,VLOOKUP(F45,LUTs!$A$6:$B$8,2))","v":{"$error":"#N/A"}},{"$f":"IF(ISBLANK(G45),0,VLOOKUP(G45,LUTs!$A$6:$B$8,2))","v":{"$error":"#N/A"}}]
[{"$f":"IF(ISBLANK(Responses!A46), \"\", Responses!A46)","v":""},{"$f":"IF(ISBLANK(Responses!B46), \"\", Responses!B46)","v":""},{"$f":"IF(ISBLANK(Responses!AQ46), \"\", Responses!AQ46)","v":""},{"$f":"IF(ISBLANK(Responses!AR46), \"\", Responses!AR46)","v":""},{"$f":"IF(ISBLANK(Responses!AS46), \"\", Responses!AS46)","v":""},{"$f":"IF(ISBLANK(Responses!AT46), \"\", Responses!AT46)","v":""},{"$f":"IF(ISBLANK(Responses!AU46), \"\", Responses!AU46)","v":""},{"$error":"#N/A"},{"$error":"#N/A"},{"$f":"IF(ISBLANK(C46),0,VLOOKUP(C46,LUTs!$A$6:$B$8,2))","v":{"$error":"#N/A"}},{"$f":"IF(ISBLANK(D46),0,VLOOKUP(D46,LUTs!$A$6:$B$8,2))","v":{"$error":"#N/A"}},{"$f":"IF(ISBLANK(E46),0,VLOOKUP(E46,LUTs!$A$6:$B$8,2))","v":{"$error":"#N/A"}},{"$f":"IF(ISBLANK(F46),0,VLOOKUP(F46,LUTs!$A$6:$B$8,2))","v":{"$error":"#N/A"}},{"$f":"IF(ISBLANK(G46),0,VLOOKUP(G46,LUTs!$A$6:$B$8,2))","v":{"$error":"#N/A"}}]
[{"$f":"IF(ISBLANK(Responses!A47), \"\", Responses!A47)","v":""},{"$f":"IF(ISBLANK(Responses!B47), \"\", Responses!B47)","v":""},{"$f":"IF(ISBLANK(Responses!AQ47), \"\", Responses!AQ47)","v":""},{"$f":"IF(ISBLANK(Responses!AR47), \"\", Responses!AR47)","v":""},{"$f":"IF(ISBLANK(Responses!AS47), \"\", Responses!AS47)","v":""},{"$f":"IF(ISBLANK(Responses!AT47), \"\", Responses!AT47)","v":""},{"$f":"IF(ISBLANK(Responses!AU47), \"\", Responses!AU47)","v":""},{"$error":"#N/A"},{"$error":"#N/A"},{"$f":"IF(ISBLANK(C47),0,VLOOKUP(C47,LUTs!$A$6:$B$8,2))","v":{"$error":"#N/A"}},{"$f":"IF(ISBLANK(D47),0,VLOOKUP(D47,LUTs!$A$6:$B$8,2))","v":{"$error":"#N/A"}},{"$f":"IF(ISBLANK(E47),0,VLOOKUP(E47,LUTs!$A$6:$B$8,2))","v":{"$error":"#N/A"}},{"$f":"IF(ISBLANK(F47),0,VLOOKUP(F47,LUTs!$A$6:$B$8,2))","v":{"$error":"#N/A"}},{"$f":"IF(ISBLANK(G47),0,VLOOKUP(G47,LUTs!$A$6:$B$8,2))","v":{"$error":"#N/A"}}]
[{"$f":"IF(ISBLANK(Responses!A48), \"\", Responses!A48)","v":""},{"$f":"IF(ISBLANK(Responses!B48), \"\", Responses!B48)","v":""},{"$f":"IF(ISBLANK(Responses!AQ48), \"\", Responses!AQ48)","v":""},{"$f":"IF(ISBLANK(Responses!AR48), \"\", Responses!AR48)","v":""},{"$f":"IF(ISBLANK(Responses!AS48), \"\", Responses!AS48)","v":""},{"$f":"IF(ISBLANK(Responses!AT48), \"\", Responses!AT48)","v":""},{"$f":"IF(ISBLANK(Responses!AU48), \"\", Responses!AU48)","v":""},{"$error":"#N/A"},{"$error":"#N/A"},{"$f":"IF(ISBLANK(C48),0,VLOOKUP(C48,LUTs!$A$6:$B$8,2))","v":{"$error":"#N/A"}},{"$f":"IF(ISBLANK(D48),0,VLOOKUP(D48,LUTs!$A$6:$B$8,2))","v":{"$error":"#N/A"}},{"$f":"IF(ISBLANK(E48),0,VLOOKUP(E48,LUTs!$A$6:$B$8,2))","v":{"$error":"#N/A"}},{"$f":"IF(ISBLANK(F48),0,VLOOKUP(F48,LUTs!$A$6:$B$8,2))","v":{"$error":"#N/A"}},{"$f":"IF(ISBLANK(G48),0,VLOOKUP(G48,LUTs!$A$6:$B$8,2))","v":{"$error":"#N/A"}}]
[{"$f":"IF(ISBLANK(Responses!A49), \"\", Responses!A49)","v":""},{"$f":"IF(ISBLANK(Responses!B49), \"\", Responses!B49)","v":""},{"$f":"IF(ISBLANK(Responses!AQ49), \"\", Responses!AQ49)","v":""},{"$f":"IF(ISBLANK(Responses!AR49), \"\", Responses!AR49)","v":""},{"$f":"IF(ISBLANK(Responses!AS49), \"\", Responses!AS49)","v":""},{"$f":"IF(ISBLANK(Responses!AT49), \"\", Responses!AT49)","v":""},{"$f":"IF(ISBLANK(Responses!AU49), \"\", Responses!AU49)","v":""},{"$error":"#N/A"},{"$error":"#N/A"},{"$f":"IF(ISBLANK(C49),0,VLOOKUP(C49,LUTs!$A$6:$B$8,2))","v":{"$error":"#N/A"}},{"$f":"IF(ISBLANK(D49),0,VLOOKUP(D49,LUTs!$A$6:$B$8,2))","v":{"$error":"#N/A"}},{"$f":"IF(ISBLANK(E49),0,VLOOKUP(E49,LUTs!$A$6:$B$8,2))","v":{"$error":"#N/A"}},{"$f":"IF(ISBLANK(F49),0,VLOOKUP(F49,LUTs!$A$6:$B$8,2))","v":{"$error":"#N/A"}},{"$f":"IF(ISBLANK(G49),0,VLOOKUP(G49,LUTs!$A$6:$B$8,2))","v":{"$error":"#N/A"}}]
[{"$f":"IF(ISBLANK(Responses!A50), \"\", Responses!A50)","v":""},{"$f":"IF(ISBLANK(Responses!B50), \"\", Responses!B50)","v":""},{"$f":"IF(ISBLANK(Responses!AQ50), \"\", Responses!AQ50)","v":""},{"$f":"IF(ISBLANK(Responses!AR50), \"\", Responses!AR50)","v":""},{"$f":"IF(ISBLANK(Responses!AS50), \"\", Responses!AS50)","v":""},{"$f":"IF(ISBLANK(Responses!AT50), \"\", Responses!AT50)","v":""},{"$f":"IF(ISBLANK(Responses!AU50), \"\", Responses!AU50)","v":""},{"$error":"#N/A"},{"$error":"#N/A"},{"$f":"IF(ISBLANK(C50),0,VLOOKUP(C50,LUTs!$A$6:$B$8,2))","v":{"$error":"#N/A"}},{"$f":"IF(ISBLANK(D50),0,VLOOKUP(D50,LUTs!$A$6:$B$8,2))","v":{"$error":"#N/A"}},{"$f":"IF(ISBLANK(E50),0,VLOOKUP(E50,LUTs!$A$6:$B$8,2))","v":{"$error":"#N/A"}},{"$f":"IF(ISBLANK(F50),0,VLOOKUP(F50,LUTs!$A$6:$B$8,2))","v":{"$error":"#N/A"}},{"$f":"IF(ISBLANK(G50),0,VLOOKUP(G50,LUTs!$A$6:$B$8,2))","v":{"$error":"#N/A"}}]
[{"$f":"IF(ISBLANK(Responses!A51), \"\", Responses!A51)","v":""},{"$f":"IF(ISBLANK(Responses!B51), \"\", Responses!B51)","v":""},{"$f":"IF(ISBLANK(Responses!AQ51), \"\", Responses!AQ51)","v":""},{"$f":"IF(ISBLANK(Responses!AR51), \"\", Responses!AR51)","v":""},{"$f":"IF(ISBLANK(Responses!AS51), \"\", Responses!AS51)","v":""},{"$f":"IF(ISBLANK(Responses!AT51), \"\", Responses!AT51)","v":""},{"$f":"IF(ISBLANK(Responses!AU51), \"\", Responses!AU51)","v":""},{"$error":"#N/A"},{"$error":"#N/A"},{"$f":"IF(ISBLANK(C51),0,VLOOKUP(C51,LUTs!$A$6:$B$8,2))","v":{"$error":"#N/A"}},{"$f":"IF(ISBLANK(D51),0,VLOOKUP(D51,LUTs!$A$6:$B$8,2))","v":{"$error":"#N/A"}},{"$f":"IF(ISBLANK(E51),0,VLOOKUP(E51,LUTs!$A$6:$B$8,2))","v":{"$error":"#N/A"}},{"$f":"IF(ISBLANK(F51),0,VLOOKUP(F51,LUTs!$A$6:$B$8,2))","v":{"$error":"#N/A"}},{"$f":"IF(ISBLANK(G51),0,VLOOKUP(G51,LUTs!$A$6:$B$8,2))","v":{"$error":"#N/A"}}]
[{"$f":"IF(ISBLANK(Responses!A52), \"\", Responses!A52)","v":""},{"$f":"IF(ISBLANK(Responses!B52), \"\", Responses!B52)","v":""},{"$f":"IF(ISBLANK(Responses!AQ52), \"\", Responses!AQ52)","v":""},{"$f":"IF(ISBLANK(Responses!AR52), \"\", Responses!AR52)","v":""},{"$f":"IF(ISBLANK(Responses!AS52), \"\", Responses!AS52)","v":""},{"$f":"IF(ISBLANK(Responses!AT52), \"\", Responses!AT52)","v":""},{"$f":"IF(ISBLANK(Responses!AU52), \"\", Responses!AU52)","v":""},{"$error":"#N/A"},{"$error":"#N/A"},{"$f":"IF(ISBLANK(C52),0,VLOOKUP(C52,LUTs!$A$6:$B$8,2))","v":{"$error":"#N/A"}},{"$f":"IF(ISBLANK(D52),0,VLOOKUP(D52,LUTs!$A$6:$B$8,2))","v":{"$error":"#N/A"}},{"$f":"IF(ISBLANK(E52),0,VLOOKUP(E52,LUTs!$A$6:$B$8,2))","v":{"$error":"#N/A"}},{"$f":"IF(ISBLANK(F52),0,VLOOKUP(F52,LUTs!$A$6:$B$8,2))","v":{"$error":"#N/A"}},{"$f":"IF(ISBLANK(G52),0,VLOOKUP(G52,LUTs!$A$6:$B$8,2))","v":{"$error":"#N/A"}}]
[{"$f":"IF(ISBLANK(Responses!A53), \"\", Responses!A53)","v":""},{"$f":"IF(ISBLANK(Responses!B53), \"\", Responses!B53)","v":""},{"$f":"IF(ISBLANK(Responses!AQ53), \"\", Responses!AQ53)","v":""},{"$f":"IF(ISBLANK(Responses!AR53), \"\", Responses!AR53)","v":""},{"$f":"IF(ISBLANK(Responses!AS53), \"\", Responses!AS53)","v":""},{"$f":"IF(ISBLANK(Responses!AT53), \"\", Responses!AT53)","v":""},{"$f":"IF(ISBLANK(Responses!AU53), \"\", Responses!AU53)","v":""},{"$error":"#N/A"},{"$error":"#N/A"},{"$f":"IF(ISBLANK(C53),0,VLOOKUP(C53,LUTs!$A$6:$B$8,2))","v":{"$error":"#N/A"}},{"$f":"IF(ISBLANK(D53),0,VLOOKUP(D53,LUTs!$A$6:$B$8,2))","v":{"$error":"#N/A"}},{"$f":"IF(ISBLANK(E53),0,VLOOKUP(E53,LUTs!$A$6:$B$8,2))","v":{"$error":"#N/A"}},{"$f":"IF(ISBLANK(F53),0,VLOOKUP(F53,LUTs!$A$6:$B$8,2))","v":{"$error":"#N/A"}},{"$f":"IF(ISBLANK(G53),0,VLOOKUP(G53,LUTs!$A$6:$B$8,2))","v":{"$error":"#N/A"}}]
[{"$f":"IF(ISBLANK(Responses!A54), \"\", Responses!A54)","v":""},{"$f":"IF(ISBLANK(Responses!B54), \"\", Responses!B54)","v":""},{"$f":"IF(ISBLANK(Responses!AQ54), \"\", Responses!AQ54)","v":""},{"$f":"IF(ISBLANK(Responses!AR54), \"\", Responses!AR54)","v":""},{"$f":"IF(ISBLANK(Responses!AS54), \"\", Responses!AS54)","v":""},{"$f":"IF(ISBLANK(Responses!AT54), \"\", Responses!AT54)","v":""},{"$f":"IF(ISBLANK(Responses!AU54), \"\", Responses!AU54)","v":""},{"$error":"#N/A"},{"$error":"#N/A"},{"$f":"IF(ISBLANK(C54),0,VLOOKUP(C54,LUTs!$A$6:$B$8,2))","v":{"$error":"#N/A"}},{"$f":"IF(ISBLANK(D54),0,VLOOKUP(D54,LUTs!$A$6:$B$8,2))","v":{"$error":"#N/A"}},{"$f":"IF(ISBLANK(E54),0,VLOOKUP(E54,LUTs!$A$6:$B$8,2))","v":{"$error":"#N/A"}},{"$f":"IF(ISBLANK(F54),0,VLOOKUP(F54,LUTs!$A$6:$B$8,2))","v":{"$error":"#N/A"}},{"$f":"IF(ISBLANK(G54),0,VLOOKUP(G54,LUTs!$A$6:$B$8,2))","v":{"$error":"#N/A"}}]
[{"$f":"IF(ISBLANK(Responses!A55), \"\", Responses!A55)","v":""},{"$f":"IF(ISBLANK(Responses!B55), \"\", Responses!B55)","v":""},{"$f":"IF(ISBLANK(Responses!AQ55), \"\", Responses!AQ55)","v":""},{"$f":"IF(ISBLANK(Responses!AR55), \"\", Responses!AR55)","v":""},{"$f":"IF(ISBLANK(Responses!AS55), \"\", Responses!AS55)","v":""},{"$f":"IF(ISBLANK(Responses!AT55), \"\", Responses!AT55)","v":""},{"$f":"IF(ISBLANK(Responses!AU55), \"\", Responses!AU55)","v":""},{"$error":"#N/A"},{"$error":"#N/A"},{"$f":"IF(ISBLANK(C55),0,VLOOKUP(C55,LUTs!$A$6:$B$8,2))","v":{"$error":"#N/A"}},{"$f":"IF(ISBLANK(D55),0,VLOOKUP(D55,LUTs!$A$6:$B$8,2))","v":{"$error":"#N/A"}},{"$f":"IF(ISBLANK(E55),0,VLOOKUP(E55,LUTs!$A$6:$B$8,2))","v":{"$error":"#N/A"}},{"$f":"IF(ISBLANK(F55),0,VLOOKUP(F55,LUTs!$A$6:$B$8,2))","v":{"$error":"#N/A"}},{"$f":"IF(ISBLANK(G55),0,VLOOKUP(G55,LUTs!$A$6:$B$8,2))","v":{"$error":"#N/A"}}]
[{"$f":"IF(ISBLANK(Responses!A56), \"\", Responses!A56)","v":""},{"$f":"IF(ISBLANK(Responses!B56), \"\", Responses!B56)","v":""},{"$f":"IF(ISBLANK(Responses!AQ56), \"\", Responses!AQ56)","v":""},{"$f":"IF(ISBLANK(Responses!AR56), \"\", Responses!AR56)","v":""},{"$f":"IF(ISBLANK(Responses!AS56), \"\", Responses!AS56)","v":""},{"$f":"IF(ISBLANK(Responses!AT56), \"\", Responses!AT56)","v":""},{"$f":"IF(ISBLANK(Responses!AU56), \"\", Responses!AU56)","v":""},{"$error":"#N/A"},{"$error":"#N/A"},{"$f":"IF(ISBLANK(C56),0,VLOOKUP(C56,LUTs!$A$6:$B$8,2))","v":{"$error":"#N/A"}},{"$f":"IF(ISBLANK(D56),0,VLOOKUP(D56,LUTs!$A$6:$B$8,2))","v":{"$error":"#N/A"}},{"$f":"IF(ISBLANK(E56),0,VLOOKUP(E56,LUTs!$A$6:$B$8,2))","v":{"$error":"#N/A"}},{"$f":"IF(ISBLANK(F56),0,VLOOKUP(F56,LUTs!$A$6:$B$8,2))","v":{"$error":"#N/A"}},{"$f":"IF(ISBLANK(G56),0,VLOOKUP(G56,LUTs!$A$6:$B$8,2))","v":{"$error":"#N/A"}}]
[{"$f":"IF(ISBLANK(Responses!A57), \"\", Responses!A57)","v":""},{"$f":"IF(ISBLANK(Responses!B57), \"\", Responses!B57)","v":""},{"$f":"IF(ISBLANK(Responses!AQ57), \"\", Responses!AQ57)","v":""},{"$f":"IF(ISBLANK(Responses!AR57), \"\", Responses!AR57)","v":""},{"$f":"IF(ISBLANK(Responses!AS57), \"\", Responses!AS57)","v":""},{"$f":"IF(ISBLANK(Responses!AT57), \"\", Responses!AT57)","v":""},{"$f":"IF(ISBLANK(Responses!AU57), \"\", Responses!AU57)","v":""},{"$error":"#N/A"},{"$error":"#N/A"},{"$f":"IF(ISBLANK(C57),0,VLOOKUP(C57,LUTs!$A$6:$B$8,2))","v":{"$error":"#N/A"}},{"$f":"IF(ISBLANK(D57),0,VLOOKUP(D57,LUTs!$A$6:$B$8,2))","v":{"$error":"#N/A"}},{"$f":"IF(ISBLANK(E57),0,VLOOKUP(E57,LUTs!$A$6:$B$8,2))","v":{"$error":"#N/A"}},{"$f":"IF(ISBLANK(F57),0,VLOOKUP(F57,LUTs!$A$6:$B$8,2))","v":{"$error":"#N/A"}},{"$f":"IF(ISBLANK(G57),0,VLOOKUP(G57,LUTs!$A$6:$B$8,2))","v":{"$error":"#N/A"}}]
[{"$f":"IF(ISBLANK(Responses!A58), \"\", Responses!A58)","v":""},{"$f":"IF(ISBLANK(Responses!B58), \"\", Responses!B58)","v":""},{"$f":"IF(ISBLANK(Responses!AQ58), \"\", Responses!AQ58)","v":""},{"$f":"IF(ISBLANK(Responses!AR58), \"\", Responses!AR58)","v":""},{"$f":"IF(ISBLANK(Responses!AS58), \"\", Responses!AS58)","v":""},{"$f":"IF(ISBLANK(Responses!AT58), \"\", Responses!AT58)","v":""},{"$f":"IF(ISBLANK(Responses!AU58), \"\", Responses!AU58)","v":""},{"$error":"#N/A"},{"$error":"#N/A"},{"$f":"IF(ISBLANK(C58),0,VLOOKUP(C58,LUTs!$A$6:$B$8,2))","v":{"$error":"#N/A"}},{"$f":"IF(ISBLANK(D58),0,VLOOKUP(D58,LUTs!$A$6:$B$8,2))","v":{"$error":"#N/A"}},{"$f":"IF(ISBLANK(E58),0,VLOOKUP(E58,LUTs!$A$6:$B$8,2))","v":{"$error":"#N/A"}},{"$f":"IF(ISBLANK(F58),0,VLOOKUP(F58,LUTs!$A$6:$B$8,2))","v":{"$error":"#N/A"}},{"$f":"IF(ISBLANK(G58),0,VLOOKUP(G58,LUTs!$A$6:$B$8,2))","v":{"$error":"#N/A"}}]
[{"$f":"IF(ISBLANK(Responses!A59), \"\", Responses!A59)","v":""},{"$f":"IF(ISBLANK(Responses!B59), \"\", Responses!B59)","v":""},{"$f":"IF(ISBLANK(Responses!AQ59), \"\", Responses!AQ59)","v":""},{"$f":"IF(ISBLANK(Responses!AR59), \"\", Responses!AR59)","v":""},{"$f":"IF(ISBLANK(Responses!AS59), \"\", Responses!AS59)","v":""},{"$f":"IF(ISBLANK(Responses!AT59), \"\", Responses!AT59)","v":""},{"$f":"IF(ISBLANK(Responses!AU59), \"\", Responses!AU59)","v":""},{"$error":"#N/A"},{"$error":"#N/A"},{"$f":"IF(ISBLANK(C59),0,VLOOKUP(C59,LUTs!$A$6:$B$8,2))","v":{"$error":"#N/A"}},{"$f":"IF(ISBLANK(D59),0,VLOOKUP(D59,LUTs!$A$6:$B$8,2))","v":{"$error":"#N/A"}},{"$f":"IF(ISBLANK(E59),0,VLOOKUP(E59,LUTs!$A$6:$B$8,2))","v":{"$error":"#N/A"}},{"$f":"IF(ISBLANK(F59),0,VLOOKUP(F59,LUTs!$A$6:$B$8,2))","v":{"$error":"#N/A"}},{"$f":"IF(ISBLANK(G59),0,VLOOKUP(G59,LUTs!$A$6:$B$8,2))","v":{"$error":"#N/A"}}]
[{"$f":"IF(ISBLANK(Responses!A60), \"\", Responses!A60)","v":""},{"$f":"IF(ISBLANK(Responses!B60), \"\", Responses!B60)","v":""},{"$f":"IF(ISBLANK(Responses!AQ60), \"\", Responses!AQ60)","v":""},{"$f":"IF(ISBLANK(Responses!AR60), \"\", Responses!AR60)","v":""},{"$f":"IF(ISBLANK(Responses!AS60), \"\", Responses!AS60)","v":""},{"$f":"IF(ISBLANK(Responses!AT60), \"\", Responses!AT60)","v":""},{"$f":"IF(ISBLANK(Responses!AU60), \"\", Responses!AU60)","v":""},{"$error":"#N/A"},{"$error":"#N/A"},{"$f":"IF(ISBLANK(C60),0,VLOOKUP(C60,LUTs!$A$6:$B$8,2))","v":{"$error":"#N/A"}},{"$f":"IF(ISBLANK(D60),0,VLOOKUP(D60,LUTs!$A$6:$B$8,2))","v":{"$error":"#N/A"}},{"$f":"IF(ISBLANK(E60),0,VLOOKUP(E60,LUTs!$A$6:$B$8,2))","v":{"$error":"#N/A"}},{"$f":"IF(ISBLANK(F60),0,VLOOKUP(F60,LUTs!$A$6:$B$8,2))","v":{"$error":"#N/A"}},{"$f":"IF(ISBLANK(G60),0,VLOOKUP(G60,LUTs!$A$6:$B$8,2))","v":{"$error":"#N/A"}}]
[{"$f":"IF(ISBLANK(Responses!A61), \"\", Responses!A61)","v":""},{"$f":"IF(ISBLANK(Responses!B61), \"\", Responses!B61)","v":""},{"$f":"IF(ISBLANK(Responses!AQ61), \"\", Responses!AQ61)","v":""},{"$f":"IF(ISBLANK(Responses!AR61), \"\", Responses!AR61)","v":""},{"$f":"IF(ISBLANK(Responses!AS61), \"\", Responses!AS61)","v":""},{"$f":"IF(ISBLANK(Responses!AT61), \"\", Responses!AT61)","v":""},{"$f":"IF(ISBLANK(Responses!AU61), \"\", Responses!AU61)","v":""},{"$error":"#N/A"},{"$error":"#N/A"},{"$f":"IF(ISBLANK(C61),0,VLOOKUP(C61,LUTs!$A$6:$B$8,2))","v":{"$error":"#N/A"}},{"$f":"IF(ISBLANK(D61),0,VLOOKUP(D61,LUTs!$A$6:$B$8,2))","v":{"$error":"#N/A"}},{"$f":"IF(ISBLANK(E61),0,VLOOKUP(E61,LUTs!$A$6:$B$8,2))","v":{"$error":"#N/A"}},{"$f":"IF(ISBLANK(F61),0,VLOOKUP(F61,LUTs!$A$6:$B$8,2))","v":{"$error":"#N/A"}},{"$f":"IF(ISBLANK(G61),0,VLOOKUP(G61,LUTs!$A$6:$B$8,2))","v":{"$error":"#N/A"}}]
[{"$f":"IF(ISBLANK(Responses!A62), \"\", Responses!A62)","v":""},{"$f":"IF(ISBLANK(Responses!B62), \"\", Responses!B62)","v":""},{"$f":"IF(ISBLANK(Responses!AQ62), \"\", Responses!AQ62)","v":""},{"$f":"IF(ISBLANK(Responses!AR62), \"\", Responses!AR62)","v":""},{"$f":"IF(ISBLANK(Responses!AS62), \"\", Responses!AS62)","v":""},{"$f":"IF(ISBLANK(Responses!AT62), \"\", Responses!AT62)","v":""},{"$f":"IF(ISBLANK(Responses!AU62), \"\", Responses!AU62)","v":""},{"$error":"#N/A"},{"$error":"#N/A"},{"$f":"IF(ISBLANK(C62),0,VLOOKUP(C62,LUTs!$A$6:$B$8,2))","v":{"$error":"#N/A"}},{"$f":"IF(ISBLANK(D62),0,VLOOKUP(D62,LUTs!$A$6:$B$8,2))","v":{"$error":"#N/A"}},{"$f":"IF(ISBLANK(E62),0,VLOOKUP(E62,LUTs!$A$6:$B$8,2))","v":{"$error":"#N/A"}},{"$f":"IF(ISBLANK(F62),0,VLOOKUP(F62,LUTs!$A$6:$B$8,2))","v":{"$error":"#N/A"}},{"$f":"IF(ISBLANK(G62),0,VLOOKUP(G62,LUTs!$A$6:$B$8,2))","v":{"$error":"#N/A"}}]
[{"$f":"IF(ISBLANK(Responses!A63), \"\", Responses!A63)","v":""},{"$f":"IF(ISBLANK(Responses!B63), \"\", Responses!B63)","v":""},{"$f":"IF(ISBLANK(Responses!AQ63), \"\", Responses!AQ63)","v":""},{"$f":"IF(ISBLANK(Responses!AR63), \"\", Responses!AR63)","v":""},{"$f":"IF(ISBLANK(Responses!AS63), \"\", Responses!AS63)","v":""},{"$f":"IF(ISBLANK(Responses!AT63), \"\", Responses!AT63)","v":""},{"$f":"IF(ISBLANK(Responses!AU63), \"\", Responses!AU63)","v":""},{"$error":"#N/A"},{"$error":"#N/A"},{"$f":"IF(ISBLANK(C63),0,VLOOKUP(C63,LUTs!$A$6:$B$8,2))","v":{"$error":"#N/A"}},{"$f":"IF(ISBLANK(D63),0,VLOOKUP(D63,LUTs!$A$6:$B$8,2))","v":{"$error":"#N/A"}},{"$f":"IF(ISBLANK(E63),0,VLOOKUP(E63,LUTs!$A$6:$B$8,2))","v":{"$error":"#N/A"}},{"$f":"IF(ISBLANK(F63),0,VLOOKUP(F63,LUTs!$A$6:$B$8,2))","v":{"$error":"#N/A"}},{"$f":"IF(ISBLANK(G63),0,VLOOKUP(G63,LUTs!$A$6:$B$8,2))","v":{"$error":"#N/A"}}]
[{"$f":"IF(ISBLANK(Responses!A64), \"\", Responses!A64)","v":""},{"$f":"IF(ISBLANK(Responses!B64), \"\", Responses!B64)","v":""},{"$f":"IF(ISBLANK(Responses!AQ64), \"\", Responses!AQ64)","v":""},{"$f":"IF(ISBLANK(Responses!AR64), \"\", Responses!AR64)","v":""},{"$f":"IF(ISBLANK(Responses!AS64), \"\", Responses!AS64)","v":""},{"$f":"IF(ISBLANK(Responses!AT64), \"\", Responses!AT64)","v":""},{"$f":"IF(ISBLANK(Responses!AU64), \"\", Responses!AU64)","v":""},{"$error":"#N/A"},{"$error":"#N/A"},{"$f":"IF(ISBLANK(C64),0,VLOOKUP(C64,LUTs!$A$6:$B$8,2))","v":{"$error":"#N/A"}},{"$f":"IF(ISBLANK(D64),0,VLOOKUP(D64,LUTs!$A$6:$B$8,2))","v":{"$error":"#N/A"}},{"$f":"IF(ISBLANK(E64),0,VLOOKUP(E64,LUTs!$A$6:$B$8,2))","v":{"$error":"#N/A"}},{"$f":"IF(ISBLANK(F64),0,VLOOKUP(F64,LUTs!$A$6:$B$8,2))","v":{"$error":"#N/A"}},{"$f":"IF(ISBLANK(G64),0,VLOOKUP(G64,LUTs!$A$6:$B$8,2))","v":{"$error":"#N/A"}}]
[{"$f":"IF(ISBLANK(Responses!A65), \"\", Responses!A65)","v":""},{"$f":"IF(ISBLANK(Responses!B65), \"\", Responses!B65)","v":""},{"$f":"IF(ISBLANK(Responses!AQ65), \"\", Responses!AQ65)","v":""},{"$f":"IF(ISBLANK(Responses!AR65), \"\", Responses!AR65)","v":""},{"$f":"IF(ISBLANK(Responses!AS65), \"\", Responses!AS65)","v":""},{"$f":"IF(ISBLANK(Responses!AT65), \"\", Responses!AT65)","v":""},{"$f":"IF(ISBLANK(Responses!AU65), \"\", Responses!AU65)","v":""},{"$error":"#N/A"},{"$error":"#N/A"},{"$f":"IF(ISBLANK(C65),0,VLOOKUP(C65,LUTs!$A$6:$B$8,2))","v":{"$error":"#N/A"}},{"$f":"IF(ISBLANK(D65),0,VLOOKUP(D65,LUTs!$A$6:$B$8,2))","v":{"$error":"#N/A"}},{"$f":"IF(ISBLANK(E65),0,VLOOKUP(E65,LUTs!$A$6:$B$8,2))","v":{"$error":"#N/A"}},{"$f":"IF(ISBLANK(F65),0,VLOOKUP(F65,LUTs!$A$6:$B$8,2))","v":{"$error":"#N/A"}},{"$f":"IF(ISBLANK(G65),0,VLOOKUP(G65,LUTs!$A$6:$B$8,2))","v":{"$error":"#N/A"}}]
[{"$f":"IF(ISBLANK(Responses!A66), \"\", Responses!A66)","v":""},{"$f":"IF(ISBLANK(Responses!B66), \"\", Responses!B66)","v":""},{"$f":"IF(ISBLANK(Responses!AQ66), \"\", Responses!AQ66)","v":""},{"$f":"IF(ISBLANK(Responses!AR66), \"\", Responses!AR66)","v":""},{"$f":"IF(ISBLANK(Responses!AS66), \"\", Responses!AS66)","v":""},{"$f":"IF(ISBLANK(Responses!AT66), \"\", Responses!AT66)","v":""},{"$f":"IF(ISBLANK(Responses!AU66), \"\", Responses!AU66)","v":""},{"$error":"#N/A"},{"$error":"#N/A"},{"$f":"IF(ISBLANK(C66),0,VLOOKUP(C66,LUTs!$A$6:$B$8,2))","v":{"$error":"#N/A"}},{"$f":"IF(ISBLANK(D66),0,VLOOKUP(D66,LUTs!$A$6:$B$8,2))","v":{"$error":"#N/A"}},{"$f":"IF(ISBLANK(E66),0,VLOOKUP(E66,LUTs!$A$6:$B$8,2))","v":{"$error":"#N/A"}},{"$f":"IF(ISBLANK(F66),0,VLOOKUP(F66,LUTs!$A$6:$B$8,2))","v":{"$error":"#N/A"}},{"$f":"IF(ISBLANK(G66),0,VLOOKUP(G66,LUTs!$A$6:$B$8,2))","v":{"$error":"#N/A"}}]
[{"$f":"IF(ISBLANK(Responses!A67), \"\", Responses!A67)","v":""},{"$f":"IF(ISBLANK(Responses!B67), \"\", Responses!B67)","v":""},{"$f":"IF(ISBLANK(Responses!AQ67), \"\", Responses!AQ67)","v":""},{"$f":"IF(ISBLANK(Responses!AR67), \"\", Responses!AR67)","v":""},{"$f":"IF(ISBLANK(Responses!AS67), \"\", Responses!AS67)","v":""},{"$f":"IF(ISBLANK(Responses!AT67), \"\", Responses!AT67)","v":""},{"$f":"IF(ISBLANK(Responses!AU67), \"\", Responses!AU67)","v":""},{"$error":"#N/A"},{"$error":"#N/A"},{"$f":"IF(ISBLANK(C67),0,VLOOKUP(C67,LUTs!$A$6:$B$8,2))","v":{"$error":"#N/A"}},{"$f":"IF(ISBLANK(D67),0,VLOOKUP(D67,LUTs!$A$6:$B$8,2))","v":{"$error":"#N/A"}},{"$f":"IF(ISBLANK(E67),0,VLOOKUP(E67,LUTs!$A$6:$B$8,2))","v":{"$error":"#N/A"}},{"$f":"IF(ISBLANK(F67),0,VLOOKUP(F67,LUTs!$A$6:$B$8,2))","v":{"$error":"#N/A"}},{"$f":"IF(ISBLANK(G67),0,VLOOKUP(G67,LUTs!$A$6:$B$8,2))","v":{"$error":"#N/A"}}]
[{"$f":"IF(ISBLANK(Responses!A68), \"\", Responses!A68)","v":""},{"$f":"IF(ISBLANK(Responses!B68), \"\", Responses!B68)","v":""},{"$f":"IF(ISBLANK(Responses!AQ68), \"\", Responses!AQ68)","v":""},{"$f":"IF(ISBLANK(Responses!AR68), \"\", Responses!AR68)","v":""},{"$f":"IF(ISBLANK(Responses!AS68), \"\", Responses!AS68)","v":""},{"$f":"IF(ISBLANK(Responses!AT68), \"\", Responses!AT68)","v":""},{"$f":"IF(ISBLANK(Responses!AU68), \"\", Responses!AU68)","v":""},{"$error":"#N/A"},{"$error":"#N/A"},{"$f":"IF(ISBLANK(C68),0,VLOOKUP(C68,LUTs!$A$6:$B$8,2))","v":{"$error":"#N/A"}},{"$f":"IF(ISBLANK(D68),0,VLOOKUP(D68,LUTs!$A$6:$B$8,2))","v":{"$error":"#N/A"}},{"$f":"IF(ISBLANK(E68),0,VLOOKUP(E68,LUTs!$A$6:$B$8,2))","v":{"$error":"#N/A"}},{"$f":"IF(ISBLANK(F68),0,VLOOKUP(F68,LUTs!$A$6:$B$8,2))","v":{"$error":"#N/A"}},{"$f":"IF(ISBLANK(G68),0,VLOOKUP(G68,LUTs!$A$6:$B$8,2))","v":{"$error":"#N/A"}}]
[{"$f":"IF(ISBLANK(Responses!A69), \"\", Responses!A69)","v":""},{"$f":"IF(ISBLANK(Responses!B69), \"\", Responses!B69)","v":""},{"$f":"IF(ISBLANK(Responses!AQ69), \"\", Responses!AQ69)","v":""},{"$f":"IF(ISBLANK(Responses!AR69), \"\", Responses!AR69)","v":""},{"$f":"IF(ISBLANK(Responses!AS69), \"\", Responses!AS69)","v":""},{"$f":"IF(ISBLANK(Responses!AT69), \"\", Responses!AT69)","v":""},{"$f":"IF(ISBLANK(Responses!AU69), \"\", Responses!AU69)","v":""},{"$error":"#N/A"},{"$error":"#N/A"},{"$f":"IF(ISBLANK(C69),0,VLOOKUP(C69,LUTs!$A$6:$B$8,2))","v":{"$error":"#N/A"}},{"$f":"IF(ISBLANK(D69),0,VLOOKUP(D69,LUTs!$A$6:$B$8,2))","v":{"$error":"#N/A"}},{"$f":"IF(ISBLANK(E69),0,VLOOKUP(E69,LUTs!$A$6:$B$8,2))","v":{"$error":"#N/A"}},{"$f":"IF(ISBLANK(F69),0,VLOOKUP(F69,LUTs!$A$6:$B$8,2))","v":{"$error":"#N/A"}},{"$f":"IF(ISBLANK(G69),0,VLOOKUP(G69,LUTs!$A$6:$B$8,2))","v":{"$error":"#N/A"}}]
[{"$f":"IF(ISBLANK(Responses!A70), \"\", Responses!A70)","v":""},{"$f":"IF(ISBLANK(Responses!B70), \"\", Responses!B70)","v":""},{"$f":"IF(ISBLANK(Responses!AQ70), \"\", Responses!AQ70)","v":""},{"$f":"IF(ISBLANK(Responses!AR70), \"\", Responses!AR70)","v":""},{"$f":"IF(ISBLANK(Responses!AS70), \"\", Responses!AS70)","v":""},{"$f":"IF(ISBLANK(Responses!AT70), \"\", Responses!AT70)","v":""},{"$f":"IF(ISBLANK(Responses!AU70), \"\", Responses!AU70)","v":""},{"$error":"#N/A"},{"$error":"#N/A"},{"$f":"IF(ISBLANK(C70),0,VLOOKUP(C70,LUTs!$A$6:$B$8,2))","v":{"$error":"#N/A"}},{"$f":"IF(ISBLANK(D70),0,VLOOKUP(D70,LUTs!$A$6:$B$8,2))","v":{"$error":"#N/A"}},{"$f":"IF(ISBLANK(E70),0,VLOOKUP(E70,LUTs!$A$6:$B$8,2))","v":{"$error":"#N/A"}},{"$f":"IF(ISBLANK(F70),0,VLOOKUP(F70,LUTs!$A$6:$B$8,2))","v":{"$error":"#N/A"}},{"$f":"IF(ISBLANK(G70),0,VLOOKUP(G70,LUTs!$A$6:$B$8,2))","v":{"$error":"#N/A"}}]
[{"$f":"IF(ISBLANK(Responses!A71), \"\", Responses!A71)","v":""},{"$f":"IF(ISBLANK(Responses!B71), \"\", Responses!B71)","v":""},{"$f":"IF(ISBLANK(Responses!AQ71), \"\", Responses!AQ71)","v":""},{"$f":"IF(ISBLANK(Responses!AR71), \"\", Responses!AR71)","v":""},{"$f":"IF(ISBLANK(Responses!AS71), \"\", Responses!AS71)","v":""},{"$f":"IF(ISBLANK(Responses!AT71), \"\", Responses!AT71)","v":""},{"$f":"IF(ISBLANK(Responses!AU71), \"\", Responses!AU71)","v":""},{"$error":"#N/A"},{"$error":"#N/A"},{"$f":"IF(ISBLANK(C71),0,VLOOKUP(C71,LUTs!$A$6:$B$8,2))","v":{"$error":"#N/A"}},{"$f":"IF(ISBLANK(D71),0,VLOOKUP(D71,LUTs!$A$6:$B$8,2))","v":{"$error":"#N/A"}},{"$f":"IF(ISBLANK(E71),0,VLOOKUP(E71,LUTs!$A$6:$B$8,2))","v":{"$error":"#N/A"}},{"$f":"IF(ISBLANK(F71),0,VLOOKUP(F71,LUTs!$A$6:$B$8,2))","v":{"$error":"#N/A"}},{"$f":"IF(ISBLANK(G71),0,VLOOKUP(G71,LUTs!$A$6:$B$8,2))","v":{"$error":"#N/A"}}]
[{"$f":"IF(ISBLANK(Responses!A72), \"\", Responses!A72)","v":""},{"$f":"IF(ISBLANK(Responses!B72), \"\", Responses!B72)","v":""},{"$f":"IF(ISBLANK(Responses!AQ72), \"\", Responses!AQ72)","v":""},{"$f":"IF(ISBLANK(Responses!AR72), \"\", Responses!AR72)","v":""},{"$f":"IF(ISBLANK(Responses!AS72), \"\", Responses!AS72)","v":""},{"$f":"IF(ISBLANK(Responses!AT72), \"\", Responses!AT72)","v":""},{"$f":"IF(ISBLANK(Responses!AU72), \"\", Responses!AU72)","v":""},{"$error":"#N/A"},{"$error":"#N/A"},{"$f":"IF(ISBLANK(C72),0,VLOOKUP(C72,LUTs!$A$6:$B$8,2))","v":{"$error":"#N/A"}},{"$f":"IF(ISBLANK(D72),0,VLOOKUP(D72,LUTs!$A$6:$B$8,2))","v":{"$error":"#N/A"}},{"$f":"IF(ISBLANK(E72),0,VLOOKUP(E72,LUTs!$A$6:$B$8,2))","v":{"$error":"#N/A"}},{"$f":"IF(ISBLANK(F72),0,VLOOKUP(F72,LUTs!$A$6:$B$8,2))","v":{"$error":"#N/A"}},{"$f":"IF(ISBLANK(G72),0,VLOOKUP(G72,LUTs!$A$6:$B$8,2))","v":{"$error":"#N/A"}}]
[{"$f":"IF(ISBLANK(Responses!A73), \"\", Responses!A73)","v":""},{"$f":"IF(ISBLANK(Responses!B73), \"\", Responses!B73)","v":""},{"$f":"IF(ISBLANK(Responses!AQ73), \"\", Responses!AQ73)","v":""},{"$f":"IF(ISBLANK(Responses!AR73), \"\", Responses!AR73)","v":""},{"$f":"IF(ISBLANK(Responses!AS73), \"\", Responses!AS73)","v":""},{"$f":"IF(ISBLANK(Responses!AT73), \"\", Responses!AT73)","v":""},{"$f":"IF(ISBLANK(Responses!AU73), \"\", Responses!AU73)","v":""},{"$error":"#N/A"},{"$error":"#N/A"},{"$f":"IF(ISBLANK(C73),0,VLOOKUP(C73,LUTs!$A$6:$B$8,2))","v":{"$error":"#N/A"}},{"$f":"IF(ISBLANK(D73),0,VLOOKUP(D73,LUTs!$A$6:$B$8,2))","v":{"$error":"#N/A"}},{"$f":"IF(ISBLANK(E73),0,VLOOKUP(E73,LUTs!$A$6:$B$8,2))","v":{"$error":"#N/A"}},{"$f":"IF(ISBLANK(F73),0,VLOOKUP(F73,LUTs!$A$6:$B$8,2))","v":{"$error":"#N/A"}},{"$f":"IF(ISBLANK(G73),0,VLOOKUP(G73,LUTs!$A$6:$B$8,2))","v":{"$error":"#N/A"}}]
[{"$f":"IF(ISBLANK(Responses!A74), \"\", Responses!A74)","v":""},{"$f":"IF(ISBLANK(Responses!B74), \"\", Responses!B74)","v":""},{"$f":"IF(ISBLANK(Responses!AQ74), \"\", Responses!AQ74)","v":""},{"$f":"IF(ISBLANK(Responses!AR74), \"\", Responses!AR74)","v":""},{"$f":"IF(ISBLANK(Responses!AS74), \"\", Responses!AS74)","v":""},{"$f":"IF(ISBLANK(Responses!AT74), \"\", Responses!AT74)","v":""},{"$f":"IF(ISBLANK(Responses!AU74), \"\", Responses!AU74)","v":""},{"$error":"#N/A"},{"$error":"#N/A"},{"$f":"IF(ISBLANK(C74),0,VLOOKUP(C74,LUTs!$A$6:$B$8,2))","v":{"$error":"#N/A"}},{"$f":"IF(ISBLANK(D74),0,VLOOKUP(D74,LUTs!$A$6:$B$8,2))","v":{"$error":"#N/A"}},{"$f":"IF(ISBLANK(E74),0,VLOOKUP(E74,LUTs!$A$6:$B$8,2))","v":{"$error":"#N/A"}},{"$f":"IF(ISBLANK(F74),0,VLOOKUP(F74,LUTs!$A$6:$B$8,2))","v":{"$error":"#N/A"}},{"$f":"IF(ISBLANK(G74),0,VLOOKUP(G74,LUTs!$A$6:$B$8,2))","v":{"$error":"#N/A"}}]
[{"$f":"IF(ISBLANK(Responses!A75), \"\", Responses!A75)","v":""},{"$f":"IF(ISBLANK(Responses!B75), \"\", Responses!B75)","v":""},{"$f":"IF(ISBLANK(Responses!AQ75), \"\", Responses!AQ75)","v":""},{"$f":"IF(ISBLANK(Responses!AR75), \"\", Responses!AR75)","v":""},{"$f":"IF(ISBLANK(Responses!AS75), \"\", Responses!AS75)","v":""},{"$f":"IF(ISBLANK(Responses!AT75), \"\", Responses!AT75)","v":""},{"$f":"IF(ISBLANK(Responses!AU75), \"\", Responses!AU75)","v":""},{"$error":"#N/A"},{"$error":"#N/A"},{"$f":"IF(ISBLANK(C75),0,VLOOKUP(C75,LUTs!$A$6:$B$8,2))","v":{"$error":"#N/A"}},{"$f":"IF(ISBLANK(D75),0,VLOOKUP(D75,LUTs!$A$6:$B$8,2))","v":{"$error":"#N/A"}},{"$f":"IF(ISBLANK(E75),0,VLOOKUP(E75,LUTs!$A$6:$B$8,2))","v":{"$error":"#N/A"}},{"$f":"IF(ISBLANK(F75),0,VLOOKUP(F75,LUTs!$A$6:$B$8,2))","v":{"$error":"#N/A"}},{"$f":"IF(ISBLANK(G75),0,VLOOKUP(G75,LUTs!$A$6:$B$8,2))","v":{"$error":"#N/A"}}]
[{"$f":"IF(ISBLANK(Responses!A76), \"\", Responses!A76)","v":""},{"$f":"IF(ISBLANK(Responses!B76), \"\", Responses!B76)","v":""},{"$f":"IF(ISBLANK(Responses!AQ76), \"\", Responses!AQ76)","v":""},{"$f":"IF(ISBLANK(Responses!AR76), \"\", Responses!AR76)","v":""},{"$f":"IF(ISBLANK(Responses!AS76), \"\", Responses!AS76)","v":""},{"$f":"IF(ISBLANK(Responses!AT76), \"\", Responses!AT76)","v":""},{"$f":"IF(ISBLANK(Responses!AU76), \"\", Responses!AU76)","v":""},{"$error":"#N/A"},{"$error":"#N/A"},{"$f":"IF(ISBLANK(C76),0,VLOOKUP(C76,LUTs!$A$6:$B$8,2))","v":{"$error":"#N/A"}},{"$f":"IF(ISBLANK(D76),0,VLOOKUP(D76,LUTs!$A$6:$B$8,2))","v":{"$error":"#N/A"}},{"$f":"IF(ISBLANK(E76),0,VLOOKUP(E76,LUTs!$A$6:$B$8,2))","v":{"$error":"#N/A"}},{"$f":"IF(ISBLANK(F76),0,VLOOKUP(F76,LUTs!$A$6:$B$8,2))","v":{"$error":"#N/A"}},{"$f":"IF(ISBLANK(G76),0,VLOOKUP(G76,LUTs!$A$6:$B$8,2))","v":{"$error":"#N/A"}}]
[{"$f":"IF(ISBLANK(Responses!A77), \"\", Responses!A77)","v":""},{"$f":"IF(ISBLANK(Responses!B77), \"\", Responses!B77)","v":""},{"$f":"IF(ISBLANK(Responses!AQ77), \"\", Responses!AQ77)","v":""},{"$f":"IF(ISBLANK(Responses!AR77), \"\", Responses!AR77)","v":""},{"$f":"IF(ISBLANK(Responses!AS77), \"\", Responses!AS77)","v":""},{"$f":"IF(ISBLANK(Responses!AT77), \"\", Responses!AT77)","v":""},{"$f":"IF(ISBLANK(Responses!AU77), \"\", Responses!AU77)","v":""},{"$error":"#N/A"},{"$error":"#N/A"},{"$f":"IF(ISBLANK(C77),0,VLOOKUP(C77,LUTs!$A$6:$B$8,2))","v":{"$error":"#N/A"}},{"$f":"IF(ISBLANK(D77),0,VLOOKUP(D77,LUTs!$A$6:$B$8,2))","v":{"$error":"#N/A"}},{"$f":"IF(ISBLANK(E77),0,VLOOKUP(E77,LUTs!$A$6:$B$8,2))","v":{"$error":"#N/A"}},{"$f":"IF(ISBLANK(F77),0,VLOOKUP(F77,LUTs!$A$6:$B$8,2))","v":{"$error":"#N/A"}},{"$f":"IF(ISBLANK(G77),0,VLOOKUP(G77,LUTs!$A$6:$B$8,2))","v":{"$error":"#N/A"}}]
[{"$f":"IF(ISBLANK(Responses!A78), \"\", Responses!A78)","v":""},{"$f":"IF(ISBLANK(Responses!B78), \"\", Responses!B78)","v":""},{"$f":"IF(ISBLANK(Responses!AQ78), \"\", Responses!AQ78)","v":""},{"$f":"IF(ISBLANK(Responses!AR78), \"\", Responses!AR78)","v":""},{"$f":"IF(ISBLANK(Responses!AS78), \"\", Responses!AS78)","v":""},{"$f":"IF(ISBLANK(Responses!AT78), \"\", Responses!AT78)","v":""},{"$f":"IF(ISBLANK(Responses!AU78), \"\", Responses!AU78)","v":""},{"$error":"#N/A"},{"$error":"#N/A"},{"$f":"IF(ISBLANK(C78),0,VLOOKUP(C78,LUTs!$A$6:$B$8,2))","v":{"$error":"#N/A"}},{"$f":"IF(ISBLANK(D78),0,VLOOKUP(D78,LUTs!$A$6:$B$8,2))","v":{"$error":"#N/A"}},{"$f":"IF(ISBLANK(E78),0,VLOOKUP(E78,LUTs!$A$6:$B$8,2))","v":{"$error":"#N/A"}},{"$f":"IF(ISBLANK(F78),0,VLOOKUP(F78,LUTs!$A$6:$B$8,2))","v":{"$error":"#N/A"}},{"$f":"IF(ISBLANK(G78),0,VLOOKUP(G78,LUTs!$A$6:$B$8,2))","v":{"$error":"#N/A"}}]
[{"$f":"IF(ISBLANK(Responses!A79), \"\", Responses!A79)","v":""},{"$f":"IF(ISBLANK(Responses!B79), \"\", Responses!B79)","v":""},{"$f":"IF(ISBLANK(Responses!AQ79), \"\", Responses!AQ79)","v":""},{"$f":"IF(ISBLANK(Responses!AR79), \"\", Responses!AR79)","v":""},{"$f":"IF(ISBLANK(Responses!AS79), \"\", Responses!AS79)","v":""},{"$f":"IF(ISBLANK(Responses!AT79), \"\", Responses!AT79)","v":""},{"$f":"IF(ISBLANK(Responses!AU79), \"\", Responses!AU79)","v":""},{"$error":"#N/A"},{"$error":"#N/A"},{"$f":"IF(ISBLANK(C79),0,VLOOKUP(C79,LUTs!$A$6:$B$8,2))","v":{"$error":"#N/A"}},{"$f":"IF(ISBLANK(D79),0,VLOOKUP(D79,LUTs!$A$6:$B$8,2))","v":{"$error":"#N/A"}},{"$f":"IF(ISBLANK(E79),0,VLOOKUP(E79,LUTs!$A$6:$B$8,2))","v":{"$error":"#N/A"}},{"$f":"IF(ISBLANK(F79),0,VLOOKUP(F79,LUTs!$A$6:$B$8,2))","v":{"$error":"#N/A"}},{"$f":"IF(ISBLANK(G79),0,VLOOKUP(G79,LUTs!$A$6:$B$8,2))","v":{"$error":"#N/A"}}]
[{"$f":"IF(ISBLANK(Responses!A80), \"\", Responses!A80)","v":""},{"$f":"IF(ISBLANK(Responses!B80), \"\", Responses!B80)","v":""},{"$f":"IF(ISBLANK(Responses!AQ80), \"\", Responses!AQ80)","v":""},{"$f":"IF(ISBLANK(Responses!AR80), \"\", Responses!AR80)","v":""},{"$f":"IF(ISBLANK(Responses!AS80), \"\", Responses!AS80)","v":""},{"$f":"IF(ISBLANK(Responses!AT80), \"\", Responses!AT80)","v":""},{"$f":"IF(ISBLANK(Responses!AU80), \"\", Responses!AU80)","v":""},{"$error":"#N/A"},{"$error":"#N/A"},{"$f":"IF(ISBLANK(C80),0,VLOOKUP(C80,LUTs!$A$6:$B$8,2))","v":{"$error":"#N/A"}},{"$f":"IF(ISBLANK(D80),0,VLOOKUP(D80,LUTs!$A$6:$B$8,2))","v":{"$error":"#N/A"}},{"$f":"IF(ISBLANK(E80),0,VLOOKUP(E80,LUTs!$A$6:$B$8,2))","v":{"$error":"#N/A"}},{"$f":"IF(ISBLANK(F80),0,VLOOKUP(F80,LUTs!$A$6:$B$8,2))","v":{"$error":"#N/A"}},{"$f":"IF(ISBLANK(G80),0,VLOOKUP(G80,LUTs!$A$6:$B$8,2))","v":{"$error":"#N/A"}}]
[{"$f":"IF(ISBLANK(Responses!A81), \"\", Responses!A81)","v":""},{"$f":"IF(ISBLANK(Responses!B81), \"\", Responses!B81)","v":""},{"$f":"IF(ISBLANK(Responses!AQ81), \"\", Responses!AQ81)","v":""},{"$f":"IF(ISBLANK(Responses!AR81), \"\", Responses!AR81)","v":""},{"$f":"IF(ISBLANK(Responses!AS81), \"\", Responses!AS81)","v":""},{"$f":"IF(ISBLANK(Responses!AT81), \"\", Responses!AT81)","v":""},{"$f":"IF(ISBLANK(Responses!AU81), \"\", Responses!AU81)","v":""},{"$error":"#N/A"},{"$error":"#N/A"},{"$f":"IF(ISBLANK(C81),0,VLOOKUP(C81,LUTs!$A$6:$B$8,2))","v":{"$error":"#N/A"}},{"$f":"IF(ISBLANK(D81),0,VLOOKUP(D81,LUTs!$A$6:$B$8,2))","v":{"$error":"#N/A"}},{"$f":"IF(ISBLANK(E81),0,VLOOKUP(E81,LUTs!$A$6:$B$8,2))","v":{"$error":"#N/A"}},{"$f":"IF(ISBLANK(F81),0,VLOOKUP(F81,LUTs!$A$6:$B$8,2))","v":{"$error":"#N/A"}},{"$f":"IF(ISBLANK(G81),0,VLOOKUP(G81,LUTs!$A$6:$B$8,2))","v":{"$error":"#N/A"}}]
[{"$f":"IF(ISBLANK(Responses!A82), \"\", Responses!A82)","v":""},{"$f":"IF(ISBLANK(Responses!B82), \"\", Responses!B82)","v":""},{"$f":"IF(ISBLANK(Responses!AQ82), \"\", Responses!AQ82)","v":""},{"$f":"IF(ISBLANK(Responses!AR82), \"\", Responses!AR82)","v":""},{"$f":"IF(ISBLANK(Responses!AS82), \"\", Responses!AS82)","v":""},{"$f":"IF(ISBLANK(Responses!AT82), \"\", Responses!AT82)","v":""},{"$f":"IF(ISBLANK(Responses!AU82), \"\", Responses!AU82)","v":""},{"$error":"#N/A"},{"$error":"#N/A"},{"$f":"IF(ISBLANK(C82),0,VLOOKUP(C82,LUTs!$A$6:$B$8,2))","v":{"$error":"#N/A"}},{"$f":"IF(ISBLANK(D82),0,VLOOKUP(D82,LUTs!$A$6:$B$8,2))","v":{"$error":"#N/A"}},{"$f":"IF(ISBLANK(E82),0,VLOOKUP(E82,LUTs!$A$6:$B$8,2))","v":{"$error":"#N/A"}},{"$f":"IF(ISBLANK(F82),0,VLOOKUP(F82,LUTs!$A$6:$B$8,2))","v":{"$error":"#N/A"}},{"$f":"IF(ISBLANK(G82),0,VLOOKUP(G82,LUTs!$A$6:$B$8,2))","v":{"$error":"#N/A"}}]
[{"$f":"IF(ISBLANK(Responses!A83), \"\", Responses!A83)","v":""},{"$f":"IF(ISBLANK(Responses!B83), \"\", Responses!B83)","v":""},{"$f":"IF(ISBLANK(Responses!AQ83), \"\", Responses!AQ83)","v":""},{"$f":"IF(ISBLANK(Responses!AR83), \"\", Responses!AR83)","v":""},{"$f":"IF(ISBLANK(Responses!AS83), \"\", Responses!AS83)","v":""},{"$f":"IF(ISBLANK(Responses!AT83), \"\", Responses!AT83)","v":""},{"$f":"IF(ISBLANK(Responses!AU83), \"\", Responses!AU83)","v":""},{"$error":"#N/A"},{"$error":"#N/A"},{"$f":"IF(ISBLANK(C83),0,VLOOKUP(C83,LUTs!$A$6:$B$8,2))","v":{"$error":"#N/A"}},{"$f":"IF(ISBLANK(D83),0,VLOOKUP(D83,LUTs!$A$6:$B$8,2))","v":{"$error":"#N/A"}},{"$f":"IF(ISBLANK(E83),0,VLOOKUP(E83,LUTs!$A$6:$B$8,2))","v":{"$error":"#N/A"}},{"$f":"IF(ISBLANK(F83),0,VLOOKUP(F83,LUTs!$A$6:$B$8,2))","v":{"$error":"#N/A"}},{"$f":"IF(ISBLANK(G83),0,VLOOKUP(G83,LUTs!$A$6:$B$8,2))","v":{"$error":"#N/A"}}]
[{"$f":"IF(ISBLANK(Responses!A84), \"\", Responses!A84)","v":""},{"$f":"IF(ISBLANK(Responses!B84), \"\", Responses!B84)","v":""},{"$f":"IF(ISBLANK(Responses!AQ84), \"\", Responses!AQ84)","v":""},{"$f":"IF(ISBLANK(Responses!AR84), \"\", Responses!AR84)","v":""},{"$f":"IF(ISBLANK(Responses!AS84), \"\", Responses!AS84)","v":""},{"$f":"IF(ISBLANK(Responses!AT84), \"\", Responses!AT84)","v":""},{"$f":"IF(ISBLANK(Responses!AU84), \"\", Responses!AU84)","v":""},{"$error":"#N/A"},{"$error":"#N/A"},{"$f":"IF(ISBLANK(C84),0,VLOOKUP(C84,LUTs!$A$6:$B$8,2))","v":{"$error":"#N/A"}},{"$f":"IF(ISBLANK(D84),0,VLOOKUP(D84,LUTs!$A$6:$B$8,2))","v":{"$error":"#N/A"}},{"$f":"IF(ISBLANK(E84),0,VLOOKUP(E84,LUTs!$A$6:$B$8,2))","v":{"$error":"#N/A"}},{"$f":"IF(ISBLANK(F84),0,VLOOKUP(F84,LUTs!$A$6:$B$8,2))","v":{"$error":"#N/A"}},{"$f":"IF(ISBLANK(G84),0,VLOOKUP(G84,LUTs!$A$6:$B$8,2))","v":{"$error":"#N/A"}}]
[{"$f":"IF(ISBLANK(Responses!A85), \"\", Responses!A85)","v":""},{"$f":"IF(ISBLANK(Responses!B85), \"\", Responses!B85)","v":""},{"$f":"IF(ISBLANK(Responses!AQ85), \"\", Responses!AQ85)","v":""},{"$f":"IF(ISBLANK(Responses!AR85), \"\", Responses!AR85)","v":""},{"$f":"IF(ISBLANK(Responses!AS85), \"\", Responses!AS85)","v":""},{"$f":"IF(ISBLANK(Responses!AT85), \"\", Responses!AT85)","v":""},{"$f":"IF(ISBLANK(Responses!AU85), \"\", Responses!AU85)","v":""},{"$error":"#N/A"},{"$error":"#N/A"},{"$f":"IF(ISBLANK(C85),0,VLOOKUP(C85,LUTs!$A$6:$B$8,2))","v":{"$error":"#N/A"}},{"$f":"IF(ISBLANK(D85),0,VLOOKUP(D85,LUTs!$A$6:$B$8,2))","v":{"$error":"#N/A"}},{"$f":"IF(ISBLANK(E85),0,VLOOKUP(E85,LUTs!$A$6:$B$8,2))","v":{"$error":"#N/A"}},{"$f":"IF(ISBLANK(F85),0,VLOOKUP(F85,LUTs!$A$6:$B$8,2))","v":{"$error":"#N/A"}},{"$f":"IF(ISBLANK(G85),0,VLOOKUP(G85,LUTs!$A$6:$B$8,2))","v":{"$error":"#N/A"}}]
[{"$f":"IF(ISBLANK(Responses!A86), \"\", Responses!A86)","v":""},{"$f":"IF(ISBLANK(Responses!B86), \"\", Responses!B86)","v":""},{"$f":"IF(ISBLANK(Responses!AQ86), \"\", Responses!AQ86)","v":""},{"$f":"IF(ISBLANK(Responses!AR86), \"\", Responses!AR86)","v":""},{"$f":"IF(ISBLANK(Responses!AS86), \"\", Responses!AS86)","v":""},{"$f":"IF(ISBLANK(Responses!AT86), \"\", Responses!AT86)","v":""},{"$f":"IF(ISBLANK(Responses!AU86), \"\", Responses!AU86)","v":""},{"$error":"#N/A"},{"$error":"#N/A"},{"$f":"IF(ISBLANK(C86),0,VLOOKUP(C86,LUTs!$A$6:$B$8,2))","v":{"$error":"#N/A"}},{"$f":"IF(ISBLANK(D86),0,VLOOKUP(D86,LUTs!$A$6:$B$8,2))","v":{"$error":"#N/A"}},{"$f":"IF(ISBLANK(E86),0,VLOOKUP(E86,LUTs!$A$6:$B$8,2))","v":{"$error":"#N/A"}},{"$f":"IF(ISBLANK(F86),0,VLOOKUP(F86,LUTs!$A$6:$B$8,2))","v":{"$error":"#N/A"}},{"$f":"IF(ISBLANK(G86),0,VLOOKUP(G86,LUTs!$A$6:$B$8,2))","v":{"$error":"#N/A"}}]
[{"$f":"IF(ISBLANK(Responses!A87), \"\", Responses!A87)","v":""},{"$f":"IF(ISBLANK(Responses!B87), \"\", Responses!B87)","v":""},{"$f":"IF(ISBLANK(Responses!AQ87), \"\", Responses!AQ87)","v":""},{"$f":"IF(ISBLANK(Responses!AR87), \"\", Responses!AR87)","v":""},{"$f":"IF(ISBLANK(Responses!AS87), \"\", Responses!AS87)","v":""},{"$f":"IF(ISBLANK(Responses!AT87), \"\", Responses!AT87)","v":""},{"$f":"IF(ISBLANK(Responses!AU87), \"\", Responses!AU87)","v":""},{"$error":"#N/A"},{"$error":"#N/A"},{"$f":"IF(ISBLANK(C87),0,VLOOKUP(C87,LUTs!$A$6:$B$8,2))","v":{"$error":"#N/A"}},{"$f":"IF(ISBLANK(D87),0,VLOOKUP(D87,LUTs!$A$6:$B$8,2))","v":{"$error":"#N/A"}},{"$f":"IF(ISBLANK(E87),0,VLOOKUP(E87,LUTs!$A$6:$B$8,2))","v":{"$error":"#N/A"}},{"$f":"IF(ISBLANK(F87),0,VLOOKUP(F87,LUTs!$A$6:$B$8,2))","v":{"$error":"#N/A"}},{"$f":"IF(ISBLANK(G87),0,VLOOKUP(G87,LUTs!$A$6:$B$8,2))","v":{"$error":"#N/A"}}]
[{"$f":"IF(ISBLANK(Responses!A88), \"\", Responses!A88)","v":""},{"$f":"IF(ISBLANK(Responses!B88), \"\", Responses!B88)","v":""},{"$f":"IF(ISBLANK(Responses!AQ88), \"\", Responses!AQ88)","v":""},{"$f":"IF(ISBLANK(Responses!AR88), \"\", Responses!AR88)","v":""},{"$f":"IF(ISBLANK(Responses!AS88), \"\", Responses!AS88)","v":""},{"$f":"IF(ISBLANK(Responses!AT88), \"\", Responses!AT88)","v":""},{"$f":"IF(ISBLANK(Responses!AU88), \"\", Responses!AU88)","v":""},{"$error":"#N/A"},{"$error":"#N/A"},{"$f":"IF(ISBLANK(C88),0,VLOOKUP(C88,LUTs!$A$6:$B$8,2))","v":{"$error":"#N/A"}},{"$f":"IF(ISBLANK(D88),0,VLOOKUP(D88,LUTs!$A$6:$B$8,2))","v":{"$error":"#N/A"}},{"$f":"IF(ISBLANK(E88),0,VLOOKUP(E88,LUTs!$A$6:$B$8,2))","v":{"$error":"#N/A"}},{"$f":"IF(ISBLANK(F88),0,VLOOKUP(F88,LUTs!$A$6:$B$8,2))","v":{"$error":"#N/A"}},{"$f":"IF(ISBLANK(G88),0,VLOOKUP(G88,LUTs!$A$6:$B$8,2))","v":{"$error":"#N/A"}}]
[{"$f":"IF(ISBLANK(Responses!A89), \"\", Responses!A89)","v":""},{"$f":"IF(ISBLANK(Responses!B89), \"\", Responses!B89)","v":""},{"$f":"IF(ISBLANK(Responses!AQ89), \"\", Responses!AQ89)","v":""},{"$f":"IF(ISBLANK(Responses!AR89), \"\", Responses!AR89)","v":""},{"$f":"IF(ISBLANK(Responses!AS89), \"\", Responses!AS89)","v":""},{"$f":"IF(ISBLANK(Responses!AT89), \"\", Responses!AT89)","v":""},{"$f":"IF(ISBLANK(Responses!AU89), \"\", Responses!AU89)","v":""},{"$error":"#N/A"},{"$error":"#N/A"},{"$f":"IF(ISBLANK(C89),0,VLOOKUP(C89,LUTs!$A$6:$B$8,2))","v":{"$error":"#N/A"}},{"$f":"IF(ISBLANK(D89),0,VLOOKUP(D89,LUTs!$A$6:$B$8,2))","v":{"$error":"#N/A"}},{"$f":"IF(ISBLANK(E89),0,VLOOKUP(E89,LUTs!$A$6:$B$8,2))","v":{"$error":"#N/A"}},{"$f":"IF(ISBLANK(F89),0,VLOOKUP(F89,LUTs!$A$6:$B$8,2))","v":{"$error":"#N/A"}},{"$f":"IF(ISBLANK(G89),0,VLOOKUP(G89,LUTs!$A$6:$B$8,2))","v":{"$error":"#N/A"}}]
[{"$f":"IF(ISBLANK(Responses!A90), \"\", Responses!A90)","v":""},{"$f":"IF(ISBLANK(Responses!B90), \"\", Responses!B90)","v":""},{"$f":"IF(ISBLANK(Responses!AQ90), \"\", Responses!AQ90)","v":""},{"$f":"IF(ISBLANK(Responses!AR90), \"\", Responses!AR90)","v":""},{"$f":"IF(ISBLANK(Responses!AS90), \"\", Responses!AS90)","v":""},{"$f":"IF(ISBLANK(Responses!AT90), \"\", Responses!AT90)","v":""},{"$f":"IF(ISBLANK(Responses!AU90), \"\", Responses!AU90)","v":""},{"$error":"#N/A"},{"$error":"#N/A"},{"$f":"IF(ISBLANK(C90),0,VLOOKUP(C90,LUTs!$A$6:$B$8,2))","v":{"$error":"#N/A"}},{"$f":"IF(ISBLANK(D90),0,VLOOKUP(D90,LUTs!$A$6:$B$8,2))","v":{"$error":"#N/A"}},{"$f":"IF(ISBLANK(E90),0,VLOOKUP(E90,LUTs!$A$6:$B$8,2))","v":{"$error":"#N/A"}},{"$f":"IF(ISBLANK(F90),0,VLOOKUP(F90,LUTs!$A$6:$B$8,2))","v":{"$error":"#N/A"}},{"$f":"IF(ISBLANK(G90),0,VLOOKUP(G90,LUTs!$A$6:$B$8,2))","v":{"$error":"#N/A"}}]
[{"$f":"IF(ISBLANK(Responses!A91), \"\", Responses!A91)","v":""},{"$f":"IF(ISBLANK(Responses!B91), \"\", Responses!B91)","v":""},{"$f":"IF(ISBLANK(Responses!AQ91), \"\", Responses!AQ91)","v":""},{"$f":"IF(ISBLANK(Responses!AR91), \"\", Responses!AR91)","v":""},{"$f":"IF(ISBLANK(Responses!AS91), \"\", Responses!AS91)","v":""},{"$f":"IF(ISBLANK(Responses!AT91), \"\", Responses!AT91)","v":""},{"$f":"IF(ISBLANK(Responses!AU91), \"\", Responses!AU91)","v":""},{"$error":"#N/A"},{"$error":"#N/A"},{"$f":"IF(ISBLANK(C91),0,VLOOKUP(C91,LUTs!$A$6:$B$8,2))","v":{"$error":"#N/A"}},{"$f":"IF(ISBLANK(D91),0,VLOOKUP(D91,LUTs!$A$6:$B$8,2))","v":{"$error":"#N/A"}},{"$f":"IF(ISBLANK(E91),0,VLOOKUP(E91,LUTs!$A$6:$B$8,2))","v":{"$error":"#N/A"}},{"$f":"IF(ISBLANK(F91),0,VLOOKUP(F91,LUTs!$A$6:$B$8,2))","v":{"$error":"#N/A"}},{"$f":"IF(ISBLANK(G91),0,VLOOKUP(G91,LUTs!$A$6:$B$8,2))","v":{"$error":"#N/A"}}]
[{"$f":"IF(ISBLANK(Responses!A92), \"\", Responses!A92)","v":""},{"$f":"IF(ISBLANK(Responses!B92), \"\", Responses!B92)","v":""},{"$f":"IF(ISBLANK(Responses!AQ92), \"\", Responses!AQ92)","v":""},{"$f":"IF(ISBLANK(Responses!AR92), \"\", Responses!AR92)","v":""},{"$f":"IF(ISBLANK(Responses!AS92), \"\", Responses!AS92)","v":""},{"$f":"IF(ISBLANK(Responses!AT92), \"\", Responses!AT92)","v":""},{"$f":"IF(ISBLANK(Responses!AU92), \"\", Responses!AU92)","v":""},{"$error":"#N/A"},{"$error":"#N/A"},{"$f":"IF(ISBLANK(C92),0,VLOOKUP(C92,LUTs!$A$6:$B$8,2))","v":{"$error":"#N/A"}},{"$f":"IF(ISBLANK(D92),0,VLOOKUP(D92,LUTs!$A$6:$B$8,2))","v":{"$error":"#N/A"}},{"$f":"IF(ISBLANK(E92),0,VLOOKUP(E92,LUTs!$A$6:$B$8,2))","v":{"$error":"#N/A"}},{"$f":"IF(ISBLANK(F92),0,VLOOKUP(F92,LUTs!$A$6:$B$8,2))","v":{"$error":"#N/A"}},{"$f":"IF(ISBLANK(G92),0,VLOOKUP(G92,LUTs!$A$6:$B$8,2))","v":{"$error":"#N/A"}}]
[{"$f":"IF(ISBLANK(Responses!A93), \"\", Responses!A93)","v":""},{"$f":"IF(ISBLANK(Responses!B93), \"\", Responses!B93)","v":""},{"$f":"IF(ISBLANK(Responses!AQ93), \"\", Responses!AQ93)","v":""},{"$f":"IF(ISBLANK(Responses!AR93), \"\", Responses!AR93)","v":""},{"$f":"IF(ISBLANK(Responses!AS93), \"\", Responses!AS93)","v":""},{"$f":"IF(ISBLANK(Responses!AT93), \"\", Responses!AT93)","v":""},{"$f":"IF(ISBLANK(Responses!AU93), \"\", Responses!AU93)","v":""},{"$error":"#N/A"},{"$error":"#N/A"},{"$f":"IF(ISBLANK(C93),0,VLOOKUP(C93,LUTs!$A$6:$B$8,2))","v":{"$error":"#N/A"}},{"$f":"IF(ISBLANK(D93),0,VLOOKUP(D93,LUTs!$A$6:$B$8,2))","v":{"$error":"#N/A"}},{"$f":"IF(ISBLANK(E93),0,VLOOKUP(E93,LUTs!$A$6:$B$8,2))","v":{"$error":"#N/A"}},{"$f":"IF(ISBLANK(F93),0,VLOOKUP(F93,LUTs!$A$6:$B$8,2))","v":{"$error":"#N/A"}},{"$f":"IF(ISBLANK(G93),0,VLOOKUP(G93,LUTs!$A$6:$B$8,2))","v":{"$error":"#N/A"}}]
[{"$f":"IF(ISBLANK(Responses!A94), \"\", Responses!A94)","v":""},{"$f":"IF(ISBLANK(Responses!B94), \"\", Responses!B94)","v":""},{"$f":"IF(ISBLANK(Responses!AQ94), \"\", Responses!AQ94)","v":""},{"$f":"IF(ISBLANK(Responses!AR94), \"\", Responses!AR94)","v":""},{"$f":"IF(ISBLANK(Responses!AS94), \"\", Responses!AS94)","v":""},{"$f":"IF(ISBLANK(Responses!AT94), \"\", Responses!AT94)","v":""},{"$f":"IF(ISBLANK(Responses!AU94), \"\", Responses!AU94)","v":""},{"$error":"#N/A"},{"$error":"#N/A"},{"$f":"IF(ISBLANK(C94),0,VLOOKUP(C94,LUTs!$A$6:$B$8,2))","v":{"$error":"#N/A"}},{"$f":"IF(ISBLANK(D94),0,VLOOKUP(D94,LUTs!$A$6:$B$8,2))","v":{"$error":"#N/A"}},{"$f":"IF(ISBLANK(E94),0,VLOOKUP(E94,LUTs!$A$6:$B$8,2))","v":{"$error":"#N/A"}},{"$f":"IF(ISBLANK(F94),0,VLOOKUP(F94,LUTs!$A$6:$B$8,2))","v":{"$error":"#N/A"}},{"$f":"IF(ISBLANK(G94),0,VLOOKUP(G94,LUTs!$A$6:$B$8,2))","v":{"$error":"#N/A"}}]
[{"$f":"IF(ISBLANK(Responses!A95), \"\", Responses!A95)","v":""},{"$f":"IF(ISBLANK(Responses!B95), \"\", Responses!B95)","v":""},{"$f":"IF(ISBLANK(Responses!AQ95), \"\", Responses!AQ95)","v":""},{"$f":"IF(ISBLANK(Responses!AR95), \"\", Responses!AR95)","v":""},{"$f":"IF(ISBLANK(Responses!AS95), \"\", Responses!AS95)","v":""},{"$f":"IF(ISBLANK(Responses!AT95), \"\", Responses!AT95)","v":""},{"$f":"IF(ISBLANK(Responses!AU95), \"\", Responses!AU95)","v":""},{"$error":"#N/A"},{"$error":"#N/A"},{"$f":"IF(ISBLANK(C95),0,VLOOKUP(C95,LUTs!$A$6:$B$8,2))","v":{"$error":"#N/A"}},{"$f":"IF(ISBLANK(D95),0,VLOOKUP(D95,LUTs!$A$6:$B$8,2))","v":{"$error":"#N/A"}},{"$f":"IF(ISBLANK(E95),0,VLOOKUP(E95,LUTs!$A$6:$B$8,2))","v":{"$error":"#N/A"}},{"$f":"IF(ISBLANK(F95),0,VLOOKUP(F95,LUTs!$A$6:$B$8,2))","v":{"$error":"#N/A"}},{"$f":"IF(ISBLANK(G95),0,VLOOKUP(G95,LUTs!$A$6:$B$8,2))","v":{"$error":"#N/A"}}]
[{"$f":"IF(ISBLANK(Responses!A96), \"\", Responses!A96)","v":""},{"$f":"IF(ISBLANK(Responses!B96), \"\", Responses!B96)","v":""},{"$f":"IF(ISBLANK(Responses!AQ96), \"\", Responses!AQ96)","v":""},{"$f":"IF(ISBLANK(Responses!AR96), \"\", Responses!AR96)","v":""},{"$f":"IF(ISBLANK(Responses!AS96), \"\", Responses!AS96)","v":""},{"$f":"IF(ISBLANK(Responses!AT96), \"\", Responses!AT96)","v":""},{"$f":"IF(ISBLANK(Responses!AU96), \"\", Responses!AU96)","v":""},{"$error":"#N/A"},{"$error":"#N/A"},{"$f":"IF(ISBLANK(C96),0,VLOOKUP(C96,LUTs!$A$6:$B$8,2))","v":{"$error":"#N/A"}},{"$f":"IF(ISBLANK(D96),0,VLOOKUP(D96,LUTs!$A$6:$B$8,2))","v":{"$error":"#N/A"}},{"$f":"IF(ISBLANK(E96),0,VLOOKUP(E96,LUTs!$A$6:$B$8,2))","v":{"$error":"#N/A"}},{"$f":"IF(ISBLANK(F96),0,VLOOKUP(F96,LUTs!$A$6:$B$8,2))","v":{"$error":"#N/A"}},{"$f":"IF(ISBLANK(G96),0,VLOOKUP(G96,LUTs!$A$6:$B$8,2))","v":{"$error":"#N/A"}}]
[{"$f":"IF(ISBLANK(Responses!A97), \"\", Responses!A97)","v":""},{"$f":"IF(ISBLANK(Responses!B97), \"\", Responses!B97)","v":""},{"$f":"IF(ISBLANK(Responses!AQ97), \"\", Responses!AQ97)","v":""},{"$f":"IF(ISBLANK(Responses!AR97), \"\", Responses!AR97)","v":""},{"$f":"IF(ISBLANK(Responses!AS97), \"\", Responses!AS97)","v":""},{"$f":"IF(ISBLANK(Responses!AT97), \"\", Responses!AT97)","v":""},{"$f":"IF(ISBLANK(Responses!AU97), \"\", Responses!AU97)","v":""},{"$error":"#N/A"},{"$error":"#N/A"},{"$f":"IF(ISBLANK(C97),0,VLOOKUP(C97,LUTs!$A$6:$B$8,2))","v":{"$error":"#N/A"}},{"$f":"IF(ISBLANK(D97),0,VLOOKUP(D97,LUTs!$A$6:$B$8,2))","v":{"$error":"#N/A"}},{"$f":"IF(ISBLANK(E97),0,VLOOKUP(E97,LUTs!$A$6:$B$8,2))","v":{"$error":"#N/A"}},{"$f":"IF(ISBLANK(F97),0,VLOOKUP(F97,LUTs!$A$6:$B$8,2))","v":{"$error":"#N/A"}},{"$f":"IF(ISBLANK(G97),0,VLOOKUP(G97,LUTs!$A$6:$B$8,2))","v":{"$error":"#N/A"}}]
[{"$f":"IF(ISBLANK(Responses!A98), \"\", Responses!A98)","v":""},{"$f":"IF(ISBLANK(Responses!B98), \"\", Responses!B98)","v":""},{"$f":"IF(ISBLANK(Responses!AQ98), \"\", Responses!AQ98)","v":""},{"$f":"IF(ISBLANK(Responses!AR98), \"\", Responses!AR98)","v":""},{"$f":"IF(ISBLANK(Responses!AS98), \"\", Responses!AS98)","v":""},{"$f":"IF(ISBLANK(Responses!AT98), \"\", Responses!AT98)","v":""},{"$f":"IF(ISBLANK(Responses!AU98), \"\", Responses!AU98)","v":""},{"$error":"#N/A"},{"$error":"#N/A"},{"$f":"IF(ISBLANK(C98),0,VLOOKUP(C98,LUTs!$A$6:$B$8,2))","v":{"$error":"#N/A"}},{"$f":"IF(ISBLANK(D98),0,VLOOKUP(D98,LUTs!$A$6:$B$8,2))","v":{"$error":"#N/A"}},{"$f":"IF(ISBLANK(E98),0,VLOOKUP(E98,LUTs!$A$6:$B$8,2))","v":{"$error":"#N/A"}},{"$f":"IF(ISBLANK(F98),0,VLOOKUP(F98,LUTs!$A$6:$B$8,2))","v":{"$error":"#N/A"}},{"$f":"IF(ISBLANK(G98),0,VLOOKUP(G98,LUTs!$A$6:$B$8,2))","v":{"$error":"#N/A"}}]
[{"$f":"IF(ISBLANK(Responses!A99), \"\", Responses!A99)","v":""},{"$f":"IF(ISBLANK(Responses!B99), \"\", Responses!B99)","v":""},{"$f":"IF(ISBLANK(Responses!AQ99), \"\", Responses!AQ99)","v":""},{"$f":"IF(ISBLANK(Responses!AR99), \"\", Responses!AR99)","v":""},{"$f":"IF(ISBLANK(Responses!AS99), \"\", Responses!AS99)","v":""},{"$f":"IF(ISBLANK(Responses!AT99), \"\", Responses!AT99)","v":""},{"$f":"IF(ISBLANK(Responses!AU99), \"\", Responses!AU99)","v":""},{"$error":"#N/A"},{"$error":"#N/A"},{"$f":"IF(ISBLANK(C99),0,VLOOKUP(C99,LUTs!$A$6:$B$8,2))","v":{"$error":"#N/A"}},{"$f":"IF(ISBLANK(D99),0,VLOOKUP(D99,LUTs!$A$6:$B$8,2))","v":{"$error":"#N/A"}},{"$f":"IF(ISBLANK(E99),0,VLOOKUP(E99,LUTs!$A$6:$B$8,2))","v":{"$error":"#N/A"}},{"$f":"IF(ISBLANK(F99),0,VLOOKUP(F99,LUTs!$A$6:$B$8,2))","v":{"$error":"#N/A"}},{"$f":"IF(ISBLANK(G99),0,VLOOKUP(G99,LUTs!$A$6:$B$8,2))","v":{"$error":"#N/A"}}]
[{"$f":"IF(ISBLANK(Responses!A100), \"\", Responses!A100)","v":""},{"$f":"IF(ISBLANK(Responses!B100), \"\", Responses!B100)","v":""},{"$f":"IF(ISBLANK(Responses!AQ100), \"\", Responses!AQ100)","v":""},{"$f":"IF(ISBLANK(Responses!AR100), \"\", Responses!AR100)","v":""},{"$f":"IF(ISBLANK(Responses!AS100), \"\", Responses!AS100)","v":""},{"$f":"IF(ISBLANK(Responses!AT100), \"\", Responses!AT100)","v":""},{"$f":"IF(ISBLANK(Responses!AU100), \"\", Responses!AU100)","v":""},{"$error":"#N/A"},{"$error":"#N/A"},{"$f":"IF(ISBLANK(C100),0,VLOOKUP(C100,LUTs!$A$6:$B$8,2))","v":{"$error":"#N/A"}},{"$f":"IF(ISBLANK(D100),0,VLOOKUP(D100,LUTs!$A$6:$B$8,2))","v":{"$error":"#N/A"}},{"$f":"IF(ISBLANK(E100),0,VLOOKUP(E100,LUTs!$A$6:$B$8,2))","v":{"$error":"#N/A"}},{"$f":"IF(ISBLANK(F100),0,VLOOKUP(F100,LUTs!$A$6:$B$8,2))","v":{"$error":"#N/A"}},{"$f":"IF(ISBLANK(G100),0,VLOOKUP(G100,LUTs!$A$6:$B$8,2))","v":{"$error":"#N/A"}}]
[{"$f":"IF(ISBLANK(Responses!A101), \"\", Responses!A101)","v":""},{"$f":"IF(ISBLANK(Responses!B101), \"\", Responses!B101)","v":""},{"$f":"IF(ISBLANK(Responses!AQ101), \"\", Responses!AQ101)","v":""},{"$f":"IF(ISBLANK(Responses!AR101), \"\", Responses!AR101)","v":""},{"$f":"IF(ISBLANK(Responses!AS101), \"\", Responses!AS101)","v":""},{"$f":"IF(ISBLANK(Responses!AT101), \"\", Responses!AT101)","v":""},{"$f":"IF(ISBLANK(Responses!AU101), \"\", Responses!AU101)","v":""},{"$error":"#N/A"},{"$error":"#N/A"},{"$f":"IF(ISBLANK(C101),0,VLOOKUP(C101,LUTs!$A$6:$B$8,2))","v":{"$error":"#N/A"}},{"$f":"IF(ISBLANK(D101),0,VLOOKUP(D101,LUTs!$A$6:$B$8,2))","v":{"$error":"#N/A"}},{"$f":"IF(ISBLANK(E101),0,VLOOKUP(E101,LUTs!$A$6:$B$8,2))","v":{"$error":"#N/A"}},{"$f":"IF(ISBLANK(F101),0,VLOOKUP(F101,LUTs!$A$6:$B$8,2))","v":{"$error":"#N/A"}},{"$f":"IF(ISBLANK(G101),0,VLOOKUP(G101,LUTs!$A$6:$B$8,2))","v":{"$error":"#N/A"}}]
[{"$f":"IF(ISBLANK(Responses!A102), \"\", Responses!A102)","v":""},{"$f":"IF(ISBLANK(Responses!B102), \"\", Responses!B102)","v":""},{"$f":"IF(ISBLANK(Responses!AQ102), \"\", Responses!AQ102)","v":""},{"$f":"IF(ISBLANK(Responses!AR102), \"\", Responses!AR102)","v":""},{"$f":"IF(ISBLANK(Responses!AS102), \"\", Responses!AS102)","v":""},{"$f":"IF(ISBLANK(Responses!AT102), \"\", Responses!AT102)","v":""},{"$f":"IF(ISBLANK(Responses!AU102), \"\", Responses!AU102)","v":""},{"$error":"#N/A"},{"$error":"#N/A"},{"$f":"IF(ISBLANK(C102),0,VLOOKUP(C102,LUTs!$A$6:$B$8,2))","v":{"$error":"#N/A"}},{"$f":"IF(ISBLANK(D102),0,VLOOKUP(D102,LUTs!$A$6:$B$8,2))","v":{"$error":"#N/A"}},{"$f":"IF(ISBLANK(E102),0,VLOOKUP(E102,LUTs!$A$6:$B$8,2))","v":{"$error":"#N/A"}},{"$f":"IF(ISBLANK(F102),0,VLOOKUP(F102,LUTs!$A$6:$B$8,2))","v":{"$error":"#N/A"}},{"$f":"IF(ISBLANK(G102),0,VLOOKUP(G102,LUTs!$A$6:$B$8,2))","v":{"$error":"#N/A"}}]
[{"$f":"IF(ISBLANK(Responses!A103), \"\", Responses!A103)","v":""},{"$f":"IF(ISBLANK(Responses!B103), \"\", Responses!B103)","v":""},{"$f":"IF(ISBLANK(Responses!AQ103), \"\", Responses!AQ103)","v":""},{"$f":"IF(ISBLANK(Responses!AR103), \"\", Responses!AR103)","v":""},{"$f":"IF(ISBLANK(Responses!AS103), \"\", Responses!AS103)","v":""},{"$f":"IF(ISBLANK(Responses!AT103), \"\", Responses!AT103)","v":""},{"$f":"IF(ISBLANK(Responses!AU103), \"\", Responses!AU103)","v":""},{"$error":"#N/A"},{"$error":"#N/A"},{"$f":"IF(ISBLANK(C103),0,VLOOKUP(C103,LUTs!$A$6:$B$8,2))","v":{"$error":"#N/A"}},{"$f":"IF(ISBLANK(D103),0,VLOOKUP(D103,LUTs!$A$6:$B$8,2))","v":{"$error":"#N/A"}},{"$f":"IF(ISBLANK(E103),0,VLOOKUP(E103,LUTs!$A$6:$B$8,2))","v":{"$error":"#N/A"}},{"$f":"IF(ISBLANK(F103),0,VLOOKUP(F103,LUTs!$A$6:$B$8,2))","v":{"$error":"#N/A"}},{"$f":"IF(ISBLANK(G103),0,VLOOKUP(G103,LUTs!$A$6:$B$8,2))","v":{"$error":"#N/A"}}]
[{"$f":"IF(ISBLANK(Responses!A104), \"\", Responses!A104)","v":""},{"$f":"IF(ISBLANK(Responses!B104), \"\", Responses!B104)","v":""},{"$f":"IF(ISBLANK(Responses!AQ104), \"\", Responses!AQ104)","v":""},{"$f":"IF(ISBLANK(Responses!AR104), \"\", Responses!AR104)","v":""},{"$f":"IF(ISBLANK(Responses!AS104), \"\", Responses!AS104)","v":""},{"$f":"IF(ISBLANK(Responses!AT104), \"\", Responses!AT104)","v":""},{"$f":"IF(ISBLANK(Responses!AU104), \"\", Responses!AU104)","v":""},{"$error":"#N/A"},{"$error":"#N/A"},{"$f":"IF(ISBLANK(C104),0,VLOOKUP(C104,LUTs!$A$6:$B$8,2))","v":{"$error":"#N/A"}},{"$f":"IF(ISBLANK(D104),0,VLOOKUP(D104,LUTs!$A$6:$B$8,2))","v":{"$error":"#N/A"}},{"$f":"IF(ISBLANK(E104),0,VLOOKUP(E104,LUTs!$A$6:$B$8,2))","v":{"$error":"#N/A"}},{"$f":"IF(ISBLANK(F104),0,VLOOKUP(F104,LUTs!$A$6:$B$8,2))","v":{"$error":"#N/A"}},{"$f":"IF(ISBLANK(G104),0,VLOOKUP(G104,LUTs!$A$6:$B$8,2))","v":{"$error":"#N/A"}}]
[{"$f":"IF(ISBLANK(Responses!A105), \"\", Responses!A105)","v":""},{"$f":"IF(ISBLANK(Responses!B105), \"\", Responses!B105)","v":""},{"$f":"IF(ISBLANK(Responses!AQ105), \"\", Responses!AQ105)","v":""},{"$f":"IF(ISBLANK(Responses!AR105), \"\", Responses!AR105)","v":""},{"$f":"IF(ISBLANK(Responses!AS105), \"\", Responses!AS105)","v":""},{"$f":"IF(ISBLANK(Responses!AT105), \"\", Responses!AT105)","v":""},{"$f":"IF(ISBLANK(Responses!AU105), \"\", Responses!AU105)","v":""},{"$error":"#N/A"},{"$error":"#N/A"},{"$f":"IF(ISBLANK(C105),0,VLOOKUP(C105,LUTs!$A$6:$B$8,2))","v":{"$error":"#N/A"}},{"$f":"IF(ISBLANK(D105),0,VLOOKUP(D105,LUTs!$A$6:$B$8,2))","v":{"$error":"#N/A"}},{"$f":"IF(ISBLANK(E105),0,VLOOKUP(E105,LUTs!$A$6:$B$8,2))","v":{"$error":"#N/A"}},{"$f":"IF(ISBLANK(F105),0,VLOOKUP(F105,LUTs!$A$6:$B$8,2))","v":{"$error":"#N/A"}},{"$f":"IF(ISBLANK(G105),0,VLOOKUP(G105,LUTs!$A$6:$B$8,2))","v":{"$error":"#N/A"}}]
[{"$f":"IF(ISBLANK(Responses!A106), \"\", Responses!A106)","v":""},{"$f":"IF(ISBLANK(Responses!B106), \"\", Responses!B106)","v":""},{"$f":"IF(ISBLANK(Responses!AQ106), \"\", Responses!AQ106)","v":""},{"$f":"IF(ISBLANK(Responses!AR106), \"\", Responses!AR106)","v":""},{"$f":"IF(ISBLANK(Responses!AS106), \"\", Responses!AS106)","v":""},{"$f":"IF(ISBLANK(Responses!AT106), \"\", Responses!AT106)","v":""},{"$f":"IF(ISBLANK(Responses!AU106), \"\", Responses!AU106)","v":""},{"$error":"#N/A"},{"$error":"#N/A"},{"$f":"IF(ISBLANK(C106),0,VLOOKUP(C106,LUTs!$A$6:$B$8,2))","v":{"$error":"#N/A"}},{"$f":"IF(ISBLANK(D106),0,VLOOKUP(D106,LUTs!$A$6:$B$8,2))","v":{"$error":"#N/A"}},{"$f":"IF(ISBLANK(E106),0,VLOOKUP(E106,LUTs!$A$6:$B$8,2))","v":{"$error":"#N/A"}},{"$f":"IF(ISBLANK(F106),0,VLOOKUP(F106,LUTs!$A$6:$B$8,2))","v":{"$error":"#N/A"}},{"$f":"IF(ISBLANK(G106),0,VLOOKUP(G106,LUTs!$A$6:$B$8,2))","v":{"$error":"#N/A"}}]
[{"$f":"IF(ISBLANK(Responses!A107), \"\", Responses!A107)","v":""},{"$f":"IF(ISBLANK(Responses!B107), \"\", Responses!B107)","v":""},{"$f":"IF(ISBLANK(Responses!AQ107), \"\", Responses!AQ107)","v":""},{"$f":"IF(ISBLANK(Responses!AR107), \"\", Responses!AR107)","v":""},{"$f":"IF(ISBLANK(Responses!AS107), \"\", Responses!AS107)","v":""},{"$f":"IF(ISBLANK(Responses!AT107), \"\", Responses!AT107)","v":""},{"$f":"IF(ISBLANK(Responses!AU107), \"\", Responses!AU107)","v":""},{"$error":"#N/A"},{"$error":"#N/A"},{"$f":"IF(ISBLANK(C107),0,VLOOKUP(C107,LUTs!$A$6:$B$8,2))","v":{"$error":"#N/A"}},{"$f":"IF(ISBLANK(D107),0,VLOOKUP(D107,LUTs!$A$6:$B$8,2))","v":{"$error":"#N/A"}},{"$f":"IF(ISBLANK(E107),0,VLOOKUP(E107,LUTs!$A$6:$B$8,2))","v":{"$error":"#N/A"}},{"$f":"IF(ISBLANK(F107),0,VLOOKUP(F107,LUTs!$A$6:$B$8,2))","v":{"$error":"#N/A"}},{"$f":"IF(ISBLANK(G107),0,VLOOKUP(G107,LUTs!$A$6:$B$8,2))","v":{"$error":"#N/A"}}]
[{"$f":"IF(ISBLANK(Responses!A108), \"\", Responses!A108)","v":""},{"$f":"IF(ISBLANK(Responses!B108), \"\", Responses!B108)","v":""},{"$f":"IF(ISBLANK(Responses!AQ108), \"\", Responses!AQ108)","v":""},{"$f":"IF(ISBLANK(Responses!AR108), \"\", Responses!AR108)","v":""},{"$f":"IF(ISBLANK(Responses!AS108), \"\", Responses!AS108)","v":""},{"$f":"IF(ISBLANK(Responses!AT108), \"\", Responses!AT108)","v":""},{"$f":"IF(ISBLANK(Responses!AU108), \"\", Responses!AU108)","v":""},{"$error":"#N/A"},{"$error":"#N/A"},{"$f":"IF(ISBLANK(C108),0,VLOOKUP(C108,LUTs!$A$6:$B$8,2))","v":{"$error":"#N/A"}},{"$f":"IF(ISBLANK(D108),0,VLOOKUP(D108,LUTs!$A$6:$B$8,2))","v":{"$error":"#N/A"}},{"$f":"IF(ISBLANK(E108),0,VLOOKUP(E108,LUTs!$A$6:$B$8,2))","v":{"$error":"#N/A"}},{"$f":"IF(ISBLANK(F108),0,VLOOKUP(F108,LUTs!$A$6:$B$8,2))","v":{"$error":"#N/A"}},{"$f":"IF(ISBLANK(G108),0,VLOOKUP(G108,LUTs!$A$6:$B$8,2))","v":{"$error":"#N/A"}}]
[{"$f":"IF(ISBLANK(Responses!A109), \"\", Responses!A109)","v":""},{"$f":"IF(ISBLANK(Responses!B109), \"\", Responses!B109)","v":""},{"$f":"IF(ISBLANK(Responses!AQ109), \"\", Responses!AQ109)","v":""},{"$f":"IF(ISBLANK(Responses!AR109), \"\", Responses!AR109)","v":""},{"$f":"IF(ISBLANK(Responses!AS109), \"\", Responses!AS109)","v":""},{"$f":"IF(ISBLANK(Responses!AT109), \"\", Responses!AT109)","v":""},{"$f":"IF(ISBLANK(Responses!AU109), \"\", Responses!AU109)","v":""},{"$error":"#N/A"},{"$error":"#N/A"},{"$f":"IF(ISBLANK(C109),0,VLOOKUP(C109,LUTs!$A$6:$B$8,2))","v":{"$error":"#N/A"}},{"$f":"IF(ISBLANK(D109),0,VLOOKUP(D109,LUTs!$A$6:$B$8,2))","v":{"$error":"#N/A"}},{"$f":"IF(ISBLANK(E109),0,VLOOKUP(E109,LUTs!$A$6:$B$8,2))","v":{"$error":"#N/A"}},{"$f":"IF(ISBLANK(F109),0,VLOOKUP(F109,LUTs!$A$6:$B$8,2))","v":{"$error":"#N/A"}},{"$f":"IF(ISBLANK(G109),0,VLOOKUP(G109,LUTs!$A$6:$B$8,2))","v":{"$error":"#N/A"}}]
[{"$f":"IF(ISBLANK(Responses!A110), \"\", Responses!A110)","v":""},{"$f":"IF(ISBLANK(Responses!B110), \"\", Responses!B110)","v":""},{"$f":"IF(ISBLANK(Responses!AQ110), \"\", Responses!AQ110)","v":""},{"$f":"IF(ISBLANK(Responses!AR110), \"\", Responses!AR110)","v":""},{"$f":"IF(ISBLANK(Responses!AS110), \"\", Responses!AS110)","v":""},{"$f":"IF(ISBLANK(Responses!AT110), \"\", Responses!AT110)","v":""},{"$f":"IF(ISBLANK(Responses!AU110), \"\", Responses!AU110)","v":""}]
[{"$f":"IF(ISBLANK(Responses!A111), \"\", Responses!A111)","v":""},{"$f":"IF(ISBLANK(Responses!B111), \"\", Responses!B111)","v":""},{"$f":"IF(ISBLANK(Responses!AQ111), \"\", Responses!AQ111)","v":""},{"$f":"IF(ISBLANK(Responses!AR111), \"\", Responses!AR111)","v":""},{"$f":"IF(ISBLANK(Responses!AS111), \"\", Responses!AS111)","v":""},{"$f":"IF(ISBLANK(Responses!AT111), \"\", Responses!AT111)","v":""},{"$f":"IF(ISBLANK(Responses!AU111), \"\", Responses!AU111)","v":""}]
[{"$f":"IF(ISBLANK(Responses!A112), \"\", Responses!A112)","v":""},{"$f":"IF(ISBLANK(Responses!B112), \"\", Responses!B112)","v":""},{"$f":"IF(ISBLANK(Responses!AQ112), \"\", Responses!AQ112)","v":""},{"$f":"IF(ISBLANK(Responses!AR112), \"\", Responses!AR112)","v":""},{"$f":"IF(ISBLANK(Responses!AS112), \"\", Responses!AS112)","v":""},{"$f":"IF(ISBLANK(Responses!AT112), \"\", Responses!AT112)","v":""},{"$f":"IF(ISBLANK(Responses!AU112), \"\", Responses!AU112)","v":""}]
[{"$f":"IF(ISBLANK(Responses!A113), \"\", Responses!A113)","v":""},{"$f":"IF(ISBLANK(Responses!B113), \"\", Responses!B113)","v":""},{"$f":"IF(ISBLANK(Responses!AQ113), \"\", Responses!AQ113)","v":""},{"$f":"IF(ISBLANK(Responses!AR113), \"\", Responses!AR113)","v":""},{"$f":"IF(ISBLANK(Responses!AS113), \"\", Responses!AS113)","v":""},{"$f":"IF(ISBLANK(Responses!AT113), \"\", Responses!AT113)","v":""},{"$f":"IF(ISBLANK(Responses!AU113), \"\", Responses!AU113)","v":""}]
[{"$f":"IF(ISBLANK(Responses!A114), \"\", Responses!A114)","v":""},{"$f":"IF(ISBLANK(Responses!B114), \"\", Responses!B114)","v":""},{"$f":"IF(ISBLANK(Responses!AQ114), \"\", Responses!AQ114)","v":""},{"$f":"IF(ISBLANK(Responses!AR114), \"\", Responses!AR114)","v":""},{"$f":"IF(ISBLANK(Responses!AS114), \"\", Responses!AS114)","v":""},{"$f":"IF(ISBLANK(Responses!AT114), \"\", Responses!AT114)","v":""},{"$f":"IF(ISBLANK(Responses!AU114), \"\", Responses!AU114)","v":""}]
[{"$f":"IF(ISBLANK(Responses!A115), \"\", Responses!A115)","v":""},{"$f":"IF(ISBLANK(Responses!B115), \"\", Responses!B115)","v":""},{"$f":"IF(ISBLANK(Responses!AQ115), \"\", Responses!AQ115)","v":""},{"$f":"IF(ISBLANK(Responses!AR115), \"\", Responses!AR115)","v":""},{"$f":"IF(ISBLANK(Responses!AS115), \"\", Responses!AS115)","v":""},{"$f":"IF(ISBLANK(Responses!AT115), \"\", Responses!AT115)","v":""},{"$f":"IF(ISBLANK(Responses!AU115), \"\", Responses!AU115)","v":""}]
[{"$f":"IF(ISBLANK(Responses!A116), \"\", Responses!A116)","v":""},{"$f":"IF(ISBLANK(Responses!B116), \"\", Responses!B116)","v":""},{"$f":"IF(ISBLANK(Responses!AQ116), \"\", Responses!AQ116)","v":""},{"$f":"IF(ISBLANK(Responses!AR116), \"\", Responses!AR116)","v":""},{"$f":"IF(ISBLANK(Responses!AS116), \"\", Responses!AS116)","v":""},{"$f":"IF(ISBLANK(Responses!AT116), \"\", Responses!AT116)","v":""},{"$f":"IF(ISBLANK(Responses!AU116), \"\", Responses!AU116)","v":""}]
[{"$f":"IF(ISBLANK(Responses!A117), \"\", Responses!A117)","v":""},{"$f":"IF(ISBLANK(Responses!B117), \"\", Responses!B117)","v":""},{"$f":"IF(ISBLANK(Responses!AQ117), \"\", Responses!AQ117)","v":""},{"$f":"IF(ISBLANK(Responses!AR117), \"\", Responses!AR117)","v":""},{"$f":"IF(ISBLANK(Responses!AS117), \"\", Responses!AS117)","v":""},{"$f":"IF(ISBLANK(Responses!AT117), \"\", Responses!AT117)","v":""},{"$f":"IF(ISBLANK(Responses!AU117), \"\", Responses!AU117)","v":""}]
[{"$f":"IF(ISBLANK(Responses!A118), \"\", Responses!A118)","v":""},{"$f":"IF(ISBLANK(Responses!B118), \"\", Responses!B118)","v":""},{"$f":"IF(ISBLANK(Responses!AQ118), \"\", Responses!AQ118)","v":""},{"$f":"IF(ISBLANK(Responses!AR118), \"\", Responses!AR118)","v":""},{"$f":"IF(ISBLANK(Responses!AS118), \"\", Responses!AS118)","v":""},{"$f":"IF(ISBLANK(Responses!AT118), \"\", Responses!AT118)","v":""},{"$f":"IF(ISBLANK(Responses!AU118), \"\", Responses!AU118)","v":""}]

{"sheet":"Stakeholder Coordination","index":8,"n_rows":1000,"n_cols":10,"rows_kept":1000,"cut":false,"hidden":true,"merged":[]}
[{"$f":"IF(ISBLANK(Responses!A1), \"\", Responses!A1)","v":"Timestamp"},{"$f":"IF(ISBLANK(Responses!B1), \"\", Responses!B1)","v":"Sport Organization Name"},{"$f":"IF(ISBLANK(Responses!AV1), \"\", Responses!AV1)","v":"Is there an established mechanism for collaboration and coordination with the local public health and recreation / parks sectors in the instance that any new COVID-19 cases arise?"},{"$f":"IF(ISBLANK(Responses!AW1), \"\", Responses!AW1)","v":"Are there agreed, clear and easily understood processes in place for reporting to external multi-sectoral stakeholders (eg CPC, COC, OTP, NF etc ) and disseminating risk communication messages (Media)?"},"Stakeholder %","Stakeholder Score",2,2,null,"Max Stakeholder Score"]
[{"$f":"IF(ISBLANK(Responses!A2), \"\", Responses!A2)","v":""},{"$f":"IF(ISBLANK(Responses!B2), \"\", Responses!B2)","v":""},{"$f":"IF(ISBLANK(Responses!AV2), \"\", Responses!AV2)","v":""},{"$f":"IF(ISBLANK(Responses!AW2), \"\", Responses!AW2)","v":""},{"$f":"F2/(2*SUM(G$1:H$1))","v":{"$error":"#N/A"}},{"$f":"SUM(G2*G$1,H2*H$1)","v":{"$error":"#N/A"}},{"$f":"IF(ISBLANK(C2),0,VLOOKUP(C2,LUTs!$A$6:$B$8,2))","v":{"$error":"#N/A"}},{"$f":"IF(ISBLANK(D2),0,VLOOKUP(D2,LUTs!$A$6:$B$8,2))","v":{"$error":"#N/A"}},null,{"$f":"SUM(G1:H1)*2","v":8}]
[{"$f":"IF(ISBLANK(Responses!A3), \"\", Responses!A3)","v":""},{"$f":"IF(ISBLANK(Responses!B3), \"\", Responses!B3)","v":""},{"$f":"IF(ISBLANK(Responses!AV3), \"\", Responses!AV3)","v":""},{"$f":"IF(ISBLANK(Responses!AW3), \"\", Responses!AW3)","v":""},{"$error":"#N/A"},{"$error":"#N/A"},{"$f":"IF(ISBLANK(C3),0,VLOOKUP(C3,LUTs!$A$6:$B$8,2))","v":{"$error":"#N/A"}},{"$f":"IF(ISBLANK(D3),0,VLOOKUP(D3,LUTs!$A$6:$B$8,2))","v":{"$error":"#N/A"}}]
[{"$f":"IF(ISBLANK(Responses!A4), \"\", Responses!A4)","v":""},{"$f":"IF(ISBLANK(Responses!B4), \"\", Responses!B4)","v":""},{"$f":"IF(ISBLANK(Responses!AV4), \"\", Responses!AV4)","v":""},{"$f":"IF(ISBLANK(Responses!AW4), \"\", Responses!AW4)","v":""},{"$error":"#N/A"},{"$error":"#N/A"},{"$f":"IF(ISBLANK(C4),0,VLOOKUP(C4,LUTs!$A$6:$B$8,2))","v":{"$error":"#N/A"}},{"$f":"IF(ISBLANK(D4),0,VLOOKUP(D4,LUTs!$A$6:$B$8,2))","v":{"$error":"#N/A"}}]
[{"$f":"IF(ISBLANK(Responses!A5), \"\", Responses!A5)","v":""},{"$f":"IF(ISBLANK(Responses!B5), \"\", Responses!B5)","v":""},{"$f":"IF(ISBLANK(Responses!AV5), \"\", Responses!AV5)","v":""},{"$f":"IF(ISBLANK(Responses!AW5), \"\", Responses!AW5)","v":""},{"$error":"#N/A"},{"$error":"#N/A"},{"$f":"IF(ISBLANK(C5),0,VLOOKUP(C5,LUTs!$A$6:$B$8,2))","v":{"$error":"#N/A"}},{"$f":"IF(ISBLANK(D5),0,VLOOKUP(D5,LUTs!$A$6:$B$8,2))","v":{"$error":"#N/A"}}]
[{"$f":"IF(ISBLANK(Responses!A6), \"\", Responses!A6)","v":""},{"$f":"IF(ISBLANK(Responses!B6), \"\", Responses!B6)","v":""},{"$f":"IF(ISBLANK(Responses!AV6), \"\", Responses!AV6)","v":""},{"$f":"IF(ISBLANK(Responses!AW6), \"\", Responses!AW6)","v":""},{"$error":"#N/A"},{"$error":"#N/A"},{"$f":"IF(ISBLANK(C6),0,VLOOKUP(C6,LUTs!$A$6:$B$8,2))","v":{"$error":"#N/A"}},{"$f":"IF(ISBLANK(D6),0,VLOOKUP(D6,LUTs!$A$6:$B$8,2))","v":{"$error":"#N/A"}}]
[{"$f":"IF(ISBLANK(Responses!A7), \"\", Responses!A7)","v":""},{"$f":"IF(ISBLANK(Responses!B7), \"\", Responses!B7)","v":""},{"$f":"IF(ISBLANK(Responses!AV7), \"\", Responses!AV7)","v":""},{"$f":"IF(ISBLANK(Responses!AW7), \"\", Responses!AW7)","v":""},{"$error":"#N/A"},{"$error":"#N/A"},{"$f":"IF(ISBLANK(C7),0,VLOOKUP(C7,LUTs!$A$6:$B$8,2))","v":{"$error":"#N/A"}},{"$f":"IF(ISBLANK(D7),0,VLOOKUP(D7,LUTs!$A$6:$B$8,2))","v":{"$error":"#N/A"}}]
[{"$f":"IF(ISBLANK(Responses!A8), \"\", Responses!A8)","v":""},{"$f":"IF(ISBLANK(Responses!B8), \"\", Responses!B8)","v":""},{"$f":"IF(ISBLANK(Responses!AV8), \"\", Responses!AV8)","v":""},{"$f":"IF(ISBLANK(Responses!AW8), \"\", Responses!AW8)","v":""},{"$error":"#N/A"},{"$error":"#N/A"},{"$f":"IF(ISBLANK(C8),0,VLOOKUP(C8,LUTs!$A$6:$B$8,2))","v":{"$error":"#N/A"}},{"$f":"IF(ISBLANK(D8),0,VLOOKUP(D8,LUTs!$A$6:$B$8,2))","v":{"$error":"#N/A"}}]
[{"$f":"IF(ISBLANK(Responses!A9), \"\", Responses!A9)","v":""},{"$f":"IF(ISBLANK(Responses!B9), \"\", Responses!B9)","v":""},{"$f":"IF(ISBLANK(Responses!AV9), \"\", Responses!AV9)","v":""},{"$f":"IF(ISBLANK(Responses!AW9), \"\", Responses!AW9)","v":""},{"$error":"#N/A"},{"$error":"#N/A"},{"$f":"IF(ISBLANK(C9),0,VLOOKUP(C9,LUTs!$A$6:$B$8,2))","v":{"$error":"#N/A"}},{"$f":"IF(ISBLANK(D9),0,VLOOKUP(D9,LUTs!$A$6:$B$8,2))","v":{"$error":"#N/A"}}]
[{"$f":"IF(ISBLANK(Responses!A10), \"\", Responses!A10)","v":""},{"$f":"IF(ISBLANK(Responses!B10), \"\", Responses!B10)","v":""},{"$f":"IF(ISBLANK(Responses!AV10), \"\", Responses!AV10)","v":""},{"$f":"IF(ISBLANK(Responses!AW10), \"\", Responses!AW10)","v":""},{"$error":"#N/A"},{"$error":"#N/A"},{"$f":"IF(ISBLANK(C10),0,VLOOKUP(C10,LUTs!$A$6:$B$8,2))","v":{"$error":"#N/A"}},{"$f":"IF(ISBLANK(D10),0,VLOOKUP(D10,LUTs!$A$6:$B$8,2))","v":{"$error":"#N/A"}}]
[{"$f":"IF(ISBLANK(Responses!A11), \"\", Responses!A11)","v":""},{"$f":"IF(ISBLANK(Responses!B11), \"\", Responses!B11)","v":""},{"$f":"IF(ISBLANK(Responses!AV11), \"\", Responses!AV11)","v":""},{"$f":"IF(ISBLANK(Responses!AW11), \"\", Responses!AW11)","v":""},{"$error":"#N/A"},{"$error":"#N/A"},{"$f":"IF(ISBLANK(C11),0,VLOOKUP(C11,LUTs!$A$6:$B$8,2))","v":{"$error":"#N/A"}},{"$f":"IF(ISBLANK(D11),0,VLOOKUP(D11,LUTs!$A$6:$B$8,2))","v":{"$error":"#N/A"}}]
[{"$f":"IF(ISBLANK(Responses!A12), \"\", Responses!A12)","v":""},{"$f":"IF(ISBLANK(Responses!B12), \"\", Responses!B12)","v":""},{"$f":"IF(ISBLANK(Responses!AV12), \"\", Responses!AV12)","v":""},{"$f":"IF(ISBLANK(Responses!AW12), \"\", Responses!AW12)","v":""},{"$error":"#N/A"},{"$error":"#N/A"},{"$f":"IF(ISBLANK(C12),0,VLOOKUP(C12,LUTs!$A$6:$B$8,2))","v":{"$error":"#N/A"}},{"$f":"IF(ISBLANK(D12),0,VLOOKUP(D12,LUTs!$A$6:$B$8,2))","v":{"$error":"#N/A"}}]
[{"$f":"IF(ISBLANK(Responses!A13), \"\", Responses!A13)","v":""},{"$f":"IF(ISBLANK(Responses!B13), \"\", Responses!B13)","v":""},{"$f":"IF(ISBLANK(Responses!AV13), \"\", Responses!AV13)","v":""},{"$f":"IF(ISBLANK(Responses!AW13), \"\", Responses!AW13)","v":""},{"$error":"#N/A"},{"$error":"#N/A"},{"$f":"IF(ISBLANK(C13),0,VLOOKUP(C13,LUTs!$A$6:$B$8,2))","v":{"$error":"#N/A"}},{"$f":"IF(ISBLANK(D13),0,VLOOKUP(D13,LUTs!$A$6:$B$8,2))","v":{"$error":"#N/A"}}]
[{"$f":"IF(ISBLANK(Responses!A14), \"\", Responses!A14)","v":""},{"$f":"IF(ISBLANK(Responses!B14), \"\", Responses!B14)","v":""},{"$f":"IF(ISBLANK(Responses!AV14), \"\", Responses!AV14)","v":""},{"$f":"IF(ISBLANK(Responses!AW14), \"\", Responses!AW14)","v":""},{"$error":"#N/A"},{"$error":"#N/A"},{"$f":"IF(ISBLANK(C14),0,VLOOKUP(C14,LUTs!$A$6:$B$8,2))","v":{"$error":"#N/A"}},{"$f":"IF(ISBLANK(D14),0,VLOOKUP(D14,LUTs!$A$6:$B$8,2))","v":{"$error":"#N/A"}}]
[{"$f":"IF(ISBLANK(Responses!A15), \"\", Responses!A15)","v":""},{"$f":"IF(ISBLANK(Responses!B15), \"\", Responses!B15)","v":""},{"$f":"IF(ISBLANK(Responses!AV15), \"\", Responses!AV15)","v":""},{"$f":"IF(ISBLANK(Responses!AW15), \"\", Responses!AW15)","v":""},{"$error":"#N/A"},{"$error":"#N/A"},{"$f":"IF(ISBLANK(C15),0,VLOOKUP(C15,LUTs!$A$6:$B$8,2))","v":{"$error":"#N/A"}},{"$f":"IF(ISBLANK(D15),0,VLOOKUP(D15,LUTs!$A$6:$B$8,2))","v":{"$error":"#N/A"}}]
[{"$f":"IF(ISBLANK(Responses!A16), \"\", Responses!A16)","v":""},{"$f":"IF(ISBLANK(Responses!B16), \"\", Responses!B16)","v":""},{"$f":"IF(ISBLANK(Responses!AV16), \"\", Responses!AV16)","v":""},{"$f":"IF(ISBLANK(Responses!AW16), \"\", Responses!AW16)","v":""},{"$error":"#N/A"},{"$error":"#N/A"},{"$f":"IF(ISBLANK(C16),0,VLOOKUP(C16,LUTs!$A$6:$B$8,2))","v":{"$error":"#N/A"}},{"$f":"IF(ISBLANK(D16),0,VLOOKUP(D16,LUTs!$A$6:$B$8,2))","v":{"$error":"#N/A"}}]
[{"$f":"IF(ISBLANK(Responses!A17), \"\", Responses!A17)","v":""},{"$f":"IF(ISBLANK(Responses!B17), \"\", Responses!B17)","v":""},{"$f":"IF(ISBLANK(Responses!AV17), \"\", Responses!AV17)","v":""},{"$f":"IF(ISBLANK(Responses!AW17), \"\", Responses!AW17)","v":""},{"$error":"#N/A"},{"$error":"#N/A"},{"$f":"IF(ISBLANK(C17),0,VLOOKUP(C17,LUTs!$A$6:$B$8,2))","v":{"$error":"#N/A"}},{"$f":"IF(ISBLANK(D17),0,VLOOKUP(D17,LUTs!$A$6:$B$8,2))","v":{"$error":"#N/A"}}]
[{"$f":"IF(ISBLANK(Responses!A18), \"\", Responses!A18)","v":""},{"$f":"IF(ISBLANK(Responses!B18), \"\", Responses!B18)","v":""},{"$f":"IF(ISBLANK(Responses!AV18), \"\", Responses!AV18)","v":""},{"$f":"IF(ISBLANK(Responses!AW18), \"\", Responses!AW18)","v":""},{"$error":"#N/A"},{"$error":"#N/A"},{"$f":"IF(ISBLANK(C18),0,VLOOKUP(C18,LUTs!$A$6:$B$8,2))","v":{"$error":"#N/A"}},{"$f":"IF(ISBLANK(D18),0,VLOOKUP(D18,LUTs!$A$6:$B$8,2))","v":{"$error":"#N/A"}}]
[{"$f":"IF(ISBLANK(Responses!A19), \"\", Responses!A19)","v":""},{"$f":"IF(ISBLANK(Responses!B19), \"\", Responses!B19)","v":""},{"$f":"IF(ISBLANK(Responses!AV19), \"\", Responses!AV19)","v":""},{"$f":"IF(ISBLANK(Responses!AW19), \"\", Responses!AW19)","v":""},{"$error":"#N/A"},{"$error":"#N/A"},{"$f":"IF(ISBLANK(C19),0,VLOOKUP(C19,LUTs!$A$6:$B$8,2))","v":{"$error":"#N/A"}},{"$f":"IF(ISBLANK(D19),0,VLOOKUP(D19,LUTs!$A$6:$B$8,2))","v":{"$error":"#N/A"}}]
[{"$f":"IF(ISBLANK(Responses!A20), \"\", Responses!A20)","v":""},{"$f":"IF(ISBLANK(Responses!B20), \"\", Responses!B20)","v":""},{"$f":"IF(ISBLANK(Responses!AV20), \"\", Responses!AV20)","v":""},{"$f":"IF(ISBLANK(Responses!AW20), \"\", Responses!AW20)","v":""},{"$error":"#N/A"},{"$error":"#N/A"},{"$f":"IF(ISBLANK(C20),0,VLOOKUP(C20,LUTs!$A$6:$B$8,2))","v":{"$error":"#N/A"}},{"$f":"IF(ISBLANK(D20),0,VLOOKUP(D20,LUTs!$A$6:$B$8,2))","v":{"$error":"#N/A"}}]
[{"$f":"IF(ISBLANK(Responses!A21), \"\", Responses!A21)","v":""},{"$f":"IF(ISBLANK(Responses!B21), \"\", Responses!B21)","v":""},{"$f":"IF(ISBLANK(Responses!AV21), \"\", Responses!AV21)","v":""},{"$f":"IF(ISBLANK(Responses!AW21), \"\", Responses!AW21)","v":""},{"$error":"#N/A"},{"$error":"#N/A"},{"$f":"IF(ISBLANK(C21),0,VLOOKUP(C21,LUTs!$A$6:$B$8,2))","v":{"$error":"#N/A"}},{"$f":"IF(ISBLANK(D21),0,VLOOKUP(D21,LUTs!$A$6:$B$8,2))","v":{"$error":"#N/A"}}]
[{"$f":"IF(ISBLANK(Responses!A22), \"\", Responses!A22)","v":""},{"$f":"IF(ISBLANK(Responses!B22), \"\", Responses!B22)","v":""},{"$f":"IF(ISBLANK(Responses!AV22), \"\", Responses!AV22)","v":""},{"$f":"IF(ISBLANK(Responses!AW22), \"\", Responses!AW22)","v":""},{"$error":"#N/A"},{"$error":"#N/A"},{"$f":"IF(ISBLANK(C22),0,VLOOKUP(C22,LUTs!$A$6:$B$8,2))","v":{"$error":"#N/A"}},{"$f":"IF(ISBLANK(D22),0,VLOOKUP(D22,LUTs!$A$6:$B$8,2))","v":{"$error":"#N/A"}}]
[{"$f":"IF(ISBLANK(Responses!A23), \"\", Responses!A23)","v":""},{"$f":"IF(ISBLANK(Responses!B23), \"\", Responses!B23)","v":""},{"$f":"IF(ISBLANK(Responses!AV23), \"\", Responses!AV23)","v":""},{"$f":"IF(ISBLANK(Responses!AW23), \"\", Responses!AW23)","v":""},{"$error":"#N/A"},{"$error":"#N/A"},{"$f":"IF(ISBLANK(C23),0,VLOOKUP(C23,LUTs!$A$6:$B$8,2))","v":{"$error":"#N/A"}},{"$f":"IF(ISBLANK(D23),0,VLOOKUP(D23,LUTs!$A$6:$B$8,2))","v":{"$error":"#N/A"}}]
[{"$f":"IF(ISBLANK(Responses!A24), \"\", Responses!A24)","v":""},{"$f":"IF(ISBLANK(Responses!B24), \"\", Responses!B24)","v":""},{"$f":"IF(ISBLANK(Responses!AV24), \"\", Responses!AV24)","v":""},{"$f":"IF(ISBLANK(Responses!AW24), \"\", Responses!AW24)","v":""},{"$error":"#N/A"},{"$error":"#N/A"},{"$f":"IF(ISBLANK(C24),0,VLOOKUP(C24,LUTs!$A$6:$B$8,2))","v":{"$error":"#N/A"}},{"$f":"IF(ISBLANK(D24),0,VLOOKUP(D24,LUTs!$A$6:$B$8,2))","v":{"$error":"#N/A"}}]
[{"$f":"IF(ISBLANK(Responses!A25), \"\", Responses!A25)","v":""},{"$f":"IF(ISBLANK(Responses!B25), \"\", Responses!B25)","v":""},{"$f":"IF(ISBLANK(Responses!AV25), \"\", Responses!AV25)","v":""},{"$f":"IF(ISBLANK(Responses!AW25), \"\", Responses!AW25)","v":""},{"$error":"#N/A"},{"$error":"#N/A"},{"$f":"IF(ISBLANK(C25),0,VLOOKUP(C25,LUTs!$A$6:$B$8,2))","v":{"$error":"#N/A"}},{"$f":"IF(ISBLANK(D25),0,VLOOKUP(D25,LUTs!$A$6:$B$8,2))","v":{"$error":"#N/A"}}]
[{"$f":"IF(ISBLANK(Responses!A26), \"\", Responses!A26)","v":""},{"$f":"IF(ISBLANK(Responses!B26), \"\", Responses!B26)","v":""},{"$f":"IF(ISBLANK(Responses!AV26), \"\", Responses!AV26)","v":""},{"$f":"IF(ISBLANK(Responses!AW26), \"\", Responses!AW26)","v":""},{"$error":"#N/A"},{"$error":"#N/A"},{"$f":"IF(ISBLANK(C26),0,VLOOKUP(C26,LUTs!$A$6:$B$8,2))","v":{"$error":"#N/A"}},{"$f":"IF(ISBLANK(D26),0,VLOOKUP(D26,LUTs!$A$6:$B$8,2))","v":{"$error":"#N/A"}}]
[{"$f":"IF(ISBLANK(Responses!A27), \"\", Responses!A27)","v":""},{"$f":"IF(ISBLANK(Responses!B27), \"\", Responses!B27)","v":""},{"$f":"IF(ISBLANK(Responses!AV27), \"\", Responses!AV27)","v":""},{"$f":"IF(ISBLANK(Responses!AW27), \"\", Responses!AW27)","v":""},{"$error":"#N/A"},{"$error":"#N/A"},{"$f":"IF(ISBLANK(C27),0,VLOOKUP(C27,LUTs!$A$6:$B$8,2))","v":{"$error":"#N/A"}},{"$f":"IF(ISBLANK(D27),0,VLOOKUP(D27,LUTs!$A$6:$B$8,2))","v":{"$error":"#N/A"}}]
[{"$f":"IF(ISBLANK(Responses!A28), \"\", Responses!A28)","v":""},{"$f":"IF(ISBLANK(Responses!B28), \"\", Responses!B28)","v":""},{"$f":"IF(ISBLANK(Responses!AV28), \"\", Responses!AV28)","v":""},{"$f":"IF(ISBLANK(Responses!AW28), \"\", Responses!AW28)","v":""},{"$error":"#N/A"},{"$error":"#N/A"},{"$f":"IF(ISBLANK(C28),0,VLOOKUP(C28,LUTs!$A$6:$B$8,2))","v":{"$error":"#N/A"}},{"$f":"IF(ISBLANK(D28),0,VLOOKUP(D28,LUTs!$A$6:$B$8,2))","v":{"$error":"#N/A"}}]
[{"$f":"IF(ISBLANK(Responses!A29), \"\", Responses!A29)","v":""},{"$f":"IF(ISBLANK(Responses!B29), \"\", Responses!B29)","v":""},{"$f":"IF(ISBLANK(Responses!AV29), \"\", Responses!AV29)","v":""},{"$f":"IF(ISBLANK(Responses!AW29), \"\", Responses!AW29)","v":""},{"$error":"#N/A"},{"$error":"#N/A"},{"$f":"IF(ISBLANK(C29),0,VLOOKUP(C29,LUTs!$A$6:$B$8,2))","v":{"$error":"#N/A"}},{"$f":"IF(ISBLANK(D29),0,VLOOKUP(D29,LUTs!$A$6:$B$8,2))","v":{"$error":"#N/A"}}]
[{"$f":"IF(ISBLANK(Responses!A30), \"\", Responses!A30)","v":""},{"$f":"IF(ISBLANK(Responses!B30), \"\", Responses!B30)","v":""},{"$f":"IF(ISBLANK(Responses!AV30), \"\", Responses!AV30)","v":""},{"$f":"IF(ISBLANK(Responses!AW30), \"\", Responses!AW30)","v":""},{"$error":"#N/A"},{"$error":"#N/A"},{"$f":"IF(ISBLANK(C30),0,VLOOKUP(C30,LUTs!$A$6:$B$8,2))","v":{"$error":"#N/A"}},{"$f":"IF(ISBLANK(D30),0,VLOOKUP(D30,LUTs!$A$6:$B$8,2))","v":{"$error":"#N/A"}}]
[{"$f":"IF(ISBLANK(Responses!A31), \"\", Responses!A31)","v":""},{"$f":"IF(ISBLANK(Responses!B31), \"\", Responses!B31)","v":""},{"$f":"IF(ISBLANK(Responses!AV31), \"\", Responses!AV31)","v":""},{"$f":"IF(ISBLANK(Responses!AW31), \"\", Responses!AW31)","v":""},{"$error":"#N/A"},{"$error":"#N/A"},{"$f":"IF(ISBLANK(C31),0,VLOOKUP(C31,LUTs!$A$6:$B$8,2))","v":{"$error":"#N/A"}},{"$f":"IF(ISBLANK(D31),0,VLOOKUP(D31,LUTs!$A$6:$B$8,2))","v":{"$error":"#N/A"}}]
[{"$f":"IF(ISBLANK(Responses!A32), \"\", Responses!A32)","v":""},{"$f":"IF(ISBLANK(Responses!B32), \"\", Responses!B32)","v":""},{"$f":"IF(ISBLANK(Responses!AV32), \"\", Responses!AV32)","v":""},{"$f":"IF(ISBLANK(Responses!AW32), \"\", Responses!AW32)","v":""},{"$error":"#N/A"},{"$error":"#N/A"},{"$f":"IF(ISBLANK(C32),0,VLOOKUP(C32,LUTs!$A$6:$B$8,2))","v":{"$error":"#N/A"}},{"$f":"IF(ISBLANK(D32),0,VLOOKUP(D32,LUTs!$A$6:$B$8,2))","v":{"$error":"#N/A"}}]
[{"$f":"IF(ISBLANK(Responses!A33), \"\", Responses!A33)","v":""},{"$f":"IF(ISBLANK(Responses!B33), \"\", Responses!B33)","v":""},{"$f":"IF(ISBLANK(Responses!AV33), \"\", Responses!AV33)","v":""},{"$f":"IF(ISBLANK(Responses!AW33), \"\", Responses!AW33)","v":""},{"$error":"#N/A"},{"$error":"#N/A"},{"$f":"IF(ISBLANK(C33),0,VLOOKUP(C33,LUTs!$A$6:$B$8,2))","v":{"$error":"#N/A"}},{"$f":"IF(ISBLANK(D33),0,VLOOKUP(D33,LUTs!$A$6:$B$8,2))","v":{"$error":"#N/A"}}]
[{"$f":"IF(ISBLANK(Responses!A34), \"\", Responses!A34)","v":""},{"$f":"IF(ISBLANK(Responses!B34), \"\", Responses!B34)","v":""},{"$f":"IF(ISBLANK(Responses!AV34), \"\", Responses!AV34)","v":""},{"$f":"IF(ISBLANK(Responses!AW34), \"\", Responses!AW34)","v":""},{"$error":"#N/A"},{"$error":"#N/A"},{"$f":"IF(ISBLANK(C34),0,VLOOKUP(C34,LUTs!$A$6:$B$8,2))","v":{"$error":"#N/A"}},{"$f":"IF(ISBLANK(D34),0,VLOOKUP(D34,LUTs!$A$6:$B$8,2))","v":{"$error":"#N/A"}}]
[{"$f":"IF(ISBLANK(Responses!A35), \"\", Responses!A35)","v":""},{"$f":"IF(ISBLANK(Responses!B35), \"\", Responses!B35)","v":""},{"$f":"IF(ISBLANK(Responses!AV35), \"\", Responses!AV35)","v":""},{"$f":"IF(ISBLANK(Responses!AW35), \"\", Responses!AW35)","v":""},{"$error":"#N/A"},{"$error":"#N/A"},{"$f":"IF(ISBLANK(C35),0,VLOOKUP(C35,LUTs!$A$6:$B$8,2))","v":{"$error":"#N/A"}},{"$f":"IF(ISBLANK(D35),0,VLOOKUP(D35,LUTs!$A$6:$B$8,2))","v":{"$error":"#N/A"}}]
[{"$f":"IF(ISBLANK(Responses!A36), \"\", Responses!A36)","v":""},{"$f":"IF(ISBLANK(Responses!B36), \"\", Responses!B36)","v":""},{"$f":"IF(ISBLANK(Responses!AV36), \"\", Responses!AV36)","v":""},{"$f":"IF(ISBLANK(Responses!AW36), \"\", Responses!AW36)","v":""},{"$error":"#N/A"},{"$error":"#N/A"},{"$f":"IF(ISBLANK(C36),0,VLOOKUP(C36,LUTs!$A$6:$B$8,2))","v":{"$error":"#N/A"}},{"$f":"IF(ISBLANK(D36),0,VLOOKUP(D36,LUTs!$A$6:$B$8,2))","v":{"$error":"#N/A"}}]
[{"$f":"IF(ISBLANK(Responses!A37), \"\", Responses!A37)","v":""},{"$f":"IF(ISBLANK(Responses!B37), \"\", Responses!B37)","v":""},{"$f":"IF(ISBLANK(Responses!AV37), \"\", Responses!AV37)","v":""},{"$f":"IF(ISBLANK(Responses!AW37), \"\", Responses!AW37)","v":""},{"$error":"#N/A"},{"$error":"#N/A"},{"$f":"IF(ISBLANK(C37),0,VLOOKUP(C37,LUTs!$A$6:$B$8,2))","v":{"$error":"#N/A"}},{"$f":"IF(ISBLANK(D37),0,VLOOKUP(D37,LUTs!$A$6:$B$8,2))","v":{"$error":"#N/A"}}]
[{"$f":"IF(ISBLANK(Responses!A38), \"\", Responses!A38)","v":""},{"$f":"IF(ISBLANK(Responses!B38), \"\", Responses!B38)","v":""},{"$f":"IF(ISBLANK(Responses!AV38), \"\", Responses!AV38)","v":""},{"$f":"IF(ISBLANK(Responses!AW38), \"\", Responses!AW38)","v":""},{"$error":"#N/A"},{"$error":"#N/A"},{"$f":"IF(ISBLANK(C38),0,VLOOKUP(C38,LUTs!$A$6:$B$8,2))","v":{"$error":"#N/A"}},{"$f":"IF(ISBLANK(D38),0,VLOOKUP(D38,LUTs!$A$6:$B$8,2))","v":{"$error":"#N/A"}}]
[{"$f":"IF(ISBLANK(Responses!A39), \"\", Responses!A39)","v":""},{"$f":"IF(ISBLANK(Responses!B39), \"\", Responses!B39)","v":""},{"$f":"IF(ISBLANK(Responses!AV39), \"\", Responses!AV39)","v":""},{"$f":"IF(ISBLANK(Responses!AW39), \"\", Responses!AW39)","v":""},{"$error":"#N/A"},{"$error":"#N/A"},{"$f":"IF(ISBLANK(C39),0,VLOOKUP(C39,LUTs!$A$6:$B$8,2))","v":{"$error":"#N/A"}},{"$f":"IF(ISBLANK(D39),0,VLOOKUP(D39,LUTs!$A$6:$B$8,2))","v":{"$error":"#N/A"}}]
[{"$f":"IF(ISBLANK(Responses!A40), \"\", Responses!A40)","v":""},{"$f":"IF(ISBLANK(Responses!B40), \"\", Responses!B40)","v":""},{"$f":"IF(ISBLANK(Responses!AV40), \"\", Responses!AV40)","v":""},{"$f":"IF(ISBLANK(Responses!AW40), \"\", Responses!AW40)","v":""},{"$error":"#N/A"},{"$error":"#N/A"},{"$f":"IF(ISBLANK(C40),0,VLOOKUP(C40,LUTs!$A$6:$B$8,2))","v":{"$error":"#N/A"}},{"$f":"IF(ISBLANK(D40),0,VLOOKUP(D40,LUTs!$A$6:$B$8,2))","v":{"$error":"#N/A"}}]
[{"$f":"IF(ISBLANK(Responses!A41), \"\", Responses!A41)","v":""},{"$f":"IF(ISBLANK(Responses!B41), \"\", Responses!B41)","v":""},{"$f":"IF(ISBLANK(Responses!AV41), \"\", Responses!AV41)","v":""},{"$f":"IF(ISBLANK(Responses!AW41), \"\", Responses!AW41)","v":""},{"$error":"#N/A"},{"$error":"#N/A"},{"$f":"IF(ISBLANK(C41),0,VLOOKUP(C41,LUTs!$A$6:$B$8,2))","v":{"$error":"#N/A"}},{"$f":"IF(ISBLANK(D41),0,VLOOKUP(D41,LUTs!$A$6:$B$8,2))","v":{"$error":"#N/A"}}]
[{"$f":"IF(ISBLANK(Responses!A42), \"\", Responses!A42)","v":""},{"$f":"IF(ISBLANK(Responses!B42), \"\", Responses!B42)","v":""},{"$f":"IF(ISBLANK(Responses!AV42), \"\", Responses!AV42)","v":""},{"$f":"IF(ISBLANK(Responses!AW42), \"\", Responses!AW42)","v":""},{"$error":"#N/A"},{"$error":"#N/A"},{"$f":"IF(ISBLANK(C42),0,VLOOKUP(C42,LUTs!$A$6:$B$8,2))","v":{"$error":"#N/A"}},{"$f":"IF(ISBLANK(D42),0,VLOOKUP(D42,LUTs!$A$6:$B$8,2))","v":{"$error":"#N/A"}}]
[{"$f":"IF(ISBLANK(Responses!A43), \"\", Responses!A43)","v":""},{"$f":"IF(ISBLANK(Responses!B43), \"\", Responses!B43)","v":""},{"$f":"IF(ISBLANK(Responses!AV43), \"\", Responses!AV43)","v":""},{"$f":"IF(ISBLANK(Responses!AW43), \"\", Responses!AW43)","v":""},{"$error":"#N/A"},{"$error":"#N/A"},{"$f":"IF(ISBLANK(C43),0,VLOOKUP(C43,LUTs!$A$6:$B$8,2))","v":{"$error":"#N/A"}},{"$f":"IF(ISBLANK(D43),0,VLOOKUP(D43,LUTs!$A$6:$B$8,2))","v":{"$error":"#N/A"}}]
[{"$f":"IF(ISBLANK(Responses!A44), \"\", Responses!A44)","v":""},{"$f":"IF(ISBLANK(Responses!B44), \"\", Responses!B44)","v":""},{"$f":"IF(ISBLANK(Responses!AV44), \"\", Responses!AV44)","v":""},{"$f":"IF(ISBLANK(Responses!AW44), \"\", Responses!AW44)","v":""},{"$error":"#N/A"},{"$error":"#N/A"},{"$f":"IF(ISBLANK(C44),0,VLOOKUP(C44,LUTs!$A$6:$B$8,2))","v":{"$error":"#N/A"}},{"$f":"IF(ISBLANK(D44),0,VLOOKUP(D44,LUTs!$A$6:$B$8,2))","v":{"$error":"#N/A"}}]
[{"$f":"IF(ISBLANK(Responses!A45), \"\", Responses!A45)","v":""},{"$f":"IF(ISBLANK(Responses!B45), \"\", Responses!B45)","v":""},{"$f":"IF(ISBLANK(Responses!AV45), \"\", Responses!AV45)","v":""},{"$f":"IF(ISBLANK(Responses!AW45), \"\", Responses!AW45)","v":""},{"$error":"#N/A"},{"$error":"#N/A"},{"$f":"IF(ISBLANK(C45),0,VLOOKUP(C45,LUTs!$A$6:$B$8,2))","v":{"$error":"#N/A"}},{"$f":"IF(ISBLANK(D45),0,VLOOKUP(D45,LUTs!$A$6:$B$8,2))","v":{"$error":"#N/A"}}]
[{"$f":"IF(ISBLANK(Responses!A46), \"\", Responses!A46)","v":""},{"$f":"IF(ISBLANK(Responses!B46), \"\", Responses!B46)","v":""},{"$f":"IF(ISBLANK(Responses!AV46), \"\", Responses!AV46)","v":""},{"$f":"IF(ISBLANK(Responses!AW46), \"\", Responses!AW46)","v":""},{"$error":"#N/A"},{"$error":"#N/A"},{"$f":"IF(ISBLANK(C46),0,VLOOKUP(C46,LUTs!$A$6:$B$8,2))","v":{"$error":"#N/A"}},{"$f":"IF(ISBLANK(D46),0,VLOOKUP(D46,LUTs!$A$6:$B$8,2))","v":{"$error":"#N/A"}}]
[{"$f":"IF(ISBLANK(Responses!A47), \"\", Responses!A47)","v":""},{"$f":"IF(ISBLANK(Responses!B47), \"\", Responses!B47)","v":""},{"$f":"IF(ISBLANK(Responses!AV47), \"\", Responses!AV47)","v":""},{"$f":"IF(ISBLANK(Responses!AW47), \"\", Responses!AW47)","v":""},{"$error":"#N/A"},{"$error":"#N/A"},{"$f":"IF(ISBLANK(C47),0,VLOOKUP(C47,LUTs!$A$6:$B$8,2))","v":{"$error":"#N/A"}},{"$f":"IF(ISBLANK(D47),0,VLOOKUP(D47,LUTs!$A$6:$B$8,2))","v":{"$error":"#N/A"}}]
[{"$f":"IF(ISBLANK(Responses!A48), \"\", Responses!A48)","v":""},{"$f":"IF(ISBLANK(Responses!B48), \"\", Responses!B48)","v":""},{"$f":"IF(ISBLANK(Responses!AV48), \"\", Responses!AV48)","v":""},{"$f":"IF(ISBLANK(Responses!AW48), \"\", Responses!AW48)","v":""},{"$error":"#N/A"},{"$error":"#N/A"},{"$f":"IF(ISBLANK(C48),0,VLOOKUP(C48,LUTs!$A$6:$B$8,2))","v":{"$error":"#N/A"}},{"$f":"IF(ISBLANK(D48),0,VLOOKUP(D48,LUTs!$A$6:$B$8,2))","v":{"$error":"#N/A"}}]
[{"$f":"IF(ISBLANK(Responses!A49), \"\", Responses!A49)","v":""},{"$f":"IF(ISBLANK(Responses!B49), \"\", Responses!B49)","v":""},{"$f":"IF(ISBLANK(Responses!AV49), \"\", Responses!AV49)","v":""},{"$f":"IF(ISBLANK(Responses!AW49), \"\", Responses!AW49)","v":""},{"$error":"#N/A"},{"$error":"#N/A"},{"$f":"IF(ISBLANK(C49),0,VLOOKUP(C49,LUTs!$A$6:$B$8,2))","v":{"$error":"#N/A"}},{"$f":"IF(ISBLANK(D49),0,VLOOKUP(D49,LUTs!$A$6:$B$8,2))","v":{"$error":"#N/A"}}]
[{"$f":"IF(ISBLANK(Responses!A50), \"\", Responses!A50)","v":""},{"$f":"IF(ISBLANK(Responses!B50), \"\", Responses!B50)","v":""},{"$f":"IF(ISBLANK(Responses!AV50), \"\", Responses!AV50)","v":""},{"$f":"IF(ISBLANK(Responses!AW50), \"\", Responses!AW50)","v":""},{"$error":"#N/A"},{"$error":"#N/A"},{"$f":"IF(ISBLANK(C50),0,VLOOKUP(C50,LUTs!$A$6:$B$8,2))","v":{"$error":"#N/A"}},{"$f":"IF(ISBLANK(D50),0,VLOOKUP(D50,LUTs!$A$6:$B$8,2))","v":{"$error":"#N/A"}}]
[{"$f":"IF(ISBLANK(Responses!A51), \"\", Responses!A51)","v":""},{"$f":"IF(ISBLANK(Responses!B51), \"\", Responses!B51)","v":""},{"$f":"IF(ISBLANK(Responses!AV51), \"\", Responses!AV51)","v":""},{"$f":"IF(ISBLANK(Responses!AW51), \"\", Responses!AW51)","v":""},{"$error":"#N/A"},{"$error":"#N/A"},{"$f":"IF(ISBLANK(C51),0,VLOOKUP(C51,LUTs!$A$6:$B$8,2))","v":{"$error":"#N/A"}},{"$f":"IF(ISBLANK(D51),0,VLOOKUP(D51,LUTs!$A$6:$B$8,2))","v":{"$error":"#N/A"}}]
[{"$f":"IF(ISBLANK(Responses!A52), \"\", Responses!A52)","v":""},{"$f":"IF(ISBLANK(Responses!B52), \"\", Responses!B52)","v":""},{"$f":"IF(ISBLANK(Responses!AV52), \"\", Responses!AV52)","v":""},{"$f":"IF(ISBLANK(Responses!AW52), \"\", Responses!AW52)","v":""},{"$error":"#N/A"},{"$error":"#N/A"},{"$f":"IF(ISBLANK(C52),0,VLOOKUP(C52,LUTs!$A$6:$B$8,2))","v":{"$error":"#N/A"}},{"$f":"IF(ISBLANK(D52),0,VLOOKUP(D52,LUTs!$A$6:$B$8,2))","v":{"$error":"#N/A"}}]
[{"$f":"IF(ISBLANK(Responses!A53), \"\", Responses!A53)","v":""},{"$f":"IF(ISBLANK(Responses!B53), \"\", Responses!B53)","v":""},{"$f":"IF(ISBLANK(Responses!AV53), \"\", Responses!AV53)","v":""},{"$f":"IF(ISBLANK(Responses!AW53), \"\", Responses!AW53)","v":""},{"$error":"#N/A"},{"$error":"#N/A"},{"$f":"IF(ISBLANK(C53),0,VLOOKUP(C53,LUTs!$A$6:$B$8,2))","v":{"$error":"#N/A"}},{"$f":"IF(ISBLANK(D53),0,VLOOKUP(D53,LUTs!$A$6:$B$8,2))","v":{"$error":"#N/A"}}]
[{"$f":"IF(ISBLANK(Responses!A54), \"\", Responses!A54)","v":""},{"$f":"IF(ISBLANK(Responses!B54), \"\", Responses!B54)","v":""},{"$f":"IF(ISBLANK(Responses!AV54), \"\", Responses!AV54)","v":""},{"$f":"IF(ISBLANK(Responses!AW54), \"\", Responses!AW54)","v":""},{"$error":"#N/A"},{"$error":"#N/A"},{"$f":"IF(ISBLANK(C54),0,VLOOKUP(C54,LUTs!$A$6:$B$8,2))","v":{"$error":"#N/A"}},{"$f":"IF(ISBLANK(D54),0,VLOOKUP(D54,LUTs!$A$6:$B$8,2))","v":{"$error":"#N/A"}}]
[{"$f":"IF(ISBLANK(Responses!A55), \"\", Responses!A55)","v":""},{"$f":"IF(ISBLANK(Responses!B55), \"\", Responses!B55)","v":""},{"$f":"IF(ISBLANK(Responses!AV55), \"\", Responses!AV55)","v":""},{"$f":"IF(ISBLANK(Responses!AW55), \"\", Responses!AW55)","v":""},{"$error":"#N/A"},{"$error":"#N/A"},{"$f":"IF(ISBLANK(C55),0,VLOOKUP(C55,LUTs!$A$6:$B$8,2))","v":{"$error":"#N/A"}},{"$f":"IF(ISBLANK(D55),0,VLOOKUP(D55,LUTs!$A$6:$B$8,2))","v":{"$error":"#N/A"}}]
[{"$f":"IF(ISBLANK(Responses!A56), \"\", Responses!A56)","v":""},{"$f":"IF(ISBLANK(Responses!B56), \"\", Responses!B56)","v":""},{"$f":"IF(ISBLANK(Responses!AV56), \"\", Responses!AV56)","v":""},{"$f":"IF(ISBLANK(Responses!AW56), \"\", Responses!AW56)","v":""},{"$error":"#N/A"},{"$error":"#N/A"},{"$f":"IF(ISBLANK(C56),0,VLOOKUP(C56,LUTs!$A$6:$B$8,2))","v":{"$error":"#N/A"}},{"$f":"IF(ISBLANK(D56),0,VLOOKUP(D56,LUTs!$A$6:$B$8,2))","v":{"$error":"#N/A"}}]
[{"$f":"IF(ISBLANK(Responses!A57), \"\", Responses!A57)","v":""},{"$f":"IF(ISBLANK(Responses!B57), \"\", Responses!B57)","v":""},{"$f":"IF(ISBLANK(Responses!AV57), \"\", Responses!AV57)","v":""},{"$f":"IF(ISBLANK(Responses!AW57), \"\", Responses!AW57)","v":""},{"$error":"#N/A"},{"$error":"#N/A"},{"$f":"IF(ISBLANK(C57),0,VLOOKUP(C57,LUTs!$A$6:$B$8,2))","v":{"$error":"#N/A"}},{"$f":"IF(ISBLANK(D57),0,VLOOKUP(D57,LUTs!$A$6:$B$8,2))","v":{"$error":"#N/A"}}]
[{"$f":"IF(ISBLANK(Responses!A58), \"\", Responses!A58)","v":""},{"$f":"IF(ISBLANK(Responses!B58), \"\", Responses!B58)","v":""},{"$f":"IF(ISBLANK(Responses!AV58), \"\", Responses!AV58)","v":""},{"$f":"IF(ISBLANK(Responses!AW58), \"\", Responses!AW58)","v":""},{"$error":"#N/A"},{"$error":"#N/A"},{"$f":"IF(ISBLANK(C58),0,VLOOKUP(C58,LUTs!$A$6:$B$8,2))","v":{"$error":"#N/A"}},{"$f":"IF(ISBLANK(D58),0,VLOOKUP(D58,LUTs!$A$6:$B$8,2))","v":{"$error":"#N/A"}}]
[{"$f":"IF(ISBLANK(Responses!A59), \"\", Responses!A59)","v":""},{"$f":"IF(ISBLANK(Responses!B59), \"\", Responses!B59)","v":""},{"$f":"IF(ISBLANK(Responses!AV59), \"\", Responses!AV59)","v":""},{"$f":"IF(ISBLANK(Responses!AW59), \"\", Responses!AW59)","v":""},{"$error":"#N/A"},{"$error":"#N/A"},{"$f":"IF(ISBLANK(C59),0,VLOOKUP(C59,LUTs!$A$6:$B$8,2))","v":{"$error":"#N/A"}},{"$f":"IF(ISBLANK(D59),0,VLOOKUP(D59,LUTs!$A$6:$B$8,2))","v":{"$error":"#N/A"}}]
[{"$f":"IF(ISBLANK(Responses!A60), \"\", Responses!A60)","v":""},{"$f":"IF(ISBLANK(Responses!B60), \"\", Responses!B60)","v":""},{"$f":"IF(ISBLANK(Responses!AV60), \"\", Responses!AV60)","v":""},{"$f":"IF(ISBLANK(Responses!AW60), \"\", Responses!AW60)","v":""},{"$error":"#N/A"},{"$error":"#N/A"},{"$f":"IF(ISBLANK(C60),0,VLOOKUP(C60,LUTs!$A$6:$B$8,2))","v":{"$error":"#N/A"}},{"$f":"IF(ISBLANK(D60),0,VLOOKUP(D60,LUTs!$A$6:$B$8,2))","v":{"$error":"#N/A"}}]
[{"$f":"IF(ISBLANK(Responses!A61), \"\", Responses!A61)","v":""},{"$f":"IF(ISBLANK(Responses!B61), \"\", Responses!B61)","v":""},{"$f":"IF(ISBLANK(Responses!AV61), \"\", Responses!AV61)","v":""},{"$f":"IF(ISBLANK(Responses!AW61), \"\", Responses!AW61)","v":""},{"$error":"#N/A"},{"$error":"#N/A"},{"$f":"IF(ISBLANK(C61),0,VLOOKUP(C61,LUTs!$A$6:$B$8,2))","v":{"$error":"#N/A"}},{"$f":"IF(ISBLANK(D61),0,VLOOKUP(D61,LUTs!$A$6:$B$8,2))","v":{"$error":"#N/A"}}]
[{"$f":"IF(ISBLANK(Responses!A62), \"\", Responses!A62)","v":""},{"$f":"IF(ISBLANK(Responses!B62), \"\", Responses!B62)","v":""},{"$f":"IF(ISBLANK(Responses!AV62), \"\", Responses!AV62)","v":""},{"$f":"IF(ISBLANK(Responses!AW62), \"\", Responses!AW62)","v":""},{"$error":"#N/A"},{"$error":"#N/A"},{"$f":"IF(ISBLANK(C62),0,VLOOKUP(C62,LUTs!$A$6:$B$8,2))","v":{"$error":"#N/A"}},{"$f":"IF(ISBLANK(D62),0,VLOOKUP(D62,LUTs!$A$6:$B$8,2))","v":{"$error":"#N/A"}}]
[{"$f":"IF(ISBLANK(Responses!A63), \"\", Responses!A63)","v":""},{"$f":"IF(ISBLANK(Responses!B63), \"\", Responses!B63)","v":""},{"$f":"IF(ISBLANK(Responses!AV63), \"\", Responses!AV63)","v":""},{"$f":"IF(ISBLANK(Responses!AW63), \"\", Responses!AW63)","v":""},{"$error":"#N/A"},{"$error":"#N/A"},{"$f":"IF(ISBLANK(C63),0,VLOOKUP(C63,LUTs!$A$6:$B$8,2))","v":{"$error":"#N/A"}},{"$f":"IF(ISBLANK(D63),0,VLOOKUP(D63,LUTs!$A$6:$B$8,2))","v":{"$error":"#N/A"}}]
[{"$f":"IF(ISBLANK(Responses!A64), \"\", Responses!A64)","v":""},{"$f":"IF(ISBLANK(Responses!B64), \"\", Responses!B64)","v":""},{"$f":"IF(ISBLANK(Responses!AV64), \"\", Responses!AV64)","v":""},{"$f":"IF(ISBLANK(Responses!AW64), \"\", Responses!AW64)","v":""},{"$error":"#N/A"},{"$error":"#N/A"},{"$f":"IF(ISBLANK(C64),0,VLOOKUP(C64,LUTs!$A$6:$B$8,2))","v":{"$error":"#N/A"}},{"$f":"IF(ISBLANK(D64),0,VLOOKUP(D64,LUTs!$A$6:$B$8,2))","v":{"$error":"#N/A"}}]
[{"$f":"IF(ISBLANK(Responses!A65), \"\", Responses!A65)","v":""},{"$f":"IF(ISBLANK(Responses!B65), \"\", Responses!B65)","v":""},{"$f":"IF(ISBLANK(Responses!AV65), \"\", Responses!AV65)","v":""},{"$f":"IF(ISBLANK(Responses!AW65), \"\", Responses!AW65)","v":""},{"$error":"#N/A"},{"$error":"#N/A"},{"$f":"IF(ISBLANK(C65),0,VLOOKUP(C65,LUTs!$A$6:$B$8,2))","v":{"$error":"#N/A"}},{"$f":"IF(ISBLANK(D65),0,VLOOKUP(D65,LUTs!$A$6:$B$8,2))","v":{"$error":"#N/A"}}]
[{"$f":"IF(ISBLANK(Responses!A66), \"\", Responses!A66)","v":""},{"$f":"IF(ISBLANK(Responses!B66), \"\", Responses!B66)","v":""},{"$f":"IF(ISBLANK(Responses!AV66), \"\", Responses!AV66)","v":""},{"$f":"IF(ISBLANK(Responses!AW66), \"\", Responses!AW66)","v":""},{"$error":"#N/A"},{"$error":"#N/A"},{"$f":"IF(ISBLANK(C66),0,VLOOKUP(C66,LUTs!$A$6:$B$8,2))","v":{"$error":"#N/A"}},{"$f":"IF(ISBLANK(D66),0,VLOOKUP(D66,LUTs!$A$6:$B$8,2))","v":{"$error":"#N/A"}}]
[{"$f":"IF(ISBLANK(Responses!A67), \"\", Responses!A67)","v":""},{"$f":"IF(ISBLANK(Responses!B67), \"\", Responses!B67)","v":""},{"$f":"IF(ISBLANK(Responses!AV67), \"\", Responses!AV67)","v":""},{"$f":"IF(ISBLANK(Responses!AW67), \"\", Responses!AW67)","v":""},{"$error":"#N/A"},{"$error":"#N/A"},{"$f":"IF(ISBLANK(C67),0,VLOOKUP(C67,LUTs!$A$6:$B$8,2))","v":{"$error":"#N/A"}},{"$f":"IF(ISBLANK(D67),0,VLOOKUP(D67,LUTs!$A$6:$B$8,2))","v":{"$error":"#N/A"}}]
[{"$f":"IF(ISBLANK(Responses!A68), \"\", Responses!A68)","v":""},{"$f":"IF(ISBLANK(Responses!B68), \"\", Responses!B68)","v":""},{"$f":"IF(ISBLANK(Responses!AV68), \"\", Responses!AV68)","v":""},{"$f":"IF(ISBLANK(Responses!AW68), \"\", Responses!AW68)","v":""},{"$error":"#N/A"},{"$error":"#N/A"},{"$f":"IF(ISBLANK(C68),0,VLOOKUP(C68,LUTs!$A$6:$B$8,2))","v":{"$error":"#N/A"}},{"$f":"IF(ISBLANK(D68),0,VLOOKUP(D68,LUTs!$A$6:$B$8,2))","v":{"$error":"#N/A"}}]
[{"$f":"IF(ISBLANK(Responses!A69), \"\", Responses!A69)","v":""},{"$f":"IF(ISBLANK(Responses!B69), \"\", Responses!B69)","v":""},{"$f":"IF(ISBLANK(Responses!AV69), \"\", Responses!AV69)","v":""},{"$f":"IF(ISBLANK(Responses!AW69), \"\", Responses!AW69)","v":""},{"$error":"#N/A"},{"$error":"#N/A"},{"$f":"IF(ISBLANK(C69),0,VLOOKUP(C69,LUTs!$A$6:$B$8,2))","v":{"$error":"#N/A"}},{"$f":"IF(ISBLANK(D69),0,VLOOKUP(D69,LUTs!$A$6:$B$8,2))","v":{"$error":"#N/A"}}]
[{"$f":"IF(ISBLANK(Responses!A70), \"\", Responses!A70)","v":""},{"$f":"IF(ISBLANK(Responses!B70), \"\", Responses!B70)","v":""},{"$f":"IF(ISBLANK(Responses!AV70), \"\", Responses!AV70)","v":""},{"$f":"IF(ISBLANK(Responses!AW70), \"\", Responses!AW70)","v":""},{"$error":"#N/A"},{"$error":"#N/A"},{"$f":"IF(ISBLANK(C70),0,VLOOKUP(C70,LUTs!$A$6:$B$8,2))","v":{"$error":"#N/A"}},{"$f":"IF(ISBLANK(D70),0,VLOOKUP(D70,LUTs!$A$6:$B$8,2))","v":{"$error":"#N/A"}}]
[{"$f":"IF(ISBLANK(Responses!A71), \"\", Responses!A71)","v":""},{"$f":"IF(ISBLANK(Responses!B71), \"\", Responses!B71)","v":""},{"$f":"IF(ISBLANK(Responses!AV71), \"\", Responses!AV71)","v":""},{"$f":"IF(ISBLANK(Responses!AW71), \"\", Responses!AW71)","v":""},{"$error":"#N/A"},{"$error":"#N/A"},{"$f":"IF(ISBLANK(C71),0,VLOOKUP(C71,LUTs!$A$6:$B$8,2))","v":{"$error":"#N/A"}},{"$f":"IF(ISBLANK(D71),0,VLOOKUP(D71,LUTs!$A$6:$B$8,2))","v":{"$error":"#N/A"}}]
[{"$f":"IF(ISBLANK(Responses!A72), \"\", Responses!A72)","v":""},{"$f":"IF(ISBLANK(Responses!B72), \"\", Responses!B72)","v":""},{"$f":"IF(ISBLANK(Responses!AV72), \"\", Responses!AV72)","v":""},{"$f":"IF(ISBLANK(Responses!AW72), \"\", Responses!AW72)","v":""},{"$error":"#N/A"},{"$error":"#N/A"},{"$f":"IF(ISBLANK(C72),0,VLOOKUP(C72,LUTs!$A$6:$B$8,2))","v":{"$error":"#N/A"}},{"$f":"IF(ISBLANK(D72),0,VLOOKUP(D72,LUTs!$A$6:$B$8,2))","v":{"$error":"#N/A"}}]
[{"$f":"IF(ISBLANK(Responses!A73), \"\", Responses!A73)","v":""},{"$f":"IF(ISBLANK(Responses!B73), \"\", Responses!B73)","v":""},{"$f":"IF(ISBLANK(Responses!AV73), \"\", Responses!AV73)","v":""},{"$f":"IF(ISBLANK(Responses!AW73), \"\", Responses!AW73)","v":""},{"$error":"#N/A"},{"$error":"#N/A"},{"$f":"IF(ISBLANK(C73),0,VLOOKUP(C73,LUTs!$A$6:$B$8,2))","v":{"$error":"#N/A"}},{"$f":"IF(ISBLANK(D73),0,VLOOKUP(D73,LUTs!$A$6:$B$8,2))","v":{"$error":"#N/A"}}]
[{"$f":"IF(ISBLANK(Responses!A74), \"\", Responses!A74)","v":""},{"$f":"IF(ISBLANK(Responses!B74), \"\", Responses!B74)","v":""},{"$f":"IF(ISBLANK(Responses!AV74), \"\", Responses!AV74)","v":""},{"$f":"IF(ISBLANK(Responses!AW74), \"\", Responses!AW74)","v":""},{"$error":"#N/A"},{"$error":"#N/A"},{"$f":"IF(ISBLANK(C74),0,VLOOKUP(C74,LUTs!$A$6:$B$8,2))","v":{"$error":"#N/A"}},{"$f":"IF(ISBLANK(D74),0,VLOOKUP(D74,LUTs!$A$6:$B$8,2))","v":{"$error":"#N/A"}}]
[{"$f":"IF(ISBLANK(Responses!A75), \"\", Responses!A75)","v":""},{"$f":"IF(ISBLANK(Responses!B75), \"\", Responses!B75)","v":""},{"$f":"IF(ISBLANK(Responses!AV75), \"\", Responses!AV75)","v":""},{"$f":"IF(ISBLANK(Responses!AW75), \"\", Responses!AW75)","v":""},{"$error":"#N/A"},{"$error":"#N/A"},{"$f":"IF(ISBLANK(C75),0,VLOOKUP(C75,LUTs!$A$6:$B$8,2))","v":{"$error":"#N/A"}},{"$f":"IF(ISBLANK(D75),0,VLOOKUP(D75,LUTs!$A$6:$B$8,2))","v":{"$error":"#N/A"}}]
[{"$f":"IF(ISBLANK(Responses!A76), \"\", Responses!A76)","v":""},{"$f":"IF(ISBLANK(Responses!B76), \"\", Responses!B76)","v":""},{"$f":"IF(ISBLANK(Responses!AV76), \"\", Responses!AV76)","v":""},{"$f":"IF(ISBLANK(Responses!AW76), \"\", Responses!AW76)","v":""},{"$error":"#N/A"},{"$error":"#N/A"},{"$f":"IF(ISBLANK(C76),0,VLOOKUP(C76,LUTs!$A$6:$B$8,2))","v":{"$error":"#N/A"}},{"$f":"IF(ISBLANK(D76),0,VLOOKUP(D76,LUTs!$A$6:$B$8,2))","v":{"$error":"#N/A"}}]
[{"$f":"IF(ISBLANK(Responses!A77), \"\", Responses!A77)","v":""},{"$f":"IF(ISBLANK(Responses!B77), \"\", Responses!B77)","v":""},{"$f":"IF(ISBLANK(Responses!AV77), \"\", Responses!AV77)","v":""},{"$f":"IF(ISBLANK(Responses!AW77), \"\", Responses!AW77)","v":""},{"$error":"#N/A"},{"$error":"#N/A"},{"$f":"IF(ISBLANK(C77),0,VLOOKUP(C77,LUTs!$A$6:$B$8,2))","v":{"$error":"#N/A"}},{"$f":"IF(ISBLANK(D77),0,VLOOKUP(D77,LUTs!$A$6:$B$8,2))","v":{"$error":"#N/A"}}]
[{"$f":"IF(ISBLANK(Responses!A78), \"\", Responses!A78)","v":""},{"$f":"IF(ISBLANK(Responses!B78), \"\", Responses!B78)","v":""},{"$f":"IF(ISBLANK(Responses!AV78), \"\", Responses!AV78)","v":""},{"$f":"IF(ISBLANK(Responses!AW78), \"\", Responses!AW78)","v":""},{"$error":"#N/A"},{"$error":"#N/A"},{"$f":"IF(ISBLANK(C78),0,VLOOKUP(C78,LUTs!$A$6:$B$8,2))","v":{"$error":"#N/A"}},{"$f":"IF(ISBLANK(D78),0,VLOOKUP(D78,LUTs!$A$6:$B$8,2))","v":{"$error":"#N/A"}}]
[{"$f":"IF(ISBLANK(Responses!A79), \"\", Responses!A79)","v":""},{"$f":"IF(ISBLANK(Responses!B79), \"\", Responses!B79)","v":""},{"$f":"IF(ISBLANK(Responses!AV79), \"\", Responses!AV79)","v":""},{"$f":"IF(ISBLANK(Responses!AW79), \"\", Responses!AW79)","v":""},{"$error":"#N/A"},{"$error":"#N/A"},{"$f":"IF(ISBLANK(C79),0,VLOOKUP(C79,LUTs!$A$6:$B$8,2))","v":{"$error":"#N/A"}},{"$f":"IF(ISBLANK(D79),0,VLOOKUP(D79,LUTs!$A$6:$B$8,2))","v":{"$error":"#N/A"}}]
[{"$f":"IF(ISBLANK(Responses!A80), \"\", Responses!A80)","v":""},{"$f":"IF(ISBLANK(Responses!B80), \"\", Responses!B80)","v":""},{"$f":"IF(ISBLANK(Responses!AV80), \"\", Responses!AV80)","v":""},{"$f":"IF(ISBLANK(Responses!AW80), \"\", Responses!AW80)","v":""},{"$error":"#N/A"},{"$error":"#N/A"},{"$f":"IF(ISBLANK(C80),0,VLOOKUP(C80,LUTs!$A$6:$B$8,2))","v":{"$error":"#N/A"}},{"$f":"IF(ISBLANK(D80),0,VLOOKUP(D80,LUTs!$A$6:$B$8,2))","v":{"$error":"#N/A"}}]
[{"$f":"IF(ISBLANK(Responses!A81), \"\", Responses!A81)","v":""},{"$f":"IF(ISBLANK(Responses!B81), \"\", Responses!B81)","v":""},{"$f":"IF(ISBLANK(Responses!AV81), \"\", Responses!AV81)","v":""},{"$f":"IF(ISBLANK(Responses!AW81), \"\", Responses!AW81)","v":""},{"$error":"#N/A"},{"$error":"#N/A"},{"$f":"IF(ISBLANK(C81),0,VLOOKUP(C81,LUTs!$A$6:$B$8,2))","v":{"$error":"#N/A"}},{"$f":"IF(ISBLANK(D81),0,VLOOKUP(D81,LUTs!$A$6:$B$8,2))","v":{"$error":"#N/A"}}]
[{"$f":"IF(ISBLANK(Responses!A82), \"\", Responses!A82)","v":""},{"$f":"IF(ISBLANK(Responses!B82), \"\", Responses!B82)","v":""},{"$f":"IF(ISBLANK(Responses!AV82), \"\", Responses!AV82)","v":""},{"$f":"IF(ISBLANK(Responses!AW82), \"\", Responses!AW82)","v":""},{"$error":"#N/A"},{"$error":"#N/A"},{"$f":"IF(ISBLANK(C82),0,VLOOKUP(C82,LUTs!$A$6:$B$8,2))","v":{"$error":"#N/A"}},{"$f":"IF(ISBLANK(D82),0,VLOOKUP(D82,LUTs!$A$6:$B$8,2))","v":{"$error":"#N/A"}}]
[{"$f":"IF(ISBLANK(Responses!A83), \"\", Responses!A83)","v":""},{"$f":"IF(ISBLANK(Responses!B83), \"\", Responses!B83)","v":""},{"$f":"IF(ISBLANK(Responses!AV83), \"\", Responses!AV83)","v":""},{"$f":"IF(ISBLANK(Responses!AW83), \"\", Responses!AW83)","v":""},{"$error":"#N/A"},{"$error":"#N/A"},{"$f":"IF(ISBLANK(C83),0,VLOOKUP(C83,LUTs!$A$6:$B$8,2))","v":{"$error":"#N/A"}},{"$f":"IF(ISBLANK(D83),0,VLOOKUP(D83,LUTs!$A$6:$B$8,2))","v":{"$error":"#N/A"}}]
[{"$f":"IF(ISBLANK(Responses!A84), \"\", Responses!A84)","v":""},{"$f":"IF(ISBLANK(Responses!B84), \"\", Responses!B84)","v":""},{"$f":"IF(ISBLANK(Responses!AV84), \"\", Responses!AV84)","v":""},{"$f":"IF(ISBLANK(Responses!AW84), \"\", Responses!AW84)","v":""},{"$error":"#N/A"},{"$error":"#N/A"},{"$f":"IF(ISBLANK(C84),0,VLOOKUP(C84,LUTs!$A$6:$B$8,2))","v":{"$error":"#N/A"}},{"$f":"IF(ISBLANK(D84),0,VLOOKUP(D84,LUTs!$A$6:$B$8,2))","v":{"$error":"#N/A"}}]
[{"$f":"IF(ISBLANK(Responses!A85), \"\", Responses!A85)","v":""},{"$f":"IF(ISBLANK(Responses!B85), \"\", Responses!B85)","v":""},{"$f":"IF(ISBLANK(Responses!AV85), \"\", Responses!AV85)","v":""},{"$f":"IF(ISBLANK(Responses!AW85), \"\", Responses!AW85)","v":""},{"$error":"#N/A"},{"$error":"#N/A"},{"$f":"IF(ISBLANK(C85),0,VLOOKUP(C85,LUTs!$A$6:$B$8,2))","v":{"$error":"#N/A"}},{"$f":"IF(ISBLANK(D85),0,VLOOKUP(D85,LUTs!$A$6:$B$8,2))","v":{"$error":"#N/A"}}]
[{"$f":"IF(ISBLANK(Responses!A86), \"\", Responses!A86)","v":""},{"$f":"IF(ISBLANK(Responses!B86), \"\", Responses!B86)","v":""},{"$f":"IF(ISBLANK(Responses!AV86), \"\", Responses!AV86)","v":""},{"$f":"IF(ISBLANK(Responses!AW86), \"\", Responses!AW86)","v":""},{"$error":"#N/A"},{"$error":"#N/A"},{"$f":"IF(ISBLANK(C86),0,VLOOKUP(C86,LUTs!$A$6:$B$8,2))","v":{"$error":"#N/A"}},{"$f":"IF(ISBLANK(D86),0,VLOOKUP(D86,LUTs!$A$6:$B$8,2))","v":{"$error":"#N/A"}}]
[{"$f":"IF(ISBLANK(Responses!A87), \"\", Responses!A87)","v":""},{"$f":"IF(ISBLANK(Responses!B87), \"\", Responses!B87)","v":""},{"$f":"IF(ISBLANK(Responses!AV87), \"\", Responses!AV87)","v":""},{"$f":"IF(ISBLANK(Responses!AW87), \"\", Responses!AW87)","v":""},{"$error":"#N/A"},{"$error":"#N/A"},{"$f":"IF(ISBLANK(C87),0,VLOOKUP(C87,LUTs!$A$6:$B$8,2))","v":{"$error":"#N/A"}},{"$f":"IF(ISBLANK(D87),0,VLOOKUP(D87,LUTs!$A$6:$B$8,2))","v":{"$error":"#N/A"}}]
[{"$f":"IF(ISBLANK(Responses!A88), \"\", Responses!A88)","v":""},{"$f":"IF(ISBLANK(Responses!B88), \"\", Responses!B88)","v":""},{"$f":"IF(ISBLANK(Responses!AV88), \"\", Responses!AV88)","v":""},{"$f":"IF(ISBLANK(Responses!AW88), \"\", Responses!AW88)","v":""},{"$error":"#N/A"},{"$error":"#N/A"},{"$f":"IF(ISBLANK(C88),0,VLOOKUP(C88,LUTs!$A$6:$B$8,2))","v":{"$error":"#N/A"}},{"$f":"IF(ISBLANK(D88),0,VLOOKUP(D88,LUTs!$A$6:$B$8,2))","v":{"$error":"#N/A"}}]
[{"$f":"IF(ISBLANK(Responses!A89), \"\", Responses!A89)","v":""},{"$f":"IF(ISBLANK(Responses!B89), \"\", Responses!B89)","v":""},{"$f":"IF(ISBLANK(Responses!AV89), \"\", Responses!AV89)","v":""},{"$f":"IF(ISBLANK(Responses!AW89), \"\", Responses!AW89)","v":""},{"$error":"#N/A"},{"$error":"#N/A"},{"$f":"IF(ISBLANK(C89),0,VLOOKUP(C89,LUTs!$A$6:$B$8,2))","v":{"$error":"#N/A"}},{"$f":"IF(ISBLANK(D89),0,VLOOKUP(D89,LUTs!$A$6:$B$8,2))","v":{"$error":"#N/A"}}]
[{"$f":"IF(ISBLANK(Responses!A90), \"\", Responses!A90)","v":""},{"$f":"IF(ISBLANK(Responses!B90), \"\", Responses!B90)","v":""},{"$f":"IF(ISBLANK(Responses!AV90), \"\", Responses!AV90)","v":""},{"$f":"IF(ISBLANK(Responses!AW90), \"\", Responses!AW90)","v":""},{"$error":"#N/A"},{"$error":"#N/A"},{"$f":"IF(ISBLANK(C90),0,VLOOKUP(C90,LUTs!$A$6:$B$8,2))","v":{"$error":"#N/A"}},{"$f":"IF(ISBLANK(D90),0,VLOOKUP(D90,LUTs!$A$6:$B$8,2))","v":{"$error":"#N/A"}}]
[{"$f":"IF(ISBLANK(Responses!A91), \"\", Responses!A91)","v":""},{"$f":"IF(ISBLANK(Responses!B91), \"\", Responses!B91)","v":""},{"$f":"IF(ISBLANK(Responses!AV91), \"\", Responses!AV91)","v":""},{"$f":"IF(ISBLANK(Responses!AW91), \"\", Responses!AW91)","v":""},{"$error":"#N/A"},{"$error":"#N/A"},{"$f":"IF(ISBLANK(C91),0,VLOOKUP(C91,LUTs!$A$6:$B$8,2))","v":{"$error":"#N/A"}},{"$f":"IF(ISBLANK(D91),0,VLOOKUP(D91,LUTs!$A$6:$B$8,2))","v":{"$error":"#N/A"}}]
[{"$f":"IF(ISBLANK(Responses!A92), \"\", Responses!A92)","v":""},{"$f":"IF(ISBLANK(Responses!B92), \"\", Responses!B92)","v":""},{"$f":"IF(ISBLANK(Responses!AV92), \"\", Responses!AV92)","v":""},{"$f":"IF(ISBLANK(Responses!AW92), \"\", Responses!AW92)","v":""},{"$error":"#N/A"},{"$error":"#N/A"},{"$f":"IF(ISBLANK(C92),0,VLOOKUP(C92,LUTs!$A$6:$B$8,2))","v":{"$error":"#N/A"}},{"$f":"IF(ISBLANK(D92),0,VLOOKUP(D92,LUTs!$A$6:$B$8,2))","v":{"$error":"#N/A"}}]
[{"$f":"IF(ISBLANK(Responses!A93), \"\", Responses!A93)","v":""},{"$f":"IF(ISBLANK(Responses!B93), \"\", Responses!B93)","v":""},{"$f":"IF(ISBLANK(Responses!AV93), \"\", Responses!AV93)","v":""},{"$f":"IF(ISBLANK(Responses!AW93), \"\", Responses!AW93)","v":""},{"$error":"#N/A"},{"$error":"#N/A"},{"$f":"IF(ISBLANK(C93),0,VLOOKUP(C93,LUTs!$A$6:$B$8,2))","v":{"$error":"#N/A"}},{"$f":"IF(ISBLANK(D93),0,VLOOKUP(D93,LUTs!$A$6:$B$8,2))","v":{"$error":"#N/A"}}]
[{"$f":"IF(ISBLANK(Responses!A94), \"\", Responses!A94)","v":""},{"$f":"IF(ISBLANK(Responses!B94), \"\", Responses!B94)","v":""},{"$f":"IF(ISBLANK(Responses!AV94), \"\", Responses!AV94)","v":""},{"$f":"IF(ISBLANK(Responses!AW94), \"\", Responses!AW94)","v":""},{"$error":"#N/A"},{"$error":"#N/A"},{"$f":"IF(ISBLANK(C94),0,VLOOKUP(C94,LUTs!$A$6:$B$8,2))","v":{"$error":"#N/A"}},{"$f":"IF(ISBLANK(D94),0,VLOOKUP(D94,LUTs!$A$6:$B$8,2))","v":{"$error":"#N/A"}}]
[{"$f":"IF(ISBLANK(Responses!A95), \"\", Responses!A95)","v":""},{"$f":"IF(ISBLANK(Responses!B95), \"\", Responses!B95)","v":""},{"$f":"IF(ISBLANK(Responses!AV95), \"\", Responses!AV95)","v":""},{"$f":"IF(ISBLANK(Responses!AW95), \"\", Responses!AW95)","v":""},{"$error":"#N/A"},{"$error":"#N/A"},{"$f":"IF(ISBLANK(C95),0,VLOOKUP(C95,LUTs!$A$6:$B$8,2))","v":{"$error":"#N/A"}},{"$f":"IF(ISBLANK(D95),0,VLOOKUP(D95,LUTs!$A$6:$B$8,2))","v":{"$error":"#N/A"}}]
[{"$f":"IF(ISBLANK(Responses!A96), \"\", Responses!A96)","v":""},{"$f":"IF(ISBLANK(Responses!B96), \"\", Responses!B96)","v":""},{"$f":"IF(ISBLANK(Responses!AV96), \"\", Responses!AV96)","v":""},{"$f":"IF(ISBLANK(Responses!AW96), \"\", Responses!AW96)","v":""},{"$error":"#N/A"},{"$error":"#N/A"},{"$f":"IF(ISBLANK(C96),0,VLOOKUP(C96,LUTs!$A$6:$B$8,2))","v":{"$error":"#N/A"}},{"$f":"IF(ISBLANK(D96),0,VLOOKUP(D96,LUTs!$A$6:$B$8,2))","v":{"$error":"#N/A"}}]
[{"$f":"IF(ISBLANK(Responses!A97), \"\", Responses!A97)","v":""},{"$f":"IF(ISBLANK(Responses!B97), \"\", Responses!B97)","v":""},{"$f":"IF(ISBLANK(Responses!AV97), \"\", Responses!AV97)","v":""},{"$f":"IF(ISBLANK(Responses!AW97), \"\", Responses!AW97)","v":""},{"$error":"#N/A"},{"$error":"#N/A"},{"$f":"IF(ISBLANK(C97),0,VLOOKUP(C97,LUTs!$A$6:$B$8,2))","v":{"$error":"#N/A"}},{"$f":"IF(ISBLANK(D97),0,VLOOKUP(D97,LUTs!$A$6:$B$8,2))","v":{"$error":"#N/A"}}]
[{"$f":"IF(ISBLANK(Responses!A98), \"\", Responses!A98)","v":""},{"$f":"IF(ISBLANK(Responses!B98), \"\", Responses!B98)","v":""},{"$f":"IF(ISBLANK(Responses!AV98), \"\", Responses!AV98)","v":""},{"$f":"IF(ISBLANK(Responses!AW98), \"\", Responses!AW98)","v":""},{"$error":"#N/A"},{"$error":"#N/A"},{"$f":"IF(ISBLANK(C98),0,VLOOKUP(C98,LUTs!$A$6:$B$8,2))","v":{"$error":"#N/A"}},{"$f":"IF(ISBLANK(D98),0,VLOOKUP(D98,LUTs!$A$6:$B$8,2))","v":{"$error":"#N/A"}}]
[{"$f":"IF(ISBLANK(Responses!A99), \"\", Responses!A99)","v":""},{"$f":"IF(ISBLANK(Responses!B99), \"\", Responses!B99)","v":""},{"$f":"IF(ISBLANK(Responses!AV99), \"\", Responses!AV99)","v":""},{"$f":"IF(ISBLANK(Responses!AW99), \"\", Responses!AW99)","v":""},{"$error":"#N/A"},{"$error":"#N/A"},{"$f":"IF(ISBLANK(C99),0,VLOOKUP(C99,LUTs!$A$6:$B$8,2))","v":{"$error":"#N/A"}},{"$f":"IF(ISBLANK(D99),0,VLOOKUP(D99,LUTs!$A$6:$B$8,2))","v":{"$error":"#N/A"}}]
[{"$f":"IF(ISBLANK(Responses!A100), \"\", Responses!A100)","v":""},{"$f":"IF(ISBLANK(Responses!B100), \"\", Responses!B100)","v":""},{"$f":"IF(ISBLANK(Responses!AV100), \"\", Responses!AV100)","v":""},{"$f":"IF(ISBLANK(Responses!AW100), \"\", Responses!AW100)","v":""},{"$error":"#N/A"},{"$error":"#N/A"},{"$f":"IF(ISBLANK(C100),0,VLOOKUP(C100,LUTs!$A$6:$B$8,2))","v":{"$error":"#N/A"}},{"$f":"IF(ISBLANK(D100),0,VLOOKUP(D100,LUTs!$A$6:$B$8,2))","v":{"$error":"#N/A"}}]
[{"$f":"IF(ISBLANK(Responses!A101), \"\", Responses!A101)","v":""},{"$f":"IF(ISBLANK(Responses!B101), \"\", Responses!B101)","v":""},{"$f":"IF(ISBLANK(Responses!AV101), \"\", Responses!AV101)","v":""},{"$f":"IF(ISBLANK(Responses!AW101), \"\", Responses!AW101)","v":""},{"$error":"#N/A"},{"$error":"#N/A"},{"$f":"IF(ISBLANK(C101),0,VLOOKUP(C101,LUTs!$A$6:$B$8,2))","v":{"$error":"#N/A"}},{"$f":"IF(ISBLANK(D101),0,VLOOKUP(D101,LUTs!$A$6:$B$8,2))","v":{"$error":"#N/A"}}]
[{"$f":"IF(ISBLANK(Responses!A102), \"\", Responses!A102)","v":""},{"$f":"IF(ISBLANK(Responses!B102), \"\", Responses!B102)","v":""},{"$f":"IF(ISBLANK(Responses!AV102), \"\", Responses!AV102)","v":""},{"$f":"IF(ISBLANK(Responses!AW102), \"\", Responses!AW102)","v":""},{"$error":"#N/A"},{"$error":"#N/A"},{"$f":"IF(ISBLANK(C102),0,VLOOKUP(C102,LUTs!$A$6:$B$8,2))","v":{"$error":"#N/A"}},{"$f":"IF(ISBLANK(D102),0,VLOOKUP(D102,LUTs!$A$6:$B$8,2))","v":{"$error":"#N/A"}}]
[{"$f":"IF(ISBLANK(Responses!A103), \"\", Responses!A103)","v":""},{"$f":"IF(ISBLANK(Responses!B103), \"\", Responses!B103)","v":""},{"$f":"IF(ISBLANK(Responses!AV103), \"\", Responses!AV103)","v":""},{"$f":"IF(ISBLANK(Responses!AW103), \"\", Responses!AW103)","v":""},{"$error":"#N/A"},{"$error":"#N/A"},{"$f":"IF(ISBLANK(C103),0,VLOOKUP(C103,LUTs!$A$6:$B$8,2))","v":{"$error":"#N/A"}},{"$f":"IF(ISBLANK(D103),0,VLOOKUP(D103,LUTs!$A$6:$B$8,2))","v":{"$error":"#N/A"}}]
[{"$f":"IF(ISBLANK(Responses!A104), \"\", Responses!A104)","v":""},{"$f":"IF(ISBLANK(Responses!B104), \"\", Responses!B104)","v":""},{"$f":"IF(ISBLANK(Responses!AV104), \"\", Responses!AV104)","v":""},{"$f":"IF(ISBLANK(Responses!AW104), \"\", Responses!AW104)","v":""},{"$error":"#N/A"},{"$error":"#N/A"},{"$f":"IF(ISBLANK(C104),0,VLOOKUP(C104,LUTs!$A$6:$B$8,2))","v":{"$error":"#N/A"}},{"$f":"IF(ISBLANK(D104),0,VLOOKUP(D104,LUTs!$A$6:$B$8,2))","v":{"$error":"#N/A"}}]
[{"$f":"IF(ISBLANK(Responses!A105), \"\", Responses!A105)","v":""},{"$f":"IF(ISBLANK(Responses!B105), \"\", Responses!B105)","v":""},{"$f":"IF(ISBLANK(Responses!AV105), \"\", Responses!AV105)","v":""},{"$f":"IF(ISBLANK(Responses!AW105), \"\", Responses!AW105)","v":""},{"$error":"#N/A"},{"$error":"#N/A"},{"$f":"IF(ISBLANK(C105),0,VLOOKUP(C105,LUTs!$A$6:$B$8,2))","v":{"$error":"#N/A"}},{"$f":"IF(ISBLANK(D105),0,VLOOKUP(D105,LUTs!$A$6:$B$8,2))","v":{"$error":"#N/A"}}]
[{"$f":"IF(ISBLANK(Responses!A106), \"\", Responses!A106)","v":""},{"$f":"IF(ISBLANK(Responses!B106), \"\", Responses!B106)","v":""},{"$f":"IF(ISBLANK(Responses!AV106), \"\", Responses!AV106)","v":""},{"$f":"IF(ISBLANK(Responses!AW106), \"\", Responses!AW106)","v":""},{"$error":"#N/A"},{"$error":"#N/A"},{"$f":"IF(ISBLANK(C106),0,VLOOKUP(C106,LUTs!$A$6:$B$8,2))","v":{"$error":"#N/A"}},{"$f":"IF(ISBLANK(D106),0,VLOOKUP(D106,LUTs!$A$6:$B$8,2))","v":{"$error":"#N/A"}}]
[{"$f":"IF(ISBLANK(Responses!A107), \"\", Responses!A107)","v":""},{"$f":"IF(ISBLANK(Responses!B107), \"\", Responses!B107)","v":""},{"$f":"IF(ISBLANK(Responses!AV107), \"\", Responses!AV107)","v":""},{"$f":"IF(ISBLANK(Responses!AW107), \"\", Responses!AW107)","v":""},{"$error":"#N/A"},{"$error":"#N/A"},{"$f":"IF(ISBLANK(C107),0,VLOOKUP(C107,LUTs!$A$6:$B$8,2))","v":{"$error":"#N/A"}},{"$f":"IF(ISBLANK(D107),0,VLOOKUP(D107,LUTs!$A$6:$B$8,2))","v":{"$error":"#N/A"}}]
[{"$f":"IF(ISBLANK(Responses!A108), \"\", Responses!A108)","v":""},{"$f":"IF(ISBLANK(Responses!B108), \"\", Responses!B108)","v":""},{"$f":"IF(ISBLANK(Responses!AV108), \"\", Responses!AV108)","v":""},{"$f":"IF(ISBLANK(Responses!AW108), \"\", Responses!AW108)","v":""},{"$error":"#N/A"},{"$error":"#N/A"},{"$f":"IF(ISBLANK(C108),0,VLOOKUP(C108,LUTs!$A$6:$B$8,2))","v":{"$error":"#N/A"}},{"$f":"IF(ISBLANK(D108),0,VLOOKUP(D108,LUTs!$A$6:$B$8,2))","v":{"$error":"#N/A"}}]
[{"$f":"IF(ISBLANK(Responses!A109), \"\", Responses!A109)","v":""},{"$f":"IF(ISBLANK(Responses!B109), \"\", Responses!B109)","v":""},{"$f":"IF(ISBLANK(Responses!AV109), \"\", Responses!AV109)","v":""},{"$f":"IF(ISBLANK(Responses!AW109), \"\", Responses!AW109)","v":""},{"$error":"#N/A"},{"$error":"#N/A"},{"$f":"IF(ISBLANK(C109),0,VLOOKUP(C109,LUTs!$A$6:$B$8,2))","v":{"$error":"#N/A"}},{"$f":"IF(ISBLANK(D109),0,VLOOKUP(D109,LUTs!$A$6:$B$8,2))","v":{"$error":"#N/A"}}]
[{"$f":"IF(ISBLANK(Responses!A110), \"\", Responses!A110)","v":""},{"$f":"IF(ISBLANK(Responses!B110), \"\", Responses!B110)","v":""},{"$f":"IF(ISBLANK(Responses!AV110), \"\", Responses!AV110)","v":""},{"$f":"IF(ISBLANK(Responses!AW110), \"\", Responses!AW110)","v":""},0]
[{"$f":"IF(ISBLANK(Responses!A111), \"\", Responses!A111)","v":""},{"$f":"IF(ISBLANK(Responses!B111), \"\", Responses!B111)","v":""},{"$f":"IF(ISBLANK(Responses!AV111), \"\", Responses!AV111)","v":""},{"$f":"IF(ISBLANK(Responses!AW111), \"\", Responses!AW111)","v":""},0]
[{"$f":"IF(ISBLANK(Responses!A112), \"\", Responses!A112)","v":""},{"$f":"IF(ISBLANK(Responses!B112), \"\", Responses!B112)","v":""},{"$f":"IF(ISBLANK(Responses!AV112), \"\", Responses!AV112)","v":""},{"$f":"IF(ISBLANK(Responses!AW112), \"\", Responses!AW112)","v":""},0]
[{"$f":"IF(ISBLANK(Responses!A113), \"\", Responses!A113)","v":""},{"$f":"IF(ISBLANK(Responses!B113), \"\", Responses!B113)","v":""},{"$f":"IF(ISBLANK(Responses!AV113), \"\", Responses!AV113)","v":""},{"$f":"IF(ISBLANK(Responses!AW113), \"\", Responses!AW113)","v":""},0]
[{"$f":"IF(ISBLANK(Responses!A114), \"\", Responses!A114)","v":""},{"$f":"IF(ISBLANK(Responses!B114), \"\", Responses!B114)","v":""},{"$f":"IF(ISBLANK(Responses!AV114), \"\", Responses!AV114)","v":""},{"$f":"IF(ISBLANK(Responses!AW114), \"\", Responses!AW114)","v":""},0]
[{"$f":"IF(ISBLANK(Responses!A115), \"\", Responses!A115)","v":""},{"$f":"IF(ISBLANK(Responses!B115), \"\", Responses!B115)","v":""},{"$f":"IF(ISBLANK(Responses!AV115), \"\", Responses!AV115)","v":""},{"$f":"IF(ISBLANK(Responses!AW115), \"\", Responses!AW115)","v":""},0]
[{"$f":"IF(ISBLANK(Responses!A116), \"\", Responses!A116)","v":""},{"$f":"IF(ISBLANK(Responses!B116), \"\", Responses!B116)","v":""},{"$f":"IF(ISBLANK(Responses!AV116), \"\", Responses!AV116)","v":""},{"$f":"IF(ISBLANK(Responses!AW116), \"\", Responses!AW116)","v":""},0]
[{"$f":"IF(ISBLANK(Responses!A117), \"\", Responses!A117)","v":""},{"$f":"IF(ISBLANK(Responses!B117), \"\", Responses!B117)","v":""},{"$f":"IF(ISBLANK(Responses!AV117), \"\", Responses!AV117)","v":""},{"$f":"IF(ISBLANK(Responses!AW117), \"\", Responses!AW117)","v":""},0]
[{"$f":"IF(ISBLANK(Responses!A118), \"\", Responses!A118)","v":""},{"$f":"IF(ISBLANK(Responses!B118), \"\", Responses!B118)","v":""},{"$f":"IF(ISBLANK(Responses!AV118), \"\", Responses!AV118)","v":""},{"$f":"IF(ISBLANK(Responses!AW118), \"\", Responses!AW118)","v":""},0]
[null,null,null,null,0]
[null,null,null,null,0]
[null,null,null,null,0]
[null,null,null,null,0]
[null,null,null,null,0]
[null,null,null,null,0]
[null,null,null,null,0]
[null,null,null,null,0]
[null,null,null,null,0]
[null,null,null,null,0]
[null,null,null,null,0]
[null,null,null,null,0]
[null,null,null,null,0]
[null,null,null,null,0]
[null,null,null,null,0]
[null,null,null,null,0]
[null,null,null,null,0]
[null,null,null,null,0]
[null,null,null,null,0]
[null,null,null,null,0]
[null,null,null,null,0]
[null,null,null,null,0]
[null,null,null,null,0]
[null,null,null,null,0]
[null,null,null,null,0]
[null,null,null,null,0]
[null,null,null,null,0]
[null,null,null,null,0]
[null,null,null,null,0]
[null,null,null,null,0]
[null,null,null,null,0]
[null,null,null,null,0]
[null,null,null,null,0]
[null,null,null,null,0]
[null,null,null,null,0]
[null,null,null,null,0]
[null,null,null,null,0]
[null,null,null,null,0]
[null,null,null,null,0]
[null,null,null,null,0]
[null,null,null,null,0]
[null,null,null,null,0]
[null,null,null,null,0]
[null,null,null,null,0]
[null,null,null,null,0]
[null,null,null,null,0]
[null,null,null,null,0]
[null,null,null,null,0]
[null,null,null,null,0]
[null,null,null,null,0]
[null,null,null,null,0]
[null,null,null,null,0]
[null,null,null,null,0]
[null,null,null,null,0]
[null,null,null,null,0]
[null,null,null,null,0]
[null,null,null,null,0]
[null,null,null,null,0]
[null,null,null,null,0]
[null,null,null,null,0]
[null,null,null,null,0]
[null,null,null,null,0]
[null,null,null,null,0]
[null,null,null,null,0]
[null,null,null,null,0]
[null,null,null,null,0]
[null,null,null,null,0]
[null,null,null,null,0]
[null,null,null,null,0]
[null,null,null,null,0]
[null,null,null,null,0]
[null,null,null,null,0]
[null,null,null,null,0]
[null,null,null,null,0]
[null,null,null,null,0]
[null,null,null,null,0]
[null,null,null,null,0]
[null,null,null,null,0]
[null,null,null,null,0]
[null,null,null,null,0]
[null,null,null,null,0]
[null,null,null,null,0]
[null,null,null,null,0]
[null,null,null,null,0]
[null,null,null,null,0]
[null,null,null,null,0]
[null,null,null,null,0]
[null,null,null,null,0]
[null,null,null,null,0]
[null,null,null,null,0]
[null,null,null,null,0]
[null,null,null,null,0]
[null,null,null,null,0]
[null,null,null,null,0]
[null,null,null,null,0]
[null,null,null,null,0]
[null,null,null,null,0]
[null,null,null,null,0]
[null,null,null,null,0]
[null,null,null,null,0]
[null,null,null,null,0]
[null,null,null,null,0]
[null,null,null,null,0]
[null,null,null,null,0]
[null,null,null,null,0]
[null,null,null,null,0]
[null,null,null,null,0]
[null,null,null,null,0]
[null,null,null,null,0]
[null,null,null,null,0]
[null,null,null,null,0]
[null,null,null,null,0]
[null,null,null,null,0]
[null,null,null,null,0]
[null,null,null,null,0]
[null,null,null,null,0]
[null,null,null,null,0]
[null,null,null,null,0]
[null,null,null,null,0]
[null,null,null,null,0]
[null,null,null,null,0]
[null,null,null,null,0]
[null,null,null,null,0]
[null,null,null,null,0]
[null,null,null,null,0]
[null,null,null,null,0]
[null,null,null,null,0]
[null,null,null,null,0]
[null,null,null,null,0]
[null,null,null,null,0]
[null,null,null,null,0]
[null,null,null,null,0]
[null,null,null,null,0]
[null,null,null,null,0]
[null,null,null,null,0]
[null,null,null,null,0]
[null,null,null,null,0]
[null,null,null,null,0]
[null,null,null,null,0]
[null,null,null,null,0]
[null,null,null,null,0]
[null,null,null,null,0]
[null,null,null,null,0]
[null,null,null,null,0]
[null,null,null,null,0]
[null,null,null,null,0]
[null,null,null,null,0]
[null,null,null,null,0]
[null,null,null,null,0]
[null,null,null,null,0]
[null,null,null,null,0]
[null,null,null,null,0]
[null,null,null,null,0]
[null,null,null,null,0]
[null,null,null,null,0]
[null,null,null,null,0]
[null,null,null,null,0]
[null,null,null,null,0]
[null,null,null,null,0]
[null,null,null,null,0]
[null,null,null,null,0]
[null,null,null,null,0]
[null,null,null,null,0]
[null,null,null,null,0]
[null,null,null,null,0]
[null,null,null,null,0]
[null,null,null,null,0]
[null,null,null,null,0]
[null,null,null,null,0]
[null,null,null,null,0]
[null,null,null,null,0]
[null,null,null,null,0]
[null,null,null,null,0]
[null,null,null,null,0]
[null,null,null,null,0]
[null,null,null,null,0]
[null,null,null,null,0]
[null,null,null,null,0]
[null,null,null,null,0]
[null,null,null,null,0]
[null,null,null,null,0]
[null,null,null,null,0]
[null,null,null,null,0]
[null,null,null,null,0]
[null,null,null,null,0]
[null,null,null,null,0]
[null,null,null,null,0]
[null,null,null,null,0]
[null,null,null,null,0]
[null,null,null,null,0]
[null,null,null,null,0]
[null,null,null,null,0]
[null,null,null,null,0]
[null,null,null,null,0]
[null,null,null,null,0]
[null,null,null,null,0]
[null,null,null,null,0]
[null,null,null,null,0]
[null,null,null,null,0]
[null,null,null,null,0]
[null,null,null,null,0]
[null,null,null,null,0]
[null,null,null,null,0]
[null,null,null,null,0]
[null,null,null,null,0]
[null,null,null,null,0]
[null,null,null,null,0]
[null,null,null,null,0]
[null,null,null,null,0]
[null,null,null,null,0]
[null,null,null,null,0]
[null,null,null,null,0]
[null,null,null,null,0]
[null,null,null,null,0]
[null,null,null,null,0]
[null,null,null,null,0]
[null,null,null,null,0]
[null,null,null,null,0]
[null,null,null,null,0]
[null,null,null,null,0]
[null,null,null,null,0]
[null,null,null,null,0]
[null,null,null,null,0]
[null,null,null,null,0]
[null,null,null,null,0]
[null,null,null,null,0]
[null,null,null,null,0]
[null,null,null,null,0]
[null,null,null,null,0]
[null,null,null,null,0]
[null,null,null,null,0]
[null,null,null,null,0]
[null,null,null,null,0]
[null,null,null,null,0]
[null,null,null,null,0]
[null,null,null,null,0]
[null,null,null,null,0]
[null,null,null,null,0]
[null,null,null,null,0]
[null,null,null,null,0]
[null,null,null,null,0]
[null,null,null,null,0]
[null,null,null,null,0]
[null,null,null,null,0]
[null,null,null,null,0]
[null,null,null,null,0]
[null,null,null,null,0]
[null,null,null,null,0]
[null,null,null,null,0]
[null,null,null,null,0]
[null,null,null,null,0]
[null,null,null,null,0]
[null,null,null,null,0]
[null,null,null,null,0]
[null,null,null,null,0]
[null,null,null,null,0]
[null,null,null,null,0]
[null,null,null,null,0]
[null,null,null,null,0]
[null,null,null,null,0]
[null,null,null,null,0]
[null,null,null,null,0]
[null,null,null,null,0]
[null,null,null,null,0]
[null,null,null,null,0]
[null,null,null,null,0]
[null,null,null,null,0]
[null,null,null,null,0]
[null,null,null,null,0]
[null,null,null,null,0]
[null,null,null,null,0]
[null,null,null,null,0]
[null,null,null,null,0]
[null,null,null,null,0]
[null,null,null,null,0]
[null,null,null,null,0]
[null,null,null,null,0]
[null,null,null,null,0]
[null,null,null,null,0]
[null,null,null,null,0]
[null,null,null,null,0]
[null,null,null,null,0]
[null,null,null,null,0]
[null,null,null,null,0]
[null,null,null,null,0]
[null,null,null,null,0]
[null,null,null,null,0]
[null,null,null,null,0]
[null,null,null,null,0]
[null,null,null,null,0]
[null,null,null,null,0]
[null,null,null,null,0]
[null,null,null,null,0]
[null,null,null,null,0]
[null,null,null,null,0]
[null,null,null,null,0]
[null,null,null,null,0]
[null,null,null,null,0]
[null,null,null,null,0]
[null,null,null,null,0]
[null,null,null,null,0]
[null,null,null,null,0]
[null,null,null,null,0]
[null,null,null,null,0]
[null,null,null,null,0]
[null,null,null,null,0]
[null,null,null,null,0]
[null,null,null,null,0]
[null,null,null,null,0]
[null,null,null,null,0]
[null,null,null,null,0]
[null,null,null,null,0]
[null,null,null,null,0]
[null,null,null,null,0]
[null,null,null,null,0]
[null,null,null,null,0]
[null,null,null,null,0]
[null,null,null,null,0]
[null,null,null,null,0]
[null,null,null,null,0]
[null,null,null,null,0]
[null,null,null,null,0]
[null,null,null,null,0]
[null,null,null,null,0]
[null,null,null,null,0]
[null,null,null,null,0]
[null,null,null,null,0]
[null,null,null,null,0]
[null,null,null,null,0]
[null,null,null,null,0]
[null,null,null,null,0]
[null,null,null,null,0]
[null,null,null,null,0]
[null,null,null,null,0]
[null,null,null,null,0]
[null,null,null,null,0]
[null,null,null,null,0]
[null,null,null,null,0]
[null,null,null,null,0]
[null,null,null,null,0]
[null,null,null,null,0]
[null,null,null,null,0]
[null,null,null,null,0]
[null,null,null,null,0]
[null,null,null,null,0]
[null,null,null,null,0]
[null,null,null,null,0]
[null,null,null,null,0]
[null,null,null,null,0]
[null,null,null,null,0]
[null,null,null,null,0]
[null,null,null,null,0]
[null,null,null,null,0]
[null,null,null,null,0]
[null,null,null,null,0]
[null,null,null,null,0]
[null,null,null,null,0]
[null,null,null,null,0]
[null,null,null,null,0]
[null,null,null,null,0]
[null,null,null,null,0]
[null,null,null,null,0]
[null,null,null,null,0]
[null,null,null,null,0]
[null,null,null,null,0]
[null,null,null,null,0]
[null,null,null,null,0]
[null,null,null,null,0]
[null,null,null,null,0]
[null,null,null,null,0]
[null,null,null,null,0]
[null,null,null,null,0]
[null,null,null,null,0]
[null,null,null,null,0]
[null,null,null,null,0]
[null,null,null,null,0]
[null,null,null,null,0]
[null,null,null,null,0]
[null,null,null,null,0]
[null,null,null,null,0]
[null,null,null,null,0]
[null,null,null,null,0]
[null,null,null,null,0]
[null,null,null,null,0]
[null,null,null,null,0]
[null,null,null,null,0]
[null,null,null,null,0]
[null,null,null,null,0]
[null,null,null,null,0]
[null,null,null,null,0]
[null,null,null,null,0]
[null,null,null,null,0]
[null,null,null,null,0]
[null,null,null,null,0]
[null,null,null,null,0]
[null,null,null,null,0]
[null,null,null,null,0]
[null,null,null,null,0]
[null,null,null,null,0]
[null,null,null,null,0]
[null,null,null,null,0]
[null,null,null,null,0]
[null,null,null,null,0]
[null,null,null,null,0]
[null,null,null,null,0]
[null,null,null,null,0]
[null,null,null,null,0]
[null,null,null,null,0]
[null,null,null,null,0]
[null,null,null,null,0]
[null,null,null,null,0]
[null,null,null,null,0]
[null,null,null,null,0]
[null,null,null,null,0]
[null,null,null,null,0]
[null,null,null,null,0]
[null,null,null,null,0]
[null,null,null,null,0]
[null,null,null,null,0]
[null,null,null,null,0]
[null,null,null,null,0]
[null,null,null,null,0]
[null,null,null,null,0]
[null,null,null,null,0]
[null,null,null,null,0]
[null,null,null,null,0]
[null,null,null,null,0]
[null,null,null,null,0]
[null,null,null,null,0]
[null,null,null,null,0]
[null,null,null,null,0]
[null,null,null,null,0]
[null,null,null,null,0]
[null,null,null,null,0]
[null,null,null,null,0]
[null,null,null,null,0]
[null,null,null,null,0]
[null,null,null,null,0]
[null,null,null,null,0]
[null,null,null,null,0]
[null,null,null,null,0]
[null,null,null,null,0]
[null,null,null,null,0]
[null,null,null,null,0]
[null,null,null,null,0]
[null,null,null,null,0]
[null,null,null,null,0]
[null,null,null,null,0]
[null,null,null,null,0]
[null,null,null,null,0]
[null,null,null,null,0]
[null,null,null,null,0]
[null,null,null,null,0]
[null,null,null,null,0]
[null,null,null,null,0]
[null,null,null,null,0]
[null,null,null,null,0]
[null,null,null,null,0]
[null,null,null,null,0]
[null,null,null,null,0]
[null,null,null,null,0]
[null,null,null,null,0]
[null,null,null,null,0]
[null,null,null,null,0]
[null,null,null,null,0]
[null,null,null,null,0]
[null,null,null,null,0]
[null,null,null,null,0]
[null,null,null,null,0]
[null,null,null,null,0]
[null,null,null,null,0]
[null,null,null,null,0]
[null,null,null,null,0]
[null,null,null,null,0]
[null,null,null,null,0]
[null,null,null,null,0]
[null,null,null,null,0]
[null,null,null,null,0]
[null,null,null,null,0]
[null,null,null,null,0]
[null,null,null,null,0]
[null,null,null,null,0]
[null,null,null,null,0]
[null,null,null,null,0]
[null,null,null,null,0]
[null,null,null,null,0]
[null,null,null,null,0]
[null,null,null,null,0]
[null,null,null,null,0]
[null,null,null,null,0]
[null,null,null,null,0]
[null,null,null,null,0]
[null,null,null,null,0]
[null,null,null,null,0]
[null,null,null,null,0]
[null,null,null,null,0]
[null,null,null,null,0]
[null,null,null,null,0]
[null,null,null,null,0]
[null,null,null,null,0]
[null,null,null,null,0]
[null,null,null,null,0]
[null,null,null,null,0]
[null,null,null,null,0]
[null,null,null,null,0]
[null,null,null,null,0]
[null,null,null,null,0]
[null,null,null,null,0]
[null,null,null,null,0]
[null,null,null,null,0]
[null,null,null,null,0]
[null,null,null,null,0]
[null,null,null,null,0]
[null,null,null,null,0]
[null,null,null,null,0]
[null,null,null,null,0]
[null,null,null,null,0]
[null,null,null,null,0]
[null,null,null,null,0]
[null,null,null,null,0]
[null,null,null,null,0]
[null,null,null,null,0]
[null,null,null,null,0]
[null,null,null,null,0]
[null,null,null,null,0]
[null,null,null,null,0]
[null,null,null,null,0]
[null,null,null,null,0]
[null,null,null,null,0]
[null,null,null,null,0]
[null,null,null,null,0]
[null,null,null,null,0]
[null,null,null,null,0]
[null,null,null,null,0]
[null,null,null,null,0]
[null,null,null,null,0]
[null,null,null,null,0]
[null,null,null,null,0]
[null,null,null,null,0]
[null,null,null,null,0]
[null,null,null,null,0]
[null,null,null,null,0]
[null,null,null,null,0]
[null,null,null,null,0]
[null,null,null,null,0]
[null,null,null,null,0]
[null,null,null,null,0]
[null,null,null,null,0]
[null,null,null,null,0]
[null,null,null,null,0]
[null,null,null,null,0]
[null,null,null,null,0]
[null,null,null,null,0]
[null,null,null,null,0]
[null,null,null,null,0]
[null,null,null,null,0]
[null,null,null,null,0]
[null,null,null,null,0]
[null,null,null,null,0]
[null,null,null,null,0]
[null,null,null,null,0]
[null,null,null,null,0]
[null,null,null,null,0]
[null,null,null,null,0]
[null,null,null,null,0]
[null,null,null,null,0]
[null,null,null,null,0]
[null,null,null,null,0]
[null,null,null,null,0]
[null,null,null,null,0]
[null,null,null,null,0]
[null,null,null,null,0]
[null,null,null,null,0]
[null,null,null,null,0]
[null,null,null,null,0]
[null,null,null,null,0]
[null,null,null,null,0]
[null,null,null,null,0]
[null,null,null,null,0]
[null,null,null,null,0]
[null,null,null,null,0]
[null,null,null,null,0]
[null,null,null,null,0]
[null,null,null,null,0]
[null,null,null,null,0]
[null,null,null,null,0]
[null,null,null,null,0]
[null,null,null,null,0]
[null,null,null,null,0]
[null,null,null,null,0]
[null,null,null,null,0]
[null,null,null,null,0]
[null,null,null,null,0]
[null,null,null,null,0]
[null,null,null,null,0]
[null,null,null,null,0]
[null,null,null,null,0]
[null,null,null,null,0]
[null,null,null,null,0]
[null,null,null,null,0]
[null,null,null,null,0]
[null,null,null,null,0]
[null,null,null,null,0]
[null,null,null,null,0]
[null,null,null,null,0]
[null,null,null,null,0]
[null,null,null,null,0]
[null,null,null,null,0]
[null,null,null,null,0]
[null,null,null,null,0]
[null,null,null,null,0]
[null,null,null,null,0]
[null,null,null,null,0]
[null,null,null,null,0]
[null,null,null,null,0]
[null,null,null,null,0]
[null,null,null,null,0]
[null,null,null,null,0]
[null,null,null,null,0]
[null,null,null,null,0]
[null,null,null,null,0]
[null,null,null,null,0]
[null,null,null,null,0]
[null,null,null,null,0]
[null,null,null,null,0]
[null,null,null,null,0]
[null,null,null,null,0]
[null,null,null,null,0]
[null,null,null,null,0]
[null,null,null,null,0]
[null,null,null,null,0]
[null,null,null,null,0]
[null,null,null,null,0]
[null,null,null,null,0]
[null,null,null,null,0]
[null,null,null,null,0]
[null,null,null,null,0]
[null,null,null,null,0]
[null,null,null,null,0]
[null,null,null,null,0]
[null,null,null,null,0]
[null,null,null,null,0]
[null,null,null,null,0]
[null,null,null,null,0]
[null,null,null,null,0]
[null,null,null,null,0]
[null,null,null,null,0]
[null,null,null,null,0]
[null,null,null,null,0]
[null,null,null,null,0]
[null,null,null,null,0]
[null,null,null,null,0]
[null,null,null,null,0]
[null,null,null,null,0]
[null,null,null,null,0]
[null,null,null,null,0]
[null,null,null,null,0]
[null,null,null,null,0]
[null,null,null,null,0]
[null,null,null,null,0]
[null,null,null,null,0]
[null,null,null,null,0]
[null,null,null,null,0]
[null,null,null,null,0]
[null,null,null,null,0]
[null,null,null,null,0]
[null,null,null,null,0]
[null,null,null,null,0]
[null,null,null,null,0]
[null,null,null,null,0]
[null,null,null,null,0]
[null,null,null,null,0]
[null,null,null,null,0]
[null,null,null,null,0]
[null,null,null,null,0]
[null,null,null,null,0]
[null,null,null,null,0]
[null,null,null,null,0]
[null,null,null,null,0]
[null,null,null,null,0]
[null,null,null,null,0]
[null,null,null,null,0]
[null,null,null,null,0]
[null,null,null,null,0]
[null,null,null,null,0]
[null,null,null,null,0]
[null,null,null,null,0]
[null,null,null,null,0]
[null,null,null,null,0]
[null,null,null,null,0]
[null,null,null,null,0]
[null,null,null,null,0]
[null,null,null,null,0]
[null,null,null,null,0]
[null,null,null,null,0]
[null,null,null,null,0]
[null,null,null,null,0]
[null,null,null,null,0]
[null,null,null,null,0]
[null,null,null,null,0]
[null,null,null,null,0]
[null,null,null,null,0]
[null,null,null,null,0]
[null,null,null,null,0]
[null,null,null,null,0]
[null,null,null,null,0]
[null,null,null,null,0]
[null,null,null,null,0]
[null,null,null,null,0]
[null,null,null,null,0]
[null,null,null,null,0]
[null,null,null,null,0]
[null,null,null,null,0]
[null,null,null,null,0]
[null,null,null,null,0]
[null,null,null,null,0]
[null,null,null,null,0]
[null,null,null,null,0]
[null,null,null,null,0]
[null,null,null,null,0]
[null,null,null,null,0]
[null,null,null,null,0]
[null,null,null,null,0]
[null,null,null,null,0]
[null,null,null,null,0]
[null,null,null,null,0]
[null,null,null,null,0]
[null,null,null,null,0]
[null,null,null,null,0]
[null,null,null,null,0]
[null,null,null,null,0]
[null,null,null,null,0]
[null,null,null,null,0]
[null,null,null,null,0]
[null,null,null,null,0]
[null,null,null,null,0]
[null,null,null,null,0]
[null,null,null,null,0]
[null,null,null,null,0]
[null,null,null,null,0]
[null,null,null,null,0]
[null,null,null,null,0]
[null,null,null,null,0]
[null,null,null,null,0]
[null,null,null,null,0]
[null,null,null,null,0]
[null,null,null,null,0]
[null,null,null,null,0]
[null,null,null,null,0]
[null,null,null,null,0]
[null,null,null,null,0]
[null,null,null,null,0]
[null,null,null,null,0]
[null,null,null,null,0]
[null,null,null,null,0]
[null,null,null,null,0]
[null,null,null,null,0]
[null,null,null,null,0]
[null,null,null,null,0]
[null,null,null,null,0]
[null,null,null,null,0]
[null,null,null,null,0]
[null,null,null,null,0]
[null,null,null,null,0]
[null,null,null,null,0]
[null,null,null,null,0]
[null,null,null,null,0]
[null,null,null,null,0]
[null,null,null,null,0]
[null,null,null,null,0]
[null,null,null,null,0]
[null,null,null,null,0]
[null,null,null,null,0]
[null,null,null,null,0]
[null,null,null,null,0]
[null,null,null,null,0]
[null,null,null,null,0]
[null,null,null,null,0]
[null,null,null,null,0]
[null,null,null,null,0]
[null,null,null,null,0]
[null,null,null,null,0]
[null,null,null,null,0]
[null,null,null,null,0]
[null,null,null,null,0]
[null,null,null,null,0]
[null,null,null,null,0]
[null,null,null,null,0]
[null,null,null,null,0]
[null,null,null,null,0]
[null,null,null,null,0]
[null,null,null,null,0]
[null,null,null,null,0]
[null,null,null,null,0]
[null,null,null,null,0]
[null,null,null,null,0]
[null,null,null,null,0]
[null,null,null,null,0]
[null,null,null,null,0]
[null,null,null,null,0]
[null,null,null,null,0]
[null,null,null,null,0]
[null,null,null,null,0]
[null,null,null,null,0]
[null,null,null,null,0]
[null,null,null,null,0]
[null,null,null,null,0]
[null,null,null,null,0]
[null,null,null,null,0]
[null,null,null,null,0]
[null,null,null,null,0]
[null,null,null,null,0]
[null,null,null,null,0]
[null,null,null,null,0]
[null,null,null,null,0]
[null,null,null,null,0]
[null,null,null,null,0]
[null,null,null,null,0]
[null,null,null,null,0]
[null,null,null,null,0]
[null,null,null,null,0]
[null,null,null,null,0]
[null,null,null,null,0]
[null,null,null,null,0]
[null,null,null,null,0]
[null,null,null,null,0]
[null,null,null,null,0]
[null,null,null,null,0]
[null,null,null,null,0]
[null,null,null,null,0]
[null,null,null,null,0]
[null,null,null,null,0]
[null,null,null,null,0]
[null,null,null,null,0]
[null,null,null,null,0]
[null,null,null,null,0]
[null,null,null,null,0]
[null,null,null,null,0]
[null,null,null,null,0]
[null,null,null,null,0]
[null,null,null,null,0]
[null,null,null,null,0]
[null,null,null,null,0]
[null,null,null,null,0]
[null,null,null,null,0]
[null,null,null,null,0]
[null,null,null,null,0]
[null,null,null,null,0]
[null,null,null,null,0]
[null,null,null,null,0]
[null,null,null,null,0]
[null,null,null,null,0]
[null,null,null,null,0]
[null,null,null,null,0]
[null,null,null,null,0]
[null,null,null,null,0]
[null,null,null,null,0]
[null,null,null,null,0]
[null,null,null,null,0]
[null,null,null,null,0]
[null,null,null,null,0]
[null,null,null,null,0]
[null,null,null,null,0]
[null,null,null,null,0]
[null,null,null,null,0]
[null,null,null,null,0]
[null,null,null,null,0]
[null,null,null,null,0]
[null,null,null,null,0]
[null,null,null,null,0]
[null,null,null,null,0]
[null,null,null,null,0]
[null,null,null,null,0]
[null,null,null,null,0]
[null,null,null,null,0]
[null,null,null,null,0]
[null,null,null,null,0]
[null,null,null,null,0]
[null,null,null,null,0]
[null,null,null,null,0]
[null,null,null,null,0]
[null,null,null,null,0]

{"sheet":"Logistics Coordination","index":9,"n_rows":118,"n_cols":12,"rows_kept":118,"cut":false,"hidden":true,"merged":[]}
[{"$f":"IF(ISBLANK(Responses!A1), \"\", Responses!A1)","v":"Timestamp"},{"$f":"IF(ISBLANK(Responses!B1), \"\", Responses!B1)","v":"Sport Organization Name"},{"$f":"IF(ISBLANK(Responses!AX1), \"\", Responses!AX1)","v":"Is there a decision-making authority/body and an agreed procedure to modify, restrict, postpone, or cancel the return to training related to the evolving COVID-19 outbreak?"},{"$f":"IF(ISBLANK(Responses!AY1), \"\", Responses!AY1)","v":"Are there arrangements to activate a strategic health operations team if there are suspected COVID-19 cases in connection with the training center or institute?"},{"$f":"IF(ISBLANK(Responses!AZ1), \"\", Responses!AZ1)","v":"Have coaches and staff undergone training and exercises on personal safety procedures and emergency mitigation measures (including those specifically listed in this checklist)?"},"Logistics %","Logistics Score",3,2,3,null,"Max Logistics Score"]
[{"$f":"IF(ISBLANK(Responses!A2), \"\", Responses!A2)","v":""},{"$f":"IF(ISBLANK(Responses!B2), \"\", Responses!B2)","v":""},{"$f":"IF(ISBLANK(Responses!AX2), \"\", Responses!AX2)","v":""},{"$f":"IF(ISBLANK(Responses!AY2), \"\", Responses!AY2)","v":""},{"$f":"IF(ISBLANK(Responses!AZ2), \"\", Responses!AZ2)","v":""},{"$f":"G2/(2*SUM(H$1:J$1))","v":{"$error":"#N/A"}},{"$f":"SUM(H2*H$1,I2*I$1,J2*J$1)","v":{"$error":"#N/A"}},{"$f":"IF(ISBLANK(C2),0,VLOOKUP(C2,LUTs!$A$6:$B$8,2))","v":{"$error":"#N/A"}},{"$f":"IF(ISBLANK(D2),0,VLOOKUP(D2,LUTs!$A$6:$B$8,2))","v":{"$error":"#N/A"}},{"$f":"IF(ISBLANK(E2),0,VLOOKUP(E2,LUTs!$A$6:$B$8,2))","v":{"$error":"#N/A"}},null,{"$f":"SUM(H1:J1)*2","v":16}]
[{"$f":"IF(ISBLANK(Responses!A3), \"\", Responses!A3)","v":""},{"$f":"IF(ISBLANK(Responses!B3), \"\", Responses!B3)","v":""},{"$f":"IF(ISBLANK(Responses!AX3), \"\", Responses!AX3)","v":""},{"$f":"IF(ISBLANK(Responses!AY3), \"\", Responses!AY3)","v":""},{"$f":"IF(ISBLANK(Responses!AZ3), \"\", Responses!AZ3)","v":""},{"$error":"#N/A"},{"$error":"#N/A"},{"$f":"IF(ISBLANK(C3),0,VLOOKUP(C3,LUTs!$A$6:$B$8,2))","v":{"$error":"#N/A"}},{"$f":"IF(ISBLANK(D3),0,VLOOKUP(D3,LUTs!$A$6:$B$8,2))","v":{"$error":"#N/A"}},{"$f":"IF(ISBLANK(E3),0,VLOOKUP(E3,LUTs!$A$6:$B$8,2))","v":{"$error":"#N/A"}}]
[{"$f":"IF(ISBLANK(Responses!A4), \"\", Responses!A4)","v":""},{"$f":"IF(ISBLANK(Responses!B4), \"\", Responses!B4)","v":""},{"$f":"IF(ISBLANK(Responses!AX4), \"\", Responses!AX4)","v":""},{"$f":"IF(ISBLANK(Responses!AY4), \"\", Responses!AY4)","v":""},{"$f":"IF(ISBLANK(Responses!AZ4), \"\", Responses!AZ4)","v":""},{"$error":"#N/A"},{"$error":"#N/A"},{"$f":"IF(ISBLANK(C4),0,VLOOKUP(C4,LUTs!$A$6:$B$8,2))","v":{"$error":"#N/A"}},{"$f":"IF(ISBLANK(D4),0,VLOOKUP(D4,LUTs!$A$6:$B$8,2))","v":{"$error":"#N/A"}},{"$f":"IF(ISBLANK(E4),0,VLOOKUP(E4,LUTs!$A$6:$B$8,2))","v":{"$error":"#N/A"}}]
[{"$f":"IF(ISBLANK(Responses!A5), \"\", Responses!A5)","v":""},{"$f":"IF(ISBLANK(Responses!B5), \"\", Responses!B5)","v":""},{"$f":"IF(ISBLANK(Responses!AX5), \"\", Responses!AX5)","v":""},{"$f":"IF(ISBLANK(Responses!AY5), \"\", Responses!AY5)","v":""},{"$f":"IF(ISBLANK(Responses!AZ5), \"\", Responses!AZ5)","v":""},{"$error":"#N/A"},{"$error":"#N/A"},{"$f":"IF(ISBLANK(C5),0,VLOOKUP(C5,LUTs!$A$6:$B$8,2))","v":{"$error":"#N/A"}},{"$f":"IF(ISBLANK(D5),0,VLOOKUP(D5,LUTs!$A$6:$B$8,2))","v":{"$error":"#N/A"}},{"$f":"IF(ISBLANK(E5),0,VLOOKUP(E5,LUTs!$A$6:$B$8,2))","v":{"$error":"#N/A"}}]
[{"$f":"IF(ISBLANK(Responses!A6), \"\", Responses!A6)","v":""},{"$f":"IF(ISBLANK(Responses!B6), \"\", Responses!B6)","v":""},{"$f":"IF(ISBLANK(Responses!AX6), \"\", Responses!AX6)","v":""},{"$f":"IF(ISBLANK(Responses!AY6), \"\", Responses!AY6)","v":""},{"$f":"IF(ISBLANK(Responses!AZ6), \"\", Responses!AZ6)","v":""},{"$error":"#N/A"},{"$error":"#N/A"},{"$f":"IF(ISBLANK(C6),0,VLOOKUP(C6,LUTs!$A$6:$B$8,2))","v":{"$error":"#N/A"}},{"$f":"IF(ISBLANK(D6),0,VLOOKUP(D6,LUTs!$A$6:$B$8,2))","v":{"$error":"#N/A"}},{"$f":"IF(ISBLANK(E6),0,VLOOKUP(E6,LUTs!$A$6:$B$8,2))","v":{"$error":"#N/A"}}]
[{"$f":"IF(ISBLANK(Responses!A7), \"\", Responses!A7)","v":""},{"$f":"IF(ISBLANK(Responses!B7), \"\", Responses!B7)","v":""},{"$f":"IF(ISBLANK(Responses!AX7), \"\", Responses!AX7)","v":""},{"$f":"IF(ISBLANK(Responses!AY7), \"\", Responses!AY7)","v":""},{"$f":"IF(ISBLANK(Responses!AZ7), \"\", Responses!AZ7)","v":""},{"$error":"#N/A"},{"$error":"#N/A"},{"$f":"IF(ISBLANK(C7),0,VLOOKUP(C7,LUTs!$A$6:$B$8,2))","v":{"$error":"#N/A"}},{"$f":"IF(ISBLANK(D7),0,VLOOKUP(D7,LUTs!$A$6:$B$8,2))","v":{"$error":"#N/A"}},{"$f":"IF(ISBLANK(E7),0,VLOOKUP(E7,LUTs!$A$6:$B$8,2))","v":{"$error":"#N/A"}}]
[{"$f":"IF(ISBLANK(Responses!A8), \"\", Responses!A8)","v":""},{"$f":"IF(ISBLANK(Responses!B8), \"\", Responses!B8)","v":""},{"$f":"IF(ISBLANK(Responses!AX8), \"\", Responses!AX8)","v":""},{"$f":"IF(ISBLANK(Responses!AY8), \"\", Responses!AY8)","v":""},{"$f":"IF(ISBLANK(Responses!AZ8), \"\", Responses!AZ8)","v":""},{"$error":"#N/A"},{"$error":"#N/A"},{"$f":"IF(ISBLANK(C8),0,VLOOKUP(C8,LUTs!$A$6:$B$8,2))","v":{"$error":"#N/A"}},{"$f":"IF(ISBLANK(D8),0,VLOOKUP(D8,LUTs!$A$6:$B$8,2))","v":{"$error":"#N/A"}},{"$f":"IF(ISBLANK(E8),0,VLOOKUP(E8,LUTs!$A$6:$B$8,2))","v":{"$error":"#N/A"}}]
[{"$f":"IF(ISBLANK(Responses!A9), \"\", Responses!A9)","v":""},{"$f":"IF(ISBLANK(Responses!B9), \"\", Responses!B9)","v":""},{"$f":"IF(ISBLANK(Responses!AX9), \"\", Responses!AX9)","v":""},{"$f":"IF(ISBLANK(Responses!AY9), \"\", Responses!AY9)","v":""},{"$f":"IF(ISBLANK(Responses!AZ9), \"\", Responses!AZ9)","v":""},{"$error":"#N/A"},{"$error":"#N/A"},{"$f":"IF(ISBLANK(C9),0,VLOOKUP(C9,LUTs!$A$6:$B$8,2))","v":{"$error":"#N/A"}},{"$f":"IF(ISBLANK(D9),0,VLOOKUP(D9,LUTs!$A$6:$B$8,2))","v":{"$error":"#N/A"}},{"$f":"IF(ISBLANK(E9),0,VLOOKUP(E9,LUTs!$A$6:$B$8,2))","v":{"$error":"#N/A"}}]
[{"$f":"IF(ISBLANK(Responses!A10), \"\", Responses!A10)","v":""},{"$f":"IF(ISBLANK(Responses!B10), \"\", Responses!B10)","v":""},{"$f":"IF(ISBLANK(Responses!AX10), \"\", Responses!AX10)","v":""},{"$f":"IF(ISBLANK(Responses!AY10), \"\", Responses!AY10)","v":""},{"$f":"IF(ISBLANK(Responses!AZ10), \"\", Responses!AZ10)","v":""},{"$error":"#N/A"},{"$error":"#N/A"},{"$f":"IF(ISBLANK(C10),0,VLOOKUP(C10,LUTs!$A$6:$B$8,2))","v":{"$error":"#N/A"}},{"$f":"IF(ISBLANK(D10),0,VLOOKUP(D10,LUTs!$A$6:$B$8,2))","v":{"$error":"#N/A"}},{"$f":"IF(ISBLANK(E10),0,VLOOKUP(E10,LUTs!$A$6:$B$8,2))","v":{"$error":"#N/A"}}]
[{"$f":"IF(ISBLANK(Responses!A11), \"\", Responses!A11)","v":""},{"$f":"IF(ISBLANK(Responses!B11), \"\", Responses!B11)","v":""},{"$f":"IF(ISBLANK(Responses!AX11), \"\", Responses!AX11)","v":""},{"$f":"IF(ISBLANK(Responses!AY11), \"\", Responses!AY11)","v":""},{"$f":"IF(ISBLANK(Responses!AZ11), \"\", Responses!AZ11)","v":""},{"$error":"#N/A"},{"$error":"#N/A"},{"$f":"IF(ISBLANK(C11),0,VLOOKUP(C11,LUTs!$A$6:$B$8,2))","v":{"$error":"#N/A"}},{"$f":"IF(ISBLANK(D11),0,VLOOKUP(D11,LUTs!$A$6:$B$8,2))","v":{"$error":"#N/A"}},{"$f":"IF(ISBLANK(E11),0,VLOOKUP(E11,LUTs!$A$6:$B$8,2))","v":{"$error":"#N/A"}}]
[{"$f":"IF(ISBLANK(Responses!A12), \"\", Responses!A12)","v":""},{"$f":"IF(ISBLANK(Responses!B12), \"\", Responses!B12)","v":""},{"$f":"IF(ISBLANK(Responses!AX12), \"\", Responses!AX12)","v":""},{"$f":"IF(ISBLANK(Responses!AY12), \"\", Responses!AY12)","v":""},{"$f":"IF(ISBLANK(Responses!AZ12), \"\", Responses!AZ12)","v":""},{"$error":"#N/A"},{"$error":"#N/A"},{"$f":"IF(ISBLANK(C12),0,VLOOKUP(C12,LUTs!$A$6:$B$8,2))","v":{"$error":"#N/A"}},{"$f":"IF(ISBLANK(D12),0,VLOOKUP(D12,LUTs!$A$6:$B$8,2))","v":{"$error":"#N/A"}},{"$f":"IF(ISBLANK(E12),0,VLOOKUP(E12,LUTs!$A$6:$B$8,2))","v":{"$error":"#N/A"}}]
[{"$f":"IF(ISBLANK(Responses!A13), \"\", Responses!A13)","v":""},{"$f":"IF(ISBLANK(Responses!B13), \"\", Responses!B13)","v":""},{"$f":"IF(ISBLANK(Responses!AX13), \"\", Responses!AX13)","v":""},{"$f":"IF(ISBLANK(Responses!AY13), \"\", Responses!AY13)","v":""},{"$f":"IF(ISBLANK(Responses!AZ13), \"\", Responses!AZ13)","v":""},{"$error":"#N/A"},{"$error":"#N/A"},{"$f":"IF(ISBLANK(C13),0,VLOOKUP(C13,LUTs!$A$6:$B$8,2))","v":{"$error":"#N/A"}},{"$f":"IF(ISBLANK(D13),0,VLOOKUP(D13,LUTs!$A$6:$B$8,2))","v":{"$error":"#N/A"}},{"$f":"IF(ISBLANK(E13),0,VLOOKUP(E13,LUTs!$A$6:$B$8,2))","v":{"$error":"#N/A"}}]
[{"$f":"IF(ISBLANK(Responses!A14), \"\", Responses!A14)","v":""},{"$f":"IF(ISBLANK(Responses!B14), \"\", Responses!B14)","v":""},{"$f":"IF(ISBLANK(Responses!AX14), \"\", Responses!AX14)","v":""},{"$f":"IF(ISBLANK(Responses!AY14), \"\", Responses!AY14)","v":""},{"$f":"IF(ISBLANK(Responses!AZ14), \"\", Responses!AZ14)","v":""},{"$error":"#N/A"},{"$error":"#N/A"},{"$f":"IF(ISBLANK(C14),0,VLOOKUP(C14,LUTs!$A$6:$B$8,2))","v":{"$error":"#N/A"}},{"$f":"IF(ISBLANK(D14),0,VLOOKUP(D14,LUTs!$A$6:$B$8,2))","v":{"$error":"#N/A"}},{"$f":"IF(ISBLANK(E14),0,VLOOKUP(E14,LUTs!$A$6:$B$8,2))","v":{"$error":"#N/A"}}]
[{"$f":"IF(ISBLANK(Responses!A15), \"\", Responses!A15)","v":""},{"$f":"IF(ISBLANK(Responses!B15), \"\", Responses!B15)","v":""},{"$f":"IF(ISBLANK(Responses!AX15), \"\", Responses!AX15)","v":""},{"$f":"IF(ISBLANK(Responses!AY15), \"\", Responses!AY15)","v":""},{"$f":"IF(ISBLANK(Responses!AZ15), \"\", Responses!AZ15)","v":""},{"$error":"#N/A"},{"$error":"#N/A"},{"$f":"IF(ISBLANK(C15),0,VLOOKUP(C15,LUTs!$A$6:$B$8,2))","v":{"$error":"#N/A"}},{"$f":"IF(ISBLANK(D15),0,VLOOKUP(D15,LUTs!$A$6:$B$8,2))","v":{"$error":"#N/A"}},{"$f":"IF(ISBLANK(E15),0,VLOOKUP(E15,LUTs!$A$6:$B$8,2))","v":{"$error":"#N/A"}}]
[{"$f":"IF(ISBLANK(Responses!A16), \"\", Responses!A16)","v":""},{"$f":"IF(ISBLANK(Responses!B16), \"\", Responses!B16)","v":""},{"$f":"IF(ISBLANK(Responses!AX16), \"\", Responses!AX16)","v":""},{"$f":"IF(ISBLANK(Responses!AY16), \"\", Responses!AY16)","v":""},{"$f":"IF(ISBLANK(Responses!AZ16), \"\", Responses!AZ16)","v":""},{"$error":"#N/A"},{"$error":"#N/A"},{"$f":"IF(ISBLANK(C16),0,VLOOKUP(C16,LUTs!$A$6:$B$8,2))","v":{"$error":"#N/A"}},{"$f":"IF(ISBLANK(D16),0,VLOOKUP(D16,LUTs!$A$6:$B$8,2))","v":{"$error":"#N/A"}},{"$f":"IF(ISBLANK(E16),0,VLOOKUP(E16,LUTs!$A$6:$B$8,2))","v":{"$error":"#N/A"}}]
[{"$f":"IF(ISBLANK(Responses!A17), \"\", Responses!A17)","v":""},{"$f":"IF(ISBLANK(Responses!B17), \"\", Responses!B17)","v":""},{"$f":"IF(ISBLANK(Responses!AX17), \"\", Responses!AX17)","v":""},{"$f":"IF(ISBLANK(Responses!AY17), \"\", Responses!AY17)","v":""},{"$f":"IF(ISBLANK(Responses!AZ17), \"\", Responses!AZ17)","v":""},{"$error":"#N/A"},{"$error":"#N/A"},{"$f":"IF(ISBLANK(C17),0,VLOOKUP(C17,LUTs!$A$6:$B$8,2))","v":{"$error":"#N/A"}},{"$f":"IF(ISBLANK(D17),0,VLOOKUP(D17,LUTs!$A$6:$B$8,2))","v":{"$error":"#N/A"}},{"$f":"IF(ISBLANK(E17),0,VLOOKUP(E17,LUTs!$A$6:$B$8,2))","v":{"$error":"#N/A"}}]
[{"$f":"IF(ISBLANK(Responses!A18), \"\", Responses!A18)","v":""},{"$f":"IF(ISBLANK(Responses!B18), \"\", Responses!B18)","v":""},{"$f":"IF(ISBLANK(Responses!AX18), \"\", Responses!AX18)","v":""},{"$f":"IF(ISBLANK(Responses!AY18), \"\", Responses!AY18)","v":""},{"$f":"IF(ISBLANK(Responses!AZ18), \"\", Responses!AZ18)","v":""},{"$error":"#N/A"},{"$error":"#N/A"},{"$f":"IF(ISBLANK(C18),0,VLOOKUP(C18,LUTs!$A$6:$B$8,2))","v":{"$error":"#N/A"}},{"$f":"IF(ISBLANK(D18),0,VLOOKUP(D18,LUTs!$A$6:$B$8,2))","v":{"$error":"#N/A"}},{"$f":"IF(ISBLANK(E18),0,VLOOKUP(E18,LUTs!$A$6:$B$8,2))","v":{"$error":"#N/A"}}]
[{"$f":"IF(ISBLANK(Responses!A19), \"\", Responses!A19)","v":""},{"$f":"IF(ISBLANK(Responses!B19), \"\", Responses!B19)","v":""},{"$f":"IF(ISBLANK(Responses!AX19), \"\", Responses!AX19)","v":""},{"$f":"IF(ISBLANK(Responses!AY19), \"\", Responses!AY19)","v":""},{"$f":"IF(ISBLANK(Responses!AZ19), \"\", Responses!AZ19)","v":""},{"$error":"#N/A"},{"$error":"#N/A"},{"$f":"IF(ISBLANK(C19),0,VLOOKUP(C19,LUTs!$A$6:$B$8,2))","v":{"$error":"#N/A"}},{"$f":"IF(ISBLANK(D19),0,VLOOKUP(D19,LUTs!$A$6:$B$8,2))","v":{"$error":"#N/A"}},{"$f":"IF(ISBLANK(E19),0,VLOOKUP(E19,LUTs!$A$6:$B$8,2))","v":{"$error":"#N/A"}}]
[{"$f":"IF(ISBLANK(Responses!A20), \"\", Responses!A20)","v":""},{"$f":"IF(ISBLANK(Responses!B20), \"\", Responses!B20)","v":""},{"$f":"IF(ISBLANK(Responses!AX20), \"\", Responses!AX20)","v":""},{"$f":"IF(ISBLANK(Responses!AY20), \"\", Responses!AY20)","v":""},{"$f":"IF(ISBLANK(Responses!AZ20), \"\", Responses!AZ20)","v":""},{"$error":"#N/A"},{"$error":"#N/A"},{"$f":"IF(ISBLANK(C20),0,VLOOKUP(C20,LUTs!$A$6:$B$8,2))","v":{"$error":"#N/A"}},{"$f":"IF(ISBLANK(D20),0,VLOOKUP(D20,LUTs!$A$6:$B$8,2))","v":{"$error":"#N/A"}},{"$f":"IF(ISBLANK(E20),0,VLOOKUP(E20,LUTs!$A$6:$B$8,2))","v":{"$error":"#N/A"}}]
[{"$f":"IF(ISBLANK(Responses!A21), \"\", Responses!A21)","v":""},{"$f":"IF(ISBLANK(Responses!B21), \"\", Responses!B21)","v":""},{"$f":"IF(ISBLANK(Responses!AX21), \"\", Responses!AX21)","v":""},{"$f":"IF(ISBLANK(Responses!AY21), \"\", Responses!AY21)","v":""},{"$f":"IF(ISBLANK(Responses!AZ21), \"\", Responses!AZ21)","v":""},{"$error":"#N/A"},{"$error":"#N/A"},{"$f":"IF(ISBLANK(C21),0,VLOOKUP(C21,LUTs!$A$6:$B$8,2))","v":{"$error":"#N/A"}},{"$f":"IF(ISBLANK(D21),0,VLOOKUP(D21,LUTs!$A$6:$B$8,2))","v":{"$error":"#N/A"}},{"$f":"IF(ISBLANK(E21),0,VLOOKUP(E21,LUTs!$A$6:$B$8,2))","v":{"$error":"#N/A"}}]
[{"$f":"IF(ISBLANK(Responses!A22), \"\", Responses!A22)","v":""},{"$f":"IF(ISBLANK(Responses!B22), \"\", Responses!B22)","v":""},{"$f":"IF(ISBLANK(Responses!AX22), \"\", Responses!AX22)","v":""},{"$f":"IF(ISBLANK(Responses!AY22), \"\", Responses!AY22)","v":""},{"$f":"IF(ISBLANK(Responses!AZ22), \"\", Responses!AZ22)","v":""},{"$error":"#N/A"},{"$error":"#N/A"},{"$f":"IF(ISBLANK(C22),0,VLOOKUP(C22,LUTs!$A$6:$B$8,2))","v":{"$error":"#N/A"}},{"$f":"IF(ISBLANK(D22),0,VLOOKUP(D22,LUTs!$A$6:$B$8,2))","v":{"$error":"#N/A"}},{"$f":"IF(ISBLANK(E22),0,VLOOKUP(E22,LUTs!$A$6:$B$8,2))","v":{"$error":"#N/A"}}]
[{"$f":"IF(ISBLANK(Responses!A23), \"\", Responses!A23)","v":""},{"$f":"IF(ISBLANK(Responses!B23), \"\", Responses!B23)","v":""},{"$f":"IF(ISBLANK(Responses!AX23), \"\", Responses!AX23)","v":""},{"$f":"IF(ISBLANK(Responses!AY23), \"\", Responses!AY23)","v":""},{"$f":"IF(ISBLANK(Responses!AZ23), \"\", Responses!AZ23)","v":""},{"$error":"#N/A"},{"$error":"#N/A"},{"$f":"IF(ISBLANK(C23),0,VLOOKUP(C23,LUTs!$A$6:$B$8,2))","v":{"$error":"#N/A"}},{"$f":"IF(ISBLANK(D23),0,VLOOKUP(D23,LUTs!$A$6:$B$8,2))","v":{"$error":"#N/A"}},{"$f":"IF(ISBLANK(E23),0,VLOOKUP(E23,LUTs!$A$6:$B$8,2))","v":{"$error":"#N/A"}}]
[{"$f":"IF(ISBLANK(Responses!A24), \"\", Responses!A24)","v":""},{"$f":"IF(ISBLANK(Responses!B24), \"\", Responses!B24)","v":""},{"$f":"IF(ISBLANK(Responses!AX24), \"\", Responses!AX24)","v":""},{"$f":"IF(ISBLANK(Responses!AY24), \"\", Responses!AY24)","v":""},{"$f":"IF(ISBLANK(Responses!AZ24), \"\", Responses!AZ24)","v":""},{"$error":"#N/A"},{"$error":"#N/A"},{"$f":"IF(ISBLANK(C24),0,VLOOKUP(C24,LUTs!$A$6:$B$8,2))","v":{"$error":"#N/A"}},{"$f":"IF(ISBLANK(D24),0,VLOOKUP(D24,LUTs!$A$6:$B$8,2))","v":{"$error":"#N/A"}},{"$f":"IF(ISBLANK(E24),0,VLOOKUP(E24,LUTs!$A$6:$B$8,2))","v":{"$error":"#N/A"}}]
[{"$f":"IF(ISBLANK(Responses!A25), \"\", Responses!A25)","v":""},{"$f":"IF(ISBLANK(Responses!B25), \"\", Responses!B25)","v":""},{"$f":"IF(ISBLANK(Responses!AX25), \"\", Responses!AX25)","v":""},{"$f":"IF(ISBLANK(Responses!AY25), \"\", Responses!AY25)","v":""},{"$f":"IF(ISBLANK(Responses!AZ25), \"\", Responses!AZ25)","v":""},{"$error":"#N/A"},{"$error":"#N/A"},{"$f":"IF(ISBLANK(C25),0,VLOOKUP(C25,LUTs!$A$6:$B$8,2))","v":{"$error":"#N/A"}},{"$f":"IF(ISBLANK(D25),0,VLOOKUP(D25,LUTs!$A$6:$B$8,2))","v":{"$error":"#N/A"}},{"$f":"IF(ISBLANK(E25),0,VLOOKUP(E25,LUTs!$A$6:$B$8,2))","v":{"$error":"#N/A"}}]
[{"$f":"IF(ISBLANK(Responses!A26), \"\", Responses!A26)","v":""},{"$f":"IF(ISBLANK(Responses!B26), \"\", Responses!B26)","v":""},{"$f":"IF(ISBLANK(Responses!AX26), \"\", Responses!AX26)","v":""},{"$f":"IF(ISBLANK(Responses!AY26), \"\", Responses!AY26)","v":""},{"$f":"IF(ISBLANK(Responses!AZ26), \"\", Responses!AZ26)","v":""},{"$error":"#N/A"},{"$error":"#N/A"},{"$f":"IF(ISBLANK(C26),0,VLOOKUP(C26,LUTs!$A$6:$B$8,2))","v":{"$error":"#N/A"}},{"$f":"IF(ISBLANK(D26),0,VLOOKUP(D26,LUTs!$A$6:$B$8,2))","v":{"$error":"#N/A"}},{"$f":"IF(ISBLANK(E26),0,VLOOKUP(E26,LUTs!$A$6:$B$8,2))","v":{"$error":"#N/A"}}]
[{"$f":"IF(ISBLANK(Responses!A27), \"\", Responses!A27)","v":""},{"$f":"IF(ISBLANK(Responses!B27), \"\", Responses!B27)","v":""},{"$f":"IF(ISBLANK(Responses!AX27), \"\", Responses!AX27)","v":""},{"$f":"IF(ISBLANK(Responses!AY27), \"\", Responses!AY27)","v":""},{"$f":"IF(ISBLANK(Responses!AZ27), \"\", Responses!AZ27)","v":""},{"$error":"#N/A"},{"$error":"#N/A"},{"$f":"IF(ISBLANK(C27),0,VLOOKUP(C27,LUTs!$A$6:$B$8,2))","v":{"$error":"#N/A"}},{"$f":"IF(ISBLANK(D27),0,VLOOKUP(D27,LUTs!$A$6:$B$8,2))","v":{"$error":"#N/A"}},{"$f":"IF(ISBLANK(E27),0,VLOOKUP(E27,LUTs!$A$6:$B$8,2))","v":{"$error":"#N/A"}}]
[{"$f":"IF(ISBLANK(Responses!A28), \"\", Responses!A28)","v":""},{"$f":"IF(ISBLANK(Responses!B28), \"\", Responses!B28)","v":""},{"$f":"IF(ISBLANK(Responses!AX28), \"\", Responses!AX28)","v":""},{"$f":"IF(ISBLANK(Responses!AY28), \"\", Responses!AY28)","v":""},{"$f":"IF(ISBLANK(Responses!AZ28), \"\", Responses!AZ28)","v":""},{"$error":"#N/A"},{"$error":"#N/A"},{"$f":"IF(ISBLANK(C28),0,VLOOKUP(C28,LUTs!$A$6:$B$8,2))","v":{"$error":"#N/A"}},{"$f":"IF(ISBLANK(D28),0,VLOOKUP(D28,LUTs!$A$6:$B$8,2))","v":{"$error":"#N/A"}},{"$f":"IF(ISBLANK(E28),0,VLOOKUP(E28,LUTs!$A$6:$B$8,2))","v":{"$error":"#N/A"}}]
[{"$f":"IF(ISBLANK(Responses!A29), \"\", Responses!A29)","v":""},{"$f":"IF(ISBLANK(Responses!B29), \"\", Responses!B29)","v":""},{"$f":"IF(ISBLANK(Responses!AX29), \"\", Responses!AX29)","v":""},{"$f":"IF(ISBLANK(Responses!AY29), \"\", Responses!AY29)","v":""},{"$f":"IF(ISBLANK(Responses!AZ29), \"\", Responses!AZ29)","v":""},{"$error":"#N/A"},{"$error":"#N/A"},{"$f":"IF(ISBLANK(C29),0,VLOOKUP(C29,LUTs!$A$6:$B$8,2))","v":{"$error":"#N/A"}},{"$f":"IF(ISBLANK(D29),0,VLOOKUP(D29,LUTs!$A$6:$B$8,2))","v":{"$error":"#N/A"}},{"$f":"IF(ISBLANK(E29),0,VLOOKUP(E29,LUTs!$A$6:$B$8,2))","v":{"$error":"#N/A"}}]
[{"$f":"IF(ISBLANK(Responses!A30), \"\", Responses!A30)","v":""},{"$f":"IF(ISBLANK(Responses!B30), \"\", Responses!B30)","v":""},{"$f":"IF(ISBLANK(Responses!AX30), \"\", Responses!AX30)","v":""},{"$f":"IF(ISBLANK(Responses!AY30), \"\", Responses!AY30)","v":""},{"$f":"IF(ISBLANK(Responses!AZ30), \"\", Responses!AZ30)","v":""},{"$error":"#N/A"},{"$error":"#N/A"},{"$f":"IF(ISBLANK(C30),0,VLOOKUP(C30,LUTs!$A$6:$B$8,2))","v":{"$error":"#N/A"}},{"$f":"IF(ISBLANK(D30),0,VLOOKUP(D30,LUTs!$A$6:$B$8,2))","v":{"$error":"#N/A"}},{"$f":"IF(ISBLANK(E30),0,VLOOKUP(E30,LUTs!$A$6:$B$8,2))","v":{"$error":"#N/A"}}]
[{"$f":"IF(ISBLANK(Responses!A31), \"\", Responses!A31)","v":""},{"$f":"IF(ISBLANK(Responses!B31), \"\", Responses!B31)","v":""},{"$f":"IF(ISBLANK(Responses!AX31), \"\", Responses!AX31)","v":""},{"$f":"IF(ISBLANK(Responses!AY31), \"\", Responses!AY31)","v":""},{"$f":"IF(ISBLANK(Responses!AZ31), \"\", Responses!AZ31)","v":""},{"$error":"#N/A"},{"$error":"#N/A"},{"$f":"IF(ISBLANK(C31),0,VLOOKUP(C31,LUTs!$A$6:$B$8,2))","v":{"$error":"#N/A"}},{"$f":"IF(ISBLANK(D31),0,VLOOKUP(D31,LUTs!$A$6:$B$8,2))","v":{"$error":"#N/A"}},{"$f":"IF(ISBLANK(E31),0,VLOOKUP(E31,LUTs!$A$6:$B$8,2))","v":{"$error":"#N/A"}}]
[{"$f":"IF(ISBLANK(Responses!A32), \"\", Responses!A32)","v":""},{"$f":"IF(ISBLANK(Responses!B32), \"\", Responses!B32)","v":""},{"$f":"IF(ISBLANK(Responses!AX32), \"\", Responses!AX32)","v":""},{"$f":"IF(ISBLANK(Responses!AY32), \"\", Responses!AY32)","v":""},{"$f":"IF(ISBLANK(Responses!AZ32), \"\", Responses!AZ32)","v":""},{"$error":"#N/A"},{"$error":"#N/A"},{"$f":"IF(ISBLANK(C32),0,VLOOKUP(C32,LUTs!$A$6:$B$8,2))","v":{"$error":"#N/A"}},{"$f":"IF(ISBLANK(D32),0,VLOOKUP(D32,LUTs!$A$6:$B$8,2))","v":{"$error":"#N/A"}},{"$f":"IF(ISBLANK(E32),0,VLOOKUP(E32,LUTs!$A$6:$B$8,2))","v":{"$error":"#N/A"}}]
[{"$f":"IF(ISBLANK(Responses!A33), \"\", Responses!A33)","v":""},{"$f":"IF(ISBLANK(Responses!B33), \"\", Responses!B33)","v":""},{"$f":"IF(ISBLANK(Responses!AX33), \"\", Responses!AX33)","v":""},{"$f":"IF(ISBLANK(Responses!AY33), \"\", Responses!AY33)","v":""},{"$f":"IF(ISBLANK(Responses!AZ33), \"\", Responses!AZ33)","v":""},{"$error":"#N/A"},{"$error":"#N/A"},{"$f":"IF(ISBLANK(C33),0,VLOOKUP(C33,LUTs!$A$6:$B$8,2))","v":{"$error":"#N/A"}},{"$f":"IF(ISBLANK(D33),0,VLOOKUP(D33,LUTs!$A$6:$B$8,2))","v":{"$error":"#N/A"}},{"$f":"IF(ISBLANK(E33),0,VLOOKUP(E33,LUTs!$A$6:$B$8,2))","v":{"$error":"#N/A"}}]
[{"$f":"IF(ISBLANK(Responses!A34), \"\", Responses!A34)","v":""},{"$f":"IF(ISBLANK(Responses!B34), \"\", Responses!B34)","v":""},{"$f":"IF(ISBLANK(Responses!AX34), \"\", Responses!AX34)","v":""},{"$f":"IF(ISBLANK(Responses!AY34), \"\", Responses!AY34)","v":""},{"$f":"IF(ISBLANK(Responses!AZ34), \"\", Responses!AZ34)","v":""},{"$error":"#N/A"},{"$error":"#N/A"},{"$f":"IF(ISBLANK(C34),0,VLOOKUP(C34,LUTs!$A$6:$B$8,2))","v":{"$error":"#N/A"}},{"$f":"IF(ISBLANK(D34),0,VLOOKUP(D34,LUTs!$A$6:$B$8,2))","v":{"$error":"#N/A"}},{"$f":"IF(ISBLANK(E34),0,VLOOKUP(E34,LUTs!$A$6:$B$8,2))","v":{"$error":"#N/A"}}]
[{"$f":"IF(ISBLANK(Responses!A35), \"\", Responses!A35)","v":""},{"$f":"IF(ISBLANK(Responses!B35), \"\", Responses!B35)","v":""},{"$f":"IF(ISBLANK(Responses!AX35), \"\", Responses!AX35)","v":""},{"$f":"IF(ISBLANK(Responses!AY35), \"\", Responses!AY35)","v":""},{"$f":"IF(ISBLANK(Responses!AZ35), \"\", Responses!AZ35)","v":""},{"$error":"#N/A"},{"$error":"#N/A"},{"$f":"IF(ISBLANK(C35),0,VLOOKUP(C35,LUTs!$A$6:$B$8,2))","v":{"$error":"#N/A"}},{"$f":"IF(ISBLANK(D35),0,VLOOKUP(D35,LUTs!$A$6:$B$8,2))","v":{"$error":"#N/A"}},{"$f":"IF(ISBLANK(E35),0,VLOOKUP(E35,LUTs!$A$6:$B$8,2))","v":{"$error":"#N/A"}}]
[{"$f":"IF(ISBLANK(Responses!A36), \"\", Responses!A36)","v":""},{"$f":"IF(ISBLANK(Responses!B36), \"\", Responses!B36)","v":""},{"$f":"IF(ISBLANK(Responses!AX36), \"\", Responses!AX36)","v":""},{"$f":"IF(ISBLANK(Responses!AY36), \"\", Responses!AY36)","v":""},{"$f":"IF(ISBLANK(Responses!AZ36), \"\", Responses!AZ36)","v":""},{"$error":"#N/A"},{"$error":"#N/A"},{"$f":"IF(ISBLANK(C36),0,VLOOKUP(C36,LUTs!$A$6:$B$8,2))","v":{"$error":"#N/A"}},{"$f":"IF(ISBLANK(D36),0,VLOOKUP(D36,LUTs!$A$6:$B$8,2))","v":{"$error":"#N/A"}},{"$f":"IF(ISBLANK(E36),0,VLOOKUP(E36,LUTs!$A$6:$B$8,2))","v":{"$error":"#N/A"}}]
[{"$f":"IF(ISBLANK(Responses!A37), \"\", Responses!A37)","v":""},{"$f":"IF(ISBLANK(Responses!B37), \"\", Responses!B37)","v":""},{"$f":"IF(ISBLANK(Responses!AX37), \"\", Responses!AX37)","v":""},{"$f":"IF(ISBLANK(Responses!AY37), \"\", Responses!AY37)","v":""},{"$f":"IF(ISBLANK(Responses!AZ37), \"\", Responses!AZ37)","v":""},{"$error":"#N/A"},{"$error":"#N/A"},{"$f":"IF(ISBLANK(C37),0,VLOOKUP(C37,LUTs!$A$6:$B$8,2))","v":{"$error":"#N/A"}},{"$f":"IF(ISBLANK(D37),0,VLOOKUP(D37,LUTs!$A$6:$B$8,2))","v":{"$error":"#N/A"}},{"$f":"IF(ISBLANK(E37),0,VLOOKUP(E37,LUTs!$A$6:$B$8,2))","v":{"$error":"#N/A"}}]
[{"$f":"IF(ISBLANK(Responses!A38), \"\", Responses!A38)","v":""},{"$f":"IF(ISBLANK(Responses!B38), \"\", Responses!B38)","v":""},{"$f":"IF(ISBLANK(Responses!AX38), \"\", Responses!AX38)","v":""},{"$f":"IF(ISBLANK(Responses!AY38), \"\", Responses!AY38)","v":""},{"$f":"IF(ISBLANK(Responses!AZ38), \"\", Responses!AZ38)","v":""},{"$error":"#N/A"},{"$error":"#N/A"},{"$f":"IF(ISBLANK(C38),0,VLOOKUP(C38,LUTs!$A$6:$B$8,2))","v":{"$error":"#N/A"}},{"$f":"IF(ISBLANK(D38),0,VLOOKUP(D38,LUTs!$A$6:$B$8,2))","v":{"$error":"#N/A"}},{"$f":"IF(ISBLANK(E38),0,VLOOKUP(E38,LUTs!$A$6:$B$8,2))","v":{"$error":"#N/A"}}]
[{"$f":"IF(ISBLANK(Responses!A39), \"\", Responses!A39)","v":""},{"$f":"IF(ISBLANK(Responses!B39), \"\", Responses!B39)","v":""},{"$f":"IF(ISBLANK(Responses!AX39), \"\", Responses!AX39)","v":""},{"$f":"IF(ISBLANK(Responses!AY39), \"\", Responses!AY39)","v":""},{"$f":"IF(ISBLANK(Responses!AZ39), \"\", Responses!AZ39)","v":""},{"$error":"#N/A"},{"$error":"#N/A"},{"$f":"IF(ISBLANK(C39),0,VLOOKUP(C39,LUTs!$A$6:$B$8,2))","v":{"$error":"#N/A"}},{"$f":"IF(ISBLANK(D39),0,VLOOKUP(D39,LUTs!$A$6:$B$8,2))","v":{"$error":"#N/A"}},{"$f":"IF(ISBLANK(E39),0,VLOOKUP(E39,LUTs!$A$6:$B$8,2))","v":{"$error":"#N/A"}}]
[{"$f":"IF(ISBLANK(Responses!A40), \"\", Responses!A40)","v":""},{"$f":"IF(ISBLANK(Responses!B40), \"\", Responses!B40)","v":""},{"$f":"IF(ISBLANK(Responses!AX40), \"\", Responses!AX40)","v":""},{"$f":"IF(ISBLANK(Responses!AY40), \"\", Responses!AY40)","v":""},{"$f":"IF(ISBLANK(Responses!AZ40), \"\", Responses!AZ40)","v":""},{"$error":"#N/A"},{"$error":"#N/A"},{"$f":"IF(ISBLANK(C40),0,VLOOKUP(C40,LUTs!$A$6:$B$8,2))","v":{"$error":"#N/A"}},{"$f":"IF(ISBLANK(D40),0,VLOOKUP(D40,LUTs!$A$6:$B$8,2))","v":{"$error":"#N/A"}},{"$f":"IF(ISBLANK(E40),0,VLOOKUP(E40,LUTs!$A$6:$B$8,2))","v":{"$error":"#N/A"}}]
[{"$f":"IF(ISBLANK(Responses!A41), \"\", Responses!A41)","v":""},{"$f":"IF(ISBLANK(Responses!B41), \"\", Responses!B41)","v":""},{"$f":"IF(ISBLANK(Responses!AX41), \"\", Responses!AX41)","v":""},{"$f":"IF(ISBLANK(Responses!AY41), \"\", Responses!AY41)","v":""},{"$f":"IF(ISBLANK(Responses!AZ41), \"\", Responses!AZ41)","v":""},{"$error":"#N/A"},{"$error":"#N/A"},{"$f":"IF(ISBLANK(C41),0,VLOOKUP(C41,LUTs!$A$6:$B$8,2))","v":{"$error":"#N/A"}},{"$f":"IF(ISBLANK(D41),0,VLOOKUP(D41,LUTs!$A$6:$B$8,2))","v":{"$error":"#N/A"}},{"$f":"IF(ISBLANK(E41),0,VLOOKUP(E41,LUTs!$A$6:$B$8,2))","v":{"$error":"#N/A"}}]
[{"$f":"IF(ISBLANK(Responses!A42), \"\", Responses!A42)","v":""},{"$f":"IF(ISBLANK(Responses!B42), \"\", Responses!B42)","v":""},{"$f":"IF(ISBLANK(Responses!AX42), \"\", Responses!AX42)","v":""},{"$f":"IF(ISBLANK(Responses!AY42), \"\", Responses!AY42)","v":""},{"$f":"IF(ISBLANK(Responses!AZ42), \"\", Responses!AZ42)","v":""},{"$error":"#N/A"},{"$error":"#N/A"},{"$f":"IF(ISBLANK(C42),0,VLOOKUP(C42,LUTs!$A$6:$B$8,2))","v":{"$error":"#N/A"}},{"$f":"IF(ISBLANK(D42),0,VLOOKUP(D42,LUTs!$A$6:$B$8,2))","v":{"$error":"#N/A"}},{"$f":"IF(ISBLANK(E42),0,VLOOKUP(E42,LUTs!$A$6:$B$8,2))","v":{"$error":"#N/A"}}]
[{"$f":"IF(ISBLANK(Responses!A43), \"\", Responses!A43)","v":""},{"$f":"IF(ISBLANK(Responses!B43), \"\", Responses!B43)","v":""},{"$f":"IF(ISBLANK(Responses!AX43), \"\", Responses!AX43)","v":""},{"$f":"IF(ISBLANK(Responses!AY43), \"\", Responses!AY43)","v":""},{"$f":"IF(ISBLANK(Responses!AZ43), \"\", Responses!AZ43)","v":""},{"$error":"#N/A"},{"$error":"#N/A"},{"$f":"IF(ISBLANK(C43),0,VLOOKUP(C43,LUTs!$A$6:$B$8,2))","v":{"$error":"#N/A"}},{"$f":"IF(ISBLANK(D43),0,VLOOKUP(D43,LUTs!$A$6:$B$8,2))","v":{"$error":"#N/A"}},{"$f":"IF(ISBLANK(E43),0,VLOOKUP(E43,LUTs!$A$6:$B$8,2))","v":{"$error":"#N/A"}}]
[{"$f":"IF(ISBLANK(Responses!A44), \"\", Responses!A44)","v":""},{"$f":"IF(ISBLANK(Responses!B44), \"\", Responses!B44)","v":""},{"$f":"IF(ISBLANK(Responses!AX44), \"\", Responses!AX44)","v":""},{"$f":"IF(ISBLANK(Responses!AY44), \"\", Responses!AY44)","v":""},{"$f":"IF(ISBLANK(Responses!AZ44), \"\", Responses!AZ44)","v":""},{"$error":"#N/A"},{"$error":"#N/A"},{"$f":"IF(ISBLANK(C44),0,VLOOKUP(C44,LUTs!$A$6:$B$8,2))","v":{"$error":"#N/A"}},{"$f":"IF(ISBLANK(D44),0,VLOOKUP(D44,LUTs!$A$6:$B$8,2))","v":{"$error":"#N/A"}},{"$f":"IF(ISBLANK(E44),0,VLOOKUP(E44,LUTs!$A$6:$B$8,2))","v":{"$error":"#N/A"}}]
[{"$f":"IF(ISBLANK(Responses!A45), \"\", Responses!A45)","v":""},{"$f":"IF(ISBLANK(Responses!B45), \"\", Responses!B45)","v":""},{"$f":"IF(ISBLANK(Responses!AX45), \"\", Responses!AX45)","v":""},{"$f":"IF(ISBLANK(Responses!AY45), \"\", Responses!AY45)","v":""},{"$f":"IF(ISBLANK(Responses!AZ45), \"\", Responses!AZ45)","v":""},{"$error":"#N/A"},{"$error":"#N/A"},{"$f":"IF(ISBLANK(C45),0,VLOOKUP(C45,LUTs!$A$6:$B$8,2))","v":{"$error":"#N/A"}},{"$f":"IF(ISBLANK(D45),0,VLOOKUP(D45,LUTs!$A$6:$B$8,2))","v":{"$error":"#N/A"}},{"$f":"IF(ISBLANK(E45),0,VLOOKUP(E45,LUTs!$A$6:$B$8,2))","v":{"$error":"#N/A"}}]
[{"$f":"IF(ISBLANK(Responses!A46), \"\", Responses!A46)","v":""},{"$f":"IF(ISBLANK(Responses!B46), \"\", Responses!B46)","v":""},{"$f":"IF(ISBLANK(Responses!AX46), \"\", Responses!AX46)","v":""},{"$f":"IF(ISBLANK(Responses!AY46), \"\", Responses!AY46)","v":""},{"$f":"IF(ISBLANK(Responses!AZ46), \"\", Responses!AZ46)","v":""},{"$error":"#N/A"},{"$error":"#N/A"},{"$f":"IF(ISBLANK(C46),0,VLOOKUP(C46,LUTs!$A$6:$B$8,2))","v":{"$error":"#N/A"}},{"$f":"IF(ISBLANK(D46),0,VLOOKUP(D46,LUTs!$A$6:$B$8,2))","v":{"$error":"#N/A"}},{"$f":"IF(ISBLANK(E46),0,VLOOKUP(E46,LUTs!$A$6:$B$8,2))","v":{"$error":"#N/A"}}]
[{"$f":"IF(ISBLANK(Responses!A47), \"\", Responses!A47)","v":""},{"$f":"IF(ISBLANK(Responses!B47), \"\", Responses!B47)","v":""},{"$f":"IF(ISBLANK(Responses!AX47), \"\", Responses!AX47)","v":""},{"$f":"IF(ISBLANK(Responses!AY47), \"\", Responses!AY47)","v":""},{"$f":"IF(ISBLANK(Responses!AZ47), \"\", Responses!AZ47)","v":""},{"$error":"#N/A"},{"$error":"#N/A"},{"$f":"IF(ISBLANK(C47),0,VLOOKUP(C47,LUTs!$A$6:$B$8,2))","v":{"$error":"#N/A"}},{"$f":"IF(ISBLANK(D47),0,VLOOKUP(D47,LUTs!$A$6:$B$8,2))","v":{"$error":"#N/A"}},{"$f":"IF(ISBLANK(E47),0,VLOOKUP(E47,LUTs!$A$6:$B$8,2))","v":{"$error":"#N/A"}}]
[{"$f":"IF(ISBLANK(Responses!A48), \"\", Responses!A48)","v":""},{"$f":"IF(ISBLANK(Responses!B48), \"\", Responses!B48)","v":""},{"$f":"IF(ISBLANK(Responses!AX48), \"\", Responses!AX48)","v":""},{"$f":"IF(ISBLANK(Responses!AY48), \"\", Responses!AY48)","v":""},{"$f":"IF(ISBLANK(Responses!AZ48), \"\", Responses!AZ48)","v":""},{"$error":"#N/A"},{"$error":"#N/A"},{"$f":"IF(ISBLANK(C48),0,VLOOKUP(C48,LUTs!$A$6:$B$8,2))","v":{"$error":"#N/A"}},{"$f":"IF(ISBLANK(D48),0,VLOOKUP(D48,LUTs!$A$6:$B$8,2))","v":{"$error":"#N/A"}},{"$f":"IF(ISBLANK(E48),0,VLOOKUP(E48,LUTs!$A$6:$B$8,2))","v":{"$error":"#N/A"}}]
[{"$f":"IF(ISBLANK(Responses!A49), \"\", Responses!A49)","v":""},{"$f":"IF(ISBLANK(Responses!B49), \"\", Responses!B49)","v":""},{"$f":"IF(ISBLANK(Responses!AX49), \"\", Responses!AX49)","v":""},{"$f":"IF(ISBLANK(Responses!AY49), \"\", Responses!AY49)","v":""},{"$f":"IF(ISBLANK(Responses!AZ49), \"\", Responses!AZ49)","v":""},{"$error":"#N/A"},{"$error":"#N/A"},{"$f":"IF(ISBLANK(C49),0,VLOOKUP(C49,LUTs!$A$6:$B$8,2))","v":{"$error":"#N/A"}},{"$f":"IF(ISBLANK(D49),0,VLOOKUP(D49,LUTs!$A$6:$B$8,2))","v":{"$error":"#N/A"}},{"$f":"IF(ISBLANK(E49),0,VLOOKUP(E49,LUTs!$A$6:$B$8,2))","v":{"$error":"#N/A"}}]
[{"$f":"IF(ISBLANK(Responses!A50), \"\", Responses!A50)","v":""},{"$f":"IF(ISBLANK(Responses!B50), \"\", Responses!B50)","v":""},{"$f":"IF(ISBLANK(Responses!AX50), \"\", Responses!AX50)","v":""},{"$f":"IF(ISBLANK(Responses!AY50), \"\", Responses!AY50)","v":""},{"$f":"IF(ISBLANK(Responses!AZ50), \"\", Responses!AZ50)","v":""},{"$error":"#N/A"},{"$error":"#N/A"},{"$f":"IF(ISBLANK(C50),0,VLOOKUP(C50,LUTs!$A$6:$B$8,2))","v":{"$error":"#N/A"}},{"$f":"IF(ISBLANK(D50),0,VLOOKUP(D50,LUTs!$A$6:$B$8,2))","v":{"$error":"#N/A"}},{"$f":"IF(ISBLANK(E50),0,VLOOKUP(E50,LUTs!$A$6:$B$8,2))","v":{"$error":"#N/A"}}]
[{"$f":"IF(ISBLANK(Responses!A51), \"\", Responses!A51)","v":""},{"$f":"IF(ISBLANK(Responses!B51), \"\", Responses!B51)","v":""},{"$f":"IF(ISBLANK(Responses!AX51), \"\", Responses!AX51)","v":""},{"$f":"IF(ISBLANK(Responses!AY51), \"\", Responses!AY51)","v":""},{"$f":"IF(ISBLANK(Responses!AZ51), \"\", Responses!AZ51)","v":""},{"$error":"#N/A"},{"$error":"#N/A"},{"$f":"IF(ISBLANK(C51),0,VLOOKUP(C51,LUTs!$A$6:$B$8,2))","v":{"$error":"#N/A"}},{"$f":"IF(ISBLANK(D51),0,VLOOKUP(D51,LUTs!$A$6:$B$8,2))","v":{"$error":"#N/A"}},{"$f":"IF(ISBLANK(E51),0,VLOOKUP(E51,LUTs!$A$6:$B$8,2))","v":{"$error":"#N/A"}}]
[{"$f":"IF(ISBLANK(Responses!A52), \"\", Responses!A52)","v":""},{"$f":"IF(ISBLANK(Responses!B52), \"\", Responses!B52)","v":""},{"$f":"IF(ISBLANK(Responses!AX52), \"\", Responses!AX52)","v":""},{"$f":"IF(ISBLANK(Responses!AY52), \"\", Responses!AY52)","v":""},{"$f":"IF(ISBLANK(Responses!AZ52), \"\", Responses!AZ52)","v":""},{"$error":"#N/A"},{"$error":"#N/A"},{"$f":"IF(ISBLANK(C52),0,VLOOKUP(C52,LUTs!$A$6:$B$8,2))","v":{"$error":"#N/A"}},{"$f":"IF(ISBLANK(D52),0,VLOOKUP(D52,LUTs!$A$6:$B$8,2))","v":{"$error":"#N/A"}},{"$f":"IF(ISBLANK(E52),0,VLOOKUP(E52,LUTs!$A$6:$B$8,2))","v":{"$error":"#N/A"}}]
[{"$f":"IF(ISBLANK(Responses!A53), \"\", Responses!A53)","v":""},{"$f":"IF(ISBLANK(Responses!B53), \"\", Responses!B53)","v":""},{"$f":"IF(ISBLANK(Responses!AX53), \"\", Responses!AX53)","v":""},{"$f":"IF(ISBLANK(Responses!AY53), \"\", Responses!AY53)","v":""},{"$f":"IF(ISBLANK(Responses!AZ53), \"\", Responses!AZ53)","v":""},{"$error":"#N/A"},{"$error":"#N/A"},{"$f":"IF(ISBLANK(C53),0,VLOOKUP(C53,LUTs!$A$6:$B$8,2))","v":{"$error":"#N/A"}},{"$f":"IF(ISBLANK(D53),0,VLOOKUP(D53,LUTs!$A$6:$B$8,2))","v":{"$error":"#N/A"}},{"$f":"IF(ISBLANK(E53),0,VLOOKUP(E53,LUTs!$A$6:$B$8,2))","v":{"$error":"#N/A"}}]
[{"$f":"IF(ISBLANK(Responses!A54), \"\", Responses!A54)","v":""},{"$f":"IF(ISBLANK(Responses!B54), \"\", Responses!B54)","v":""},{"$f":"IF(ISBLANK(Responses!AX54), \"\", Responses!AX54)","v":""},{"$f":"IF(ISBLANK(Responses!AY54), \"\", Responses!AY54)","v":""},{"$f":"IF(ISBLANK(Responses!AZ54), \"\", Responses!AZ54)","v":""},{"$error":"#N/A"},{"$error":"#N/A"},{"$f":"IF(ISBLANK(C54),0,VLOOKUP(C54,LUTs!$A$6:$B$8,2))","v":{"$error":"#N/A"}},{"$f":"IF(ISBLANK(D54),0,VLOOKUP(D54,LUTs!$A$6:$B$8,2))","v":{"$error":"#N/A"}},{"$f":"IF(ISBLANK(E54),0,VLOOKUP(E54,LUTs!$A$6:$B$8,2))","v":{"$error":"#N/A"}}]
[{"$f":"IF(ISBLANK(Responses!A55), \"\", Responses!A55)","v":""},{"$f":"IF(ISBLANK(Responses!B55), \"\", Responses!B55)","v":""},{"$f":"IF(ISBLANK(Responses!AX55), \"\", Responses!AX55)","v":""},{"$f":"IF(ISBLANK(Responses!AY55), \"\", Responses!AY55)","v":""},{"$f":"IF(ISBLANK(Responses!AZ55), \"\", Responses!AZ55)","v":""},{"$error":"#N/A"},{"$error":"#N/A"},{"$f":"IF(ISBLANK(C55),0,VLOOKUP(C55,LUTs!$A$6:$B$8,2))","v":{"$error":"#N/A"}},{"$f":"IF(ISBLANK(D55),0,VLOOKUP(D55,LUTs!$A$6:$B$8,2))","v":{"$error":"#N/A"}},{"$f":"IF(ISBLANK(E55),0,VLOOKUP(E55,LUTs!$A$6:$B$8,2))","v":{"$error":"#N/A"}}]
[{"$f":"IF(ISBLANK(Responses!A56), \"\", Responses!A56)","v":""},{"$f":"IF(ISBLANK(Responses!B56), \"\", Responses!B56)","v":""},{"$f":"IF(ISBLANK(Responses!AX56), \"\", Responses!AX56)","v":""},{"$f":"IF(ISBLANK(Responses!AY56), \"\", Responses!AY56)","v":""},{"$f":"IF(ISBLANK(Responses!AZ56), \"\", Responses!AZ56)","v":""},{"$error":"#N/A"},{"$error":"#N/A"},{"$f":"IF(ISBLANK(C56),0,VLOOKUP(C56,LUTs!$A$6:$B$8,2))","v":{"$error":"#N/A"}},{"$f":"IF(ISBLANK(D56),0,VLOOKUP(D56,LUTs!$A$6:$B$8,2))","v":{"$error":"#N/A"}},{"$f":"IF(ISBLANK(E56),0,VLOOKUP(E56,LUTs!$A$6:$B$8,2))","v":{"$error":"#N/A"}}]
[{"$f":"IF(ISBLANK(Responses!A57), \"\", Responses!A57)","v":""},{"$f":"IF(ISBLANK(Responses!B57), \"\", Responses!B57)","v":""},{"$f":"IF(ISBLANK(Responses!AX57), \"\", Responses!AX57)","v":""},{"$f":"IF(ISBLANK(Responses!AY57), \"\", Responses!AY57)","v":""},{"$f":"IF(ISBLANK(Responses!AZ57), \"\", Responses!AZ57)","v":""},{"$error":"#N/A"},{"$error":"#N/A"},{"$f":"IF(ISBLANK(C57),0,VLOOKUP(C57,LUTs!$A$6:$B$8,2))","v":{"$error":"#N/A"}},{"$f":"IF(ISBLANK(D57),0,VLOOKUP(D57,LUTs!$A$6:$B$8,2))","v":{"$error":"#N/A"}},{"$f":"IF(ISBLANK(E57),0,VLOOKUP(E57,LUTs!$A$6:$B$8,2))","v":{"$error":"#N/A"}}]
[{"$f":"IF(ISBLANK(Responses!A58), \"\", Responses!A58)","v":""},{"$f":"IF(ISBLANK(Responses!B58), \"\", Responses!B58)","v":""},{"$f":"IF(ISBLANK(Responses!AX58), \"\", Responses!AX58)","v":""},{"$f":"IF(ISBLANK(Responses!AY58), \"\", Responses!AY58)","v":""},{"$f":"IF(ISBLANK(Responses!AZ58), \"\", Responses!AZ58)","v":""},{"$error":"#N/A"},{"$error":"#N/A"},{"$f":"IF(ISBLANK(C58),0,VLOOKUP(C58,LUTs!$A$6:$B$8,2))","v":{"$error":"#N/A"}},{"$f":"IF(ISBLANK(D58),0,VLOOKUP(D58,LUTs!$A$6:$B$8,2))","v":{"$error":"#N/A"}},{"$f":"IF(ISBLANK(E58),0,VLOOKUP(E58,LUTs!$A$6:$B$8,2))","v":{"$error":"#N/A"}}]
[{"$f":"IF(ISBLANK(Responses!A59), \"\", Responses!A59)","v":""},{"$f":"IF(ISBLANK(Responses!B59), \"\", Responses!B59)","v":""},{"$f":"IF(ISBLANK(Responses!AX59), \"\", Responses!AX59)","v":""},{"$f":"IF(ISBLANK(Responses!AY59), \"\", Responses!AY59)","v":""},{"$f":"IF(ISBLANK(Responses!AZ59), \"\", Responses!AZ59)","v":""},{"$error":"#N/A"},{"$error":"#N/A"},{"$f":"IF(ISBLANK(C59),0,VLOOKUP(C59,LUTs!$A$6:$B$8,2))","v":{"$error":"#N/A"}},{"$f":"IF(ISBLANK(D59),0,VLOOKUP(D59,LUTs!$A$6:$B$8,2))","v":{"$error":"#N/A"}},{"$f":"IF(ISBLANK(E59),0,VLOOKUP(E59,LUTs!$A$6:$B$8,2))","v":{"$error":"#N/A"}}]
[{"$f":"IF(ISBLANK(Responses!A60), \"\", Responses!A60)","v":""},{"$f":"IF(ISBLANK(Responses!B60), \"\", Responses!B60)","v":""},{"$f":"IF(ISBLANK(Responses!AX60), \"\", Responses!AX60)","v":""},{"$f":"IF(ISBLANK(Responses!AY60), \"\", Responses!AY60)","v":""},{"$f":"IF(ISBLANK(Responses!AZ60), \"\", Responses!AZ60)","v":""},{"$error":"#N/A"},{"$error":"#N/A"},{"$f":"IF(ISBLANK(C60),0,VLOOKUP(C60,LUTs!$A$6:$B$8,2))","v":{"$error":"#N/A"}},{"$f":"IF(ISBLANK(D60),0,VLOOKUP(D60,LUTs!$A$6:$B$8,2))","v":{"$error":"#N/A"}},{"$f":"IF(ISBLANK(E60),0,VLOOKUP(E60,LUTs!$A$6:$B$8,2))","v":{"$error":"#N/A"}}]
[{"$f":"IF(ISBLANK(Responses!A61), \"\", Responses!A61)","v":""},{"$f":"IF(ISBLANK(Responses!B61), \"\", Responses!B61)","v":""},{"$f":"IF(ISBLANK(Responses!AX61), \"\", Responses!AX61)","v":""},{"$f":"IF(ISBLANK(Responses!AY61), \"\", Responses!AY61)","v":""},{"$f":"IF(ISBLANK(Responses!AZ61), \"\", Responses!AZ61)","v":""},{"$error":"#N/A"},{"$error":"#N/A"},{"$f":"IF(ISBLANK(C61),0,VLOOKUP(C61,LUTs!$A$6:$B$8,2))","v":{"$error":"#N/A"}},{"$f":"IF(ISBLANK(D61),0,VLOOKUP(D61,LUTs!$A$6:$B$8,2))","v":{"$error":"#N/A"}},{"$f":"IF(ISBLANK(E61),0,VLOOKUP(E61,LUTs!$A$6:$B$8,2))","v":{"$error":"#N/A"}}]
[{"$f":"IF(ISBLANK(Responses!A62), \"\", Responses!A62)","v":""},{"$f":"IF(ISBLANK(Responses!B62), \"\", Responses!B62)","v":""},{"$f":"IF(ISBLANK(Responses!AX62), \"\", Responses!AX62)","v":""},{"$f":"IF(ISBLANK(Responses!AY62), \"\", Responses!AY62)","v":""},{"$f":"IF(ISBLANK(Responses!AZ62), \"\", Responses!AZ62)","v":""},{"$error":"#N/A"},{"$error":"#N/A"},{"$f":"IF(ISBLANK(C62),0,VLOOKUP(C62,LUTs!$A$6:$B$8,2))","v":{"$error":"#N/A"}},{"$f":"IF(ISBLANK(D62),0,VLOOKUP(D62,LUTs!$A$6:$B$8,2))","v":{"$error":"#N/A"}},{"$f":"IF(ISBLANK(E62),0,VLOOKUP(E62,LUTs!$A$6:$B$8,2))","v":{"$error":"#N/A"}}]
[{"$f":"IF(ISBLANK(Responses!A63), \"\", Responses!A63)","v":""},{"$f":"IF(ISBLANK(Responses!B63), \"\", Responses!B63)","v":""},{"$f":"IF(ISBLANK(Responses!AX63), \"\", Responses!AX63)","v":""},{"$f":"IF(ISBLANK(Responses!AY63), \"\", Responses!AY63)","v":""},{"$f":"IF(ISBLANK(Responses!AZ63), \"\", Responses!AZ63)","v":""},{"$error":"#N/A"},{"$error":"#N/A"},{"$f":"IF(ISBLANK(C63),0,VLOOKUP(C63,LUTs!$A$6:$B$8,2))","v":{"$error":"#N/A"}},{"$f":"IF(ISBLANK(D63),0,VLOOKUP(D63,LUTs!$A$6:$B$8,2))","v":{"$error":"#N/A"}},{"$f":"IF(ISBLANK(E63),0,VLOOKUP(E63,LUTs!$A$6:$B$8,2))","v":{"$error":"#N/A"}}]
[{"$f":"IF(ISBLANK(Responses!A64), \"\", Responses!A64)","v":""},{"$f":"IF(ISBLANK(Responses!B64), \"\", Responses!B64)","v":""},{"$f":"IF(ISBLANK(Responses!AX64), \"\", Responses!AX64)","v":""},{"$f":"IF(ISBLANK(Responses!AY64), \"\", Responses!AY64)","v":""},{"$f":"IF(ISBLANK(Responses!AZ64), \"\", Responses!AZ64)","v":""},{"$error":"#N/A"},{"$error":"#N/A"},{"$f":"IF(ISBLANK(C64),0,VLOOKUP(C64,LUTs!$A$6:$B$8,2))","v":{"$error":"#N/A"}},{"$f":"IF(ISBLANK(D64),0,VLOOKUP(D64,LUTs!$A$6:$B$8,2))","v":{"$error":"#N/A"}},{"$f":"IF(ISBLANK(E64),0,VLOOKUP(E64,LUTs!$A$6:$B$8,2))","v":{"$error":"#N/A"}}]
[{"$f":"IF(ISBLANK(Responses!A65), \"\", Responses!A65)","v":""},{"$f":"IF(ISBLANK(Responses!B65), \"\", Responses!B65)","v":""},{"$f":"IF(ISBLANK(Responses!AX65), \"\", Responses!AX65)","v":""},{"$f":"IF(ISBLANK(Responses!AY65), \"\", Responses!AY65)","v":""},{"$f":"IF(ISBLANK(Responses!AZ65), \"\", Responses!AZ65)","v":""},{"$error":"#N/A"},{"$error":"#N/A"},{"$f":"IF(ISBLANK(C65),0,VLOOKUP(C65,LUTs!$A$6:$B$8,2))","v":{"$error":"#N/A"}},{"$f":"IF(ISBLANK(D65),0,VLOOKUP(D65,LUTs!$A$6:$B$8,2))","v":{"$error":"#N/A"}},{"$f":"IF(ISBLANK(E65),0,VLOOKUP(E65,LUTs!$A$6:$B$8,2))","v":{"$error":"#N/A"}}]
[{"$f":"IF(ISBLANK(Responses!A66), \"\", Responses!A66)","v":""},{"$f":"IF(ISBLANK(Responses!B66), \"\", Responses!B66)","v":""},{"$f":"IF(ISBLANK(Responses!AX66), \"\", Responses!AX66)","v":""},{"$f":"IF(ISBLANK(Responses!AY66), \"\", Responses!AY66)","v":""},{"$f":"IF(ISBLANK(Responses!AZ66), \"\", Responses!AZ66)","v":""},{"$error":"#N/A"},{"$error":"#N/A"},{"$f":"IF(ISBLANK(C66),0,VLOOKUP(C66,LUTs!$A$6:$B$8,2))","v":{"$error":"#N/A"}},{"$f":"IF(ISBLANK(D66),0,VLOOKUP(D66,LUTs!$A$6:$B$8,2))","v":{"$error":"#N/A"}},{"$f":"IF(ISBLANK(E66),0,VLOOKUP(E66,LUTs!$A$6:$B$8,2))","v":{"$error":"#N/A"}}]
[{"$f":"IF(ISBLANK(Responses!A67), \"\", Responses!A67)","v":""},{"$f":"IF(ISBLANK(Responses!B67), \"\", Responses!B67)","v":""},{"$f":"IF(ISBLANK(Responses!AX67), \"\", Responses!AX67)","v":""},{"$f":"IF(ISBLANK(Responses!AY67), \"\", Responses!AY67)","v":""},{"$f":"IF(ISBLANK(Responses!AZ67), \"\", Responses!AZ67)","v":""},{"$error":"#N/A"},{"$error":"#N/A"},{"$f":"IF(ISBLANK(C67),0,VLOOKUP(C67,LUTs!$A$6:$B$8,2))","v":{"$error":"#N/A"}},{"$f":"IF(ISBLANK(D67),0,VLOOKUP(D67,LUTs!$A$6:$B$8,2))","v":{"$error":"#N/A"}},{"$f":"IF(ISBLANK(E67),0,VLOOKUP(E67,LUTs!$A$6:$B$8,2))","v":{"$error":"#N/A"}}]
[{"$f":"IF(ISBLANK(Responses!A68), \"\", Responses!A68)","v":""},{"$f":"IF(ISBLANK(Responses!B68), \"\", Responses!B68)","v":""},{"$f":"IF(ISBLANK(Responses!AX68), \"\", Responses!AX68)","v":""},{"$f":"IF(ISBLANK(Responses!AY68), \"\", Responses!AY68)","v":""},{"$f":"IF(ISBLANK(Responses!AZ68), \"\", Responses!AZ68)","v":""},{"$error":"#N/A"},{"$error":"#N/A"},{"$f":"IF(ISBLANK(C68),0,VLOOKUP(C68,LUTs!$A$6:$B$8,2))","v":{"$error":"#N/A"}},{"$f":"IF(ISBLANK(D68),0,VLOOKUP(D68,LUTs!$A$6:$B$8,2))","v":{"$error":"#N/A"}},{"$f":"IF(ISBLANK(E68),0,VLOOKUP(E68,LUTs!$A$6:$B$8,2))","v":{"$error":"#N/A"}}]
[{"$f":"IF(ISBLANK(Responses!A69), \"\", Responses!A69)","v":""},{"$f":"IF(ISBLANK(Responses!B69), \"\", Responses!B69)","v":""},{"$f":"IF(ISBLANK(Responses!AX69), \"\", Responses!AX69)","v":""},{"$f":"IF(ISBLANK(Responses!AY69), \"\", Responses!AY69)","v":""},{"$f":"IF(ISBLANK(Responses!AZ69), \"\", Responses!AZ69)","v":""},{"$error":"#N/A"},{"$error":"#N/A"},{"$f":"IF(ISBLANK(C69),0,VLOOKUP(C69,LUTs!$A$6:$B$8,2))","v":{"$error":"#N/A"}},{"$f":"IF(ISBLANK(D69),0,VLOOKUP(D69,LUTs!$A$6:$B$8,2))","v":{"$error":"#N/A"}},{"$f":"IF(ISBLANK(E69),0,VLOOKUP(E69,LUTs!$A$6:$B$8,2))","v":{"$error":"#N/A"}}]
[{"$f":"IF(ISBLANK(Responses!A70), \"\", Responses!A70)","v":""},{"$f":"IF(ISBLANK(Responses!B70), \"\", Responses!B70)","v":""},{"$f":"IF(ISBLANK(Responses!AX70), \"\", Responses!AX70)","v":""},{"$f":"IF(ISBLANK(Responses!AY70), \"\", Responses!AY70)","v":""},{"$f":"IF(ISBLANK(Responses!AZ70), \"\", Responses!AZ70)","v":""},{"$error":"#N/A"},{"$error":"#N/A"},{"$f":"IF(ISBLANK(C70),0,VLOOKUP(C70,LUTs!$A$6:$B$8,2))","v":{"$error":"#N/A"}},{"$f":"IF(ISBLANK(D70),0,VLOOKUP(D70,LUTs!$A$6:$B$8,2))","v":{"$error":"#N/A"}},{"$f":"IF(ISBLANK(E70),0,VLOOKUP(E70,LUTs!$A$6:$B$8,2))","v":{"$error":"#N/A"}}]
[{"$f":"IF(ISBLANK(Responses!A71), \"\", Responses!A71)","v":""},{"$f":"IF(ISBLANK(Responses!B71), \"\", Responses!B71)","v":""},{"$f":"IF(ISBLANK(Responses!AX71), \"\", Responses!AX71)","v":""},{"$f":"IF(ISBLANK(Responses!AY71), \"\", Responses!AY71)","v":""},{"$f":"IF(ISBLANK(Responses!AZ71), \"\", Responses!AZ71)","v":""},{"$error":"#N/A"},{"$error":"#N/A"},{"$f":"IF(ISBLANK(C71),0,VLOOKUP(C71,LUTs!$A$6:$B$8,2))","v":{"$error":"#N/A"}},{"$f":"IF(ISBLANK(D71),0,VLOOKUP(D71,LUTs!$A$6:$B$8,2))","v":{"$error":"#N/A"}},{"$f":"IF(ISBLANK(E71),0,VLOOKUP(E71,LUTs!$A$6:$B$8,2))","v":{"$error":"#N/A"}}]
[{"$f":"IF(ISBLANK(Responses!A72), \"\", Responses!A72)","v":""},{"$f":"IF(ISBLANK(Responses!B72), \"\", Responses!B72)","v":""},{"$f":"IF(ISBLANK(Responses!AX72), \"\", Responses!AX72)","v":""},{"$f":"IF(ISBLANK(Responses!AY72), \"\", Responses!AY72)","v":""},{"$f":"IF(ISBLANK(Responses!AZ72), \"\", Responses!AZ72)","v":""},{"$error":"#N/A"},{"$error":"#N/A"},{"$f":"IF(ISBLANK(C72),0,VLOOKUP(C72,LUTs!$A$6:$B$8,2))","v":{"$error":"#N/A"}},{"$f":"IF(ISBLANK(D72),0,VLOOKUP(D72,LUTs!$A$6:$B$8,2))","v":{"$error":"#N/A"}},{"$f":"IF(ISBLANK(E72),0,VLOOKUP(E72,LUTs!$A$6:$B$8,2))","v":{"$error":"#N/A"}}]
[{"$f":"IF(ISBLANK(Responses!A73), \"\", Responses!A73)","v":""},{"$f":"IF(ISBLANK(Responses!B73), \"\", Responses!B73)","v":""},{"$f":"IF(ISBLANK(Responses!AX73), \"\", Responses!AX73)","v":""},{"$f":"IF(ISBLANK(Responses!AY73), \"\", Responses!AY73)","v":""},{"$f":"IF(ISBLANK(Responses!AZ73), \"\", Responses!AZ73)","v":""},{"$error":"#N/A"},{"$error":"#N/A"},{"$f":"IF(ISBLANK(C73),0,VLOOKUP(C73,LUTs!$A$6:$B$8,2))","v":{"$error":"#N/A"}},{"$f":"IF(ISBLANK(D73),0,VLOOKUP(D73,LUTs!$A$6:$B$8,2))","v":{"$error":"#N/A"}},{"$f":"IF(ISBLANK(E73),0,VLOOKUP(E73,LUTs!$A$6:$B$8,2))","v":{"$error":"#N/A"}}]
[{"$f":"IF(ISBLANK(Responses!A74), \"\", Responses!A74)","v":""},{"$f":"IF(ISBLANK(Responses!B74), \"\", Responses!B74)","v":""},{"$f":"IF(ISBLANK(Responses!AX74), \"\", Responses!AX74)","v":""},{"$f":"IF(ISBLANK(Responses!AY74), \"\", Responses!AY74)","v":""},{"$f":"IF(ISBLANK(Responses!AZ74), \"\", Responses!AZ74)","v":""},{"$error":"#N/A"},{"$error":"#N/A"},{"$f":"IF(ISBLANK(C74),0,VLOOKUP(C74,LUTs!$A$6:$B$8,2))","v":{"$error":"#N/A"}},{"$f":"IF(ISBLANK(D74),0,VLOOKUP(D74,LUTs!$A$6:$B$8,2))","v":{"$error":"#N/A"}},{"$f":"IF(ISBLANK(E74),0,VLOOKUP(E74,LUTs!$A$6:$B$8,2))","v":{"$error":"#N/A"}}]
[{"$f":"IF(ISBLANK(Responses!A75), \"\", Responses!A75)","v":""},{"$f":"IF(ISBLANK(Responses!B75), \"\", Responses!B75)","v":""},{"$f":"IF(ISBLANK(Responses!AX75), \"\", Responses!AX75)","v":""},{"$f":"IF(ISBLANK(Responses!AY75), \"\", Responses!AY75)","v":""},{"$f":"IF(ISBLANK(Responses!AZ75), \"\", Responses!AZ75)","v":""},{"$error":"#N/A"},{"$error":"#N/A"},{"$f":"IF(ISBLANK(C75),0,VLOOKUP(C75,LUTs!$A$6:$B$8,2))","v":{"$error":"#N/A"}},{"$f":"IF(ISBLANK(D75),0,VLOOKUP(D75,LUTs!$A$6:$B$8,2))","v":{"$error":"#N/A"}},{"$f":"IF(ISBLANK(E75),0,VLOOKUP(E75,LUTs!$A$6:$B$8,2))","v":{"$error":"#N/A"}}]
[{"$f":"IF(ISBLANK(Responses!A76), \"\", Responses!A76)","v":""},{"$f":"IF(ISBLANK(Responses!B76), \"\", Responses!B76)","v":""},{"$f":"IF(ISBLANK(Responses!AX76), \"\", Responses!AX76)","v":""},{"$f":"IF(ISBLANK(Responses!AY76), \"\", Responses!AY76)","v":""},{"$f":"IF(ISBLANK(Responses!AZ76), \"\", Responses!AZ76)","v":""},{"$error":"#N/A"},{"$error":"#N/A"},{"$f":"IF(ISBLANK(C76),0,VLOOKUP(C76,LUTs!$A$6:$B$8,2))","v":{"$error":"#N/A"}},{"$f":"IF(ISBLANK(D76),0,VLOOKUP(D76,LUTs!$A$6:$B$8,2))","v":{"$error":"#N/A"}},{"$f":"IF(ISBLANK(E76),0,VLOOKUP(E76,LUTs!$A$6:$B$8,2))","v":{"$error":"#N/A"}}]
[{"$f":"IF(ISBLANK(Responses!A77), \"\", Responses!A77)","v":""},{"$f":"IF(ISBLANK(Responses!B77), \"\", Responses!B77)","v":""},{"$f":"IF(ISBLANK(Responses!AX77), \"\", Responses!AX77)","v":""},{"$f":"IF(ISBLANK(Responses!AY77), \"\", Responses!AY77)","v":""},{"$f":"IF(ISBLANK(Responses!AZ77), \"\", Responses!AZ77)","v":""},{"$error":"#N/A"},{"$error":"#N/A"},{"$f":"IF(ISBLANK(C77),0,VLOOKUP(C77,LUTs!$A$6:$B$8,2))","v":{"$error":"#N/A"}},{"$f":"IF(ISBLANK(D77),0,VLOOKUP(D77,LUTs!$A$6:$B$8,2))","v":{"$error":"#N/A"}},{"$f":"IF(ISBLANK(E77),0,VLOOKUP(E77,LUTs!$A$6:$B$8,2))","v":{"$error":"#N/A"}}]
[{"$f":"IF(ISBLANK(Responses!A78), \"\", Responses!A78)","v":""},{"$f":"IF(ISBLANK(Responses!B78), \"\", Responses!B78)","v":""},{"$f":"IF(ISBLANK(Responses!AX78), \"\", Responses!AX78)","v":""},{"$f":"IF(ISBLANK(Responses!AY78), \"\", Responses!AY78)","v":""},{"$f":"IF(ISBLANK(Responses!AZ78), \"\", Responses!AZ78)","v":""},{"$error":"#N/A"},{"$error":"#N/A"},{"$f":"IF(ISBLANK(C78),0,VLOOKUP(C78,LUTs!$A$6:$B$8,2))","v":{"$error":"#N/A"}},{"$f":"IF(ISBLANK(D78),0,VLOOKUP(D78,LUTs!$A$6:$B$8,2))","v":{"$error":"#N/A"}},{"$f":"IF(ISBLANK(E78),0,VLOOKUP(E78,LUTs!$A$6:$B$8,2))","v":{"$error":"#N/A"}}]
[{"$f":"IF(ISBLANK(Responses!A79), \"\", Responses!A79)","v":""},{"$f":"IF(ISBLANK(Responses!B79), \"\", Responses!B79)","v":""},{"$f":"IF(ISBLANK(Responses!AX79), \"\", Responses!AX79)","v":""},{"$f":"IF(ISBLANK(Responses!AY79), \"\", Responses!AY79)","v":""},{"$f":"IF(ISBLANK(Responses!AZ79), \"\", Responses!AZ79)","v":""},{"$error":"#N/A"},{"$error":"#N/A"},{"$f":"IF(ISBLANK(C79),0,VLOOKUP(C79,LUTs!$A$6:$B$8,2))","v":{"$error":"#N/A"}},{"$f":"IF(ISBLANK(D79),0,VLOOKUP(D79,LUTs!$A$6:$B$8,2))","v":{"$error":"#N/A"}},{"$f":"IF(ISBLANK(E79),0,VLOOKUP(E79,LUTs!$A$6:$B$8,2))","v":{"$error":"#N/A"}}]
[{"$f":"IF(ISBLANK(Responses!A80), \"\", Responses!A80)","v":""},{"$f":"IF(ISBLANK(Responses!B80), \"\", Responses!B80)","v":""},{"$f":"IF(ISBLANK(Responses!AX80), \"\", Responses!AX80)","v":""},{"$f":"IF(ISBLANK(Responses!AY80), \"\", Responses!AY80)","v":""},{"$f":"IF(ISBLANK(Responses!AZ80), \"\", Responses!AZ80)","v":""},{"$error":"#N/A"},{"$error":"#N/A"},{"$f":"IF(ISBLANK(C80),0,VLOOKUP(C80,LUTs!$A$6:$B$8,2))","v":{"$error":"#N/A"}},{"$f":"IF(ISBLANK(D80),0,VLOOKUP(D80,LUTs!$A$6:$B$8,2))","v":{"$error":"#N/A"}},{"$f":"IF(ISBLANK(E80),0,VLOOKUP(E80,LUTs!$A$6:$B$8,2))","v":{"$error":"#N/A"}}]
[{"$f":"IF(ISBLANK(Responses!A81), \"\", Responses!A81)","v":""},{"$f":"IF(ISBLANK(Responses!B81), \"\", Responses!B81)","v":""},{"$f":"IF(ISBLANK(Responses!AX81), \"\", Responses!AX81)","v":""},{"$f":"IF(ISBLANK(Responses!AY81), \"\", Responses!AY81)","v":""},{"$f":"IF(ISBLANK(Responses!AZ81), \"\", Responses!AZ81)","v":""},{"$error":"#N/A"},{"$error":"#N/A"},{"$f":"IF(ISBLANK(C81),0,VLOOKUP(C81,LUTs!$A$6:$B$8,2))","v":{"$error":"#N/A"}},{"$f":"IF(ISBLANK(D81),0,VLOOKUP(D81,LUTs!$A$6:$B$8,2))","v":{"$error":"#N/A"}},{"$f":"IF(ISBLANK(E81),0,VLOOKUP(E81,LUTs!$A$6:$B$8,2))","v":{"$error":"#N/A"}}]
[{"$f":"IF(ISBLANK(Responses!A82), \"\", Responses!A82)","v":""},{"$f":"IF(ISBLANK(Responses!B82), \"\", Responses!B82)","v":""},{"$f":"IF(ISBLANK(Responses!AX82), \"\", Responses!AX82)","v":""},{"$f":"IF(ISBLANK(Responses!AY82), \"\", Responses!AY82)","v":""},{"$f":"IF(ISBLANK(Responses!AZ82), \"\", Responses!AZ82)","v":""},{"$error":"#N/A"},{"$error":"#N/A"},{"$f":"IF(ISBLANK(C82),0,VLOOKUP(C82,LUTs!$A$6:$B$8,2))","v":{"$error":"#N/A"}},{"$f":"IF(ISBLANK(D82),0,VLOOKUP(D82,LUTs!$A$6:$B$8,2))","v":{"$error":"#N/A"}},{"$f":"IF(ISBLANK(E82),0,VLOOKUP(E82,LUTs!$A$6:$B$8,2))","v":{"$error":"#N/A"}}]
[{"$f":"IF(ISBLANK(Responses!A83), \"\", Responses!A83)","v":""},{"$f":"IF(ISBLANK(Responses!B83), \"\", Responses!B83)","v":""},{"$f":"IF(ISBLANK(Responses!AX83), \"\", Responses!AX83)","v":""},{"$f":"IF(ISBLANK(Responses!AY83), \"\", Responses!AY83)","v":""},{"$f":"IF(ISBLANK(Responses!AZ83), \"\", Responses!AZ83)","v":""},{"$error":"#N/A"},{"$error":"#N/A"},{"$f":"IF(ISBLANK(C83),0,VLOOKUP(C83,LUTs!$A$6:$B$8,2))","v":{"$error":"#N/A"}},{"$f":"IF(ISBLANK(D83),0,VLOOKUP(D83,LUTs!$A$6:$B$8,2))","v":{"$error":"#N/A"}},{"$f":"IF(ISBLANK(E83),0,VLOOKUP(E83,LUTs!$A$6:$B$8,2))","v":{"$error":"#N/A"}}]
[{"$f":"IF(ISBLANK(Responses!A84), \"\", Responses!A84)","v":""},{"$f":"IF(ISBLANK(Responses!B84), \"\", Responses!B84)","v":""},{"$f":"IF(ISBLANK(Responses!AX84), \"\", Responses!AX84)","v":""},{"$f":"IF(ISBLANK(Responses!AY84), \"\", Responses!AY84)","v":""},{"$f":"IF(ISBLANK(Responses!AZ84), \"\", Responses!AZ84)","v":""},{"$error":"#N/A"},{"$error":"#N/A"},{"$f":"IF(ISBLANK(C84),0,VLOOKUP(C84,LUTs!$A$6:$B$8,2))","v":{"$error":"#N/A"}},{"$f":"IF(ISBLANK(D84),0,VLOOKUP(D84,LUTs!$A$6:$B$8,2))","v":{"$error":"#N/A"}},{"$f":"IF(ISBLANK(E84),0,VLOOKUP(E84,LUTs!$A$6:$B$8,2))","v":{"$error":"#N/A"}}]
[{"$f":"IF(ISBLANK(Responses!A85), \"\", Responses!A85)","v":""},{"$f":"IF(ISBLANK(Responses!B85), \"\", Responses!B85)","v":""},{"$f":"IF(ISBLANK(Responses!AX85), \"\", Responses!AX85)","v":""},{"$f":"IF(ISBLANK(Responses!AY85), \"\", Responses!AY85)","v":""},{"$f":"IF(ISBLANK(Responses!AZ85), \"\", Responses!AZ85)","v":""},{"$error":"#N/A"},{"$error":"#N/A"},{"$f":"IF(ISBLANK(C85),0,VLOOKUP(C85,LUTs!$A$6:$B$8,2))","v":{"$error":"#N/A"}},{"$f":"IF(ISBLANK(D85),0,VLOOKUP(D85,LUTs!$A$6:$B$8,2))","v":{"$error":"#N/A"}},{"$f":"IF(ISBLANK(E85),0,VLOOKUP(E85,LUTs!$A$6:$B$8,2))","v":{"$error":"#N/A"}}]
[{"$f":"IF(ISBLANK(Responses!A86), \"\", Responses!A86)","v":""},{"$f":"IF(ISBLANK(Responses!B86), \"\", Responses!B86)","v":""},{"$f":"IF(ISBLANK(Responses!AX86), \"\", Responses!AX86)","v":""},{"$f":"IF(ISBLANK(Responses!AY86), \"\", Responses!AY86)","v":""},{"$f":"IF(ISBLANK(Responses!AZ86), \"\", Responses!AZ86)","v":""},{"$error":"#N/A"},{"$error":"#N/A"},{"$f":"IF(ISBLANK(C86),0,VLOOKUP(C86,LUTs!$A$6:$B$8,2))","v":{"$error":"#N/A"}},{"$f":"IF(ISBLANK(D86),0,VLOOKUP(D86,LUTs!$A$6:$B$8,2))","v":{"$error":"#N/A"}},{"$f":"IF(ISBLANK(E86),0,VLOOKUP(E86,LUTs!$A$6:$B$8,2))","v":{"$error":"#N/A"}}]
[{"$f":"IF(ISBLANK(Responses!A87), \"\", Responses!A87)","v":""},{"$f":"IF(ISBLANK(Responses!B87), \"\", Responses!B87)","v":""},{"$f":"IF(ISBLANK(Responses!AX87), \"\", Responses!AX87)","v":""},{"$f":"IF(ISBLANK(Responses!AY87), \"\", Responses!AY87)","v":""},{"$f":"IF(ISBLANK(Responses!AZ87), \"\", Responses!AZ87)","v":""},{"$error":"#N/A"},{"$error":"#N/A"},{"$f":"IF(ISBLANK(C87),0,VLOOKUP(C87,LUTs!$A$6:$B$8,2))","v":{"$error":"#N/A"}},{"$f":"IF(ISBLANK(D87),0,VLOOKUP(D87,LUTs!$A$6:$B$8,2))","v":{"$error":"#N/A"}},{"$f":"IF(ISBLANK(E87),0,VLOOKUP(E87,LUTs!$A$6:$B$8,2))","v":{"$error":"#N/A"}}]
[{"$f":"IF(ISBLANK(Responses!A88), \"\", Responses!A88)","v":""},{"$f":"IF(ISBLANK(Responses!B88), \"\", Responses!B88)","v":""},{"$f":"IF(ISBLANK(Responses!AX88), \"\", Responses!AX88)","v":""},{"$f":"IF(ISBLANK(Responses!AY88), \"\", Responses!AY88)","v":""},{"$f":"IF(ISBLANK(Responses!AZ88), \"\", Responses!AZ88)","v":""},{"$error":"#N/A"},{"$error":"#N/A"},{"$f":"IF(ISBLANK(C88),0,VLOOKUP(C88,LUTs!$A$6:$B$8,2))","v":{"$error":"#N/A"}},{"$f":"IF(ISBLANK(D88),0,VLOOKUP(D88,LUTs!$A$6:$B$8,2))","v":{"$error":"#N/A"}},{"$f":"IF(ISBLANK(E88),0,VLOOKUP(E88,LUTs!$A$6:$B$8,2))","v":{"$error":"#N/A"}}]
[{"$f":"IF(ISBLANK(Responses!A89), \"\", Responses!A89)","v":""},{"$f":"IF(ISBLANK(Responses!B89), \"\", Responses!B89)","v":""},{"$f":"IF(ISBLANK(Responses!AX89), \"\", Responses!AX89)","v":""},{"$f":"IF(ISBLANK(Responses!AY89), \"\", Responses!AY89)","v":""},{"$f":"IF(ISBLANK(Responses!AZ89), \"\", Responses!AZ89)","v":""},{"$error":"#N/A"},{"$error":"#N/A"},{"$f":"IF(ISBLANK(C89),0,VLOOKUP(C89,LUTs!$A$6:$B$8,2))","v":{"$error":"#N/A"}},{"$f":"IF(ISBLANK(D89),0,VLOOKUP(D89,LUTs!$A$6:$B$8,2))","v":{"$error":"#N/A"}},{"$f":"IF(ISBLANK(E89),0,VLOOKUP(E89,LUTs!$A$6:$B$8,2))","v":{"$error":"#N/A"}}]
[{"$f":"IF(ISBLANK(Responses!A90), \"\", Responses!A90)","v":""},{"$f":"IF(ISBLANK(Responses!B90), \"\", Responses!B90)","v":""},{"$f":"IF(ISBLANK(Responses!AX90), \"\", Responses!AX90)","v":""},{"$f":"IF(ISBLANK(Responses!AY90), \"\", Responses!AY90)","v":""},{"$f":"IF(ISBLANK(Responses!AZ90), \"\", Responses!AZ90)","v":""},{"$error":"#N/A"},{"$error":"#N/A"},{"$f":"IF(ISBLANK(C90),0,VLOOKUP(C90,LUTs!$A$6:$B$8,2))","v":{"$error":"#N/A"}},{"$f":"IF(ISBLANK(D90),0,VLOOKUP(D90,LUTs!$A$6:$B$8,2))","v":{"$error":"#N/A"}},{"$f":"IF(ISBLANK(E90),0,VLOOKUP(E90,LUTs!$A$6:$B$8,2))","v":{"$error":"#N/A"}}]
[{"$f":"IF(ISBLANK(Responses!A91), \"\", Responses!A91)","v":""},{"$f":"IF(ISBLANK(Responses!B91), \"\", Responses!B91)","v":""},{"$f":"IF(ISBLANK(Responses!AX91), \"\", Responses!AX91)","v":""},{"$f":"IF(ISBLANK(Responses!AY91), \"\", Responses!AY91)","v":""},{"$f":"IF(ISBLANK(Responses!AZ91), \"\", Responses!AZ91)","v":""},{"$error":"#N/A"},{"$error":"#N/A"},{"$f":"IF(ISBLANK(C91),0,VLOOKUP(C91,LUTs!$A$6:$B$8,2))","v":{"$error":"#N/A"}},{"$f":"IF(ISBLANK(D91),0,VLOOKUP(D91,LUTs!$A$6:$B$8,2))","v":{"$error":"#N/A"}},{"$f":"IF(ISBLANK(E91),0,VLOOKUP(E91,LUTs!$A$6:$B$8,2))","v":{"$error":"#N/A"}}]
[{"$f":"IF(ISBLANK(Responses!A92), \"\", Responses!A92)","v":""},{"$f":"IF(ISBLANK(Responses!B92), \"\", Responses!B92)","v":""},{"$f":"IF(ISBLANK(Responses!AX92), \"\", Responses!AX92)","v":""},{"$f":"IF(ISBLANK(Responses!AY92), \"\", Responses!AY92)","v":""},{"$f":"IF(ISBLANK(Responses!AZ92), \"\", Responses!AZ92)","v":""},{"$error":"#N/A"},{"$error":"#N/A"},{"$f":"IF(ISBLANK(C92),0,VLOOKUP(C92,LUTs!$A$6:$B$8,2))","v":{"$error":"#N/A"}},{"$f":"IF(ISBLANK(D92),0,VLOOKUP(D92,LUTs!$A$6:$B$8,2))","v":{"$error":"#N/A"}},{"$f":"IF(ISBLANK(E92),0,VLOOKUP(E92,LUTs!$A$6:$B$8,2))","v":{"$error":"#N/A"}}]
[{"$f":"IF(ISBLANK(Responses!A93), \"\", Responses!A93)","v":""},{"$f":"IF(ISBLANK(Responses!B93), \"\", Responses!B93)","v":""},{"$f":"IF(ISBLANK(Responses!AX93), \"\", Responses!AX93)","v":""},{"$f":"IF(ISBLANK(Responses!AY93), \"\", Responses!AY93)","v":""},{"$f":"IF(ISBLANK(Responses!AZ93), \"\", Responses!AZ93)","v":""},{"$error":"#N/A"},{"$error":"#N/A"},{"$f":"IF(ISBLANK(C93),0,VLOOKUP(C93,LUTs!$A$6:$B$8,2))","v":{"$error":"#N/A"}},{"$f":"IF(ISBLANK(D93),0,VLOOKUP(D93,LUTs!$A$6:$B$8,2))","v":{"$error":"#N/A"}},{"$f":"IF(ISBLANK(E93),0,VLOOKUP(E93,LUTs!$A$6:$B$8,2))","v":{"$error":"#N/A"}}]
[{"$f":"IF(ISBLANK(Responses!A94), \"\", Responses!A94)","v":""},{"$f":"IF(ISBLANK(Responses!B94), \"\", Responses!B94)","v":""},{"$f":"IF(ISBLANK(Responses!AX94), \"\", Responses!AX94)","v":""},{"$f":"IF(ISBLANK(Responses!AY94), \"\", Responses!AY94)","v":""},{"$f":"IF(ISBLANK(Responses!AZ94), \"\", Responses!AZ94)","v":""},{"$error":"#N/A"},{"$error":"#N/A"},{"$f":"IF(ISBLANK(C94),0,VLOOKUP(C94,LUTs!$A$6:$B$8,2))","v":{"$error":"#N/A"}},{"$f":"IF(ISBLANK(D94),0,VLOOKUP(D94,LUTs!$A$6:$B$8,2))","v":{"$error":"#N/A"}},{"$f":"IF(ISBLANK(E94),0,VLOOKUP(E94,LUTs!$A$6:$B$8,2))","v":{"$error":"#N/A"}}]
[{"$f":"IF(ISBLANK(Responses!A95), \"\", Responses!A95)","v":""},{"$f":"IF(ISBLANK(Responses!B95), \"\", Responses!B95)","v":""},{"$f":"IF(ISBLANK(Responses!AX95), \"\", Responses!AX95)","v":""},{"$f":"IF(ISBLANK(Responses!AY95), \"\", Responses!AY95)","v":""},{"$f":"IF(ISBLANK(Responses!AZ95), \"\", Responses!AZ95)","v":""},{"$error":"#N/A"},{"$error":"#N/A"},{"$f":"IF(ISBLANK(C95),0,VLOOKUP(C95,LUTs!$A$6:$B$8,2))","v":{"$error":"#N/A"}},{"$f":"IF(ISBLANK(D95),0,VLOOKUP(D95,LUTs!$A$6:$B$8,2))","v":{"$error":"#N/A"}},{"$f":"IF(ISBLANK(E95),0,VLOOKUP(E95,LUTs!$A$6:$B$8,2))","v":{"$error":"#N/A"}}]
[{"$f":"IF(ISBLANK(Responses!A96), \"\", Responses!A96)","v":""},{"$f":"IF(ISBLANK(Responses!B96), \"\", Responses!B96)","v":""},{"$f":"IF(ISBLANK(Responses!AX96), \"\", Responses!AX96)","v":""},{"$f":"IF(ISBLANK(Responses!AY96), \"\", Responses!AY96)","v":""},{"$f":"IF(ISBLANK(Responses!AZ96), \"\", Responses!AZ96)","v":""},{"$error":"#N/A"},{"$error":"#N/A"},{"$f":"IF(ISBLANK(C96),0,VLOOKUP(C96,LUTs!$A$6:$B$8,2))","v":{"$error":"#N/A"}},{"$f":"IF(ISBLANK(D96),0,VLOOKUP(D96,LUTs!$A$6:$B$8,2))","v":{"$error":"#N/A"}},{"$f":"IF(ISBLANK(E96),0,VLOOKUP(E96,LUTs!$A$6:$B$8,2))","v":{"$error":"#N/A"}}]
[{"$f":"IF(ISBLANK(Responses!A97), \"\", Responses!A97)","v":""},{"$f":"IF(ISBLANK(Responses!B97), \"\", Responses!B97)","v":""},{"$f":"IF(ISBLANK(Responses!AX97), \"\", Responses!AX97)","v":""},{"$f":"IF(ISBLANK(Responses!AY97), \"\", Responses!AY97)","v":""},{"$f":"IF(ISBLANK(Responses!AZ97), \"\", Responses!AZ97)","v":""},{"$error":"#N/A"},{"$error":"#N/A"},{"$f":"IF(ISBLANK(C97),0,VLOOKUP(C97,LUTs!$A$6:$B$8,2))","v":{"$error":"#N/A"}},{"$f":"IF(ISBLANK(D97),0,VLOOKUP(D97,LUTs!$A$6:$B$8,2))","v":{"$error":"#N/A"}},{"$f":"IF(ISBLANK(E97),0,VLOOKUP(E97,LUTs!$A$6:$B$8,2))","v":{"$error":"#N/A"}}]
[{"$f":"IF(ISBLANK(Responses!A98), \"\", Responses!A98)","v":""},{"$f":"IF(ISBLANK(Responses!B98), \"\", Responses!B98)","v":""},{"$f":"IF(ISBLANK(Responses!AX98), \"\", Responses!AX98)","v":""},{"$f":"IF(ISBLANK(Responses!AY98), \"\", Responses!AY98)","v":""},{"$f":"IF(ISBLANK(Responses!AZ98), \"\", Responses!AZ98)","v":""},{"$error":"#N/A"},{"$error":"#N/A"},{"$f":"IF(ISBLANK(C98),0,VLOOKUP(C98,LUTs!$A$6:$B$8,2))","v":{"$error":"#N/A"}},{"$f":"IF(ISBLANK(D98),0,VLOOKUP(D98,LUTs!$A$6:$B$8,2))","v":{"$error":"#N/A"}},{"$f":"IF(ISBLANK(E98),0,VLOOKUP(E98,LUTs!$A$6:$B$8,2))","v":{"$error":"#N/A"}}]
[{"$f":"IF(ISBLANK(Responses!A99), \"\", Responses!A99)","v":""},{"$f":"IF(ISBLANK(Responses!B99), \"\", Responses!B99)","v":""},{"$f":"IF(ISBLANK(Responses!AX99), \"\", Responses!AX99)","v":""},{"$f":"IF(ISBLANK(Responses!AY99), \"\", Responses!AY99)","v":""},{"$f":"IF(ISBLANK(Responses!AZ99), \"\", Responses!AZ99)","v":""},{"$error":"#N/A"},{"$error":"#N/A"},{"$f":"IF(ISBLANK(C99),0,VLOOKUP(C99,LUTs!$A$6:$B$8,2))","v":{"$error":"#N/A"}},{"$f":"IF(ISBLANK(D99),0,VLOOKUP(D99,LUTs!$A$6:$B$8,2))","v":{"$error":"#N/A"}},{"$f":"IF(ISBLANK(E99),0,VLOOKUP(E99,LUTs!$A$6:$B$8,2))","v":{"$error":"#N/A"}}]
[{"$f":"IF(ISBLANK(Responses!A100), \"\", Responses!A100)","v":""},{"$f":"IF(ISBLANK(Responses!B100), \"\", Responses!B100)","v":""},{"$f":"IF(ISBLANK(Responses!AX100), \"\", Responses!AX100)","v":""},{"$f":"IF(ISBLANK(Responses!AY100), \"\", Responses!AY100)","v":""},{"$f":"IF(ISBLANK(Responses!AZ100), \"\", Responses!AZ100)","v":""},{"$error":"#N/A"},{"$error":"#N/A"},{"$f":"IF(ISBLANK(C100),0,VLOOKUP(C100,LUTs!$A$6:$B$8,2))","v":{"$error":"#N/A"}},{"$f":"IF(ISBLANK(D100),0,VLOOKUP(D100,LUTs!$A$6:$B$8,2))","v":{"$error":"#N/A"}},{"$f":"IF(ISBLANK(E100),0,VLOOKUP(E100,LUTs!$A$6:$B$8,2))","v":{"$error":"#N/A"}}]
[{"$f":"IF(ISBLANK(Responses!A101), \"\", Responses!A101)","v":""},{"$f":"IF(ISBLANK(Responses!B101), \"\", Responses!B101)","v":""},{"$f":"IF(ISBLANK(Responses!AX101), \"\", Responses!AX101)","v":""},{"$f":"IF(ISBLANK(Responses!AY101), \"\", Responses!AY101)","v":""},{"$f":"IF(ISBLANK(Responses!AZ101), \"\", Responses!AZ101)","v":""},{"$error":"#N/A"},{"$error":"#N/A"},{"$f":"IF(ISBLANK(C101),0,VLOOKUP(C101,LUTs!$A$6:$B$8,2))","v":{"$error":"#N/A"}},{"$f":"IF(ISBLANK(D101),0,VLOOKUP(D101,LUTs!$A$6:$B$8,2))","v":{"$error":"#N/A"}},{"$f":"IF(ISBLANK(E101),0,VLOOKUP(E101,LUTs!$A$6:$B$8,2))","v":{"$error":"#N/A"}}]
[{"$f":"IF(ISBLANK(Responses!A102), \"\", Responses!A102)","v":""},{"$f":"IF(ISBLANK(Responses!B102), \"\", Responses!B102)","v":""},{"$f":"IF(ISBLANK(Responses!AX102), \"\", Responses!AX102)","v":""},{"$f":"IF(ISBLANK(Responses!AY102), \"\", Responses!AY102)","v":""},{"$f":"IF(ISBLANK(Responses!AZ102), \"\", Responses!AZ102)","v":""},{"$error":"#N/A"},{"$error":"#N/A"},{"$f":"IF(ISBLANK(C102),0,VLOOKUP(C102,LUTs!$A$6:$B$8,2))","v":{"$error":"#N/A"}},{"$f":"IF(ISBLANK(D102),0,VLOOKUP(D102,LUTs!$A$6:$B$8,2))","v":{"$error":"#N/A"}},{"$f":"IF(ISBLANK(E102),0,VLOOKUP(E102,LUTs!$A$6:$B$8,2))","v":{"$error":"#N/A"}}]
[{"$f":"IF(ISBLANK(Responses!A103), \"\", Responses!A103)","v":""},{"$f":"IF(ISBLANK(Responses!B103), \"\", Responses!B103)","v":""},{"$f":"IF(ISBLANK(Responses!AX103), \"\", Responses!AX103)","v":""},{"$f":"IF(ISBLANK(Responses!AY103), \"\", Responses!AY103)","v":""},{"$f":"IF(ISBLANK(Responses!AZ103), \"\", Responses!AZ103)","v":""},{"$error":"#N/A"},{"$error":"#N/A"},{"$f":"IF(ISBLANK(C103),0,VLOOKUP(C103,LUTs!$A$6:$B$8,2))","v":{"$error":"#N/A"}},{"$f":"IF(ISBLANK(D103),0,VLOOKUP(D103,LUTs!$A$6:$B$8,2))","v":{"$error":"#N/A"}},{"$f":"IF(ISBLANK(E103),0,VLOOKUP(E103,LUTs!$A$6:$B$8,2))","v":{"$error":"#N/A"}}]
[{"$f":"IF(ISBLANK(Responses!A104), \"\", Responses!A104)","v":""},{"$f":"IF(ISBLANK(Responses!B104), \"\", Responses!B104)","v":""},{"$f":"IF(ISBLANK(Responses!AX104), \"\", Responses!AX104)","v":""},{"$f":"IF(ISBLANK(Responses!AY104), \"\", Responses!AY104)","v":""},{"$f":"IF(ISBLANK(Responses!AZ104), \"\", Responses!AZ104)","v":""},{"$error":"#N/A"},{"$error":"#N/A"},{"$f":"IF(ISBLANK(C104),0,VLOOKUP(C104,LUTs!$A$6:$B$8,2))","v":{"$error":"#N/A"}},{"$f":"IF(ISBLANK(D104),0,VLOOKUP(D104,LUTs!$A$6:$B$8,2))","v":{"$error":"#N/A"}},{"$f":"IF(ISBLANK(E104),0,VLOOKUP(E104,LUTs!$A$6:$B$8,2))","v":{"$error":"#N/A"}}]
[{"$f":"IF(ISBLANK(Responses!A105), \"\", Responses!A105)","v":""},{"$f":"IF(ISBLANK(Responses!B105), \"\", Responses!B105)","v":""},{"$f":"IF(ISBLANK(Responses!AX105), \"\", Responses!AX105)","v":""},{"$f":"IF(ISBLANK(Responses!AY105), \"\", Responses!AY105)","v":""},{"$f":"IF(ISBLANK(Responses!AZ105), \"\", Responses!AZ105)","v":""},{"$error":"#N/A"},{"$error":"#N/A"},{"$f":"IF(ISBLANK(C105),0,VLOOKUP(C105,LUTs!$A$6:$B$8,2))","v":{"$error":"#N/A"}},{"$f":"IF(ISBLANK(D105),0,VLOOKUP(D105,LUTs!$A$6:$B$8,2))","v":{"$error":"#N/A"}},{"$f":"IF(ISBLANK(E105),0,VLOOKUP(E105,LUTs!$A$6:$B$8,2))","v":{"$error":"#N/A"}}]
[{"$f":"IF(ISBLANK(Responses!A106), \"\", Responses!A106)","v":""},{"$f":"IF(ISBLANK(Responses!B106), \"\", Responses!B106)","v":""},{"$f":"IF(ISBLANK(Responses!AX106), \"\", Responses!AX106)","v":""},{"$f":"IF(ISBLANK(Responses!AY106), \"\", Responses!AY106)","v":""},{"$f":"IF(ISBLANK(Responses!AZ106), \"\", Responses!AZ106)","v":""},{"$error":"#N/A"},{"$error":"#N/A"},{"$f":"IF(ISBLANK(C106),0,VLOOKUP(C106,LUTs!$A$6:$B$8,2))","v":{"$error":"#N/A"}},{"$f":"IF(ISBLANK(D106),0,VLOOKUP(D106,LUTs!$A$6:$B$8,2))","v":{"$error":"#N/A"}},{"$f":"IF(ISBLANK(E106),0,VLOOKUP(E106,LUTs!$A$6:$B$8,2))","v":{"$error":"#N/A"}}]
[{"$f":"IF(ISBLANK(Responses!A107), \"\", Responses!A107)","v":""},{"$f":"IF(ISBLANK(Responses!B107), \"\", Responses!B107)","v":""},{"$f":"IF(ISBLANK(Responses!AX107), \"\", Responses!AX107)","v":""},{"$f":"IF(ISBLANK(Responses!AY107), \"\", Responses!AY107)","v":""},{"$f":"IF(ISBLANK(Responses!AZ107), \"\", Responses!AZ107)","v":""},{"$error":"#N/A"},{"$error":"#N/A"},{"$f":"IF(ISBLANK(C107),0,VLOOKUP(C107,LUTs!$A$6:$B$8,2))","v":{"$error":"#N/A"}},{"$f":"IF(ISBLANK(D107),0,VLOOKUP(D107,LUTs!$A$6:$B$8,2))","v":{"$error":"#N/A"}},{"$f":"IF(ISBLANK(E107),0,VLOOKUP(E107,LUTs!$A$6:$B$8,2))","v":{"$error":"#N/A"}}]
[{"$f":"IF(ISBLANK(Responses!A108), \"\", Responses!A108)","v":""},{"$f":"IF(ISBLANK(Responses!B108), \"\", Responses!B108)","v":""},{"$f":"IF(ISBLANK(Responses!AX108), \"\", Responses!AX108)","v":""},{"$f":"IF(ISBLANK(Responses!AY108), \"\", Responses!AY108)","v":""},{"$f":"IF(ISBLANK(Responses!AZ108), \"\", Responses!AZ108)","v":""},{"$error":"#N/A"},{"$error":"#N/A"},{"$f":"IF(ISBLANK(C108),0,VLOOKUP(C108,LUTs!$A$6:$B$8,2))","v":{"$error":"#N/A"}},{"$f":"IF(ISBLANK(D108),0,VLOOKUP(D108,LUTs!$A$6:$B$8,2))","v":{"$error":"#N/A"}},{"$f":"IF(ISBLANK(E108),0,VLOOKUP(E108,LUTs!$A$6:$B$8,2))","v":{"$error":"#N/A"}}]
[{"$f":"IF(ISBLANK(Responses!A109), \"\", Responses!A109)","v":""},{"$f":"IF(ISBLANK(Responses!B109), \"\", Responses!B109)","v":""},{"$f":"IF(ISBLANK(Responses!AX109), \"\", Responses!AX109)","v":""},{"$f":"IF(ISBLANK(Responses!AY109), \"\", Responses!AY109)","v":""},{"$f":"IF(ISBLANK(Responses!AZ109), \"\", Responses!AZ109)","v":""},{"$error":"#N/A"},{"$error":"#N/A"},{"$f":"IF(ISBLANK(C109),0,VLOOKUP(C109,LUTs!$A$6:$B$8,2))","v":{"$error":"#N/A"}},{"$f":"IF(ISBLANK(D109),0,VLOOKUP(D109,LUTs!$A$6:$B$8,2))","v":{"$error":"#N/A"}},{"$f":"IF(ISBLANK(E109),0,VLOOKUP(E109,LUTs!$A$6:$B$8,2))","v":{"$error":"#N/A"}}]
[{"$f":"IF(ISBLANK(Responses!A110), \"\", Responses!A110)","v":""},{"$f":"IF(ISBLANK(Responses!B110), \"\", Responses!B110)","v":""},{"$f":"IF(ISBLANK(Responses!AX110), \"\", Responses!AX110)","v":""},{"$f":"IF(ISBLANK(Responses!AY110), \"\", Responses!AY110)","v":""},{"$f":"IF(ISBLANK(Responses!AZ110), \"\", Responses!AZ110)","v":""}]
[{"$f":"IF(ISBLANK(Responses!A111), \"\", Responses!A111)","v":""},{"$f":"IF(ISBLANK(Responses!B111), \"\", Responses!B111)","v":""},{"$f":"IF(ISBLANK(Responses!AX111), \"\", Responses!AX111)","v":""},{"$f":"IF(ISBLANK(Responses!AY111), \"\", Responses!AY111)","v":""},{"$f":"IF(ISBLANK(Responses!AZ111), \"\", Responses!AZ111)","v":""}]
[{"$f":"IF(ISBLANK(Responses!A112), \"\", Responses!A112)","v":""},{"$f":"IF(ISBLANK(Responses!B112), \"\", Responses!B112)","v":""},{"$f":"IF(ISBLANK(Responses!AX112), \"\", Responses!AX112)","v":""},{"$f":"IF(ISBLANK(Responses!AY112), \"\", Responses!AY112)","v":""},{"$f":"IF(ISBLANK(Responses!AZ112), \"\", Responses!AZ112)","v":""}]
[{"$f":"IF(ISBLANK(Responses!A113), \"\", Responses!A113)","v":""},{"$f":"IF(ISBLANK(Responses!B113), \"\", Responses!B113)","v":""},{"$f":"IF(ISBLANK(Responses!AX113), \"\", Responses!AX113)","v":""},{"$f":"IF(ISBLANK(Responses!AY113), \"\", Responses!AY113)","v":""},{"$f":"IF(ISBLANK(Responses!AZ113), \"\", Responses!AZ113)","v":""}]
[{"$f":"IF(ISBLANK(Responses!A114), \"\", Responses!A114)","v":""},{"$f":"IF(ISBLANK(Responses!B114), \"\", Responses!B114)","v":""},{"$f":"IF(ISBLANK(Responses!AX114), \"\", Responses!AX114)","v":""},{"$f":"IF(ISBLANK(Responses!AY114), \"\", Responses!AY114)","v":""},{"$f":"IF(ISBLANK(Responses!AZ114), \"\", Responses!AZ114)","v":""}]
[{"$f":"IF(ISBLANK(Responses!A115), \"\", Responses!A115)","v":""},{"$f":"IF(ISBLANK(Responses!B115), \"\", Responses!B115)","v":""},{"$f":"IF(ISBLANK(Responses!AX115), \"\", Responses!AX115)","v":""},{"$f":"IF(ISBLANK(Responses!AY115), \"\", Responses!AY115)","v":""},{"$f":"IF(ISBLANK(Responses!AZ115), \"\", Responses!AZ115)","v":""}]
[{"$f":"IF(ISBLANK(Responses!A116), \"\", Responses!A116)","v":""},{"$f":"IF(ISBLANK(Responses!B116), \"\", Responses!B116)","v":""},{"$f":"IF(ISBLANK(Responses!AX116), \"\", Responses!AX116)","v":""},{"$f":"IF(ISBLANK(Responses!AY116), \"\", Responses!AY116)","v":""},{"$f":"IF(ISBLANK(Responses!AZ116), \"\", Responses!AZ116)","v":""}]
[{"$f":"IF(ISBLANK(Responses!A117), \"\", Responses!A117)","v":""},{"$f":"IF(ISBLANK(Responses!B117), \"\", Responses!B117)","v":""},{"$f":"IF(ISBLANK(Responses!AX117), \"\", Responses!AX117)","v":""},{"$f":"IF(ISBLANK(Responses!AY117), \"\", Responses!AY117)","v":""},{"$f":"IF(ISBLANK(Responses!AZ117), \"\", Responses!AZ117)","v":""}]
[{"$f":"IF(ISBLANK(Responses!A118), \"\", Responses!A118)","v":""},{"$f":"IF(ISBLANK(Responses!B118), \"\", Responses!B118)","v":""},{"$f":"IF(ISBLANK(Responses!AX118), \"\", Responses!AX118)","v":""},{"$f":"IF(ISBLANK(Responses!AY118), \"\", Responses!AY118)","v":""},{"$f":"IF(ISBLANK(Responses!AZ118), \"\", Responses!AZ118)","v":""}]

{"sheet":"Risk Communication","index":10,"n_rows":118,"n_cols":16,"rows_kept":118,"cut":false,"hidden":true,"merged":[]}
[{"$f":"IF(ISBLANK(Responses!A1), \"\", Responses!A1)","v":"Timestamp"},{"$f":"IF(ISBLANK(Responses!B1), \"\", Responses!B1)","v":"Sport Organization Name"},{"$f":"IF(ISBLANK(Responses!BA1), \"\", Responses!BA1)","v":"Is there a risk mitigation communication strategy in regard to COVID-19?"},{"$f":"IF(ISBLANK(Responses!BB1), \"\", Responses!BB1)","v":"Is there a designated person(s) to lead media activities and tasked with managing all external communications with national and international government officials, the general public, and the media?"},{"$f":"IF(ISBLANK(Responses!BC1), \"\", Responses!BC1)","v":"Is there a process for monitoring of national and international media and social media established for rumours to be able to counter them early?"},{"$f":"IF(ISBLANK(Responses!BD1), \"\", Responses!BD1)","v":"If there is a process to limit misinformation, please explain what protocols are in place for counter-messaging."},{"$f":"IF(ISBLANK(Responses!BE1), \"\", Responses!BE1)","v":"Has coordination been set up with major official media channels and social media sites so that messaging can be coordinated with, and assisted by, the platforms to provide targeted messaging if needed (including messaging to counter fake news and rumours, and proactive messaging about the status of the team training, including changes)? "},"Risk Comms %","Risk Comms Score",3,2,2,"Comments",2,null,"Max Risk Comms Score"]
[{"$f":"IF(ISBLANK(Responses!A2), \"\", Responses!A2)","v":""},{"$f":"IF(ISBLANK(Responses!B2), \"\", Responses!B2)","v":""},{"$f":"IF(ISBLANK(Responses!BA2), \"\", Responses!BA2)","v":""},{"$f":"IF(ISBLANK(Responses!BB2), \"\", Responses!BB2)","v":""},{"$f":"IF(ISBLANK(Responses!BC2), \"\", Responses!BC2)","v":""},{"$f":"IF(ISBLANK(Responses!BD2), \"\", Responses!BD2)","v":""},{"$f":"IF(ISBLANK(Responses!BE2), \"\", Responses!BE2)","v":""},{"$f":"I2/(2*SUM(J$1:N$1))","v":{"$error":"#N/A"}},{"$f":"SUM(J2*J$1,K2*K$1,L2*L$1,N2*N$1)","v":{"$error":"#N/A"}},{"$f":"IF(ISBLANK(C2),0,VLOOKUP(C2,LUTs!$A$6:$B$8,2))","v":{"$error":"#N/A"}},{"$f":"IF(ISBLANK(D2),0,VLOOKUP(D2,LUTs!$A$6:$B$8,2))","v":{"$error":"#N/A"}},{"$f":"IF(ISBLANK(E2),0,VLOOKUP(E2,LUTs!$A$6:$B$8,2))","v":{"$error":"#N/A"}},{"$f":"IF(ISBLANK(F2),0,IF(ISERROR(VLOOKUP(F2,LUTs!$A$6:$B$8,2)),F2,VLOOKUP(F2,LUTs!$A$6:$B$8,2)))","v":""},{"$f":"IF(ISBLANK(G2),0,VLOOKUP(G2,LUTs!$A$6:$B$8,2))","v":{"$error":"#N/A"}},null,{"$f":"SUM(J1:N1)*2","v":18}]
[{"$f":"IF(ISBLANK(Responses!A3), \"\", Responses!A3)","v":""},{"$f":"IF(ISBLANK(Responses!B3), \"\", Responses!B3)","v":""},{"$f":"IF(ISBLANK(Responses!BA3), \"\", Responses!BA3)","v":""},{"$f":"IF(ISBLANK(Responses!BB3), \"\", Responses!BB3)","v":""},{"$f":"IF(ISBLANK(Responses!BC3), \"\", Responses!BC3)","v":""},{"$f":"IF(ISBLANK(Responses!BD3), \"\", Responses!BD3)","v":""},{"$f":"IF(ISBLANK(Responses!BE3), \"\", Responses!BE3)","v":""},{"$error":"#N/A"},{"$error":"#N/A"},{"$f":"IF(ISBLANK(C3),0,VLOOKUP(C3,LUTs!$A$6:$B$8,2))","v":{"$error":"#N/A"}},{"$f":"IF(ISBLANK(D3),0,VLOOKUP(D3,LUTs!$A$6:$B$8,2))","v":{"$error":"#N/A"}},{"$f":"IF(ISBLANK(E3),0,VLOOKUP(E3,LUTs!$A$6:$B$8,2))","v":{"$error":"#N/A"}},{"$f":"IF(ISBLANK(F3),0,IF(ISERROR(VLOOKUP(F3,LUTs!$A$6:$B$8,2)),F3,VLOOKUP(F3,LUTs!$A$6:$B$8,2)))","v":""},{"$f":"IF(ISBLANK(G3),0,VLOOKUP(G3,LUTs!$A$6:$B$8,2))","v":{"$error":"#N/A"}}]
[{"$f":"IF(ISBLANK(Responses!A4), \"\", Responses!A4)","v":""},{"$f":"IF(ISBLANK(Responses!B4), \"\", Responses!B4)","v":""},{"$f":"IF(ISBLANK(Responses!BA4), \"\", Responses!BA4)","v":""},{"$f":"IF(ISBLANK(Responses!BB4), \"\", Responses!BB4)","v":""},{"$f":"IF(ISBLANK(Responses!BC4), \"\", Responses!BC4)","v":""},{"$f":"IF(ISBLANK(Responses!BD4), \"\", Responses!BD4)","v":""},{"$f":"IF(ISBLANK(Responses!BE4), \"\", Responses!BE4)","v":""},{"$error":"#N/A"},{"$error":"#N/A"},{"$f":"IF(ISBLANK(C4),0,VLOOKUP(C4,LUTs!$A$6:$B$8,2))","v":{"$error":"#N/A"}},{"$f":"IF(ISBLANK(D4),0,VLOOKUP(D4,LUTs!$A$6:$B$8,2))","v":{"$error":"#N/A"}},{"$f":"IF(ISBLANK(E4),0,VLOOKUP(E4,LUTs!$A$6:$B$8,2))","v":{"$error":"#N/A"}},{"$f":"IF(ISBLANK(F4),0,IF(ISERROR(VLOOKUP(F4,LUTs!$A$6:$B$8,2)),F4,VLOOKUP(F4,LUTs!$A$6:$B$8,2)))","v":""},{"$f":"IF(ISBLANK(G4),0,VLOOKUP(G4,LUTs!$A$6:$B$8,2))","v":{"$error":"#N/A"}},null,{"$f":"ISERROR(VLOOKUP(F9,LUTs!A6:B8,2))","v":true}]
[{"$f":"IF(ISBLANK(Responses!A5), \"\", Responses!A5)","v":""},{"$f":"IF(ISBLANK(Responses!B5), \"\", Responses!B5)","v":""},{"$f":"IF(ISBLANK(Responses!BA5), \"\", Responses!BA5)","v":""},{"$f":"IF(ISBLANK(Responses!BB5), \"\", Responses!BB5)","v":""},{"$f":"IF(ISBLANK(Responses!BC5), \"\", Responses!BC5)","v":""},{"$f":"IF(ISBLANK(Responses!BD5), \"\", Responses!BD5)","v":""},{"$f":"IF(ISBLANK(Responses!BE5), \"\", Responses!BE5)","v":""},{"$error":"#N/A"},{"$error":"#N/A"},{"$f":"IF(ISBLANK(C5),0,VLOOKUP(C5,LUTs!$A$6:$B$8,2))","v":{"$error":"#N/A"}},{"$f":"IF(ISBLANK(D5),0,VLOOKUP(D5,LUTs!$A$6:$B$8,2))","v":{"$error":"#N/A"}},{"$f":"IF(ISBLANK(E5),0,VLOOKUP(E5,LUTs!$A$6:$B$8,2))","v":{"$error":"#N/A"}},{"$f":"IF(ISBLANK(F5),0,IF(ISERROR(VLOOKUP(F5,LUTs!$A$6:$B$8,2)),F5,VLOOKUP(F5,LUTs!$A$6:$B$8,2)))","v":""},{"$f":"IF(ISBLANK(G5),0,VLOOKUP(G5,LUTs!$A$6:$B$8,2))","v":{"$error":"#N/A"}},null,{"$f":"IF(ISBLANK(F9),0,IF(ISERROR(VLOOKUP(F9,LUTs!$A$6:$B$8,2)),F9,VLOOKUP(F9,LUTs!$A$6:$B$8,2)))","v":""}]
[{"$f":"IF(ISBLANK(Responses!A6), \"\", Responses!A6)","v":""},{"$f":"IF(ISBLANK(Responses!B6), \"\", Responses!B6)","v":""},{"$f":"IF(ISBLANK(Responses!BA6), \"\", Responses!BA6)","v":""},{"$f":"IF(ISBLANK(Responses!BB6), \"\", Responses!BB6)","v":""},{"$f":"IF(ISBLANK(Responses!BC6), \"\", Responses!BC6)","v":""},{"$f":"IF(ISBLANK(Responses!BD6), \"\", Responses!BD6)","v":""},{"$f":"IF(ISBLANK(Responses!BE6), \"\", Responses!BE6)","v":""},{"$error":"#N/A"},{"$error":"#N/A"},{"$f":"IF(ISBLANK(C6),0,VLOOKUP(C6,LUTs!$A$6:$B$8,2))","v":{"$error":"#N/A"}},{"$f":"IF(ISBLANK(D6),0,VLOOKUP(D6,LUTs!$A$6:$B$8,2))","v":{"$error":"#N/A"}},{"$f":"IF(ISBLANK(E6),0,VLOOKUP(E6,LUTs!$A$6:$B$8,2))","v":{"$error":"#N/A"}},{"$f":"IF(ISBLANK(F6),0,IF(ISERROR(VLOOKUP(F6,LUTs!$A$6:$B$8,2)),F6,VLOOKUP(F6,LUTs!$A$6:$B$8,2)))","v":""},{"$f":"IF(ISBLANK(G6),0,VLOOKUP(G6,LUTs!$A$6:$B$8,2))","v":{"$error":"#N/A"}},null,{"$f":"IF(ISBLANK(F10),0,IF(ISERROR(VLOOKUP(F10,LUTs!$A$6:$B$8,2)),F10,VLOOKUP(F10,LUTs!$A$6:$B$8,2)))","v":""}]
[{"$f":"IF(ISBLANK(Responses!A7), \"\", Responses!A7)","v":""},{"$f":"IF(ISBLANK(Responses!B7), \"\", Responses!B7)","v":""},{"$f":"IF(ISBLANK(Responses!BA7), \"\", Responses!BA7)","v":""},{"$f":"IF(ISBLANK(Responses!BB7), \"\", Responses!BB7)","v":""},{"$f":"IF(ISBLANK(Responses!BC7), \"\", Responses!BC7)","v":""},{"$f":"IF(ISBLANK(Responses!BD7), \"\", Responses!BD7)","v":""},{"$f":"IF(ISBLANK(Responses!BE7), \"\", Responses!BE7)","v":""},{"$error":"#N/A"},{"$error":"#N/A"},{"$f":"IF(ISBLANK(C7),0,VLOOKUP(C7,LUTs!$A$6:$B$8,2))","v":{"$error":"#N/A"}},{"$f":"IF(ISBLANK(D7),0,VLOOKUP(D7,LUTs!$A$6:$B$8,2))","v":{"$error":"#N/A"}},{"$f":"IF(ISBLANK(E7),0,VLOOKUP(E7,LUTs!$A$6:$B$8,2))","v":{"$error":"#N/A"}},{"$f":"IF(ISBLANK(F7),0,IF(ISERROR(VLOOKUP(F7,LUTs!$A$6:$B$8,2)),F7,VLOOKUP(F7,LUTs!$A$6:$B$8,2)))","v":""},{"$f":"IF(ISBLANK(G7),0,VLOOKUP(G7,LUTs!$A$6:$B$8,2))","v":{"$error":"#N/A"}},null,{"$f":"IF(ISBLANK(F10),\"blank\",F10)","v":""}]
[{"$f":"IF(ISBLANK(Responses!A8), \"\", Responses!A8)","v":""},{"$f":"IF(ISBLANK(Responses!B8), \"\", Responses!B8)","v":""},{"$f":"IF(ISBLANK(Responses!BA8), \"\", Responses!BA8)","v":""},{"$f":"IF(ISBLANK(Responses!BB8), \"\", Responses!BB8)","v":""},{"$f":"IF(ISBLANK(Responses!BC8), \"\", Responses!BC8)","v":""},{"$f":"IF(ISBLANK(Responses!BD8), \"\", Responses!BD8)","v":""},{"$f":"IF(ISBLANK(Responses!BE8), \"\", Responses!BE8)","v":""},{"$error":"#N/A"},{"$error":"#N/A"},{"$f":"IF(ISBLANK(C8),0,VLOOKUP(C8,LUTs!$A$6:$B$8,2))","v":{"$error":"#N/A"}},{"$f":"IF(ISBLANK(D8),0,VLOOKUP(D8,LUTs!$A$6:$B$8,2))","v":{"$error":"#N/A"}},{"$f":"IF(ISBLANK(E8),0,VLOOKUP(E8,LUTs!$A$6:$B$8,2))","v":{"$error":"#N/A"}},{"$f":"IF(ISBLANK(F8),0,IF(ISERROR(VLOOKUP(F8,LUTs!$A$6:$B$8,2)),F8,VLOOKUP(F8,LUTs!$A$6:$B$8,2)))","v":""},{"$f":"IF(ISBLANK(G8),0,VLOOKUP(G8,LUTs!$A$6:$B$8,2))","v":{"$error":"#N/A"}},null,{"$f":"ISBLANK(F10)","v":false}]
[{"$f":"IF(ISBLANK(Responses!A9), \"\", Responses!A9)","v":""},{"$f":"IF(ISBLANK(Responses!B9), \"\", Responses!B9)","v":""},{"$f":"IF(ISBLANK(Responses!BA9), \"\", Responses!BA9)","v":""},{"$f":"IF(ISBLANK(Responses!BB9), \"\", Responses!BB9)","v":""},{"$f":"IF(ISBLANK(Responses!BC9), \"\", Responses!BC9)","v":""},{"$f":"IF(ISBLANK(Responses!BD9), \"\", Responses!BD9)","v":""},{"$f":"IF(ISBLANK(Responses!BE9), \"\", Responses!BE9)","v":""},{"$error":"#N/A"},{"$error":"#N/A"},{"$f":"IF(ISBLANK(C9),0,VLOOKUP(C9,LUTs!$A$6:$B$8,2))","v":{"$error":"#N/A"}},{"$f":"IF(ISBLANK(D9),0,VLOOKUP(D9,LUTs!$A$6:$B$8,2))","v":{"$error":"#N/A"}},{"$f":"IF(ISBLANK(E9),0,VLOOKUP(E9,LUTs!$A$6:$B$8,2))","v":{"$error":"#N/A"}},{"$f":"IF(ISBLANK(F9),0,IF(ISERROR(VLOOKUP(F9,LUTs!$A$6:$B$8,2)),F9,VLOOKUP(F9,LUTs!$A$6:$B$8,2)))","v":""},{"$f":"IF(ISBLANK(G9),0,VLOOKUP(G9,LUTs!$A$6:$B$8,2))","v":{"$error":"#N/A"}},null,{"$f":"ISERROR(VLOOKUP(F10,LUTs!A13:B15,2))","v":true}]
[{"$f":"IF(ISBLANK(Responses!A10), \"\", Responses!A10)","v":""},{"$f":"IF(ISBLANK(Responses!B10), \"\", Responses!B10)","v":""},{"$f":"IF(ISBLANK(Responses!BA10), \"\", Responses!BA10)","v":""},{"$f":"IF(ISBLANK(Responses!BB10), \"\", Responses!BB10)","v":""},{"$f":"IF(ISBLANK(Responses!BC10), \"\", Responses!BC10)","v":""},{"$f":"IF(ISBLANK(Responses!BD10), \"\", Responses!BD10)","v":""},{"$f":"IF(ISBLANK(Responses!BE10), \"\", Responses!BE10)","v":""},{"$error":"#N/A"},{"$error":"#N/A"},{"$f":"IF(ISBLANK(C10),0,VLOOKUP(C10,LUTs!$A$6:$B$8,2))","v":{"$error":"#N/A"}},{"$f":"IF(ISBLANK(D10),0,VLOOKUP(D10,LUTs!$A$6:$B$8,2))","v":{"$error":"#N/A"}},{"$f":"IF(ISBLANK(E10),0,VLOOKUP(E10,LUTs!$A$6:$B$8,2))","v":{"$error":"#N/A"}},{"$f":"F10","v":""},{"$f":"IF(ISBLANK(G10),0,VLOOKUP(G10,LUTs!$A$6:$B$8,2))","v":{"$error":"#N/A"}},null,{"$f":"IF(ISERROR(VLOOKUP(F10,LUTs!A13:B15,2)),F10,VLOOKUP(F10,LUTs!A13:B15,2))","v":""}]
[{"$f":"IF(ISBLANK(Responses!A11), \"\", Responses!A11)","v":""},{"$f":"IF(ISBLANK(Responses!B11), \"\", Responses!B11)","v":""},{"$f":"IF(ISBLANK(Responses!BA11), \"\", Responses!BA11)","v":""},{"$f":"IF(ISBLANK(Responses!BB11), \"\", Responses!BB11)","v":""},{"$f":"IF(ISBLANK(Responses!BC11), \"\", Responses!BC11)","v":""},{"$f":"IF(ISBLANK(Responses!BD11), \"\", Responses!BD11)","v":""},{"$f":"IF(ISBLANK(Responses!BE11), \"\", Responses!BE11)","v":""},{"$error":"#N/A"},{"$error":"#N/A"},{"$f":"IF(ISBLANK(C11),0,VLOOKUP(C11,LUTs!$A$6:$B$8,2))","v":{"$error":"#N/A"}},{"$f":"IF(ISBLANK(D11),0,VLOOKUP(D11,LUTs!$A$6:$B$8,2))","v":{"$error":"#N/A"}},{"$f":"IF(ISBLANK(E11),0,VLOOKUP(E11,LUTs!$A$6:$B$8,2))","v":{"$error":"#N/A"}},{"$f":"IF(ISBLANK(F11),0,IF(ISERROR(VLOOKUP(F11,LUTs!$A$6:$B$8,2)),F11,VLOOKUP(F11,LUTs!$A$6:$B$8,2)))","v":""},{"$f":"IF(ISBLANK(G11),0,VLOOKUP(G11,LUTs!$A$6:$B$8,2))","v":{"$error":"#N/A"}}]
[{"$f":"IF(ISBLANK(Responses!A12), \"\", Responses!A12)","v":""},{"$f":"IF(ISBLANK(Responses!B12), \"\", Responses!B12)","v":""},{"$f":"IF(ISBLANK(Responses!BA12), \"\", Responses!BA12)","v":""},{"$f":"IF(ISBLANK(Responses!BB12), \"\", Responses!BB12)","v":""},{"$f":"IF(ISBLANK(Responses!BC12), \"\", Responses!BC12)","v":""},{"$f":"IF(ISBLANK(Responses!BD12), \"\", Responses!BD12)","v":""},{"$f":"IF(ISBLANK(Responses!BE12), \"\", Responses!BE12)","v":""},{"$error":"#N/A"},{"$error":"#N/A"},{"$f":"IF(ISBLANK(C12),0,VLOOKUP(C12,LUTs!$A$6:$B$8,2))","v":{"$error":"#N/A"}},{"$f":"IF(ISBLANK(D12),0,VLOOKUP(D12,LUTs!$A$6:$B$8,2))","v":{"$error":"#N/A"}},{"$f":"IF(ISBLANK(E12),0,VLOOKUP(E12,LUTs!$A$6:$B$8,2))","v":{"$error":"#N/A"}},{"$f":"IF(ISBLANK(F12),0,IF(ISERROR(VLOOKUP(F12,LUTs!$A$6:$B$8,2)),F12,VLOOKUP(F12,LUTs!$A$6:$B$8,2)))","v":""},{"$f":"IF(ISBLANK(G12),0,VLOOKUP(G12,LUTs!$A$6:$B$8,2))","v":{"$error":"#N/A"}}]
[{"$f":"IF(ISBLANK(Responses!A13), \"\", Responses!A13)","v":""},{"$f":"IF(ISBLANK(Responses!B13), \"\", Responses!B13)","v":""},{"$f":"IF(ISBLANK(Responses!BA13), \"\", Responses!BA13)","v":""},{"$f":"IF(ISBLANK(Responses!BB13), \"\", Responses!BB13)","v":""},{"$f":"IF(ISBLANK(Responses!BC13), \"\", Responses!BC13)","v":""},{"$f":"IF(ISBLANK(Responses!BD13), \"\", Responses!BD13)","v":""},{"$f":"IF(ISBLANK(Responses!BE13), \"\", Responses!BE13)","v":""},{"$error":"#N/A"},{"$error":"#N/A"},{"$f":"IF(ISBLANK(C13),0,VLOOKUP(C13,LUTs!$A$6:$B$8,2))","v":{"$error":"#N/A"}},{"$f":"IF(ISBLANK(D13),0,VLOOKUP(D13,LUTs!$A$6:$B$8,2))","v":{"$error":"#N/A"}},{"$f":"IF(ISBLANK(E13),0,VLOOKUP(E13,LUTs!$A$6:$B$8,2))","v":{"$error":"#N/A"}},{"$f":"IF(ISBLANK(F13),0,IF(ISERROR(VLOOKUP(F13,LUTs!$A$6:$B$8,2)),F13,VLOOKUP(F13,LUTs!$A$6:$B$8,2)))","v":""},{"$f":"IF(ISBLANK(G13),0,VLOOKUP(G13,LUTs!$A$6:$B$8,2))","v":{"$error":"#N/A"}}]
[{"$f":"IF(ISBLANK(Responses!A14), \"\", Responses!A14)","v":""},{"$f":"IF(ISBLANK(Responses!B14), \"\", Responses!B14)","v":""},{"$f":"IF(ISBLANK(Responses!BA14), \"\", Responses!BA14)","v":""},{"$f":"IF(ISBLANK(Responses!BB14), \"\", Responses!BB14)","v":""},{"$f":"IF(ISBLANK(Responses!BC14), \"\", Responses!BC14)","v":""},{"$f":"IF(ISBLANK(Responses!BD14), \"\", Responses!BD14)","v":""},{"$f":"IF(ISBLANK(Responses!BE14), \"\", Responses!BE14)","v":""},{"$error":"#N/A"},{"$error":"#N/A"},{"$f":"IF(ISBLANK(C14),0,VLOOKUP(C14,LUTs!$A$6:$B$8,2))","v":{"$error":"#N/A"}},{"$f":"IF(ISBLANK(D14),0,VLOOKUP(D14,LUTs!$A$6:$B$8,2))","v":{"$error":"#N/A"}},{"$f":"IF(ISBLANK(E14),0,VLOOKUP(E14,LUTs!$A$6:$B$8,2))","v":{"$error":"#N/A"}},{"$f":"IF(ISBLANK(F14),0,IF(ISERROR(VLOOKUP(F14,LUTs!$A$6:$B$8,2)),F14,VLOOKUP(F14,LUTs!$A$6:$B$8,2)))","v":""},{"$f":"IF(ISBLANK(G14),0,VLOOKUP(G14,LUTs!$A$6:$B$8,2))","v":{"$error":"#N/A"}}]
[{"$f":"IF(ISBLANK(Responses!A15), \"\", Responses!A15)","v":""},{"$f":"IF(ISBLANK(Responses!B15), \"\", Responses!B15)","v":""},{"$f":"IF(ISBLANK(Responses!BA15), \"\", Responses!BA15)","v":""},{"$f":"IF(ISBLANK(Responses!BB15), \"\", Responses!BB15)","v":""},{"$f":"IF(ISBLANK(Responses!BC15), \"\", Responses!BC15)","v":""},{"$f":"IF(ISBLANK(Responses!BD15), \"\", Responses!BD15)","v":""},{"$f":"IF(ISBLANK(Responses!BE15), \"\", Responses!BE15)","v":""},{"$error":"#N/A"},{"$error":"#N/A"},{"$f":"IF(ISBLANK(C15),0,VLOOKUP(C15,LUTs!$A$6:$B$8,2))","v":{"$error":"#N/A"}},{"$f":"IF(ISBLANK(D15),0,VLOOKUP(D15,LUTs!$A$6:$B$8,2))","v":{"$error":"#N/A"}},{"$f":"IF(ISBLANK(E15),0,VLOOKUP(E15,LUTs!$A$6:$B$8,2))","v":{"$error":"#N/A"}},{"$f":"IF(ISBLANK(F15),0,IF(ISERROR(VLOOKUP(F15,LUTs!$A$6:$B$8,2)),F15,VLOOKUP(F15,LUTs!$A$6:$B$8,2)))","v":""},{"$f":"IF(ISBLANK(G15),0,VLOOKUP(G15,LUTs!$A$6:$B$8,2))","v":{"$error":"#N/A"}}]
[{"$f":"IF(ISBLANK(Responses!A16), \"\", Responses!A16)","v":""},{"$f":"IF(ISBLANK(Responses!B16), \"\", Responses!B16)","v":""},{"$f":"IF(ISBLANK(Responses!BA16), \"\", Responses!BA16)","v":""},{"$f":"IF(ISBLANK(Responses!BB16), \"\", Responses!BB16)","v":""},{"$f":"IF(ISBLANK(Responses!BC16), \"\", Responses!BC16)","v":""},{"$f":"IF(ISBLANK(Responses!BD16), \"\", Responses!BD16)","v":""},{"$f":"IF(ISBLANK(Responses!BE16), \"\", Responses!BE16)","v":""},{"$error":"#N/A"},{"$error":"#N/A"},{"$f":"IF(ISBLANK(C16),0,VLOOKUP(C16,LUTs!$A$6:$B$8,2))","v":{"$error":"#N/A"}},{"$f":"IF(ISBLANK(D16),0,VLOOKUP(D16,LUTs!$A$6:$B$8,2))","v":{"$error":"#N/A"}},{"$f":"IF(ISBLANK(E16),0,VLOOKUP(E16,LUTs!$A$6:$B$8,2))","v":{"$error":"#N/A"}},{"$f":"IF(ISBLANK(F16),0,IF(ISERROR(VLOOKUP(F16,LUTs!$A$6:$B$8,2)),F16,VLOOKUP(F16,LUTs!$A$6:$B$8,2)))","v":""},{"$f":"IF(ISBLANK(G16),0,VLOOKUP(G16,LUTs!$A$6:$B$8,2))","v":{"$error":"#N/A"}}]
[{"$f":"IF(ISBLANK(Responses!A17), \"\", Responses!A17)","v":""},{"$f":"IF(ISBLANK(Responses!B17), \"\", Responses!B17)","v":""},{"$f":"IF(ISBLANK(Responses!BA17), \"\", Responses!BA17)","v":""},{"$f":"IF(ISBLANK(Responses!BB17), \"\", Responses!BB17)","v":""},{"$f":"IF(ISBLANK(Responses!BC17), \"\", Responses!BC17)","v":""},{"$f":"IF(ISBLANK(Responses!BD17), \"\", Responses!BD17)","v":""},{"$f":"IF(ISBLANK(Responses!BE17), \"\", Responses!BE17)","v":""},{"$error":"#N/A"},{"$error":"#N/A"},{"$f":"IF(ISBLANK(C17),0,VLOOKUP(C17,LUTs!$A$6:$B$8,2))","v":{"$error":"#N/A"}},{"$f":"IF(ISBLANK(D17),0,VLOOKUP(D17,LUTs!$A$6:$B$8,2))","v":{"$error":"#N/A"}},{"$f":"IF(ISBLANK(E17),0,VLOOKUP(E17,LUTs!$A$6:$B$8,2))","v":{"$error":"#N/A"}},{"$f":"IF(ISBLANK(F17),0,IF(ISERROR(VLOOKUP(F17,LUTs!$A$6:$B$8,2)),F17,VLOOKUP(F17,LUTs!$A$6:$B$8,2)))","v":""},{"$f":"IF(ISBLANK(G17),0,VLOOKUP(G17,LUTs!$A$6:$B$8,2))","v":{"$error":"#N/A"}}]
[{"$f":"IF(ISBLANK(Responses!A18), \"\", Responses!A18)","v":""},{"$f":"IF(ISBLANK(Responses!B18), \"\", Responses!B18)","v":""},{"$f":"IF(ISBLANK(Responses!BA18), \"\", Responses!BA18)","v":""},{"$f":"IF(ISBLANK(Responses!BB18), \"\", Responses!BB18)","v":""},{"$f":"IF(ISBLANK(Responses!BC18), \"\", Responses!BC18)","v":""},{"$f":"IF(ISBLANK(Responses!BD18), \"\", Responses!BD18)","v":""},{"$f":"IF(ISBLANK(Responses!BE18), \"\", Responses!BE18)","v":""},{"$error":"#N/A"},{"$error":"#N/A"},{"$f":"IF(ISBLANK(C18),0,VLOOKUP(C18,LUTs!$A$6:$B$8,2))","v":{"$error":"#N/A"}},{"$f":"IF(ISBLANK(D18),0,VLOOKUP(D18,LUTs!$A$6:$B$8,2))","v":{"$error":"#N/A"}},{"$f":"IF(ISBLANK(E18),0,VLOOKUP(E18,LUTs!$A$6:$B$8,2))","v":{"$error":"#N/A"}},{"$f":"IF(ISBLANK(F18),0,IF(ISERROR(VLOOKUP(F18,LUTs!$A$6:$B$8,2)),F18,VLOOKUP(F18,LUTs!$A$6:$B$8,2)))","v":""},{"$f":"IF(ISBLANK(G18),0,VLOOKUP(G18,LUTs!$A$6:$B$8,2))","v":{"$error":"#N/A"}}]
[{"$f":"IF(ISBLANK(Responses!A19), \"\", Responses!A19)","v":""},{"$f":"IF(ISBLANK(Responses!B19), \"\", Responses!B19)","v":""},{"$f":"IF(ISBLANK(Responses!BA19), \"\", Responses!BA19)","v":""},{"$f":"IF(ISBLANK(Responses!BB19), \"\", Responses!BB19)","v":""},{"$f":"IF(ISBLANK(Responses!BC19), \"\", Responses!BC19)","v":""},{"$f":"IF(ISBLANK(Responses!BD19), \"\", Responses!BD19)","v":""},{"$f":"IF(ISBLANK(Responses!BE19), \"\", Responses!BE19)","v":""},{"$error":"#N/A"},{"$error":"#N/A"},{"$f":"IF(ISBLANK(C19),0,VLOOKUP(C19,LUTs!$A$6:$B$8,2))","v":{"$error":"#N/A"}},{"$f":"IF(ISBLANK(D19),0,VLOOKUP(D19,LUTs!$A$6:$B$8,2))","v":{"$error":"#N/A"}},{"$f":"IF(ISBLANK(E19),0,VLOOKUP(E19,LUTs!$A$6:$B$8,2))","v":{"$error":"#N/A"}},{"$f":"IF(ISBLANK(F19),0,IF(ISERROR(VLOOKUP(F19,LUTs!$A$6:$B$8,2)),F19,VLOOKUP(F19,LUTs!$A$6:$B$8,2)))","v":""},{"$f":"IF(ISBLANK(G19),0,VLOOKUP(G19,LUTs!$A$6:$B$8,2))","v":{"$error":"#N/A"}}]
[{"$f":"IF(ISBLANK(Responses!A20), \"\", Responses!A20)","v":""},{"$f":"IF(ISBLANK(Responses!B20), \"\", Responses!B20)","v":""},{"$f":"IF(ISBLANK(Responses!BA20), \"\", Responses!BA20)","v":""},{"$f":"IF(ISBLANK(Responses!BB20), \"\", Responses!BB20)","v":""},{"$f":"IF(ISBLANK(Responses!BC20), \"\", Responses!BC20)","v":""},{"$f":"IF(ISBLANK(Responses!BD20), \"\", Responses!BD20)","v":""},{"$f":"IF(ISBLANK(Responses!BE20), \"\", Responses!BE20)","v":""},{"$error":"#N/A"},{"$error":"#N/A"},{"$f":"IF(ISBLANK(C20),0,VLOOKUP(C20,LUTs!$A$6:$B$8,2))","v":{"$error":"#N/A"}},{"$f":"IF(ISBLANK(D20),0,VLOOKUP(D20,LUTs!$A$6:$B$8,2))","v":{"$error":"#N/A"}},{"$f":"IF(ISBLANK(E20),0,VLOOKUP(E20,LUTs!$A$6:$B$8,2))","v":{"$error":"#N/A"}},{"$f":"IF(ISBLANK(F20),0,IF(ISERROR(VLOOKUP(F20,LUTs!$A$6:$B$8,2)),F20,VLOOKUP(F20,LUTs!$A$6:$B$8,2)))","v":""},{"$f":"IF(ISBLANK(G20),0,VLOOKUP(G20,LUTs!$A$6:$B$8,2))","v":{"$error":"#N/A"}}]
[{"$f":"IF(ISBLANK(Responses!A21), \"\", Responses!A21)","v":""},{"$f":"IF(ISBLANK(Responses!B21), \"\", Responses!B21)","v":""},{"$f":"IF(ISBLANK(Responses!BA21), \"\", Responses!BA21)","v":""},{"$f":"IF(ISBLANK(Responses!BB21), \"\", Responses!BB21)","v":""},{"$f":"IF(ISBLANK(Responses!BC21), \"\", Responses!BC21)","v":""},{"$f":"IF(ISBLANK(Responses!BD21), \"\", Responses!BD21)","v":""},{"$f":"IF(ISBLANK(Responses!BE21), \"\", Responses!BE21)","v":""},{"$error":"#N/A"},{"$error":"#N/A"},{"$f":"IF(ISBLANK(C21),0,VLOOKUP(C21,LUTs!$A$6:$B$8,2))","v":{"$error":"#N/A"}},{"$f":"IF(ISBLANK(D21),0,VLOOKUP(D21,LUTs!$A$6:$B$8,2))","v":{"$error":"#N/A"}},{"$f":"IF(ISBLANK(E21),0,VLOOKUP(E21,LUTs!$A$6:$B$8,2))","v":{"$error":"#N/A"}},{"$f":"IF(ISBLANK(F21),0,IF(ISERROR(VLOOKUP(F21,LUTs!$A$6:$B$8,2)),F21,VLOOKUP(F21,LUTs!$A$6:$B$8,2)))","v":""},{"$f":"IF(ISBLANK(G21),0,VLOOKUP(G21,LUTs!$A$6:$B$8,2))","v":{"$error":"#N/A"}}]
[{"$f":"IF(ISBLANK(Responses!A22), \"\", Responses!A22)","v":""},{"$f":"IF(ISBLANK(Responses!B22), \"\", Responses!B22)","v":""},{"$f":"IF(ISBLANK(Responses!BA22), \"\", Responses!BA22)","v":""},{"$f":"IF(ISBLANK(Responses!BB22), \"\", Responses!BB22)","v":""},{"$f":"IF(ISBLANK(Responses!BC22), \"\", Responses!BC22)","v":""},{"$f":"IF(ISBLANK(Responses!BD22), \"\", Responses!BD22)","v":""},{"$f":"IF(ISBLANK(Responses!BE22), \"\", Responses!BE22)","v":""},{"$error":"#N/A"},{"$error":"#N/A"},{"$f":"IF(ISBLANK(C22),0,VLOOKUP(C22,LUTs!$A$6:$B$8,2))","v":{"$error":"#N/A"}},{"$f":"IF(ISBLANK(D22),0,VLOOKUP(D22,LUTs!$A$6:$B$8,2))","v":{"$error":"#N/A"}},{"$f":"IF(ISBLANK(E22),0,VLOOKUP(E22,LUTs!$A$6:$B$8,2))","v":{"$error":"#N/A"}},{"$f":"IF(ISBLANK(F22),0,IF(ISERROR(VLOOKUP(F22,LUTs!$A$6:$B$8,2)),F22,VLOOKUP(F22,LUTs!$A$6:$B$8,2)))","v":""},{"$f":"IF(ISBLANK(G22),0,VLOOKUP(G22,LUTs!$A$6:$B$8,2))","v":{"$error":"#N/A"}}]
[{"$f":"IF(ISBLANK(Responses!A23), \"\", Responses!A23)","v":""},{"$f":"IF(ISBLANK(Responses!B23), \"\", Responses!B23)","v":""},{"$f":"IF(ISBLANK(Responses!BA23), \"\", Responses!BA23)","v":""},{"$f":"IF(ISBLANK(Responses!BB23), \"\", Responses!BB23)","v":""},{"$f":"IF(ISBLANK(Responses!BC23), \"\", Responses!BC23)","v":""},{"$f":"IF(ISBLANK(Responses!BD23), \"\", Responses!BD23)","v":""},{"$f":"IF(ISBLANK(Responses!BE23), \"\", Responses!BE23)","v":""},{"$error":"#N/A"},{"$error":"#N/A"},{"$f":"IF(ISBLANK(C23),0,VLOOKUP(C23,LUTs!$A$6:$B$8,2))","v":{"$error":"#N/A"}},{"$f":"IF(ISBLANK(D23),0,VLOOKUP(D23,LUTs!$A$6:$B$8,2))","v":{"$error":"#N/A"}},{"$f":"IF(ISBLANK(E23),0,VLOOKUP(E23,LUTs!$A$6:$B$8,2))","v":{"$error":"#N/A"}},{"$f":"IF(ISBLANK(F23),0,IF(ISERROR(VLOOKUP(F23,LUTs!$A$6:$B$8,2)),F23,VLOOKUP(F23,LUTs!$A$6:$B$8,2)))","v":""},{"$f":"IF(ISBLANK(G23),0,VLOOKUP(G23,LUTs!$A$6:$B$8,2))","v":{"$error":"#N/A"}}]
[{"$f":"IF(ISBLANK(Responses!A24), \"\", Responses!A24)","v":""},{"$f":"IF(ISBLANK(Responses!B24), \"\", Responses!B24)","v":""},{"$f":"IF(ISBLANK(Responses!BA24), \"\", Responses!BA24)","v":""},{"$f":"IF(ISBLANK(Responses!BB24), \"\", Responses!BB24)","v":""},{"$f":"IF(ISBLANK(Responses!BC24), \"\", Responses!BC24)","v":""},{"$f":"IF(ISBLANK(Responses!BD24), \"\", Responses!BD24)","v":""},{"$f":"IF(ISBLANK(Responses!BE24), \"\", Responses!BE24)","v":""},{"$error":"#N/A"},{"$error":"#N/A"},{"$f":"IF(ISBLANK(C24),0,VLOOKUP(C24,LUTs!$A$6:$B$8,2))","v":{"$error":"#N/A"}},{"$f":"IF(ISBLANK(D24),0,VLOOKUP(D24,LUTs!$A$6:$B$8,2))","v":{"$error":"#N/A"}},{"$f":"IF(ISBLANK(E24),0,VLOOKUP(E24,LUTs!$A$6:$B$8,2))","v":{"$error":"#N/A"}},{"$f":"IF(ISBLANK(F24),0,IF(ISERROR(VLOOKUP(F24,LUTs!$A$6:$B$8,2)),F24,VLOOKUP(F24,LUTs!$A$6:$B$8,2)))","v":""},{"$f":"IF(ISBLANK(G24),0,VLOOKUP(G24,LUTs!$A$6:$B$8,2))","v":{"$error":"#N/A"}}]
[{"$f":"IF(ISBLANK(Responses!A25), \"\", Responses!A25)","v":""},{"$f":"IF(ISBLANK(Responses!B25), \"\", Responses!B25)","v":""},{"$f":"IF(ISBLANK(Responses!BA25), \"\", Responses!BA25)","v":""},{"$f":"IF(ISBLANK(Responses!BB25), \"\", Responses!BB25)","v":""},{"$f":"IF(ISBLANK(Responses!BC25), \"\", Responses!BC25)","v":""},{"$f":"IF(ISBLANK(Responses!BD25), \"\", Responses!BD25)","v":""},{"$f":"IF(ISBLANK(Responses!BE25), \"\", Responses!BE25)","v":""},{"$error":"#N/A"},{"$error":"#N/A"},{"$f":"IF(ISBLANK(C25),0,VLOOKUP(C25,LUTs!$A$6:$B$8,2))","v":{"$error":"#N/A"}},{"$f":"IF(ISBLANK(D25),0,VLOOKUP(D25,LUTs!$A$6:$B$8,2))","v":{"$error":"#N/A"}},{"$f":"IF(ISBLANK(E25),0,VLOOKUP(E25,LUTs!$A$6:$B$8,2))","v":{"$error":"#N/A"}},{"$f":"IF(ISBLANK(F25),0,IF(ISERROR(VLOOKUP(F25,LUTs!$A$6:$B$8,2)),F25,VLOOKUP(F25,LUTs!$A$6:$B$8,2)))","v":""},{"$f":"IF(ISBLANK(G25),0,VLOOKUP(G25,LUTs!$A$6:$B$8,2))","v":{"$error":"#N/A"}}]
[{"$f":"IF(ISBLANK(Responses!A26), \"\", Responses!A26)","v":""},{"$f":"IF(ISBLANK(Responses!B26), \"\", Responses!B26)","v":""},{"$f":"IF(ISBLANK(Responses!BA26), \"\", Responses!BA26)","v":""},{"$f":"IF(ISBLANK(Responses!BB26), \"\", Responses!BB26)","v":""},{"$f":"IF(ISBLANK(Responses!BC26), \"\", Responses!BC26)","v":""},{"$f":"IF(ISBLANK(Responses!BD26), \"\", Responses!BD26)","v":""},{"$f":"IF(ISBLANK(Responses!BE26), \"\", Responses!BE26)","v":""},{"$error":"#N/A"},{"$error":"#N/A"},{"$f":"IF(ISBLANK(C26),0,VLOOKUP(C26,LUTs!$A$6:$B$8,2))","v":{"$error":"#N/A"}},{"$f":"IF(ISBLANK(D26),0,VLOOKUP(D26,LUTs!$A$6:$B$8,2))","v":{"$error":"#N/A"}},{"$f":"IF(ISBLANK(E26),0,VLOOKUP(E26,LUTs!$A$6:$B$8,2))","v":{"$error":"#N/A"}},{"$f":"IF(ISBLANK(F26),0,IF(ISERROR(VLOOKUP(F26,LUTs!$A$6:$B$8,2)),F26,VLOOKUP(F26,LUTs!$A$6:$B$8,2)))","v":""},{"$f":"IF(ISBLANK(G26),0,VLOOKUP(G26,LUTs!$A$6:$B$8,2))","v":{"$error":"#N/A"}}]
[{"$f":"IF(ISBLANK(Responses!A27), \"\", Responses!A27)","v":""},{"$f":"IF(ISBLANK(Responses!B27), \"\", Responses!B27)","v":""},{"$f":"IF(ISBLANK(Responses!BA27), \"\", Responses!BA27)","v":""},{"$f":"IF(ISBLANK(Responses!BB27), \"\", Responses!BB27)","v":""},{"$f":"IF(ISBLANK(Responses!BC27), \"\", Responses!BC27)","v":""},{"$f":"IF(ISBLANK(Responses!BD27), \"\", Responses!BD27)","v":""},{"$f":"IF(ISBLANK(Responses!BE27), \"\", Responses!BE27)","v":""},{"$error":"#N/A"},{"$error":"#N/A"},{"$f":"IF(ISBLANK(C27),0,VLOOKUP(C27,LUTs!$A$6:$B$8,2))","v":{"$error":"#N/A"}},{"$f":"IF(ISBLANK(D27),0,VLOOKUP(D27,LUTs!$A$6:$B$8,2))","v":{"$error":"#N/A"}},{"$f":"IF(ISBLANK(E27),0,VLOOKUP(E27,LUTs!$A$6:$B$8,2))","v":{"$error":"#N/A"}},{"$f":"IF(ISBLANK(F27),0,IF(ISERROR(VLOOKUP(F27,LUTs!$A$6:$B$8,2)),F27,VLOOKUP(F27,LUTs!$A$6:$B$8,2)))","v":""},{"$f":"IF(ISBLANK(G27),0,VLOOKUP(G27,LUTs!$A$6:$B$8,2))","v":{"$error":"#N/A"}}]
[{"$f":"IF(ISBLANK(Responses!A28), \"\", Responses!A28)","v":""},{"$f":"IF(ISBLANK(Responses!B28), \"\", Responses!B28)","v":""},{"$f":"IF(ISBLANK(Responses!BA28), \"\", Responses!BA28)","v":""},{"$f":"IF(ISBLANK(Responses!BB28), \"\", Responses!BB28)","v":""},{"$f":"IF(ISBLANK(Responses!BC28), \"\", Responses!BC28)","v":""},{"$f":"IF(ISBLANK(Responses!BD28), \"\", Responses!BD28)","v":""},{"$f":"IF(ISBLANK(Responses!BE28), \"\", Responses!BE28)","v":""},{"$error":"#N/A"},{"$error":"#N/A"},{"$f":"IF(ISBLANK(C28),0,VLOOKUP(C28,LUTs!$A$6:$B$8,2))","v":{"$error":"#N/A"}},{"$f":"IF(ISBLANK(D28),0,VLOOKUP(D28,LUTs!$A$6:$B$8,2))","v":{"$error":"#N/A"}},{"$f":"IF(ISBLANK(E28),0,VLOOKUP(E28,LUTs!$A$6:$B$8,2))","v":{"$error":"#N/A"}},{"$f":"IF(ISBLANK(F28),0,IF(ISERROR(VLOOKUP(F28,LUTs!$A$6:$B$8,2)),F28,VLOOKUP(F28,LUTs!$A$6:$B$8,2)))","v":""},{"$f":"IF(ISBLANK(G28),0,VLOOKUP(G28,LUTs!$A$6:$B$8,2))","v":{"$error":"#N/A"}}]
[{"$f":"IF(ISBLANK(Responses!A29), \"\", Responses!A29)","v":""},{"$f":"IF(ISBLANK(Responses!B29), \"\", Responses!B29)","v":""},{"$f":"IF(ISBLANK(Responses!BA29), \"\", Responses!BA29)","v":""},{"$f":"IF(ISBLANK(Responses!BB29), \"\", Responses!BB29)","v":""},{"$f":"IF(ISBLANK(Responses!BC29), \"\", Responses!BC29)","v":""},{"$f":"IF(ISBLANK(Responses!BD29), \"\", Responses!BD29)","v":""},{"$f":"IF(ISBLANK(Responses!BE29), \"\", Responses!BE29)","v":""},{"$error":"#N/A"},{"$error":"#N/A"},{"$f":"IF(ISBLANK(C29),0,VLOOKUP(C29,LUTs!$A$6:$B$8,2))","v":{"$error":"#N/A"}},{"$f":"IF(ISBLANK(D29),0,VLOOKUP(D29,LUTs!$A$6:$B$8,2))","v":{"$error":"#N/A"}},{"$f":"IF(ISBLANK(E29),0,VLOOKUP(E29,LUTs!$A$6:$B$8,2))","v":{"$error":"#N/A"}},{"$f":"IF(ISBLANK(F29),0,IF(ISERROR(VLOOKUP(F29,LUTs!$A$6:$B$8,2)),F29,VLOOKUP(F29,LUTs!$A$6:$B$8,2)))","v":""},{"$f":"IF(ISBLANK(G29),0,VLOOKUP(G29,LUTs!$A$6:$B$8,2))","v":{"$error":"#N/A"}}]
[{"$f":"IF(ISBLANK(Responses!A30), \"\", Responses!A30)","v":""},{"$f":"IF(ISBLANK(Responses!B30), \"\", Responses!B30)","v":""},{"$f":"IF(ISBLANK(Responses!BA30), \"\", Responses!BA30)","v":""},{"$f":"IF(ISBLANK(Responses!BB30), \"\", Responses!BB30)","v":""},{"$f":"IF(ISBLANK(Responses!BC30), \"\", Responses!BC30)","v":""},{"$f":"IF(ISBLANK(Responses!BD30), \"\", Responses!BD30)","v":""},{"$f":"IF(ISBLANK(Responses!BE30), \"\", Responses!BE30)","v":""},{"$error":"#N/A"},{"$error":"#N/A"},{"$f":"IF(ISBLANK(C30),0,VLOOKUP(C30,LUTs!$A$6:$B$8,2))","v":{"$error":"#N/A"}},{"$f":"IF(ISBLANK(D30),0,VLOOKUP(D30,LUTs!$A$6:$B$8,2))","v":{"$error":"#N/A"}},{"$f":"IF(ISBLANK(E30),0,VLOOKUP(E30,LUTs!$A$6:$B$8,2))","v":{"$error":"#N/A"}},{"$f":"IF(ISBLANK(F30),0,IF(ISERROR(VLOOKUP(F30,LUTs!$A$6:$B$8,2)),F30,VLOOKUP(F30,LUTs!$A$6:$B$8,2)))","v":""},{"$f":"IF(ISBLANK(G30),0,VLOOKUP(G30,LUTs!$A$6:$B$8,2))","v":{"$error":"#N/A"}}]
[{"$f":"IF(ISBLANK(Responses!A31), \"\", Responses!A31)","v":""},{"$f":"IF(ISBLANK(Responses!B31), \"\", Responses!B31)","v":""},{"$f":"IF(ISBLANK(Responses!BA31), \"\", Responses!BA31)","v":""},{"$f":"IF(ISBLANK(Responses!BB31), \"\", Responses!BB31)","v":""},{"$f":"IF(ISBLANK(Responses!BC31), \"\", Responses!BC31)","v":""},{"$f":"IF(ISBLANK(Responses!BD31), \"\", Responses!BD31)","v":""},{"$f":"IF(ISBLANK(Responses!BE31), \"\", Responses!BE31)","v":""},{"$error":"#N/A"},{"$error":"#N/A"},{"$f":"IF(ISBLANK(C31),0,VLOOKUP(C31,LUTs!$A$6:$B$8,2))","v":{"$error":"#N/A"}},{"$f":"IF(ISBLANK(D31),0,VLOOKUP(D31,LUTs!$A$6:$B$8,2))","v":{"$error":"#N/A"}},{"$f":"IF(ISBLANK(E31),0,VLOOKUP(E31,LUTs!$A$6:$B$8,2))","v":{"$error":"#N/A"}},{"$f":"IF(ISBLANK(F31),0,IF(ISERROR(VLOOKUP(F31,LUTs!$A$6:$B$8,2)),F31,VLOOKUP(F31,LUTs!$A$6:$B$8,2)))","v":""},{"$f":"IF(ISBLANK(G31),0,VLOOKUP(G31,LUTs!$A$6:$B$8,2))","v":{"$error":"#N/A"}}]
[{"$f":"IF(ISBLANK(Responses!A32), \"\", Responses!A32)","v":""},{"$f":"IF(ISBLANK(Responses!B32), \"\", Responses!B32)","v":""},{"$f":"IF(ISBLANK(Responses!BA32), \"\", Responses!BA32)","v":""},{"$f":"IF(ISBLANK(Responses!BB32), \"\", Responses!BB32)","v":""},{"$f":"IF(ISBLANK(Responses!BC32), \"\", Responses!BC32)","v":""},{"$f":"IF(ISBLANK(Responses!BD32), \"\", Responses!BD32)","v":""},{"$f":"IF(ISBLANK(Responses!BE32), \"\", Responses!BE32)","v":""},{"$error":"#N/A"},{"$error":"#N/A"},{"$f":"IF(ISBLANK(C32),0,VLOOKUP(C32,LUTs!$A$6:$B$8,2))","v":{"$error":"#N/A"}},{"$f":"IF(ISBLANK(D32),0,VLOOKUP(D32,LUTs!$A$6:$B$8,2))","v":{"$error":"#N/A"}},{"$f":"IF(ISBLANK(E32),0,VLOOKUP(E32,LUTs!$A$6:$B$8,2))","v":{"$error":"#N/A"}},{"$f":"IF(ISBLANK(F32),0,IF(ISERROR(VLOOKUP(F32,LUTs!$A$6:$B$8,2)),F32,VLOOKUP(F32,LUTs!$A$6:$B$8,2)))","v":""},{"$f":"IF(ISBLANK(G32),0,VLOOKUP(G32,LUTs!$A$6:$B$8,2))","v":{"$error":"#N/A"}}]
[{"$f":"IF(ISBLANK(Responses!A33), \"\", Responses!A33)","v":""},{"$f":"IF(ISBLANK(Responses!B33), \"\", Responses!B33)","v":""},{"$f":"IF(ISBLANK(Responses!BA33), \"\", Responses!BA33)","v":""},{"$f":"IF(ISBLANK(Responses!BB33), \"\", Responses!BB33)","v":""},{"$f":"IF(ISBLANK(Responses!BC33), \"\", Responses!BC33)","v":""},{"$f":"IF(ISBLANK(Responses!BD33), \"\", Responses!BD33)","v":""},{"$f":"IF(ISBLANK(Responses!BE33), \"\", Responses!BE33)","v":""},{"$error":"#N/A"},{"$error":"#N/A"},{"$f":"IF(ISBLANK(C33),0,VLOOKUP(C33,LUTs!$A$6:$B$8,2))","v":{"$error":"#N/A"}},{"$f":"IF(ISBLANK(D33),0,VLOOKUP(D33,LUTs!$A$6:$B$8,2))","v":{"$error":"#N/A"}},{"$f":"IF(ISBLANK(E33),0,VLOOKUP(E33,LUTs!$A$6:$B$8,2))","v":{"$error":"#N/A"}},{"$f":"IF(ISBLANK(F33),0,IF(ISERROR(VLOOKUP(F33,LUTs!$A$6:$B$8,2)),F33,VLOOKUP(F33,LUTs!$A$6:$B$8,2)))","v":""},{"$f":"IF(ISBLANK(G33),0,VLOOKUP(G33,LUTs!$A$6:$B$8,2))","v":{"$error":"#N/A"}}]
[{"$f":"IF(ISBLANK(Responses!A34), \"\", Responses!A34)","v":""},{"$f":"IF(ISBLANK(Responses!B34), \"\", Responses!B34)","v":""},{"$f":"IF(ISBLANK(Responses!BA34), \"\", Responses!BA34)","v":""},{"$f":"IF(ISBLANK(Responses!BB34), \"\", Responses!BB34)","v":""},{"$f":"IF(ISBLANK(Responses!BC34), \"\", Responses!BC34)","v":""},{"$f":"IF(ISBLANK(Responses!BD34), \"\", Responses!BD34)","v":""},{"$f":"IF(ISBLANK(Responses!BE34), \"\", Responses!BE34)","v":""},{"$error":"#N/A"},{"$error":"#N/A"},{"$f":"IF(ISBLANK(C34),0,VLOOKUP(C34,LUTs!$A$6:$B$8,2))","v":{"$error":"#N/A"}},{"$f":"IF(ISBLANK(D34),0,VLOOKUP(D34,LUTs!$A$6:$B$8,2))","v":{"$error":"#N/A"}},{"$f":"IF(ISBLANK(E34),0,VLOOKUP(E34,LUTs!$A$6:$B$8,2))","v":{"$error":"#N/A"}},{"$f":"IF(ISBLANK(F34),0,IF(ISERROR(VLOOKUP(F34,LUTs!$A$6:$B$8,2)),F34,VLOOKUP(F34,LUTs!$A$6:$B$8,2)))","v":""},{"$f":"IF(ISBLANK(G34),0,VLOOKUP(G34,LUTs!$A$6:$B$8,2))","v":{"$error":"#N/A"}}]
[{"$f":"IF(ISBLANK(Responses!A35), \"\", Responses!A35)","v":""},{"$f":"IF(ISBLANK(Responses!B35), \"\", Responses!B35)","v":""},{"$f":"IF(ISBLANK(Responses!BA35), \"\", Responses!BA35)","v":""},{"$f":"IF(ISBLANK(Responses!BB35), \"\", Responses!BB35)","v":""},{"$f":"IF(ISBLANK(Responses!BC35), \"\", Responses!BC35)","v":""},{"$f":"IF(ISBLANK(Responses!BD35), \"\", Responses!BD35)","v":""},{"$f":"IF(ISBLANK(Responses!BE35), \"\", Responses!BE35)","v":""},{"$error":"#N/A"},{"$error":"#N/A"},{"$f":"IF(ISBLANK(C35),0,VLOOKUP(C35,LUTs!$A$6:$B$8,2))","v":{"$error":"#N/A"}},{"$f":"IF(ISBLANK(D35),0,VLOOKUP(D35,LUTs!$A$6:$B$8,2))","v":{"$error":"#N/A"}},{"$f":"IF(ISBLANK(E35),0,VLOOKUP(E35,LUTs!$A$6:$B$8,2))","v":{"$error":"#N/A"}},{"$f":"IF(ISBLANK(F35),0,IF(ISERROR(VLOOKUP(F35,LUTs!$A$6:$B$8,2)),F35,VLOOKUP(F35,LUTs!$A$6:$B$8,2)))","v":""},{"$f":"IF(ISBLANK(G35),0,VLOOKUP(G35,LUTs!$A$6:$B$8,2))","v":{"$error":"#N/A"}}]
[{"$f":"IF(ISBLANK(Responses!A36), \"\", Responses!A36)","v":""},{"$f":"IF(ISBLANK(Responses!B36), \"\", Responses!B36)","v":""},{"$f":"IF(ISBLANK(Responses!BA36), \"\", Responses!BA36)","v":""},{"$f":"IF(ISBLANK(Responses!BB36), \"\", Responses!BB36)","v":""},{"$f":"IF(ISBLANK(Responses!BC36), \"\", Responses!BC36)","v":""},{"$f":"IF(ISBLANK(Responses!BD36), \"\", Responses!BD36)","v":""},{"$f":"IF(ISBLANK(Responses!BE36), \"\", Responses!BE36)","v":""},{"$error":"#N/A"},{"$error":"#N/A"},{"$f":"IF(ISBLANK(C36),0,VLOOKUP(C36,LUTs!$A$6:$B$8,2))","v":{"$error":"#N/A"}},{"$f":"IF(ISBLANK(D36),0,VLOOKUP(D36,LUTs!$A$6:$B$8,2))","v":{"$error":"#N/A"}},{"$f":"IF(ISBLANK(E36),0,VLOOKUP(E36,LUTs!$A$6:$B$8,2))","v":{"$error":"#N/A"}},{"$f":"IF(ISBLANK(F36),0,IF(ISERROR(VLOOKUP(F36,LUTs!$A$6:$B$8,2)),F36,VLOOKUP(F36,LUTs!$A$6:$B$8,2)))","v":""},{"$f":"IF(ISBLANK(G36),0,VLOOKUP(G36,LUTs!$A$6:$B$8,2))","v":{"$error":"#N/A"}}]
[{"$f":"IF(ISBLANK(Responses!A37), \"\", Responses!A37)","v":""},{"$f":"IF(ISBLANK(Responses!B37), \"\", Responses!B37)","v":""},{"$f":"IF(ISBLANK(Responses!BA37), \"\", Responses!BA37)","v":""},{"$f":"IF(ISBLANK(Responses!BB37), \"\", Responses!BB37)","v":""},{"$f":"IF(ISBLANK(Responses!BC37), \"\", Responses!BC37)","v":""},{"$f":"IF(ISBLANK(Responses!BD37), \"\", Responses!BD37)","v":""},{"$f":"IF(ISBLANK(Responses!BE37), \"\", Responses!BE37)","v":""},{"$error":"#N/A"},{"$error":"#N/A"},{"$f":"IF(ISBLANK(C37),0,VLOOKUP(C37,LUTs!$A$6:$B$8,2))","v":{"$error":"#N/A"}},{"$f":"IF(ISBLANK(D37),0,VLOOKUP(D37,LUTs!$A$6:$B$8,2))","v":{"$error":"#N/A"}},{"$f":"IF(ISBLANK(E37),0,VLOOKUP(E37,LUTs!$A$6:$B$8,2))","v":{"$error":"#N/A"}},{"$f":"IF(ISBLANK(F37),0,IF(ISERROR(VLOOKUP(F37,LUTs!$A$6:$B$8,2)),F37,VLOOKUP(F37,LUTs!$A$6:$B$8,2)))","v":""},{"$f":"IF(ISBLANK(G37),0,VLOOKUP(G37,LUTs!$A$6:$B$8,2))","v":{"$error":"#N/A"}}]
[{"$f":"IF(ISBLANK(Responses!A38), \"\", Responses!A38)","v":""},{"$f":"IF(ISBLANK(Responses!B38), \"\", Responses!B38)","v":""},{"$f":"IF(ISBLANK(Responses!BA38), \"\", Responses!BA38)","v":""},{"$f":"IF(ISBLANK(Responses!BB38), \"\", Responses!BB38)","v":""},{"$f":"IF(ISBLANK(Responses!BC38), \"\", Responses!BC38)","v":""},{"$f":"IF(ISBLANK(Responses!BD38), \"\", Responses!BD38)","v":""},{"$f":"IF(ISBLANK(Responses!BE38), \"\", Responses!BE38)","v":""},{"$error":"#N/A"},{"$error":"#N/A"},{"$f":"IF(ISBLANK(C38),0,VLOOKUP(C38,LUTs!$A$6:$B$8,2))","v":{"$error":"#N/A"}},{"$f":"IF(ISBLANK(D38),0,VLOOKUP(D38,LUTs!$A$6:$B$8,2))","v":{"$error":"#N/A"}},{"$f":"IF(ISBLANK(E38),0,VLOOKUP(E38,LUTs!$A$6:$B$8,2))","v":{"$error":"#N/A"}},{"$f":"IF(ISBLANK(F38),0,IF(ISERROR(VLOOKUP(F38,LUTs!$A$6:$B$8,2)),F38,VLOOKUP(F38,LUTs!$A$6:$B$8,2)))","v":""},{"$f":"IF(ISBLANK(G38),0,VLOOKUP(G38,LUTs!$A$6:$B$8,2))","v":{"$error":"#N/A"}}]
[{"$f":"IF(ISBLANK(Responses!A39), \"\", Responses!A39)","v":""},{"$f":"IF(ISBLANK(Responses!B39), \"\", Responses!B39)","v":""},{"$f":"IF(ISBLANK(Responses!BA39), \"\", Responses!BA39)","v":""},{"$f":"IF(ISBLANK(Responses!BB39), \"\", Responses!BB39)","v":""},{"$f":"IF(ISBLANK(Responses!BC39), \"\", Responses!BC39)","v":""},{"$f":"IF(ISBLANK(Responses!BD39), \"\", Responses!BD39)","v":""},{"$f":"IF(ISBLANK(Responses!BE39), \"\", Responses!BE39)","v":""},{"$error":"#N/A"},{"$error":"#N/A"},{"$f":"IF(ISBLANK(C39),0,VLOOKUP(C39,LUTs!$A$6:$B$8,2))","v":{"$error":"#N/A"}},{"$f":"IF(ISBLANK(D39),0,VLOOKUP(D39,LUTs!$A$6:$B$8,2))","v":{"$error":"#N/A"}},{"$f":"IF(ISBLANK(E39),0,VLOOKUP(E39,LUTs!$A$6:$B$8,2))","v":{"$error":"#N/A"}},{"$f":"IF(ISBLANK(F39),0,IF(ISERROR(VLOOKUP(F39,LUTs!$A$6:$B$8,2)),F39,VLOOKUP(F39,LUTs!$A$6:$B$8,2)))","v":""},{"$f":"IF(ISBLANK(G39),0,VLOOKUP(G39,LUTs!$A$6:$B$8,2))","v":{"$error":"#N/A"}}]
[{"$f":"IF(ISBLANK(Responses!A40), \"\", Responses!A40)","v":""},{"$f":"IF(ISBLANK(Responses!B40), \"\", Responses!B40)","v":""},{"$f":"IF(ISBLANK(Responses!BA40), \"\", Responses!BA40)","v":""},{"$f":"IF(ISBLANK(Responses!BB40), \"\", Responses!BB40)","v":""},{"$f":"IF(ISBLANK(Responses!BC40), \"\", Responses!BC40)","v":""},{"$f":"IF(ISBLANK(Responses!BD40), \"\", Responses!BD40)","v":""},{"$f":"IF(ISBLANK(Responses!BE40), \"\", Responses!BE40)","v":""},{"$error":"#N/A"},{"$error":"#N/A"},{"$f":"IF(ISBLANK(C40),0,VLOOKUP(C40,LUTs!$A$6:$B$8,2))","v":{"$error":"#N/A"}},{"$f":"IF(ISBLANK(D40),0,VLOOKUP(D40,LUTs!$A$6:$B$8,2))","v":{"$error":"#N/A"}},{"$f":"IF(ISBLANK(E40),0,VLOOKUP(E40,LUTs!$A$6:$B$8,2))","v":{"$error":"#N/A"}},{"$f":"IF(ISBLANK(F40),0,IF(ISERROR(VLOOKUP(F40,LUTs!$A$6:$B$8,2)),F40,VLOOKUP(F40,LUTs!$A$6:$B$8,2)))","v":""},{"$f":"IF(ISBLANK(G40),0,VLOOKUP(G40,LUTs!$A$6:$B$8,2))","v":{"$error":"#N/A"}}]
[{"$f":"IF(ISBLANK(Responses!A41), \"\", Responses!A41)","v":""},{"$f":"IF(ISBLANK(Responses!B41), \"\", Responses!B41)","v":""},{"$f":"IF(ISBLANK(Responses!BA41), \"\", Responses!BA41)","v":""},{"$f":"IF(ISBLANK(Responses!BB41), \"\", Responses!BB41)","v":""},{"$f":"IF(ISBLANK(Responses!BC41), \"\", Responses!BC41)","v":""},{"$f":"IF(ISBLANK(Responses!BD41), \"\", Responses!BD41)","v":""},{"$f":"IF(ISBLANK(Responses!BE41), \"\", Responses!BE41)","v":""},{"$error":"#N/A"},{"$error":"#N/A"},{"$f":"IF(ISBLANK(C41),0,VLOOKUP(C41,LUTs!$A$6:$B$8,2))","v":{"$error":"#N/A"}},{"$f":"IF(ISBLANK(D41),0,VLOOKUP(D41,LUTs!$A$6:$B$8,2))","v":{"$error":"#N/A"}},{"$f":"IF(ISBLANK(E41),0,VLOOKUP(E41,LUTs!$A$6:$B$8,2))","v":{"$error":"#N/A"}},{"$f":"IF(ISBLANK(F41),0,IF(ISERROR(VLOOKUP(F41,LUTs!$A$6:$B$8,2)),F41,VLOOKUP(F41,LUTs!$A$6:$B$8,2)))","v":""},{"$f":"IF(ISBLANK(G41),0,VLOOKUP(G41,LUTs!$A$6:$B$8,2))","v":{"$error":"#N/A"}}]
[{"$f":"IF(ISBLANK(Responses!A42), \"\", Responses!A42)","v":""},{"$f":"IF(ISBLANK(Responses!B42), \"\", Responses!B42)","v":""},{"$f":"IF(ISBLANK(Responses!BA42), \"\", Responses!BA42)","v":""},{"$f":"IF(ISBLANK(Responses!BB42), \"\", Responses!BB42)","v":""},{"$f":"IF(ISBLANK(Responses!BC42), \"\", Responses!BC42)","v":""},{"$f":"IF(ISBLANK(Responses!BD42), \"\", Responses!BD42)","v":""},{"$f":"IF(ISBLANK(Responses!BE42), \"\", Responses!BE42)","v":""},{"$error":"#N/A"},{"$error":"#N/A"},{"$f":"IF(ISBLANK(C42),0,VLOOKUP(C42,LUTs!$A$6:$B$8,2))","v":{"$error":"#N/A"}},{"$f":"IF(ISBLANK(D42),0,VLOOKUP(D42,LUTs!$A$6:$B$8,2))","v":{"$error":"#N/A"}},{"$f":"IF(ISBLANK(E42),0,VLOOKUP(E42,LUTs!$A$6:$B$8,2))","v":{"$error":"#N/A"}},{"$f":"IF(ISBLANK(F42),0,IF(ISERROR(VLOOKUP(F42,LUTs!$A$6:$B$8,2)),F42,VLOOKUP(F42,LUTs!$A$6:$B$8,2)))","v":""},{"$f":"IF(ISBLANK(G42),0,VLOOKUP(G42,LUTs!$A$6:$B$8,2))","v":{"$error":"#N/A"}}]
[{"$f":"IF(ISBLANK(Responses!A43), \"\", Responses!A43)","v":""},{"$f":"IF(ISBLANK(Responses!B43), \"\", Responses!B43)","v":""},{"$f":"IF(ISBLANK(Responses!BA43), \"\", Responses!BA43)","v":""},{"$f":"IF(ISBLANK(Responses!BB43), \"\", Responses!BB43)","v":""},{"$f":"IF(ISBLANK(Responses!BC43), \"\", Responses!BC43)","v":""},{"$f":"IF(ISBLANK(Responses!BD43), \"\", Responses!BD43)","v":""},{"$f":"IF(ISBLANK(Responses!BE43), \"\", Responses!BE43)","v":""},{"$error":"#N/A"},{"$error":"#N/A"},{"$f":"IF(ISBLANK(C43),0,VLOOKUP(C43,LUTs!$A$6:$B$8,2))","v":{"$error":"#N/A"}},{"$f":"IF(ISBLANK(D43),0,VLOOKUP(D43,LUTs!$A$6:$B$8,2))","v":{"$error":"#N/A"}},{"$f":"IF(ISBLANK(E43),0,VLOOKUP(E43,LUTs!$A$6:$B$8,2))","v":{"$error":"#N/A"}},{"$f":"IF(ISBLANK(F43),0,IF(ISERROR(VLOOKUP(F43,LUTs!$A$6:$B$8,2)),F43,VLOOKUP(F43,LUTs!$A$6:$B$8,2)))","v":""},{"$f":"IF(ISBLANK(G43),0,VLOOKUP(G43,LUTs!$A$6:$B$8,2))","v":{"$error":"#N/A"}}]
[{"$f":"IF(ISBLANK(Responses!A44), \"\", Responses!A44)","v":""},{"$f":"IF(ISBLANK(Responses!B44), \"\", Responses!B44)","v":""},{"$f":"IF(ISBLANK(Responses!BA44), \"\", Responses!BA44)","v":""},{"$f":"IF(ISBLANK(Responses!BB44), \"\", Responses!BB44)","v":""},{"$f":"IF(ISBLANK(Responses!BC44), \"\", Responses!BC44)","v":""},{"$f":"IF(ISBLANK(Responses!BD44), \"\", Responses!BD44)","v":""},{"$f":"IF(ISBLANK(Responses!BE44), \"\", Responses!BE44)","v":""},{"$error":"#N/A"},{"$error":"#N/A"},{"$f":"IF(ISBLANK(C44),0,VLOOKUP(C44,LUTs!$A$6:$B$8,2))","v":{"$error":"#N/A"}},{"$f":"IF(ISBLANK(D44),0,VLOOKUP(D44,LUTs!$A$6:$B$8,2))","v":{"$error":"#N/A"}},{"$f":"IF(ISBLANK(E44),0,VLOOKUP(E44,LUTs!$A$6:$B$8,2))","v":{"$error":"#N/A"}},{"$f":"IF(ISBLANK(F44),0,IF(ISERROR(VLOOKUP(F44,LUTs!$A$6:$B$8,2)),F44,VLOOKUP(F44,LUTs!$A$6:$B$8,2)))","v":""},{"$f":"IF(ISBLANK(G44),0,VLOOKUP(G44,LUTs!$A$6:$B$8,2))","v":{"$error":"#N/A"}}]
[{"$f":"IF(ISBLANK(Responses!A45), \"\", Responses!A45)","v":""},{"$f":"IF(ISBLANK(Responses!B45), \"\", Responses!B45)","v":""},{"$f":"IF(ISBLANK(Responses!BA45), \"\", Responses!BA45)","v":""},{"$f":"IF(ISBLANK(Responses!BB45), \"\", Responses!BB45)","v":""},{"$f":"IF(ISBLANK(Responses!BC45), \"\", Responses!BC45)","v":""},{"$f":"IF(ISBLANK(Responses!BD45), \"\", Responses!BD45)","v":""},{"$f":"IF(ISBLANK(Responses!BE45), \"\", Responses!BE45)","v":""},{"$error":"#N/A"},{"$error":"#N/A"},{"$f":"IF(ISBLANK(C45),0,VLOOKUP(C45,LUTs!$A$6:$B$8,2))","v":{"$error":"#N/A"}},{"$f":"IF(ISBLANK(D45),0,VLOOKUP(D45,LUTs!$A$6:$B$8,2))","v":{"$error":"#N/A"}},{"$f":"IF(ISBLANK(E45),0,VLOOKUP(E45,LUTs!$A$6:$B$8,2))","v":{"$error":"#N/A"}},{"$f":"IF(ISBLANK(F45),0,IF(ISERROR(VLOOKUP(F45,LUTs!$A$6:$B$8,2)),F45,VLOOKUP(F45,LUTs!$A$6:$B$8,2)))","v":""},{"$f":"IF(ISBLANK(G45),0,VLOOKUP(G45,LUTs!$A$6:$B$8,2))","v":{"$error":"#N/A"}}]
[{"$f":"IF(ISBLANK(Responses!A46), \"\", Responses!A46)","v":""},{"$f":"IF(ISBLANK(Responses!B46), \"\", Responses!B46)","v":""},{"$f":"IF(ISBLANK(Responses!BA46), \"\", Responses!BA46)","v":""},{"$f":"IF(ISBLANK(Responses!BB46), \"\", Responses!BB46)","v":""},{"$f":"IF(ISBLANK(Responses!BC46), \"\", Responses!BC46)","v":""},{"$f":"IF(ISBLANK(Responses!BD46), \"\", Responses!BD46)","v":""},{"$f":"IF(ISBLANK(Responses!BE46), \"\", Responses!BE46)","v":""},{"$error":"#N/A"},{"$error":"#N/A"},{"$f":"IF(ISBLANK(C46),0,VLOOKUP(C46,LUTs!$A$6:$B$8,2))","v":{"$error":"#N/A"}},{"$f":"IF(ISBLANK(D46),0,VLOOKUP(D46,LUTs!$A$6:$B$8,2))","v":{"$error":"#N/A"}},{"$f":"IF(ISBLANK(E46),0,VLOOKUP(E46,LUTs!$A$6:$B$8,2))","v":{"$error":"#N/A"}},{"$f":"IF(ISBLANK(F46),0,IF(ISERROR(VLOOKUP(F46,LUTs!$A$6:$B$8,2)),F46,VLOOKUP(F46,LUTs!$A$6:$B$8,2)))","v":""},{"$f":"IF(ISBLANK(G46),0,VLOOKUP(G46,LUTs!$A$6:$B$8,2))","v":{"$error":"#N/A"}}]
[{"$f":"IF(ISBLANK(Responses!A47), \"\", Responses!A47)","v":""},{"$f":"IF(ISBLANK(Responses!B47), \"\", Responses!B47)","v":""},{"$f":"IF(ISBLANK(Responses!BA47), \"\", Responses!BA47)","v":""},{"$f":"IF(ISBLANK(Responses!BB47), \"\", Responses!BB47)","v":""},{"$f":"IF(ISBLANK(Responses!BC47), \"\", Responses!BC47)","v":""},{"$f":"IF(ISBLANK(Responses!BD47), \"\", Responses!BD47)","v":""},{"$f":"IF(ISBLANK(Responses!BE47), \"\", Responses!BE47)","v":""},{"$error":"#N/A"},{"$error":"#N/A"},{"$f":"IF(ISBLANK(C47),0,VLOOKUP(C47,LUTs!$A$6:$B$8,2))","v":{"$error":"#N/A"}},{"$f":"IF(ISBLANK(D47),0,VLOOKUP(D47,LUTs!$A$6:$B$8,2))","v":{"$error":"#N/A"}},{"$f":"IF(ISBLANK(E47),0,VLOOKUP(E47,LUTs!$A$6:$B$8,2))","v":{"$error":"#N/A"}},{"$f":"IF(ISBLANK(F47),0,IF(ISERROR(VLOOKUP(F47,LUTs!$A$6:$B$8,2)),F47,VLOOKUP(F47,LUTs!$A$6:$B$8,2)))","v":""},{"$f":"IF(ISBLANK(G47),0,VLOOKUP(G47,LUTs!$A$6:$B$8,2))","v":{"$error":"#N/A"}}]
[{"$f":"IF(ISBLANK(Responses!A48), \"\", Responses!A48)","v":""},{"$f":"IF(ISBLANK(Responses!B48), \"\", Responses!B48)","v":""},{"$f":"IF(ISBLANK(Responses!BA48), \"\", Responses!BA48)","v":""},{"$f":"IF(ISBLANK(Responses!BB48), \"\", Responses!BB48)","v":""},{"$f":"IF(ISBLANK(Responses!BC48), \"\", Responses!BC48)","v":""},{"$f":"IF(ISBLANK(Responses!BD48), \"\", Responses!BD48)","v":""},{"$f":"IF(ISBLANK(Responses!BE48), \"\", Responses!BE48)","v":""},{"$error":"#N/A"},{"$error":"#N/A"},{"$f":"IF(ISBLANK(C48),0,VLOOKUP(C48,LUTs!$A$6:$B$8,2))","v":{"$error":"#N/A"}},{"$f":"IF(ISBLANK(D48),0,VLOOKUP(D48,LUTs!$A$6:$B$8,2))","v":{"$error":"#N/A"}},{"$f":"IF(ISBLANK(E48),0,VLOOKUP(E48,LUTs!$A$6:$B$8,2))","v":{"$error":"#N/A"}},{"$f":"IF(ISBLANK(F48),0,IF(ISERROR(VLOOKUP(F48,LUTs!$A$6:$B$8,2)),F48,VLOOKUP(F48,LUTs!$A$6:$B$8,2)))","v":""},{"$f":"IF(ISBLANK(G48),0,VLOOKUP(G48,LUTs!$A$6:$B$8,2))","v":{"$error":"#N/A"}}]
[{"$f":"IF(ISBLANK(Responses!A49), \"\", Responses!A49)","v":""},{"$f":"IF(ISBLANK(Responses!B49), \"\", Responses!B49)","v":""},{"$f":"IF(ISBLANK(Responses!BA49), \"\", Responses!BA49)","v":""},{"$f":"IF(ISBLANK(Responses!BB49), \"\", Responses!BB49)","v":""},{"$f":"IF(ISBLANK(Responses!BC49), \"\", Responses!BC49)","v":""},{"$f":"IF(ISBLANK(Responses!BD49), \"\", Responses!BD49)","v":""},{"$f":"IF(ISBLANK(Responses!BE49), \"\", Responses!BE49)","v":""},{"$error":"#N/A"},{"$error":"#N/A"},{"$f":"IF(ISBLANK(C49),0,VLOOKUP(C49,LUTs!$A$6:$B$8,2))","v":{"$error":"#N/A"}},{"$f":"IF(ISBLANK(D49),0,VLOOKUP(D49,LUTs!$A$6:$B$8,2))","v":{"$error":"#N/A"}},{"$f":"IF(ISBLANK(E49),0,VLOOKUP(E49,LUTs!$A$6:$B$8,2))","v":{"$error":"#N/A"}},{"$f":"IF(ISBLANK(F49),0,IF(ISERROR(VLOOKUP(F49,LUTs!$A$6:$B$8,2)),F49,VLOOKUP(F49,LUTs!$A$6:$B$8,2)))","v":""},{"$f":"IF(ISBLANK(G49),0,VLOOKUP(G49,LUTs!$A$6:$B$8,2))","v":{"$error":"#N/A"}}]
[{"$f":"IF(ISBLANK(Responses!A50), \"\", Responses!A50)","v":""},{"$f":"IF(ISBLANK(Responses!B50), \"\", Responses!B50)","v":""},{"$f":"IF(ISBLANK(Responses!BA50), \"\", Responses!BA50)","v":""},{"$f":"IF(ISBLANK(Responses!BB50), \"\", Responses!BB50)","v":""},{"$f":"IF(ISBLANK(Responses!BC50), \"\", Responses!BC50)","v":""},{"$f":"IF(ISBLANK(Responses!BD50), \"\", Responses!BD50)","v":""},{"$f":"IF(ISBLANK(Responses!BE50), \"\", Responses!BE50)","v":""},{"$error":"#N/A"},{"$error":"#N/A"},{"$f":"IF(ISBLANK(C50),0,VLOOKUP(C50,LUTs!$A$6:$B$8,2))","v":{"$error":"#N/A"}},{"$f":"IF(ISBLANK(D50),0,VLOOKUP(D50,LUTs!$A$6:$B$8,2))","v":{"$error":"#N/A"}},{"$f":"IF(ISBLANK(E50),0,VLOOKUP(E50,LUTs!$A$6:$B$8,2))","v":{"$error":"#N/A"}},{"$f":"IF(ISBLANK(F50),0,IF(ISERROR(VLOOKUP(F50,LUTs!$A$6:$B$8,2)),F50,VLOOKUP(F50,LUTs!$A$6:$B$8,2)))","v":""},{"$f":"IF(ISBLANK(G50),0,VLOOKUP(G50,LUTs!$A$6:$B$8,2))","v":{"$error":"#N/A"}}]
[{"$f":"IF(ISBLANK(Responses!A51), \"\", Responses!A51)","v":""},{"$f":"IF(ISBLANK(Responses!B51), \"\", Responses!B51)","v":""},{"$f":"IF(ISBLANK(Responses!BA51), \"\", Responses!BA51)","v":""},{"$f":"IF(ISBLANK(Responses!BB51), \"\", Responses!BB51)","v":""},{"$f":"IF(ISBLANK(Responses!BC51), \"\", Responses!BC51)","v":""},{"$f":"IF(ISBLANK(Responses!BD51), \"\", Responses!BD51)","v":""},{"$f":"IF(ISBLANK(Responses!BE51), \"\", Responses!BE51)","v":""},{"$error":"#N/A"},{"$error":"#N/A"},{"$f":"IF(ISBLANK(C51),0,VLOOKUP(C51,LUTs!$A$6:$B$8,2))","v":{"$error":"#N/A"}},{"$f":"IF(ISBLANK(D51),0,VLOOKUP(D51,LUTs!$A$6:$B$8,2))","v":{"$error":"#N/A"}},{"$f":"IF(ISBLANK(E51),0,VLOOKUP(E51,LUTs!$A$6:$B$8,2))","v":{"$error":"#N/A"}},{"$f":"IF(ISBLANK(F51),0,IF(ISERROR(VLOOKUP(F51,LUTs!$A$6:$B$8,2)),F51,VLOOKUP(F51,LUTs!$A$6:$B$8,2)))","v":""},{"$f":"IF(ISBLANK(G51),0,VLOOKUP(G51,LUTs!$A$6:$B$8,2))","v":{"$error":"#N/A"}}]
[{"$f":"IF(ISBLANK(Responses!A52), \"\", Responses!A52)","v":""},{"$f":"IF(ISBLANK(Responses!B52), \"\", Responses!B52)","v":""},{"$f":"IF(ISBLANK(Responses!BA52), \"\", Responses!BA52)","v":""},{"$f":"IF(ISBLANK(Responses!BB52), \"\", Responses!BB52)","v":""},{"$f":"IF(ISBLANK(Responses!BC52), \"\", Responses!BC52)","v":""},{"$f":"IF(ISBLANK(Responses!BD52), \"\", Responses!BD52)","v":""},{"$f":"IF(ISBLANK(Responses!BE52), \"\", Responses!BE52)","v":""},{"$error":"#N/A"},{"$error":"#N/A"},{"$f":"IF(ISBLANK(C52),0,VLOOKUP(C52,LUTs!$A$6:$B$8,2))","v":{"$error":"#N/A"}},{"$f":"IF(ISBLANK(D52),0,VLOOKUP(D52,LUTs!$A$6:$B$8,2))","v":{"$error":"#N/A"}},{"$f":"IF(ISBLANK(E52),0,VLOOKUP(E52,LUTs!$A$6:$B$8,2))","v":{"$error":"#N/A"}},{"$f":"IF(ISBLANK(F52),0,IF(ISERROR(VLOOKUP(F52,LUTs!$A$6:$B$8,2)),F52,VLOOKUP(F52,LUTs!$A$6:$B$8,2)))","v":""},{"$f":"IF(ISBLANK(G52),0,VLOOKUP(G52,LUTs!$A$6:$B$8,2))","v":{"$error":"#N/A"}}]
[{"$f":"IF(ISBLANK(Responses!A53), \"\", Responses!A53)","v":""},{"$f":"IF(ISBLANK(Responses!B53), \"\", Responses!B53)","v":""},{"$f":"IF(ISBLANK(Responses!BA53), \"\", Responses!BA53)","v":""},{"$f":"IF(ISBLANK(Responses!BB53), \"\", Responses!BB53)","v":""},{"$f":"IF(ISBLANK(Responses!BC53), \"\", Responses!BC53)","v":""},{"$f":"IF(ISBLANK(Responses!BD53), \"\", Responses!BD53)","v":""},{"$f":"IF(ISBLANK(Responses!BE53), \"\", Responses!BE53)","v":""},{"$error":"#N/A"},{"$error":"#N/A"},{"$f":"IF(ISBLANK(C53),0,VLOOKUP(C53,LUTs!$A$6:$B$8,2))","v":{"$error":"#N/A"}},{"$f":"IF(ISBLANK(D53),0,VLOOKUP(D53,LUTs!$A$6:$B$8,2))","v":{"$error":"#N/A"}},{"$f":"IF(ISBLANK(E53),0,VLOOKUP(E53,LUTs!$A$6:$B$8,2))","v":{"$error":"#N/A"}},{"$f":"IF(ISBLANK(F53),0,IF(ISERROR(VLOOKUP(F53,LUTs!$A$6:$B$8,2)),F53,VLOOKUP(F53,LUTs!$A$6:$B$8,2)))","v":""},{"$f":"IF(ISBLANK(G53),0,VLOOKUP(G53,LUTs!$A$6:$B$8,2))","v":{"$error":"#N/A"}}]
[{"$f":"IF(ISBLANK(Responses!A54), \"\", Responses!A54)","v":""},{"$f":"IF(ISBLANK(Responses!B54), \"\", Responses!B54)","v":""},{"$f":"IF(ISBLANK(Responses!BA54), \"\", Responses!BA54)","v":""},{"$f":"IF(ISBLANK(Responses!BB54), \"\", Responses!BB54)","v":""},{"$f":"IF(ISBLANK(Responses!BC54), \"\", Responses!BC54)","v":""},{"$f":"IF(ISBLANK(Responses!BD54), \"\", Responses!BD54)","v":""},{"$f":"IF(ISBLANK(Responses!BE54), \"\", Responses!BE54)","v":""},{"$error":"#N/A"},{"$error":"#N/A"},{"$f":"IF(ISBLANK(C54),0,VLOOKUP(C54,LUTs!$A$6:$B$8,2))","v":{"$error":"#N/A"}},{"$f":"IF(ISBLANK(D54),0,VLOOKUP(D54,LUTs!$A$6:$B$8,2))","v":{"$error":"#N/A"}},{"$f":"IF(ISBLANK(E54),0,VLOOKUP(E54,LUTs!$A$6:$B$8,2))","v":{"$error":"#N/A"}},{"$f":"IF(ISBLANK(F54),0,IF(ISERROR(VLOOKUP(F54,LUTs!$A$6:$B$8,2)),F54,VLOOKUP(F54,LUTs!$A$6:$B$8,2)))","v":""},{"$f":"IF(ISBLANK(G54),0,VLOOKUP(G54,LUTs!$A$6:$B$8,2))","v":{"$error":"#N/A"}}]
[{"$f":"IF(ISBLANK(Responses!A55), \"\", Responses!A55)","v":""},{"$f":"IF(ISBLANK(Responses!B55), \"\", Responses!B55)","v":""},{"$f":"IF(ISBLANK(Responses!BA55), \"\", Responses!BA55)","v":""},{"$f":"IF(ISBLANK(Responses!BB55), \"\", Responses!BB55)","v":""},{"$f":"IF(ISBLANK(Responses!BC55), \"\", Responses!BC55)","v":""},{"$f":"IF(ISBLANK(Responses!BD55), \"\", Responses!BD55)","v":""},{"$f":"IF(ISBLANK(Responses!BE55), \"\", Responses!BE55)","v":""},{"$error":"#N/A"},{"$error":"#N/A"},{"$f":"IF(ISBLANK(C55),0,VLOOKUP(C55,LUTs!$A$6:$B$8,2))","v":{"$error":"#N/A"}},{"$f":"IF(ISBLANK(D55),0,VLOOKUP(D55,LUTs!$A$6:$B$8,2))","v":{"$error":"#N/A"}},{"$f":"IF(ISBLANK(E55),0,VLOOKUP(E55,LUTs!$A$6:$B$8,2))","v":{"$error":"#N/A"}},{"$f":"IF(ISBLANK(F55),0,IF(ISERROR(VLOOKUP(F55,LUTs!$A$6:$B$8,2)),F55,VLOOKUP(F55,LUTs!$A$6:$B$8,2)))","v":""},{"$f":"IF(ISBLANK(G55),0,VLOOKUP(G55,LUTs!$A$6:$B$8,2))","v":{"$error":"#N/A"}}]
[{"$f":"IF(ISBLANK(Responses!A56), \"\", Responses!A56)","v":""},{"$f":"IF(ISBLANK(Responses!B56), \"\", Responses!B56)","v":""},{"$f":"IF(ISBLANK(Responses!BA56), \"\", Responses!BA56)","v":""},{"$f":"IF(ISBLANK(Responses!BB56), \"\", Responses!BB56)","v":""},{"$f":"IF(ISBLANK(Responses!BC56), \"\", Responses!BC56)","v":""},{"$f":"IF(ISBLANK(Responses!BD56), \"\", Responses!BD56)","v":""},{"$f":"IF(ISBLANK(Responses!BE56), \"\", Responses!BE56)","v":""},{"$error":"#N/A"},{"$error":"#N/A"},{"$f":"IF(ISBLANK(C56),0,VLOOKUP(C56,LUTs!$A$6:$B$8,2))","v":{"$error":"#N/A"}},{"$f":"IF(ISBLANK(D56),0,VLOOKUP(D56,LUTs!$A$6:$B$8,2))","v":{"$error":"#N/A"}},{"$f":"IF(ISBLANK(E56),0,VLOOKUP(E56,LUTs!$A$6:$B$8,2))","v":{"$error":"#N/A"}},{"$f":"IF(ISBLANK(F56),0,IF(ISERROR(VLOOKUP(F56,LUTs!$A$6:$B$8,2)),F56,VLOOKUP(F56,LUTs!$A$6:$B$8,2)))","v":""},{"$f":"IF(ISBLANK(G56),0,VLOOKUP(G56,LUTs!$A$6:$B$8,2))","v":{"$error":"#N/A"}}]
[{"$f":"IF(ISBLANK(Responses!A57), \"\", Responses!A57)","v":""},{"$f":"IF(ISBLANK(Responses!B57), \"\", Responses!B57)","v":""},{"$f":"IF(ISBLANK(Responses!BA57), \"\", Responses!BA57)","v":""},{"$f":"IF(ISBLANK(Responses!BB57), \"\", Responses!BB57)","v":""},{"$f":"IF(ISBLANK(Responses!BC57), \"\", Responses!BC57)","v":""},{"$f":"IF(ISBLANK(Responses!BD57), \"\", Responses!BD57)","v":""},{"$f":"IF(ISBLANK(Responses!BE57), \"\", Responses!BE57)","v":""},{"$error":"#N/A"},{"$error":"#N/A"},{"$f":"IF(ISBLANK(C57),0,VLOOKUP(C57,LUTs!$A$6:$B$8,2))","v":{"$error":"#N/A"}},{"$f":"IF(ISBLANK(D57),0,VLOOKUP(D57,LUTs!$A$6:$B$8,2))","v":{"$error":"#N/A"}},{"$f":"IF(ISBLANK(E57),0,VLOOKUP(E57,LUTs!$A$6:$B$8,2))","v":{"$error":"#N/A"}},{"$f":"IF(ISBLANK(F57),0,IF(ISERROR(VLOOKUP(F57,LUTs!$A$6:$B$8,2)),F57,VLOOKUP(F57,LUTs!$A$6:$B$8,2)))","v":""},{"$f":"IF(ISBLANK(G57),0,VLOOKUP(G57,LUTs!$A$6:$B$8,2))","v":{"$error":"#N/A"}}]
[{"$f":"IF(ISBLANK(Responses!A58), \"\", Responses!A58)","v":""},{"$f":"IF(ISBLANK(Responses!B58), \"\", Responses!B58)","v":""},{"$f":"IF(ISBLANK(Responses!BA58), \"\", Responses!BA58)","v":""},{"$f":"IF(ISBLANK(Responses!BB58), \"\", Responses!BB58)","v":""},{"$f":"IF(ISBLANK(Responses!BC58), \"\", Responses!BC58)","v":""},{"$f":"IF(ISBLANK(Responses!BD58), \"\", Responses!BD58)","v":""},{"$f":"IF(ISBLANK(Responses!BE58), \"\", Responses!BE58)","v":""},{"$error":"#N/A"},{"$error":"#N/A"},{"$f":"IF(ISBLANK(C58),0,VLOOKUP(C58,LUTs!$A$6:$B$8,2))","v":{"$error":"#N/A"}},{"$f":"IF(ISBLANK(D58),0,VLOOKUP(D58,LUTs!$A$6:$B$8,2))","v":{"$error":"#N/A"}},{"$f":"IF(ISBLANK(E58),0,VLOOKUP(E58,LUTs!$A$6:$B$8,2))","v":{"$error":"#N/A"}},{"$f":"IF(ISBLANK(F58),0,IF(ISERROR(VLOOKUP(F58,LUTs!$A$6:$B$8,2)),F58,VLOOKUP(F58,LUTs!$A$6:$B$8,2)))","v":""},{"$f":"IF(ISBLANK(G58),0,VLOOKUP(G58,LUTs!$A$6:$B$8,2))","v":{"$error":"#N/A"}}]
[{"$f":"IF(ISBLANK(Responses!A59), \"\", Responses!A59)","v":""},{"$f":"IF(ISBLANK(Responses!B59), \"\", Responses!B59)","v":""},{"$f":"IF(ISBLANK(Responses!BA59), \"\", Responses!BA59)","v":""},{"$f":"IF(ISBLANK(Responses!BB59), \"\", Responses!BB59)","v":""},{"$f":"IF(ISBLANK(Responses!BC59), \"\", Responses!BC59)","v":""},{"$f":"IF(ISBLANK(Responses!BD59), \"\", Responses!BD59)","v":""},{"$f":"IF(ISBLANK(Responses!BE59), \"\", Responses!BE59)","v":""},{"$error":"#N/A"},{"$error":"#N/A"},{"$f":"IF(ISBLANK(C59),0,VLOOKUP(C59,LUTs!$A$6:$B$8,2))","v":{"$error":"#N/A"}},{"$f":"IF(ISBLANK(D59),0,VLOOKUP(D59,LUTs!$A$6:$B$8,2))","v":{"$error":"#N/A"}},{"$f":"IF(ISBLANK(E59),0,VLOOKUP(E59,LUTs!$A$6:$B$8,2))","v":{"$error":"#N/A"}},{"$f":"IF(ISBLANK(F59),0,IF(ISERROR(VLOOKUP(F59,LUTs!$A$6:$B$8,2)),F59,VLOOKUP(F59,LUTs!$A$6:$B$8,2)))","v":""},{"$f":"IF(ISBLANK(G59),0,VLOOKUP(G59,LUTs!$A$6:$B$8,2))","v":{"$error":"#N/A"}}]
[{"$f":"IF(ISBLANK(Responses!A60), \"\", Responses!A60)","v":""},{"$f":"IF(ISBLANK(Responses!B60), \"\", Responses!B60)","v":""},{"$f":"IF(ISBLANK(Responses!BA60), \"\", Responses!BA60)","v":""},{"$f":"IF(ISBLANK(Responses!BB60), \"\", Responses!BB60)","v":""},{"$f":"IF(ISBLANK(Responses!BC60), \"\", Responses!BC60)","v":""},{"$f":"IF(ISBLANK(Responses!BD60), \"\", Responses!BD60)","v":""},{"$f":"IF(ISBLANK(Responses!BE60), \"\", Responses!BE60)","v":""},{"$error":"#N/A"},{"$error":"#N/A"},{"$f":"IF(ISBLANK(C60),0,VLOOKUP(C60,LUTs!$A$6:$B$8,2))","v":{"$error":"#N/A"}},{"$f":"IF(ISBLANK(D60),0,VLOOKUP(D60,LUTs!$A$6:$B$8,2))","v":{"$error":"#N/A"}},{"$f":"IF(ISBLANK(E60),0,VLOOKUP(E60,LUTs!$A$6:$B$8,2))","v":{"$error":"#N/A"}},{"$f":"IF(ISBLANK(F60),0,IF(ISERROR(VLOOKUP(F60,LUTs!$A$6:$B$8,2)),F60,VLOOKUP(F60,LUTs!$A$6:$B$8,2)))","v":""},{"$f":"IF(ISBLANK(G60),0,VLOOKUP(G60,LUTs!$A$6:$B$8,2))","v":{"$error":"#N/A"}}]
[{"$f":"IF(ISBLANK(Responses!A61), \"\", Responses!A61)","v":""},{"$f":"IF(ISBLANK(Responses!B61), \"\", Responses!B61)","v":""},{"$f":"IF(ISBLANK(Responses!BA61), \"\", Responses!BA61)","v":""},{"$f":"IF(ISBLANK(Responses!BB61), \"\", Responses!BB61)","v":""},{"$f":"IF(ISBLANK(Responses!BC61), \"\", Responses!BC61)","v":""},{"$f":"IF(ISBLANK(Responses!BD61), \"\", Responses!BD61)","v":""},{"$f":"IF(ISBLANK(Responses!BE61), \"\", Responses!BE61)","v":""},{"$error":"#N/A"},{"$error":"#N/A"},{"$f":"IF(ISBLANK(C61),0,VLOOKUP(C61,LUTs!$A$6:$B$8,2))","v":{"$error":"#N/A"}},{"$f":"IF(ISBLANK(D61),0,VLOOKUP(D61,LUTs!$A$6:$B$8,2))","v":{"$error":"#N/A"}},{"$f":"IF(ISBLANK(E61),0,VLOOKUP(E61,LUTs!$A$6:$B$8,2))","v":{"$error":"#N/A"}},{"$f":"IF(ISBLANK(F61),0,IF(ISERROR(VLOOKUP(F61,LUTs!$A$6:$B$8,2)),F61,VLOOKUP(F61,LUTs!$A$6:$B$8,2)))","v":""},{"$f":"IF(ISBLANK(G61),0,VLOOKUP(G61,LUTs!$A$6:$B$8,2))","v":{"$error":"#N/A"}}]
[{"$f":"IF(ISBLANK(Responses!A62), \"\", Responses!A62)","v":""},{"$f":"IF(ISBLANK(Responses!B62), \"\", Responses!B62)","v":""},{"$f":"IF(ISBLANK(Responses!BA62), \"\", Responses!BA62)","v":""},{"$f":"IF(ISBLANK(Responses!BB62), \"\", Responses!BB62)","v":""},{"$f":"IF(ISBLANK(Responses!BC62), \"\", Responses!BC62)","v":""},{"$f":"IF(ISBLANK(Responses!BD62), \"\", Responses!BD62)","v":""},{"$f":"IF(ISBLANK(Responses!BE62), \"\", Responses!BE62)","v":""},{"$error":"#N/A"},{"$error":"#N/A"},{"$f":"IF(ISBLANK(C62),0,VLOOKUP(C62,LUTs!$A$6:$B$8,2))","v":{"$error":"#N/A"}},{"$f":"IF(ISBLANK(D62),0,VLOOKUP(D62,LUTs!$A$6:$B$8,2))","v":{"$error":"#N/A"}},{"$f":"IF(ISBLANK(E62),0,VLOOKUP(E62,LUTs!$A$6:$B$8,2))","v":{"$error":"#N/A"}},{"$f":"IF(ISBLANK(F62),0,IF(ISERROR(VLOOKUP(F62,LUTs!$A$6:$B$8,2)),F62,VLOOKUP(F62,LUTs!$A$6:$B$8,2)))","v":""},{"$f":"IF(ISBLANK(G62),0,VLOOKUP(G62,LUTs!$A$6:$B$8,2))","v":{"$error":"#N/A"}}]
[{"$f":"IF(ISBLANK(Responses!A63), \"\", Responses!A63)","v":""},{"$f":"IF(ISBLANK(Responses!B63), \"\", Responses!B63)","v":""},{"$f":"IF(ISBLANK(Responses!BA63), \"\", Responses!BA63)","v":""},{"$f":"IF(ISBLANK(Responses!BB63), \"\", Responses!BB63)","v":""},{"$f":"IF(ISBLANK(Responses!BC63), \"\", Responses!BC63)","v":""},{"$f":"IF(ISBLANK(Responses!BD63), \"\", Responses!BD63)","v":""},{"$f":"IF(ISBLANK(Responses!BE63), \"\", Responses!BE63)","v":""},{"$error":"#N/A"},{"$error":"#N/A"},{"$f":"IF(ISBLANK(C63),0,VLOOKUP(C63,LUTs!$A$6:$B$8,2))","v":{"$error":"#N/A"}},{"$f":"IF(ISBLANK(D63),0,VLOOKUP(D63,LUTs!$A$6:$B$8,2))","v":{"$error":"#N/A"}},{"$f":"IF(ISBLANK(E63),0,VLOOKUP(E63,LUTs!$A$6:$B$8,2))","v":{"$error":"#N/A"}},{"$f":"IF(ISBLANK(F63),0,IF(ISERROR(VLOOKUP(F63,LUTs!$A$6:$B$8,2)),F63,VLOOKUP(F63,LUTs!$A$6:$B$8,2)))","v":""},{"$f":"IF(ISBLANK(G63),0,VLOOKUP(G63,LUTs!$A$6:$B$8,2))","v":{"$error":"#N/A"}}]
[{"$f":"IF(ISBLANK(Responses!A64), \"\", Responses!A64)","v":""},{"$f":"IF(ISBLANK(Responses!B64), \"\", Responses!B64)","v":""},{"$f":"IF(ISBLANK(Responses!BA64), \"\", Responses!BA64)","v":""},{"$f":"IF(ISBLANK(Responses!BB64), \"\", Responses!BB64)","v":""},{"$f":"IF(ISBLANK(Responses!BC64), \"\", Responses!BC64)","v":""},{"$f":"IF(ISBLANK(Responses!BD64), \"\", Responses!BD64)","v":""},{"$f":"IF(ISBLANK(Responses!BE64), \"\", Responses!BE64)","v":""},{"$error":"#N/A"},{"$error":"#N/A"},{"$f":"IF(ISBLANK(C64),0,VLOOKUP(C64,LUTs!$A$6:$B$8,2))","v":{"$error":"#N/A"}},{"$f":"IF(ISBLANK(D64),0,VLOOKUP(D64,LUTs!$A$6:$B$8,2))","v":{"$error":"#N/A"}},{"$f":"IF(ISBLANK(E64),0,VLOOKUP(E64,LUTs!$A$6:$B$8,2))","v":{"$error":"#N/A"}},{"$f":"IF(ISBLANK(F64),0,IF(ISERROR(VLOOKUP(F64,LUTs!$A$6:$B$8,2)),F64,VLOOKUP(F64,LUTs!$A$6:$B$8,2)))","v":""},{"$f":"IF(ISBLANK(G64),0,VLOOKUP(G64,LUTs!$A$6:$B$8,2))","v":{"$error":"#N/A"}}]
[{"$f":"IF(ISBLANK(Responses!A65), \"\", Responses!A65)","v":""},{"$f":"IF(ISBLANK(Responses!B65), \"\", Responses!B65)","v":""},{"$f":"IF(ISBLANK(Responses!BA65), \"\", Responses!BA65)","v":""},{"$f":"IF(ISBLANK(Responses!BB65), \"\", Responses!BB65)","v":""},{"$f":"IF(ISBLANK(Responses!BC65), \"\", Responses!BC65)","v":""},{"$f":"IF(ISBLANK(Responses!BD65), \"\", Responses!BD65)","v":""},{"$f":"IF(ISBLANK(Responses!BE65), \"\", Responses!BE65)","v":""},{"$error":"#N/A"},{"$error":"#N/A"},{"$f":"IF(ISBLANK(C65),0,VLOOKUP(C65,LUTs!$A$6:$B$8,2))","v":{"$error":"#N/A"}},{"$f":"IF(ISBLANK(D65),0,VLOOKUP(D65,LUTs!$A$6:$B$8,2))","v":{"$error":"#N/A"}},{"$f":"IF(ISBLANK(E65),0,VLOOKUP(E65,LUTs!$A$6:$B$8,2))","v":{"$error":"#N/A"}},{"$f":"IF(ISBLANK(F65),0,IF(ISERROR(VLOOKUP(F65,LUTs!$A$6:$B$8,2)),F65,VLOOKUP(F65,LUTs!$A$6:$B$8,2)))","v":""},{"$f":"IF(ISBLANK(G65),0,VLOOKUP(G65,LUTs!$A$6:$B$8,2))","v":{"$error":"#N/A"}}]
[{"$f":"IF(ISBLANK(Responses!A66), \"\", Responses!A66)","v":""},{"$f":"IF(ISBLANK(Responses!B66), \"\", Responses!B66)","v":""},{"$f":"IF(ISBLANK(Responses!BA66), \"\", Responses!BA66)","v":""},{"$f":"IF(ISBLANK(Responses!BB66), \"\", Responses!BB66)","v":""},{"$f":"IF(ISBLANK(Responses!BC66), \"\", Responses!BC66)","v":""},{"$f":"IF(ISBLANK(Responses!BD66), \"\", Responses!BD66)","v":""},{"$f":"IF(ISBLANK(Responses!BE66), \"\", Responses!BE66)","v":""},{"$error":"#N/A"},{"$error":"#N/A"},{"$f":"IF(ISBLANK(C66),0,VLOOKUP(C66,LUTs!$A$6:$B$8,2))","v":{"$error":"#N/A"}},{"$f":"IF(ISBLANK(D66),0,VLOOKUP(D66,LUTs!$A$6:$B$8,2))","v":{"$error":"#N/A"}},{"$f":"IF(ISBLANK(E66),0,VLOOKUP(E66,LUTs!$A$6:$B$8,2))","v":{"$error":"#N/A"}},{"$f":"IF(ISBLANK(F66),0,IF(ISERROR(VLOOKUP(F66,LUTs!$A$6:$B$8,2)),F66,VLOOKUP(F66,LUTs!$A$6:$B$8,2)))","v":""},{"$f":"IF(ISBLANK(G66),0,VLOOKUP(G66,LUTs!$A$6:$B$8,2))","v":{"$error":"#N/A"}}]
[{"$f":"IF(ISBLANK(Responses!A67), \"\", Responses!A67)","v":""},{"$f":"IF(ISBLANK(Responses!B67), \"\", Responses!B67)","v":""},{"$f":"IF(ISBLANK(Responses!BA67), \"\", Responses!BA67)","v":""},{"$f":"IF(ISBLANK(Responses!BB67), \"\", Responses!BB67)","v":""},{"$f":"IF(ISBLANK(Responses!BC67), \"\", Responses!BC67)","v":""},{"$f":"IF(ISBLANK(Responses!BD67), \"\", Responses!BD67)","v":""},{"$f":"IF(ISBLANK(Responses!BE67), \"\", Responses!BE67)","v":""},{"$error":"#N/A"},{"$error":"#N/A"},{"$f":"IF(ISBLANK(C67),0,VLOOKUP(C67,LUTs!$A$6:$B$8,2))","v":{"$error":"#N/A"}},{"$f":"IF(ISBLANK(D67),0,VLOOKUP(D67,LUTs!$A$6:$B$8,2))","v":{"$error":"#N/A"}},{"$f":"IF(ISBLANK(E67),0,VLOOKUP(E67,LUTs!$A$6:$B$8,2))","v":{"$error":"#N/A"}},{"$f":"IF(ISBLANK(F67),0,IF(ISERROR(VLOOKUP(F67,LUTs!$A$6:$B$8,2)),F67,VLOOKUP(F67,LUTs!$A$6:$B$8,2)))","v":""},{"$f":"IF(ISBLANK(G67),0,VLOOKUP(G67,LUTs!$A$6:$B$8,2))","v":{"$error":"#N/A"}}]
[{"$f":"IF(ISBLANK(Responses!A68), \"\", Responses!A68)","v":""},{"$f":"IF(ISBLANK(Responses!B68), \"\", Responses!B68)","v":""},{"$f":"IF(ISBLANK(Responses!BA68), \"\", Responses!BA68)","v":""},{"$f":"IF(ISBLANK(Responses!BB68), \"\", Responses!BB68)","v":""},{"$f":"IF(ISBLANK(Responses!BC68), \"\", Responses!BC68)","v":""},{"$f":"IF(ISBLANK(Responses!BD68), \"\", Responses!BD68)","v":""},{"$f":"IF(ISBLANK(Responses!BE68), \"\", Responses!BE68)","v":""},{"$error":"#N/A"},{"$error":"#N/A"},{"$f":"IF(ISBLANK(C68),0,VLOOKUP(C68,LUTs!$A$6:$B$8,2))","v":{"$error":"#N/A"}},{"$f":"IF(ISBLANK(D68),0,VLOOKUP(D68,LUTs!$A$6:$B$8,2))","v":{"$error":"#N/A"}},{"$f":"IF(ISBLANK(E68),0,VLOOKUP(E68,LUTs!$A$6:$B$8,2))","v":{"$error":"#N/A"}},{"$f":"IF(ISBLANK(F68),0,IF(ISERROR(VLOOKUP(F68,LUTs!$A$6:$B$8,2)),F68,VLOOKUP(F68,LUTs!$A$6:$B$8,2)))","v":""},{"$f":"IF(ISBLANK(G68),0,VLOOKUP(G68,LUTs!$A$6:$B$8,2))","v":{"$error":"#N/A"}}]
[{"$f":"IF(ISBLANK(Responses!A69), \"\", Responses!A69)","v":""},{"$f":"IF(ISBLANK(Responses!B69), \"\", Responses!B69)","v":""},{"$f":"IF(ISBLANK(Responses!BA69), \"\", Responses!BA69)","v":""},{"$f":"IF(ISBLANK(Responses!BB69), \"\", Responses!BB69)","v":""},{"$f":"IF(ISBLANK(Responses!BC69), \"\", Responses!BC69)","v":""},{"$f":"IF(ISBLANK(Responses!BD69), \"\", Responses!BD69)","v":""},{"$f":"IF(ISBLANK(Responses!BE69), \"\", Responses!BE69)","v":""},{"$error":"#N/A"},{"$error":"#N/A"},{"$f":"IF(ISBLANK(C69),0,VLOOKUP(C69,LUTs!$A$6:$B$8,2))","v":{"$error":"#N/A"}},{"$f":"IF(ISBLANK(D69),0,VLOOKUP(D69,LUTs!$A$6:$B$8,2))","v":{"$error":"#N/A"}},{"$f":"IF(ISBLANK(E69),0,VLOOKUP(E69,LUTs!$A$6:$B$8,2))","v":{"$error":"#N/A"}},{"$f":"IF(ISBLANK(F69),0,IF(ISERROR(VLOOKUP(F69,LUTs!$A$6:$B$8,2)),F69,VLOOKUP(F69,LUTs!$A$6:$B$8,2)))","v":""},{"$f":"IF(ISBLANK(G69),0,VLOOKUP(G69,LUTs!$A$6:$B$8,2))","v":{"$error":"#N/A"}}]
[{"$f":"IF(ISBLANK(Responses!A70), \"\", Responses!A70)","v":""},{"$f":"IF(ISBLANK(Responses!B70), \"\", Responses!B70)","v":""},{"$f":"IF(ISBLANK(Responses!BA70), \"\", Responses!BA70)","v":""},{"$f":"IF(ISBLANK(Responses!BB70), \"\", Responses!BB70)","v":""},{"$f":"IF(ISBLANK(Responses!BC70), \"\", Responses!BC70)","v":""},{"$f":"IF(ISBLANK(Responses!BD70), \"\", Responses!BD70)","v":""},{"$f":"IF(ISBLANK(Responses!BE70), \"\", Responses!BE70)","v":""},{"$error":"#N/A"},{"$error":"#N/A"},{"$f":"IF(ISBLANK(C70),0,VLOOKUP(C70,LUTs!$A$6:$B$8,2))","v":{"$error":"#N/A"}},{"$f":"IF(ISBLANK(D70),0,VLOOKUP(D70,LUTs!$A$6:$B$8,2))","v":{"$error":"#N/A"}},{"$f":"IF(ISBLANK(E70),0,VLOOKUP(E70,LUTs!$A$6:$B$8,2))","v":{"$error":"#N/A"}},{"$f":"IF(ISBLANK(F70),0,IF(ISERROR(VLOOKUP(F70,LUTs!$A$6:$B$8,2)),F70,VLOOKUP(F70,LUTs!$A$6:$B$8,2)))","v":""},{"$f":"IF(ISBLANK(G70),0,VLOOKUP(G70,LUTs!$A$6:$B$8,2))","v":{"$error":"#N/A"}}]
[{"$f":"IF(ISBLANK(Responses!A71), \"\", Responses!A71)","v":""},{"$f":"IF(ISBLANK(Responses!B71), \"\", Responses!B71)","v":""},{"$f":"IF(ISBLANK(Responses!BA71), \"\", Responses!BA71)","v":""},{"$f":"IF(ISBLANK(Responses!BB71), \"\", Responses!BB71)","v":""},{"$f":"IF(ISBLANK(Responses!BC71), \"\", Responses!BC71)","v":""},{"$f":"IF(ISBLANK(Responses!BD71), \"\", Responses!BD71)","v":""},{"$f":"IF(ISBLANK(Responses!BE71), \"\", Responses!BE71)","v":""},{"$error":"#N/A"},{"$error":"#N/A"},{"$f":"IF(ISBLANK(C71),0,VLOOKUP(C71,LUTs!$A$6:$B$8,2))","v":{"$error":"#N/A"}},{"$f":"IF(ISBLANK(D71),0,VLOOKUP(D71,LUTs!$A$6:$B$8,2))","v":{"$error":"#N/A"}},{"$f":"IF(ISBLANK(E71),0,VLOOKUP(E71,LUTs!$A$6:$B$8,2))","v":{"$error":"#N/A"}},{"$f":"IF(ISBLANK(F71),0,IF(ISERROR(VLOOKUP(F71,LUTs!$A$6:$B$8,2)),F71,VLOOKUP(F71,LUTs!$A$6:$B$8,2)))","v":""},{"$f":"IF(ISBLANK(G71),0,VLOOKUP(G71,LUTs!$A$6:$B$8,2))","v":{"$error":"#N/A"}}]
[{"$f":"IF(ISBLANK(Responses!A72), \"\", Responses!A72)","v":""},{"$f":"IF(ISBLANK(Responses!B72), \"\", Responses!B72)","v":""},{"$f":"IF(ISBLANK(Responses!BA72), \"\", Responses!BA72)","v":""},{"$f":"IF(ISBLANK(Responses!BB72), \"\", Responses!BB72)","v":""},{"$f":"IF(ISBLANK(Responses!BC72), \"\", Responses!BC72)","v":""},{"$f":"IF(ISBLANK(Responses!BD72), \"\", Responses!BD72)","v":""},{"$f":"IF(ISBLANK(Responses!BE72), \"\", Responses!BE72)","v":""},{"$error":"#N/A"},{"$error":"#N/A"},{"$f":"IF(ISBLANK(C72),0,VLOOKUP(C72,LUTs!$A$6:$B$8,2))","v":{"$error":"#N/A"}},{"$f":"IF(ISBLANK(D72),0,VLOOKUP(D72,LUTs!$A$6:$B$8,2))","v":{"$error":"#N/A"}},{"$f":"IF(ISBLANK(E72),0,VLOOKUP(E72,LUTs!$A$6:$B$8,2))","v":{"$error":"#N/A"}},{"$f":"IF(ISBLANK(F72),0,IF(ISERROR(VLOOKUP(F72,LUTs!$A$6:$B$8,2)),F72,VLOOKUP(F72,LUTs!$A$6:$B$8,2)))","v":""},{"$f":"IF(ISBLANK(G72),0,VLOOKUP(G72,LUTs!$A$6:$B$8,2))","v":{"$error":"#N/A"}}]
[{"$f":"IF(ISBLANK(Responses!A73), \"\", Responses!A73)","v":""},{"$f":"IF(ISBLANK(Responses!B73), \"\", Responses!B73)","v":""},{"$f":"IF(ISBLANK(Responses!BA73), \"\", Responses!BA73)","v":""},{"$f":"IF(ISBLANK(Responses!BB73), \"\", Responses!BB73)","v":""},{"$f":"IF(ISBLANK(Responses!BC73), \"\", Responses!BC73)","v":""},{"$f":"IF(ISBLANK(Responses!BD73), \"\", Responses!BD73)","v":""},{"$f":"IF(ISBLANK(Responses!BE73), \"\", Responses!BE73)","v":""},{"$error":"#N/A"},{"$error":"#N/A"},{"$f":"IF(ISBLANK(C73),0,VLOOKUP(C73,LUTs!$A$6:$B$8,2))","v":{"$error":"#N/A"}},{"$f":"IF(ISBLANK(D73),0,VLOOKUP(D73,LUTs!$A$6:$B$8,2))","v":{"$error":"#N/A"}},{"$f":"IF(ISBLANK(E73),0,VLOOKUP(E73,LUTs!$A$6:$B$8,2))","v":{"$error":"#N/A"}},{"$f":"IF(ISBLANK(F73),0,IF(ISERROR(VLOOKUP(F73,LUTs!$A$6:$B$8,2)),F73,VLOOKUP(F73,LUTs!$A$6:$B$8,2)))","v":""},{"$f":"IF(ISBLANK(G73),0,VLOOKUP(G73,LUTs!$A$6:$B$8,2))","v":{"$error":"#N/A"}}]
[{"$f":"IF(ISBLANK(Responses!A74), \"\", Responses!A74)","v":""},{"$f":"IF(ISBLANK(Responses!B74), \"\", Responses!B74)","v":""},{"$f":"IF(ISBLANK(Responses!BA74), \"\", Responses!BA74)","v":""},{"$f":"IF(ISBLANK(Responses!BB74), \"\", Responses!BB74)","v":""},{"$f":"IF(ISBLANK(Responses!BC74), \"\", Responses!BC74)","v":""},{"$f":"IF(ISBLANK(Responses!BD74), \"\", Responses!BD74)","v":""},{"$f":"IF(ISBLANK(Responses!BE74), \"\", Responses!BE74)","v":""},{"$error":"#N/A"},{"$error":"#N/A"},{"$f":"IF(ISBLANK(C74),0,VLOOKUP(C74,LUTs!$A$6:$B$8,2))","v":{"$error":"#N/A"}},{"$f":"IF(ISBLANK(D74),0,VLOOKUP(D74,LUTs!$A$6:$B$8,2))","v":{"$error":"#N/A"}},{"$f":"IF(ISBLANK(E74),0,VLOOKUP(E74,LUTs!$A$6:$B$8,2))","v":{"$error":"#N/A"}},{"$f":"IF(ISBLANK(F74),0,IF(ISERROR(VLOOKUP(F74,LUTs!$A$6:$B$8,2)),F74,VLOOKUP(F74,LUTs!$A$6:$B$8,2)))","v":""},{"$f":"IF(ISBLANK(G74),0,VLOOKUP(G74,LUTs!$A$6:$B$8,2))","v":{"$error":"#N/A"}}]
[{"$f":"IF(ISBLANK(Responses!A75), \"\", Responses!A75)","v":""},{"$f":"IF(ISBLANK(Responses!B75), \"\", Responses!B75)","v":""},{"$f":"IF(ISBLANK(Responses!BA75), \"\", Responses!BA75)","v":""},{"$f":"IF(ISBLANK(Responses!BB75), \"\", Responses!BB75)","v":""},{"$f":"IF(ISBLANK(Responses!BC75), \"\", Responses!BC75)","v":""},{"$f":"IF(ISBLANK(Responses!BD75), \"\", Responses!BD75)","v":""},{"$f":"IF(ISBLANK(Responses!BE75), \"\", Responses!BE75)","v":""},{"$error":"#N/A"},{"$error":"#N/A"},{"$f":"IF(ISBLANK(C75),0,VLOOKUP(C75,LUTs!$A$6:$B$8,2))","v":{"$error":"#N/A"}},{"$f":"IF(ISBLANK(D75),0,VLOOKUP(D75,LUTs!$A$6:$B$8,2))","v":{"$error":"#N/A"}},{"$f":"IF(ISBLANK(E75),0,VLOOKUP(E75,LUTs!$A$6:$B$8,2))","v":{"$error":"#N/A"}},{"$f":"IF(ISBLANK(F75),0,IF(ISERROR(VLOOKUP(F75,LUTs!$A$6:$B$8,2)),F75,VLOOKUP(F75,LUTs!$A$6:$B$8,2)))","v":""},{"$f":"IF(ISBLANK(G75),0,VLOOKUP(G75,LUTs!$A$6:$B$8,2))","v":{"$error":"#N/A"}}]
[{"$f":"IF(ISBLANK(Responses!A76), \"\", Responses!A76)","v":""},{"$f":"IF(ISBLANK(Responses!B76), \"\", Responses!B76)","v":""},{"$f":"IF(ISBLANK(Responses!BA76), \"\", Responses!BA76)","v":""},{"$f":"IF(ISBLANK(Responses!BB76), \"\", Responses!BB76)","v":""},{"$f":"IF(ISBLANK(Responses!BC76), \"\", Responses!BC76)","v":""},{"$f":"IF(ISBLANK(Responses!BD76), \"\", Responses!BD76)","v":""},{"$f":"IF(ISBLANK(Responses!BE76), \"\", Responses!BE76)","v":""},{"$error":"#N/A"},{"$error":"#N/A"},{"$f":"IF(ISBLANK(C76),0,VLOOKUP(C76,LUTs!$A$6:$B$8,2))","v":{"$error":"#N/A"}},{"$f":"IF(ISBLANK(D76),0,VLOOKUP(D76,LUTs!$A$6:$B$8,2))","v":{"$error":"#N/A"}},{"$f":"IF(ISBLANK(E76),0,VLOOKUP(E76,LUTs!$A$6:$B$8,2))","v":{"$error":"#N/A"}},{"$f":"IF(ISBLANK(F76),0,IF(ISERROR(VLOOKUP(F76,LUTs!$A$6:$B$8,2)),F76,VLOOKUP(F76,LUTs!$A$6:$B$8,2)))","v":""},{"$f":"IF(ISBLANK(G76),0,VLOOKUP(G76,LUTs!$A$6:$B$8,2))","v":{"$error":"#N/A"}}]
[{"$f":"IF(ISBLANK(Responses!A77), \"\", Responses!A77)","v":""},{"$f":"IF(ISBLANK(Responses!B77), \"\", Responses!B77)","v":""},{"$f":"IF(ISBLANK(Responses!BA77), \"\", Responses!BA77)","v":""},{"$f":"IF(ISBLANK(Responses!BB77), \"\", Responses!BB77)","v":""},{"$f":"IF(ISBLANK(Responses!BC77), \"\", Responses!BC77)","v":""},{"$f":"IF(ISBLANK(Responses!BD77), \"\", Responses!BD77)","v":""},{"$f":"IF(ISBLANK(Responses!BE77), \"\", Responses!BE77)","v":""},{"$error":"#N/A"},{"$error":"#N/A"},{"$f":"IF(ISBLANK(C77),0,VLOOKUP(C77,LUTs!$A$6:$B$8,2))","v":{"$error":"#N/A"}},{"$f":"IF(ISBLANK(D77),0,VLOOKUP(D77,LUTs!$A$6:$B$8,2))","v":{"$error":"#N/A"}},{"$f":"IF(ISBLANK(E77),0,VLOOKUP(E77,LUTs!$A$6:$B$8,2))","v":{"$error":"#N/A"}},{"$f":"IF(ISBLANK(F77),0,IF(ISERROR(VLOOKUP(F77,LUTs!$A$6:$B$8,2)),F77,VLOOKUP(F77,LUTs!$A$6:$B$8,2)))","v":""},{"$f":"IF(ISBLANK(G77),0,VLOOKUP(G77,LUTs!$A$6:$B$8,2))","v":{"$error":"#N/A"}}]
[{"$f":"IF(ISBLANK(Responses!A78), \"\", Responses!A78)","v":""},{"$f":"IF(ISBLANK(Responses!B78), \"\", Responses!B78)","v":""},{"$f":"IF(ISBLANK(Responses!BA78), \"\", Responses!BA78)","v":""},{"$f":"IF(ISBLANK(Responses!BB78), \"\", Responses!BB78)","v":""},{"$f":"IF(ISBLANK(Responses!BC78), \"\", Responses!BC78)","v":""},{"$f":"IF(ISBLANK(Responses!BD78), \"\", Responses!BD78)","v":""},{"$f":"IF(ISBLANK(Responses!BE78), \"\", Responses!BE78)","v":""},{"$error":"#N/A"},{"$error":"#N/A"},{"$f":"IF(ISBLANK(C78),0,VLOOKUP(C78,LUTs!$A$6:$B$8,2))","v":{"$error":"#N/A"}},{"$f":"IF(ISBLANK(D78),0,VLOOKUP(D78,LUTs!$A$6:$B$8,2))","v":{"$error":"#N/A"}},{"$f":"IF(ISBLANK(E78),0,VLOOKUP(E78,LUTs!$A$6:$B$8,2))","v":{"$error":"#N/A"}},{"$f":"IF(ISBLANK(F78),0,IF(ISERROR(VLOOKUP(F78,LUTs!$A$6:$B$8,2)),F78,VLOOKUP(F78,LUTs!$A$6:$B$8,2)))","v":""},{"$f":"IF(ISBLANK(G78),0,VLOOKUP(G78,LUTs!$A$6:$B$8,2))","v":{"$error":"#N/A"}}]
[{"$f":"IF(ISBLANK(Responses!A79), \"\", Responses!A79)","v":""},{"$f":"IF(ISBLANK(Responses!B79), \"\", Responses!B79)","v":""},{"$f":"IF(ISBLANK(Responses!BA79), \"\", Responses!BA79)","v":""},{"$f":"IF(ISBLANK(Responses!BB79), \"\", Responses!BB79)","v":""},{"$f":"IF(ISBLANK(Responses!BC79), \"\", Responses!BC79)","v":""},{"$f":"IF(ISBLANK(Responses!BD79), \"\", Responses!BD79)","v":""},{"$f":"IF(ISBLANK(Responses!BE79), \"\", Responses!BE79)","v":""},{"$error":"#N/A"},{"$error":"#N/A"},{"$f":"IF(ISBLANK(C79),0,VLOOKUP(C79,LUTs!$A$6:$B$8,2))","v":{"$error":"#N/A"}},{"$f":"IF(ISBLANK(D79),0,VLOOKUP(D79,LUTs!$A$6:$B$8,2))","v":{"$error":"#N/A"}},{"$f":"IF(ISBLANK(E79),0,VLOOKUP(E79,LUTs!$A$6:$B$8,2))","v":{"$error":"#N/A"}},{"$f":"IF(ISBLANK(F79),0,IF(ISERROR(VLOOKUP(F79,LUTs!$A$6:$B$8,2)),F79,VLOOKUP(F79,LUTs!$A$6:$B$8,2)))","v":""},{"$f":"IF(ISBLANK(G79),0,VLOOKUP(G79,LUTs!$A$6:$B$8,2))","v":{"$error":"#N/A"}}]
[{"$f":"IF(ISBLANK(Responses!A80), \"\", Responses!A80)","v":""},{"$f":"IF(ISBLANK(Responses!B80), \"\", Responses!B80)","v":""},{"$f":"IF(ISBLANK(Responses!BA80), \"\", Responses!BA80)","v":""},{"$f":"IF(ISBLANK(Responses!BB80), \"\", Responses!BB80)","v":""},{"$f":"IF(ISBLANK(Responses!BC80), \"\", Responses!BC80)","v":""},{"$f":"IF(ISBLANK(Responses!BD80), \"\", Responses!BD80)","v":""},{"$f":"IF(ISBLANK(Responses!BE80), \"\", Responses!BE80)","v":""},{"$error":"#N/A"},{"$error":"#N/A"},{"$f":"IF(ISBLANK(C80),0,VLOOKUP(C80,LUTs!$A$6:$B$8,2))","v":{"$error":"#N/A"}},{"$f":"IF(ISBLANK(D80),0,VLOOKUP(D80,LUTs!$A$6:$B$8,2))","v":{"$error":"#N/A"}},{"$f":"IF(ISBLANK(E80),0,VLOOKUP(E80,LUTs!$A$6:$B$8,2))","v":{"$error":"#N/A"}},{"$f":"IF(ISBLANK(F80),0,IF(ISERROR(VLOOKUP(F80,LUTs!$A$6:$B$8,2)),F80,VLOOKUP(F80,LUTs!$A$6:$B$8,2)))","v":""},{"$f":"IF(ISBLANK(G80),0,VLOOKUP(G80,LUTs!$A$6:$B$8,2))","v":{"$error":"#N/A"}}]
[{"$f":"IF(ISBLANK(Responses!A81), \"\", Responses!A81)","v":""},{"$f":"IF(ISBLANK(Responses!B81), \"\", Responses!B81)","v":""},{"$f":"IF(ISBLANK(Responses!BA81), \"\", Responses!BA81)","v":""},{"$f":"IF(ISBLANK(Responses!BB81), \"\", Responses!BB81)","v":""},{"$f":"IF(ISBLANK(Responses!BC81), \"\", Responses!BC81)","v":""},{"$f":"IF(ISBLANK(Responses!BD81), \"\", Responses!BD81)","v":""},{"$f":"IF(ISBLANK(Responses!BE81), \"\", Responses!BE81)","v":""},{"$error":"#N/A"},{"$error":"#N/A"},{"$f":"IF(ISBLANK(C81),0,VLOOKUP(C81,LUTs!$A$6:$B$8,2))","v":{"$error":"#N/A"}},{"$f":"IF(ISBLANK(D81),0,VLOOKUP(D81,LUTs!$A$6:$B$8,2))","v":{"$error":"#N/A"}},{"$f":"IF(ISBLANK(E81),0,VLOOKUP(E81,LUTs!$A$6:$B$8,2))","v":{"$error":"#N/A"}},{"$f":"IF(ISBLANK(F81),0,IF(ISERROR(VLOOKUP(F81,LUTs!$A$6:$B$8,2)),F81,VLOOKUP(F81,LUTs!$A$6:$B$8,2)))","v":""},{"$f":"IF(ISBLANK(G81),0,VLOOKUP(G81,LUTs!$A$6:$B$8,2))","v":{"$error":"#N/A"}}]
[{"$f":"IF(ISBLANK(Responses!A82), \"\", Responses!A82)","v":""},{"$f":"IF(ISBLANK(Responses!B82), \"\", Responses!B82)","v":""},{"$f":"IF(ISBLANK(Responses!BA82), \"\", Responses!BA82)","v":""},{"$f":"IF(ISBLANK(Responses!BB82), \"\", Responses!BB82)","v":""},{"$f":"IF(ISBLANK(Responses!BC82), \"\", Responses!BC82)","v":""},{"$f":"IF(ISBLANK(Responses!BD82), \"\", Responses!BD82)","v":""},{"$f":"IF(ISBLANK(Responses!BE82), \"\", Responses!BE82)","v":""},{"$error":"#N/A"},{"$error":"#N/A"},{"$f":"IF(ISBLANK(C82),0,VLOOKUP(C82,LUTs!$A$6:$B$8,2))","v":{"$error":"#N/A"}},{"$f":"IF(ISBLANK(D82),0,VLOOKUP(D82,LUTs!$A$6:$B$8,2))","v":{"$error":"#N/A"}},{"$f":"IF(ISBLANK(E82),0,VLOOKUP(E82,LUTs!$A$6:$B$8,2))","v":{"$error":"#N/A"}},{"$f":"IF(ISBLANK(F82),0,IF(ISERROR(VLOOKUP(F82,LUTs!$A$6:$B$8,2)),F82,VLOOKUP(F82,LUTs!$A$6:$B$8,2)))","v":""},{"$f":"IF(ISBLANK(G82),0,VLOOKUP(G82,LUTs!$A$6:$B$8,2))","v":{"$error":"#N/A"}}]
[{"$f":"IF(ISBLANK(Responses!A83), \"\", Responses!A83)","v":""},{"$f":"IF(ISBLANK(Responses!B83), \"\", Responses!B83)","v":""},{"$f":"IF(ISBLANK(Responses!BA83), \"\", Responses!BA83)","v":""},{"$f":"IF(ISBLANK(Responses!BB83), \"\", Responses!BB83)","v":""},{"$f":"IF(ISBLANK(Responses!BC83), \"\", Responses!BC83)","v":""},{"$f":"IF(ISBLANK(Responses!BD83), \"\", Responses!BD83)","v":""},{"$f":"IF(ISBLANK(Responses!BE83), \"\", Responses!BE83)","v":""},{"$error":"#N/A"},{"$error":"#N/A"},{"$f":"IF(ISBLANK(C83),0,VLOOKUP(C83,LUTs!$A$6:$B$8,2))","v":{"$error":"#N/A"}},{"$f":"IF(ISBLANK(D83),0,VLOOKUP(D83,LUTs!$A$6:$B$8,2))","v":{"$error":"#N/A"}},{"$f":"IF(ISBLANK(E83),0,VLOOKUP(E83,LUTs!$A$6:$B$8,2))","v":{"$error":"#N/A"}},{"$f":"IF(ISBLANK(F83),0,IF(ISERROR(VLOOKUP(F83,LUTs!$A$6:$B$8,2)),F83,VLOOKUP(F83,LUTs!$A$6:$B$8,2)))","v":""},{"$f":"IF(ISBLANK(G83),0,VLOOKUP(G83,LUTs!$A$6:$B$8,2))","v":{"$error":"#N/A"}}]
[{"$f":"IF(ISBLANK(Responses!A84), \"\", Responses!A84)","v":""},{"$f":"IF(ISBLANK(Responses!B84), \"\", Responses!B84)","v":""},{"$f":"IF(ISBLANK(Responses!BA84), \"\", Responses!BA84)","v":""},{"$f":"IF(ISBLANK(Responses!BB84), \"\", Responses!BB84)","v":""},{"$f":"IF(ISBLANK(Responses!BC84), \"\", Responses!BC84)","v":""},{"$f":"IF(ISBLANK(Responses!BD84), \"\", Responses!BD84)","v":""},{"$f":"IF(ISBLANK(Responses!BE84), \"\", Responses!BE84)","v":""},{"$error":"#N/A"},{"$error":"#N/A"},{"$f":"IF(ISBLANK(C84),0,VLOOKUP(C84,LUTs!$A$6:$B$8,2))","v":{"$error":"#N/A"}},{"$f":"IF(ISBLANK(D84),0,VLOOKUP(D84,LUTs!$A$6:$B$8,2))","v":{"$error":"#N/A"}},{"$f":"IF(ISBLANK(E84),0,VLOOKUP(E84,LUTs!$A$6:$B$8,2))","v":{"$error":"#N/A"}},{"$f":"IF(ISBLANK(F84),0,IF(ISERROR(VLOOKUP(F84,LUTs!$A$6:$B$8,2)),F84,VLOOKUP(F84,LUTs!$A$6:$B$8,2)))","v":""},{"$f":"IF(ISBLANK(G84),0,VLOOKUP(G84,LUTs!$A$6:$B$8,2))","v":{"$error":"#N/A"}}]
[{"$f":"IF(ISBLANK(Responses!A85), \"\", Responses!A85)","v":""},{"$f":"IF(ISBLANK(Responses!B85), \"\", Responses!B85)","v":""},{"$f":"IF(ISBLANK(Responses!BA85), \"\", Responses!BA85)","v":""},{"$f":"IF(ISBLANK(Responses!BB85), \"\", Responses!BB85)","v":""},{"$f":"IF(ISBLANK(Responses!BC85), \"\", Responses!BC85)","v":""},{"$f":"IF(ISBLANK(Responses!BD85), \"\", Responses!BD85)","v":""},{"$f":"IF(ISBLANK(Responses!BE85), \"\", Responses!BE85)","v":""},{"$error":"#N/A"},{"$error":"#N/A"},{"$f":"IF(ISBLANK(C85),0,VLOOKUP(C85,LUTs!$A$6:$B$8,2))","v":{"$error":"#N/A"}},{"$f":"IF(ISBLANK(D85),0,VLOOKUP(D85,LUTs!$A$6:$B$8,2))","v":{"$error":"#N/A"}},{"$f":"IF(ISBLANK(E85),0,VLOOKUP(E85,LUTs!$A$6:$B$8,2))","v":{"$error":"#N/A"}},{"$f":"IF(ISBLANK(F85),0,IF(ISERROR(VLOOKUP(F85,LUTs!$A$6:$B$8,2)),F85,VLOOKUP(F85,LUTs!$A$6:$B$8,2)))","v":""},{"$f":"IF(ISBLANK(G85),0,VLOOKUP(G85,LUTs!$A$6:$B$8,2))","v":{"$error":"#N/A"}}]
[{"$f":"IF(ISBLANK(Responses!A86), \"\", Responses!A86)","v":""},{"$f":"IF(ISBLANK(Responses!B86), \"\", Responses!B86)","v":""},{"$f":"IF(ISBLANK(Responses!BA86), \"\", Responses!BA86)","v":""},{"$f":"IF(ISBLANK(Responses!BB86), \"\", Responses!BB86)","v":""},{"$f":"IF(ISBLANK(Responses!BC86), \"\", Responses!BC86)","v":""},{"$f":"IF(ISBLANK(Responses!BD86), \"\", Responses!BD86)","v":""},{"$f":"IF(ISBLANK(Responses!BE86), \"\", Responses!BE86)","v":""},{"$error":"#N/A"},{"$error":"#N/A"},{"$f":"IF(ISBLANK(C86),0,VLOOKUP(C86,LUTs!$A$6:$B$8,2))","v":{"$error":"#N/A"}},{"$f":"IF(ISBLANK(D86),0,VLOOKUP(D86,LUTs!$A$6:$B$8,2))","v":{"$error":"#N/A"}},{"$f":"IF(ISBLANK(E86),0,VLOOKUP(E86,LUTs!$A$6:$B$8,2))","v":{"$error":"#N/A"}},{"$f":"IF(ISBLANK(F86),0,IF(ISERROR(VLOOKUP(F86,LUTs!$A$6:$B$8,2)),F86,VLOOKUP(F86,LUTs!$A$6:$B$8,2)))","v":""},{"$f":"IF(ISBLANK(G86),0,VLOOKUP(G86,LUTs!$A$6:$B$8,2))","v":{"$error":"#N/A"}}]
[{"$f":"IF(ISBLANK(Responses!A87), \"\", Responses!A87)","v":""},{"$f":"IF(ISBLANK(Responses!B87), \"\", Responses!B87)","v":""},{"$f":"IF(ISBLANK(Responses!BA87), \"\", Responses!BA87)","v":""},{"$f":"IF(ISBLANK(Responses!BB87), \"\", Responses!BB87)","v":""},{"$f":"IF(ISBLANK(Responses!BC87), \"\", Responses!BC87)","v":""},{"$f":"IF(ISBLANK(Responses!BD87), \"\", Responses!BD87)","v":""},{"$f":"IF(ISBLANK(Responses!BE87), \"\", Responses!BE87)","v":""},{"$error":"#N/A"},{"$error":"#N/A"},{"$f":"IF(ISBLANK(C87),0,VLOOKUP(C87,LUTs!$A$6:$B$8,2))","v":{"$error":"#N/A"}},{"$f":"IF(ISBLANK(D87),0,VLOOKUP(D87,LUTs!$A$6:$B$8,2))","v":{"$error":"#N/A"}},{"$f":"IF(ISBLANK(E87),0,VLOOKUP(E87,LUTs!$A$6:$B$8,2))","v":{"$error":"#N/A"}},{"$f":"IF(ISBLANK(F87),0,IF(ISERROR(VLOOKUP(F87,LUTs!$A$6:$B$8,2)),F87,VLOOKUP(F87,LUTs!$A$6:$B$8,2)))","v":""},{"$f":"IF(ISBLANK(G87),0,VLOOKUP(G87,LUTs!$A$6:$B$8,2))","v":{"$error":"#N/A"}}]
[{"$f":"IF(ISBLANK(Responses!A88), \"\", Responses!A88)","v":""},{"$f":"IF(ISBLANK(Responses!B88), \"\", Responses!B88)","v":""},{"$f":"IF(ISBLANK(Responses!BA88), \"\", Responses!BA88)","v":""},{"$f":"IF(ISBLANK(Responses!BB88), \"\", Responses!BB88)","v":""},{"$f":"IF(ISBLANK(Responses!BC88), \"\", Responses!BC88)","v":""},{"$f":"IF(ISBLANK(Responses!BD88), \"\", Responses!BD88)","v":""},{"$f":"IF(ISBLANK(Responses!BE88), \"\", Responses!BE88)","v":""},{"$error":"#N/A"},{"$error":"#N/A"},{"$f":"IF(ISBLANK(C88),0,VLOOKUP(C88,LUTs!$A$6:$B$8,2))","v":{"$error":"#N/A"}},{"$f":"IF(ISBLANK(D88),0,VLOOKUP(D88,LUTs!$A$6:$B$8,2))","v":{"$error":"#N/A"}},{"$f":"IF(ISBLANK(E88),0,VLOOKUP(E88,LUTs!$A$6:$B$8,2))","v":{"$error":"#N/A"}},{"$f":"IF(ISBLANK(F88),0,IF(ISERROR(VLOOKUP(F88,LUTs!$A$6:$B$8,2)),F88,VLOOKUP(F88,LUTs!$A$6:$B$8,2)))","v":""},{"$f":"IF(ISBLANK(G88),0,VLOOKUP(G88,LUTs!$A$6:$B$8,2))","v":{"$error":"#N/A"}}]
[{"$f":"IF(ISBLANK(Responses!A89), \"\", Responses!A89)","v":""},{"$f":"IF(ISBLANK(Responses!B89), \"\", Responses!B89)","v":""},{"$f":"IF(ISBLANK(Responses!BA89), \"\", Responses!BA89)","v":""},{"$f":"IF(ISBLANK(Responses!BB89), \"\", Responses!BB89)","v":""},{"$f":"IF(ISBLANK(Responses!BC89), \"\", Responses!BC89)","v":""},{"$f":"IF(ISBLANK(Responses!BD89), \"\", Responses!BD89)","v":""},{"$f":"IF(ISBLANK(Responses!BE89), \"\", Responses!BE89)","v":""},{"$error":"#N/A"},{"$error":"#N/A"},{"$f":"IF(ISBLANK(C89),0,VLOOKUP(C89,LUTs!$A$6:$B$8,2))","v":{"$error":"#N/A"}},{"$f":"IF(ISBLANK(D89),0,VLOOKUP(D89,LUTs!$A$6:$B$8,2))","v":{"$error":"#N/A"}},{"$f":"IF(ISBLANK(E89),0,VLOOKUP(E89,LUTs!$A$6:$B$8,2))","v":{"$error":"#N/A"}},{"$f":"IF(ISBLANK(F89),0,IF(ISERROR(VLOOKUP(F89,LUTs!$A$6:$B$8,2)),F89,VLOOKUP(F89,LUTs!$A$6:$B$8,2)))","v":""},{"$f":"IF(ISBLANK(G89),0,VLOOKUP(G89,LUTs!$A$6:$B$8,2))","v":{"$error":"#N/A"}}]
[{"$f":"IF(ISBLANK(Responses!A90), \"\", Responses!A90)","v":""},{"$f":"IF(ISBLANK(Responses!B90), \"\", Responses!B90)","v":""},{"$f":"IF(ISBLANK(Responses!BA90), \"\", Responses!BA90)","v":""},{"$f":"IF(ISBLANK(Responses!BB90), \"\", Responses!BB90)","v":""},{"$f":"IF(ISBLANK(Responses!BC90), \"\", Responses!BC90)","v":""},{"$f":"IF(ISBLANK(Responses!BD90), \"\", Responses!BD90)","v":""},{"$f":"IF(ISBLANK(Responses!BE90), \"\", Responses!BE90)","v":""},{"$error":"#N/A"},{"$error":"#N/A"},{"$f":"IF(ISBLANK(C90),0,VLOOKUP(C90,LUTs!$A$6:$B$8,2))","v":{"$error":"#N/A"}},{"$f":"IF(ISBLANK(D90),0,VLOOKUP(D90,LUTs!$A$6:$B$8,2))","v":{"$error":"#N/A"}},{"$f":"IF(ISBLANK(E90),0,VLOOKUP(E90,LUTs!$A$6:$B$8,2))","v":{"$error":"#N/A"}},{"$f":"IF(ISBLANK(F90),0,IF(ISERROR(VLOOKUP(F90,LUTs!$A$6:$B$8,2)),F90,VLOOKUP(F90,LUTs!$A$6:$B$8,2)))","v":""},{"$f":"IF(ISBLANK(G90),0,VLOOKUP(G90,LUTs!$A$6:$B$8,2))","v":{"$error":"#N/A"}}]
[{"$f":"IF(ISBLANK(Responses!A91), \"\", Responses!A91)","v":""},{"$f":"IF(ISBLANK(Responses!B91), \"\", Responses!B91)","v":""},{"$f":"IF(ISBLANK(Responses!BA91), \"\", Responses!BA91)","v":""},{"$f":"IF(ISBLANK(Responses!BB91), \"\", Responses!BB91)","v":""},{"$f":"IF(ISBLANK(Responses!BC91), \"\", Responses!BC91)","v":""},{"$f":"IF(ISBLANK(Responses!BD91), \"\", Responses!BD91)","v":""},{"$f":"IF(ISBLANK(Responses!BE91), \"\", Responses!BE91)","v":""},{"$error":"#N/A"},{"$error":"#N/A"},{"$f":"IF(ISBLANK(C91),0,VLOOKUP(C91,LUTs!$A$6:$B$8,2))","v":{"$error":"#N/A"}},{"$f":"IF(ISBLANK(D91),0,VLOOKUP(D91,LUTs!$A$6:$B$8,2))","v":{"$error":"#N/A"}},{"$f":"IF(ISBLANK(E91),0,VLOOKUP(E91,LUTs!$A$6:$B$8,2))","v":{"$error":"#N/A"}},{"$f":"IF(ISBLANK(F91),0,IF(ISERROR(VLOOKUP(F91,LUTs!$A$6:$B$8,2)),F91,VLOOKUP(F91,LUTs!$A$6:$B$8,2)))","v":""},{"$f":"IF(ISBLANK(G91),0,VLOOKUP(G91,LUTs!$A$6:$B$8,2))","v":{"$error":"#N/A"}}]
[{"$f":"IF(ISBLANK(Responses!A92), \"\", Responses!A92)","v":""},{"$f":"IF(ISBLANK(Responses!B92), \"\", Responses!B92)","v":""},{"$f":"IF(ISBLANK(Responses!BA92), \"\", Responses!BA92)","v":""},{"$f":"IF(ISBLANK(Responses!BB92), \"\", Responses!BB92)","v":""},{"$f":"IF(ISBLANK(Responses!BC92), \"\", Responses!BC92)","v":""},{"$f":"IF(ISBLANK(Responses!BD92), \"\", Responses!BD92)","v":""},{"$f":"IF(ISBLANK(Responses!BE92), \"\", Responses!BE92)","v":""},{"$error":"#N/A"},{"$error":"#N/A"},{"$f":"IF(ISBLANK(C92),0,VLOOKUP(C92,LUTs!$A$6:$B$8,2))","v":{"$error":"#N/A"}},{"$f":"IF(ISBLANK(D92),0,VLOOKUP(D92,LUTs!$A$6:$B$8,2))","v":{"$error":"#N/A"}},{"$f":"IF(ISBLANK(E92),0,VLOOKUP(E92,LUTs!$A$6:$B$8,2))","v":{"$error":"#N/A"}},{"$f":"IF(ISBLANK(F92),0,IF(ISERROR(VLOOKUP(F92,LUTs!$A$6:$B$8,2)),F92,VLOOKUP(F92,LUTs!$A$6:$B$8,2)))","v":""},{"$f":"IF(ISBLANK(G92),0,VLOOKUP(G92,LUTs!$A$6:$B$8,2))","v":{"$error":"#N/A"}}]
[{"$f":"IF(ISBLANK(Responses!A93), \"\", Responses!A93)","v":""},{"$f":"IF(ISBLANK(Responses!B93), \"\", Responses!B93)","v":""},{"$f":"IF(ISBLANK(Responses!BA93), \"\", Responses!BA93)","v":""},{"$f":"IF(ISBLANK(Responses!BB93), \"\", Responses!BB93)","v":""},{"$f":"IF(ISBLANK(Responses!BC93), \"\", Responses!BC93)","v":""},{"$f":"IF(ISBLANK(Responses!BD93), \"\", Responses!BD93)","v":""},{"$f":"IF(ISBLANK(Responses!BE93), \"\", Responses!BE93)","v":""},{"$error":"#N/A"},{"$error":"#N/A"},{"$f":"IF(ISBLANK(C93),0,VLOOKUP(C93,LUTs!$A$6:$B$8,2))","v":{"$error":"#N/A"}},{"$f":"IF(ISBLANK(D93),0,VLOOKUP(D93,LUTs!$A$6:$B$8,2))","v":{"$error":"#N/A"}},{"$f":"IF(ISBLANK(E93),0,VLOOKUP(E93,LUTs!$A$6:$B$8,2))","v":{"$error":"#N/A"}},{"$f":"IF(ISBLANK(F93),0,IF(ISERROR(VLOOKUP(F93,LUTs!$A$6:$B$8,2)),F93,VLOOKUP(F93,LUTs!$A$6:$B$8,2)))","v":""},{"$f":"IF(ISBLANK(G93),0,VLOOKUP(G93,LUTs!$A$6:$B$8,2))","v":{"$error":"#N/A"}}]
[{"$f":"IF(ISBLANK(Responses!A94), \"\", Responses!A94)","v":""},{"$f":"IF(ISBLANK(Responses!B94), \"\", Responses!B94)","v":""},{"$f":"IF(ISBLANK(Responses!BA94), \"\", Responses!BA94)","v":""},{"$f":"IF(ISBLANK(Responses!BB94), \"\", Responses!BB94)","v":""},{"$f":"IF(ISBLANK(Responses!BC94), \"\", Responses!BC94)","v":""},{"$f":"IF(ISBLANK(Responses!BD94), \"\", Responses!BD94)","v":""},{"$f":"IF(ISBLANK(Responses!BE94), \"\", Responses!BE94)","v":""},{"$error":"#N/A"},{"$error":"#N/A"},{"$f":"IF(ISBLANK(C94),0,VLOOKUP(C94,LUTs!$A$6:$B$8,2))","v":{"$error":"#N/A"}},{"$f":"IF(ISBLANK(D94),0,VLOOKUP(D94,LUTs!$A$6:$B$8,2))","v":{"$error":"#N/A"}},{"$f":"IF(ISBLANK(E94),0,VLOOKUP(E94,LUTs!$A$6:$B$8,2))","v":{"$error":"#N/A"}},{"$f":"IF(ISBLANK(F94),0,IF(ISERROR(VLOOKUP(F94,LUTs!$A$6:$B$8,2)),F94,VLOOKUP(F94,LUTs!$A$6:$B$8,2)))","v":""},{"$f":"IF(ISBLANK(G94),0,VLOOKUP(G94,LUTs!$A$6:$B$8,2))","v":{"$error":"#N/A"}}]
[{"$f":"IF(ISBLANK(Responses!A95), \"\", Responses!A95)","v":""},{"$f":"IF(ISBLANK(Responses!B95), \"\", Responses!B95)","v":""},{"$f":"IF(ISBLANK(Responses!BA95), \"\", Responses!BA95)","v":""},{"$f":"IF(ISBLANK(Responses!BB95), \"\", Responses!BB95)","v":""},{"$f":"IF(ISBLANK(Responses!BC95), \"\", Responses!BC95)","v":""},{"$f":"IF(ISBLANK(Responses!BD95), \"\", Responses!BD95)","v":""},{"$f":"IF(ISBLANK(Responses!BE95), \"\", Responses!BE95)","v":""},{"$error":"#N/A"},{"$error":"#N/A"},{"$f":"IF(ISBLANK(C95),0,VLOOKUP(C95,LUTs!$A$6:$B$8,2))","v":{"$error":"#N/A"}},{"$f":"IF(ISBLANK(D95),0,VLOOKUP(D95,LUTs!$A$6:$B$8,2))","v":{"$error":"#N/A"}},{"$f":"IF(ISBLANK(E95),0,VLOOKUP(E95,LUTs!$A$6:$B$8,2))","v":{"$error":"#N/A"}},{"$f":"IF(ISBLANK(F95),0,IF(ISERROR(VLOOKUP(F95,LUTs!$A$6:$B$8,2)),F95,VLOOKUP(F95,LUTs!$A$6:$B$8,2)))","v":""},{"$f":"IF(ISBLANK(G95),0,VLOOKUP(G95,LUTs!$A$6:$B$8,2))","v":{"$error":"#N/A"}}]
[{"$f":"IF(ISBLANK(Responses!A96), \"\", Responses!A96)","v":""},{"$f":"IF(ISBLANK(Responses!B96), \"\", Responses!B96)","v":""},{"$f":"IF(ISBLANK(Responses!BA96), \"\", Responses!BA96)","v":""},{"$f":"IF(ISBLANK(Responses!BB96), \"\", Responses!BB96)","v":""},{"$f":"IF(ISBLANK(Responses!BC96), \"\", Responses!BC96)","v":""},{"$f":"IF(ISBLANK(Responses!BD96), \"\", Responses!BD96)","v":""},{"$f":"IF(ISBLANK(Responses!BE96), \"\", Responses!BE96)","v":""},{"$error":"#N/A"},{"$error":"#N/A"},{"$f":"IF(ISBLANK(C96),0,VLOOKUP(C96,LUTs!$A$6:$B$8,2))","v":{"$error":"#N/A"}},{"$f":"IF(ISBLANK(D96),0,VLOOKUP(D96,LUTs!$A$6:$B$8,2))","v":{"$error":"#N/A"}},{"$f":"IF(ISBLANK(E96),0,VLOOKUP(E96,LUTs!$A$6:$B$8,2))","v":{"$error":"#N/A"}},{"$f":"IF(ISBLANK(F96),0,IF(ISERROR(VLOOKUP(F96,LUTs!$A$6:$B$8,2)),F96,VLOOKUP(F96,LUTs!$A$6:$B$8,2)))","v":""},{"$f":"IF(ISBLANK(G96),0,VLOOKUP(G96,LUTs!$A$6:$B$8,2))","v":{"$error":"#N/A"}}]
[{"$f":"IF(ISBLANK(Responses!A97), \"\", Responses!A97)","v":""},{"$f":"IF(ISBLANK(Responses!B97), \"\", Responses!B97)","v":""},{"$f":"IF(ISBLANK(Responses!BA97), \"\", Responses!BA97)","v":""},{"$f":"IF(ISBLANK(Responses!BB97), \"\", Responses!BB97)","v":""},{"$f":"IF(ISBLANK(Responses!BC97), \"\", Responses!BC97)","v":""},{"$f":"IF(ISBLANK(Responses!BD97), \"\", Responses!BD97)","v":""},{"$f":"IF(ISBLANK(Responses!BE97), \"\", Responses!BE97)","v":""},{"$error":"#N/A"},{"$error":"#N/A"},{"$f":"IF(ISBLANK(C97),0,VLOOKUP(C97,LUTs!$A$6:$B$8,2))","v":{"$error":"#N/A"}},{"$f":"IF(ISBLANK(D97),0,VLOOKUP(D97,LUTs!$A$6:$B$8,2))","v":{"$error":"#N/A"}},{"$f":"IF(ISBLANK(E97),0,VLOOKUP(E97,LUTs!$A$6:$B$8,2))","v":{"$error":"#N/A"}},{"$f":"IF(ISBLANK(F97),0,IF(ISERROR(VLOOKUP(F97,LUTs!$A$6:$B$8,2)),F97,VLOOKUP(F97,LUTs!$A$6:$B$8,2)))","v":""},{"$f":"IF(ISBLANK(G97),0,VLOOKUP(G97,LUTs!$A$6:$B$8,2))","v":{"$error":"#N/A"}}]
[{"$f":"IF(ISBLANK(Responses!A98), \"\", Responses!A98)","v":""},{"$f":"IF(ISBLANK(Responses!B98), \"\", Responses!B98)","v":""},{"$f":"IF(ISBLANK(Responses!BA98), \"\", Responses!BA98)","v":""},{"$f":"IF(ISBLANK(Responses!BB98), \"\", Responses!BB98)","v":""},{"$f":"IF(ISBLANK(Responses!BC98), \"\", Responses!BC98)","v":""},{"$f":"IF(ISBLANK(Responses!BD98), \"\", Responses!BD98)","v":""},{"$f":"IF(ISBLANK(Responses!BE98), \"\", Responses!BE98)","v":""},{"$error":"#N/A"},{"$error":"#N/A"},{"$f":"IF(ISBLANK(C98),0,VLOOKUP(C98,LUTs!$A$6:$B$8,2))","v":{"$error":"#N/A"}},{"$f":"IF(ISBLANK(D98),0,VLOOKUP(D98,LUTs!$A$6:$B$8,2))","v":{"$error":"#N/A"}},{"$f":"IF(ISBLANK(E98),0,VLOOKUP(E98,LUTs!$A$6:$B$8,2))","v":{"$error":"#N/A"}},{"$f":"IF(ISBLANK(F98),0,IF(ISERROR(VLOOKUP(F98,LUTs!$A$6:$B$8,2)),F98,VLOOKUP(F98,LUTs!$A$6:$B$8,2)))","v":""},{"$f":"IF(ISBLANK(G98),0,VLOOKUP(G98,LUTs!$A$6:$B$8,2))","v":{"$error":"#N/A"}}]
[{"$f":"IF(ISBLANK(Responses!A99), \"\", Responses!A99)","v":""},{"$f":"IF(ISBLANK(Responses!B99), \"\", Responses!B99)","v":""},{"$f":"IF(ISBLANK(Responses!BA99), \"\", Responses!BA99)","v":""},{"$f":"IF(ISBLANK(Responses!BB99), \"\", Responses!BB99)","v":""},{"$f":"IF(ISBLANK(Responses!BC99), \"\", Responses!BC99)","v":""},{"$f":"IF(ISBLANK(Responses!BD99), \"\", Responses!BD99)","v":""},{"$f":"IF(ISBLANK(Responses!BE99), \"\", Responses!BE99)","v":""},{"$error":"#N/A"},{"$error":"#N/A"},{"$f":"IF(ISBLANK(C99),0,VLOOKUP(C99,LUTs!$A$6:$B$8,2))","v":{"$error":"#N/A"}},{"$f":"IF(ISBLANK(D99),0,VLOOKUP(D99,LUTs!$A$6:$B$8,2))","v":{"$error":"#N/A"}},{"$f":"IF(ISBLANK(E99),0,VLOOKUP(E99,LUTs!$A$6:$B$8,2))","v":{"$error":"#N/A"}},{"$f":"IF(ISBLANK(F99),0,IF(ISERROR(VLOOKUP(F99,LUTs!$A$6:$B$8,2)),F99,VLOOKUP(F99,LUTs!$A$6:$B$8,2)))","v":""},{"$f":"IF(ISBLANK(G99),0,VLOOKUP(G99,LUTs!$A$6:$B$8,2))","v":{"$error":"#N/A"}}]
[{"$f":"IF(ISBLANK(Responses!A100), \"\", Responses!A100)","v":""},{"$f":"IF(ISBLANK(Responses!B100), \"\", Responses!B100)","v":""},{"$f":"IF(ISBLANK(Responses!BA100), \"\", Responses!BA100)","v":""},{"$f":"IF(ISBLANK(Responses!BB100), \"\", Responses!BB100)","v":""},{"$f":"IF(ISBLANK(Responses!BC100), \"\", Responses!BC100)","v":""},{"$f":"IF(ISBLANK(Responses!BD100), \"\", Responses!BD100)","v":""},{"$f":"IF(ISBLANK(Responses!BE100), \"\", Responses!BE100)","v":""},{"$error":"#N/A"},{"$error":"#N/A"},{"$f":"IF(ISBLANK(C100),0,VLOOKUP(C100,LUTs!$A$6:$B$8,2))","v":{"$error":"#N/A"}},{"$f":"IF(ISBLANK(D100),0,VLOOKUP(D100,LUTs!$A$6:$B$8,2))","v":{"$error":"#N/A"}},{"$f":"IF(ISBLANK(E100),0,VLOOKUP(E100,LUTs!$A$6:$B$8,2))","v":{"$error":"#N/A"}},{"$f":"IF(ISBLANK(F100),0,IF(ISERROR(VLOOKUP(F100,LUTs!$A$6:$B$8,2)),F100,VLOOKUP(F100,LUTs!$A$6:$B$8,2)))","v":""},{"$f":"IF(ISBLANK(G100),0,VLOOKUP(G100,LUTs!$A$6:$B$8,2))","v":{"$error":"#N/A"}}]
[{"$f":"IF(ISBLANK(Responses!A101), \"\", Responses!A101)","v":""},{"$f":"IF(ISBLANK(Responses!B101), \"\", Responses!B101)","v":""},{"$f":"IF(ISBLANK(Responses!BA101), \"\", Responses!BA101)","v":""},{"$f":"IF(ISBLANK(Responses!BB101), \"\", Responses!BB101)","v":""},{"$f":"IF(ISBLANK(Responses!BC101), \"\", Responses!BC101)","v":""},{"$f":"IF(ISBLANK(Responses!BD101), \"\", Responses!BD101)","v":""},{"$f":"IF(ISBLANK(Responses!BE101), \"\", Responses!BE101)","v":""},{"$error":"#N/A"},{"$error":"#N/A"},{"$f":"IF(ISBLANK(C101),0,VLOOKUP(C101,LUTs!$A$6:$B$8,2))","v":{"$error":"#N/A"}},{"$f":"IF(ISBLANK(D101),0,VLOOKUP(D101,LUTs!$A$6:$B$8,2))","v":{"$error":"#N/A"}},{"$f":"IF(ISBLANK(E101),0,VLOOKUP(E101,LUTs!$A$6:$B$8,2))","v":{"$error":"#N/A"}},{"$f":"IF(ISBLANK(F101),0,IF(ISERROR(VLOOKUP(F101,LUTs!$A$6:$B$8,2)),F101,VLOOKUP(F101,LUTs!$A$6:$B$8,2)))","v":""},{"$f":"IF(ISBLANK(G101),0,VLOOKUP(G101,LUTs!$A$6:$B$8,2))","v":{"$error":"#N/A"}}]
[{"$f":"IF(ISBLANK(Responses!A102), \"\", Responses!A102)","v":""},{"$f":"IF(ISBLANK(Responses!B102), \"\", Responses!B102)","v":""},{"$f":"IF(ISBLANK(Responses!BA102), \"\", Responses!BA102)","v":""},{"$f":"IF(ISBLANK(Responses!BB102), \"\", Responses!BB102)","v":""},{"$f":"IF(ISBLANK(Responses!BC102), \"\", Responses!BC102)","v":""},{"$f":"IF(ISBLANK(Responses!BD102), \"\", Responses!BD102)","v":""},{"$f":"IF(ISBLANK(Responses!BE102), \"\", Responses!BE102)","v":""},{"$error":"#N/A"},{"$error":"#N/A"},{"$f":"IF(ISBLANK(C102),0,VLOOKUP(C102,LUTs!$A$6:$B$8,2))","v":{"$error":"#N/A"}},{"$f":"IF(ISBLANK(D102),0,VLOOKUP(D102,LUTs!$A$6:$B$8,2))","v":{"$error":"#N/A"}},{"$f":"IF(ISBLANK(E102),0,VLOOKUP(E102,LUTs!$A$6:$B$8,2))","v":{"$error":"#N/A"}},{"$f":"IF(ISBLANK(F102),0,IF(ISERROR(VLOOKUP(F102,LUTs!$A$6:$B$8,2)),F102,VLOOKUP(F102,LUTs!$A$6:$B$8,2)))","v":""},{"$f":"IF(ISBLANK(G102),0,VLOOKUP(G102,LUTs!$A$6:$B$8,2))","v":{"$error":"#N/A"}}]
[{"$f":"IF(ISBLANK(Responses!A103), \"\", Responses!A103)","v":""},{"$f":"IF(ISBLANK(Responses!B103), \"\", Responses!B103)","v":""},{"$f":"IF(ISBLANK(Responses!BA103), \"\", Responses!BA103)","v":""},{"$f":"IF(ISBLANK(Responses!BB103), \"\", Responses!BB103)","v":""},{"$f":"IF(ISBLANK(Responses!BC103), \"\", Responses!BC103)","v":""},{"$f":"IF(ISBLANK(Responses!BD103), \"\", Responses!BD103)","v":""},{"$f":"IF(ISBLANK(Responses!BE103), \"\", Responses!BE103)","v":""},{"$error":"#N/A"},{"$error":"#N/A"},{"$f":"IF(ISBLANK(C103),0,VLOOKUP(C103,LUTs!$A$6:$B$8,2))","v":{"$error":"#N/A"}},{"$f":"IF(ISBLANK(D103),0,VLOOKUP(D103,LUTs!$A$6:$B$8,2))","v":{"$error":"#N/A"}},{"$f":"IF(ISBLANK(E103),0,VLOOKUP(E103,LUTs!$A$6:$B$8,2))","v":{"$error":"#N/A"}},{"$f":"IF(ISBLANK(F103),0,IF(ISERROR(VLOOKUP(F103,LUTs!$A$6:$B$8,2)),F103,VLOOKUP(F103,LUTs!$A$6:$B$8,2)))","v":""},{"$f":"IF(ISBLANK(G103),0,VLOOKUP(G103,LUTs!$A$6:$B$8,2))","v":{"$error":"#N/A"}}]
[{"$f":"IF(ISBLANK(Responses!A104), \"\", Responses!A104)","v":""},{"$f":"IF(ISBLANK(Responses!B104), \"\", Responses!B104)","v":""},{"$f":"IF(ISBLANK(Responses!BA104), \"\", Responses!BA104)","v":""},{"$f":"IF(ISBLANK(Responses!BB104), \"\", Responses!BB104)","v":""},{"$f":"IF(ISBLANK(Responses!BC104), \"\", Responses!BC104)","v":""},{"$f":"IF(ISBLANK(Responses!BD104), \"\", Responses!BD104)","v":""},{"$f":"IF(ISBLANK(Responses!BE104), \"\", Responses!BE104)","v":""},{"$error":"#N/A"},{"$error":"#N/A"},{"$f":"IF(ISBLANK(C104),0,VLOOKUP(C104,LUTs!$A$6:$B$8,2))","v":{"$error":"#N/A"}},{"$f":"IF(ISBLANK(D104),0,VLOOKUP(D104,LUTs!$A$6:$B$8,2))","v":{"$error":"#N/A"}},{"$f":"IF(ISBLANK(E104),0,VLOOKUP(E104,LUTs!$A$6:$B$8,2))","v":{"$error":"#N/A"}},{"$f":"IF(ISBLANK(F104),0,IF(ISERROR(VLOOKUP(F104,LUTs!$A$6:$B$8,2)),F104,VLOOKUP(F104,LUTs!$A$6:$B$8,2)))","v":""},{"$f":"IF(ISBLANK(G104),0,VLOOKUP(G104,LUTs!$A$6:$B$8,2))","v":{"$error":"#N/A"}}]
[{"$f":"IF(ISBLANK(Responses!A105), \"\", Responses!A105)","v":""},{"$f":"IF(ISBLANK(Responses!B105), \"\", Responses!B105)","v":""},{"$f":"IF(ISBLANK(Responses!BA105), \"\", Responses!BA105)","v":""},{"$f":"IF(ISBLANK(Responses!BB105), \"\", Responses!BB105)","v":""},{"$f":"IF(ISBLANK(Responses!BC105), \"\", Responses!BC105)","v":""},{"$f":"IF(ISBLANK(Responses!BD105), \"\", Responses!BD105)","v":""},{"$f":"IF(ISBLANK(Responses!BE105), \"\", Responses!BE105)","v":""},{"$error":"#N/A"},{"$error":"#N/A"},{"$f":"IF(ISBLANK(C105),0,VLOOKUP(C105,LUTs!$A$6:$B$8,2))","v":{"$error":"#N/A"}},{"$f":"IF(ISBLANK(D105),0,VLOOKUP(D105,LUTs!$A$6:$B$8,2))","v":{"$error":"#N/A"}},{"$f":"IF(ISBLANK(E105),0,VLOOKUP(E105,LUTs!$A$6:$B$8,2))","v":{"$error":"#N/A"}},{"$f":"IF(ISBLANK(F105),0,IF(ISERROR(VLOOKUP(F105,LUTs!$A$6:$B$8,2)),F105,VLOOKUP(F105,LUTs!$A$6:$B$8,2)))","v":""},{"$f":"IF(ISBLANK(G105),0,VLOOKUP(G105,LUTs!$A$6:$B$8,2))","v":{"$error":"#N/A"}}]
[{"$f":"IF(ISBLANK(Responses!A106), \"\", Responses!A106)","v":""},{"$f":"IF(ISBLANK(Responses!B106), \"\", Responses!B106)","v":""},{"$f":"IF(ISBLANK(Responses!BA106), \"\", Responses!BA106)","v":""},{"$f":"IF(ISBLANK(Responses!BB106), \"\", Responses!BB106)","v":""},{"$f":"IF(ISBLANK(Responses!BC106), \"\", Responses!BC106)","v":""},{"$f":"IF(ISBLANK(Responses!BD106), \"\", Responses!BD106)","v":""},{"$f":"IF(ISBLANK(Responses!BE106), \"\", Responses!BE106)","v":""},{"$error":"#N/A"},{"$error":"#N/A"},{"$f":"IF(ISBLANK(C106),0,VLOOKUP(C106,LUTs!$A$6:$B$8,2))","v":{"$error":"#N/A"}},{"$f":"IF(ISBLANK(D106),0,VLOOKUP(D106,LUTs!$A$6:$B$8,2))","v":{"$error":"#N/A"}},{"$f":"IF(ISBLANK(E106),0,VLOOKUP(E106,LUTs!$A$6:$B$8,2))","v":{"$error":"#N/A"}},{"$f":"IF(ISBLANK(F106),0,IF(ISERROR(VLOOKUP(F106,LUTs!$A$6:$B$8,2)),F106,VLOOKUP(F106,LUTs!$A$6:$B$8,2)))","v":""},{"$f":"IF(ISBLANK(G106),0,VLOOKUP(G106,LUTs!$A$6:$B$8,2))","v":{"$error":"#N/A"}}]
[{"$f":"IF(ISBLANK(Responses!A107), \"\", Responses!A107)","v":""},{"$f":"IF(ISBLANK(Responses!B107), \"\", Responses!B107)","v":""},{"$f":"IF(ISBLANK(Responses!BA107), \"\", Responses!BA107)","v":""},{"$f":"IF(ISBLANK(Responses!BB107), \"\", Responses!BB107)","v":""},{"$f":"IF(ISBLANK(Responses!BC107), \"\", Responses!BC107)","v":""},{"$f":"IF(ISBLANK(Responses!BD107), \"\", Responses!BD107)","v":""},{"$f":"IF(ISBLANK(Responses!BE107), \"\", Responses!BE107)","v":""},{"$error":"#N/A"},{"$error":"#N/A"},{"$f":"IF(ISBLANK(C107),0,VLOOKUP(C107,LUTs!$A$6:$B$8,2))","v":{"$error":"#N/A"}},{"$f":"IF(ISBLANK(D107),0,VLOOKUP(D107,LUTs!$A$6:$B$8,2))","v":{"$error":"#N/A"}},{"$f":"IF(ISBLANK(E107),0,VLOOKUP(E107,LUTs!$A$6:$B$8,2))","v":{"$error":"#N/A"}},{"$f":"IF(ISBLANK(F107),0,IF(ISERROR(VLOOKUP(F107,LUTs!$A$6:$B$8,2)),F107,VLOOKUP(F107,LUTs!$A$6:$B$8,2)))","v":""},{"$f":"IF(ISBLANK(G107),0,VLOOKUP(G107,LUTs!$A$6:$B$8,2))","v":{"$error":"#N/A"}}]
[{"$f":"IF(ISBLANK(Responses!A108), \"\", Responses!A108)","v":""},{"$f":"IF(ISBLANK(Responses!B108), \"\", Responses!B108)","v":""},{"$f":"IF(ISBLANK(Responses!BA108), \"\", Responses!BA108)","v":""},{"$f":"IF(ISBLANK(Responses!BB108), \"\", Responses!BB108)","v":""},{"$f":"IF(ISBLANK(Responses!BC108), \"\", Responses!BC108)","v":""},{"$f":"IF(ISBLANK(Responses!BD108), \"\", Responses!BD108)","v":""},{"$f":"IF(ISBLANK(Responses!BE108), \"\", Responses!BE108)","v":""},{"$error":"#N/A"},{"$error":"#N/A"},{"$f":"IF(ISBLANK(C108),0,VLOOKUP(C108,LUTs!$A$6:$B$8,2))","v":{"$error":"#N/A"}},{"$f":"IF(ISBLANK(D108),0,VLOOKUP(D108,LUTs!$A$6:$B$8,2))","v":{"$error":"#N/A"}},{"$f":"IF(ISBLANK(E108),0,VLOOKUP(E108,LUTs!$A$6:$B$8,2))","v":{"$error":"#N/A"}},{"$f":"IF(ISBLANK(F108),0,IF(ISERROR(VLOOKUP(F108,LUTs!$A$6:$B$8,2)),F108,VLOOKUP(F108,LUTs!$A$6:$B$8,2)))","v":""},{"$f":"IF(ISBLANK(G108),0,VLOOKUP(G108,LUTs!$A$6:$B$8,2))","v":{"$error":"#N/A"}}]
[{"$f":"IF(ISBLANK(Responses!A109), \"\", Responses!A109)","v":""},{"$f":"IF(ISBLANK(Responses!B109), \"\", Responses!B109)","v":""},{"$f":"IF(ISBLANK(Responses!BA109), \"\", Responses!BA109)","v":""},{"$f":"IF(ISBLANK(Responses!BB109), \"\", Responses!BB109)","v":""},{"$f":"IF(ISBLANK(Responses!BC109), \"\", Responses!BC109)","v":""},{"$f":"IF(ISBLANK(Responses!BD109), \"\", Responses!BD109)","v":""},{"$f":"IF(ISBLANK(Responses!BE109), \"\", Responses!BE109)","v":""},{"$error":"#N/A"},{"$error":"#N/A"},{"$f":"IF(ISBLANK(C109),0,VLOOKUP(C109,LUTs!$A$6:$B$8,2))","v":{"$error":"#N/A"}},{"$f":"IF(ISBLANK(D109),0,VLOOKUP(D109,LUTs!$A$6:$B$8,2))","v":{"$error":"#N/A"}},{"$f":"IF(ISBLANK(E109),0,VLOOKUP(E109,LUTs!$A$6:$B$8,2))","v":{"$error":"#N/A"}},{"$f":"IF(ISBLANK(F109),0,IF(ISERROR(VLOOKUP(F109,LUTs!$A$6:$B$8,2)),F109,VLOOKUP(F109,LUTs!$A$6:$B$8,2)))","v":""},{"$f":"IF(ISBLANK(G109),0,VLOOKUP(G109,LUTs!$A$6:$B$8,2))","v":{"$error":"#N/A"}}]
[{"$f":"IF(ISBLANK(Responses!A110), \"\", Responses!A110)","v":""},{"$f":"IF(ISBLANK(Responses!B110), \"\", Responses!B110)","v":""},{"$f":"IF(ISBLANK(Responses!BA110), \"\", Responses!BA110)","v":""},{"$f":"IF(ISBLANK(Responses!BB110), \"\", Responses!BB110)","v":""},{"$f":"IF(ISBLANK(Responses!BC110), \"\", Responses!BC110)","v":""},{"$f":"IF(ISBLANK(Responses!BD110), \"\", Responses!BD110)","v":""},{"$f":"IF(ISBLANK(Responses!BE110), \"\", Responses!BE110)","v":""}]
[{"$f":"IF(ISBLANK(Responses!A111), \"\", Responses!A111)","v":""},{"$f":"IF(ISBLANK(Responses!B111), \"\", Responses!B111)","v":""},{"$f":"IF(ISBLANK(Responses!BA111), \"\", Responses!BA111)","v":""},{"$f":"IF(ISBLANK(Responses!BB111), \"\", Responses!BB111)","v":""},{"$f":"IF(ISBLANK(Responses!BC111), \"\", Responses!BC111)","v":""},{"$f":"IF(ISBLANK(Responses!BD111), \"\", Responses!BD111)","v":""},{"$f":"IF(ISBLANK(Responses!BE111), \"\", Responses!BE111)","v":""}]
[{"$f":"IF(ISBLANK(Responses!A112), \"\", Responses!A112)","v":""},{"$f":"IF(ISBLANK(Responses!B112), \"\", Responses!B112)","v":""},{"$f":"IF(ISBLANK(Responses!BA112), \"\", Responses!BA112)","v":""},{"$f":"IF(ISBLANK(Responses!BB112), \"\", Responses!BB112)","v":""},{"$f":"IF(ISBLANK(Responses!BC112), \"\", Responses!BC112)","v":""},{"$f":"IF(ISBLANK(Responses!BD112), \"\", Responses!BD112)","v":""},{"$f":"IF(ISBLANK(Responses!BE112), \"\", Responses!BE112)","v":""}]
[{"$f":"IF(ISBLANK(Responses!A113), \"\", Responses!A113)","v":""},{"$f":"IF(ISBLANK(Responses!B113), \"\", Responses!B113)","v":""},{"$f":"IF(ISBLANK(Responses!BA113), \"\", Responses!BA113)","v":""},{"$f":"IF(ISBLANK(Responses!BB113), \"\", Responses!BB113)","v":""},{"$f":"IF(ISBLANK(Responses!BC113), \"\", Responses!BC113)","v":""},{"$f":"IF(ISBLANK(Responses!BD113), \"\", Responses!BD113)","v":""},{"$f":"IF(ISBLANK(Responses!BE113), \"\", Responses!BE113)","v":""}]
[{"$f":"IF(ISBLANK(Responses!A114), \"\", Responses!A114)","v":""},{"$f":"IF(ISBLANK(Responses!B114), \"\", Responses!B114)","v":""},{"$f":"IF(ISBLANK(Responses!BA114), \"\", Responses!BA114)","v":""},{"$f":"IF(ISBLANK(Responses!BB114), \"\", Responses!BB114)","v":""},{"$f":"IF(ISBLANK(Responses!BC114), \"\", Responses!BC114)","v":""},{"$f":"IF(ISBLANK(Responses!BD114), \"\", Responses!BD114)","v":""},{"$f":"IF(ISBLANK(Responses!BE114), \"\", Responses!BE114)","v":""}]
[{"$f":"IF(ISBLANK(Responses!A115), \"\", Responses!A115)","v":""},{"$f":"IF(ISBLANK(Responses!B115), \"\", Responses!B115)","v":""},{"$f":"IF(ISBLANK(Responses!BA115), \"\", Responses!BA115)","v":""},{"$f":"IF(ISBLANK(Responses!BB115), \"\", Responses!BB115)","v":""},{"$f":"IF(ISBLANK(Responses!BC115), \"\", Responses!BC115)","v":""},{"$f":"IF(ISBLANK(Responses!BD115), \"\", Responses!BD115)","v":""},{"$f":"IF(ISBLANK(Responses!BE115), \"\", Responses!BE115)","v":""}]
[{"$f":"IF(ISBLANK(Responses!A116), \"\", Responses!A116)","v":""},{"$f":"IF(ISBLANK(Responses!B116), \"\", Responses!B116)","v":""},{"$f":"IF(ISBLANK(Responses!BA116), \"\", Responses!BA116)","v":""},{"$f":"IF(ISBLANK(Responses!BB116), \"\", Responses!BB116)","v":""},{"$f":"IF(ISBLANK(Responses!BC116), \"\", Responses!BC116)","v":""},{"$f":"IF(ISBLANK(Responses!BD116), \"\", Responses!BD116)","v":""},{"$f":"IF(ISBLANK(Responses!BE116), \"\", Responses!BE116)","v":""}]
[{"$f":"IF(ISBLANK(Responses!A117), \"\", Responses!A117)","v":""},{"$f":"IF(ISBLANK(Responses!B117), \"\", Responses!B117)","v":""},{"$f":"IF(ISBLANK(Responses!BA117), \"\", Responses!BA117)","v":""},{"$f":"IF(ISBLANK(Responses!BB117), \"\", Responses!BB117)","v":""},{"$f":"IF(ISBLANK(Responses!BC117), \"\", Responses!BC117)","v":""},{"$f":"IF(ISBLANK(Responses!BD117), \"\", Responses!BD117)","v":""},{"$f":"IF(ISBLANK(Responses!BE117), \"\", Responses!BE117)","v":""}]
[{"$f":"IF(ISBLANK(Responses!A118), \"\", Responses!A118)","v":""},{"$f":"IF(ISBLANK(Responses!B118), \"\", Responses!B118)","v":""},{"$f":"IF(ISBLANK(Responses!BA118), \"\", Responses!BA118)","v":""},{"$f":"IF(ISBLANK(Responses!BB118), \"\", Responses!BB118)","v":""},{"$f":"IF(ISBLANK(Responses!BC118), \"\", Responses!BC118)","v":""},{"$f":"IF(ISBLANK(Responses!BD118), \"\", Responses!BD118)","v":""},{"$f":"IF(ISBLANK(Responses!BE118), \"\", Responses!BE118)","v":""}]

{"sheet":"Public Health","index":11,"n_rows":118,"n_cols":12,"rows_kept":118,"cut":false,"hidden":true,"merged":[]}
[{"$f":"IF(ISBLANK(Responses!A1), \"\", Responses!A1)","v":"Timestamp"},{"$f":"IF(ISBLANK(Responses!B1), \"\", Responses!B1)","v":"Sport Organization Name"},{"$f":"IF(ISBLANK(Responses!BF1), \"\", Responses!BF1)","v":"Has public health advice on clinical features of COVID-19, preventive measures, especially respiratory etiquette, hand hygiene practices, and physical distancing, been shared with all staff, athletes, and personnel of all relevant facilities?"},{"$f":"IF(ISBLANK(Responses!BG1), \"\", Responses!BG1)","v":"Has information on the at-risk populations been provided to all athletes, and others, so they may make an informed decision on their attendance, based on their personal risks?"},{"$f":"IF(ISBLANK(Responses!BH1), \"\", Responses!BH1)","v":"Has public advice included information on the meaning of the following measures: quarantine, self-isolation and self-monitoring?"},"Public Health %","Public Health Score",3,3,2,null,"Max Public Health Score"]
[{"$f":"IF(ISBLANK(Responses!A2), \"\", Responses!A2)","v":""},{"$f":"IF(ISBLANK(Responses!B2), \"\", Responses!B2)","v":""},{"$f":"IF(ISBLANK(Responses!BF2), \"\", Responses!BF2)","v":""},{"$f":"IF(ISBLANK(Responses!BG2), \"\", Responses!BG2)","v":""},{"$f":"IF(ISBLANK(Responses!BH2), \"\", Responses!BH2)","v":""},{"$f":"G2/(2*SUM(H$1:J$1))","v":{"$error":"#N/A"}},{"$f":"SUM(H2*H$1,I2*I$1,J2*J$1)","v":{"$error":"#N/A"}},{"$f":"IF(ISBLANK(C2),0,VLOOKUP(C2,LUTs!$A$6:$B$8,2))","v":{"$error":"#N/A"}},{"$f":"IF(ISBLANK(D2),0,VLOOKUP(D2,LUTs!$A$6:$B$8,2))","v":{"$error":"#N/A"}},{"$f":"IF(ISBLANK(E2),0,VLOOKUP(E2,LUTs!$A$6:$B$8,2))","v":{"$error":"#N/A"}},null,{"$f":"SUM(H1:J1)*2","v":16}]
[{"$f":"IF(ISBLANK(Responses!A3), \"\", Responses!A3)","v":""},{"$f":"IF(ISBLANK(Responses!B3), \"\", Responses!B3)","v":""},{"$f":"IF(ISBLANK(Responses!BF3), \"\", Responses!BF3)","v":""},{"$f":"IF(ISBLANK(Responses!BG3), \"\", Responses!BG3)","v":""},{"$f":"IF(ISBLANK(Responses!BH3), \"\", Responses!BH3)","v":""},{"$error":"#N/A"},{"$error":"#N/A"},{"$f":"IF(ISBLANK(C3),0,VLOOKUP(C3,LUTs!$A$6:$B$8,2))","v":{"$error":"#N/A"}},{"$f":"IF(ISBLANK(D3),0,VLOOKUP(D3,LUTs!$A$6:$B$8,2))","v":{"$error":"#N/A"}},{"$f":"IF(ISBLANK(E3),0,VLOOKUP(E3,LUTs!$A$6:$B$8,2))","v":{"$error":"#N/A"}}]
[{"$f":"IF(ISBLANK(Responses!A4), \"\", Responses!A4)","v":""},{"$f":"IF(ISBLANK(Responses!B4), \"\", Responses!B4)","v":""},{"$f":"IF(ISBLANK(Responses!BF4), \"\", Responses!BF4)","v":""},{"$f":"IF(ISBLANK(Responses!BG4), \"\", Responses!BG4)","v":""},{"$f":"IF(ISBLANK(Responses!BH4), \"\", Responses!BH4)","v":""},{"$error":"#N/A"},{"$error":"#N/A"},{"$f":"IF(ISBLANK(C4),0,VLOOKUP(C4,LUTs!$A$6:$B$8,2))","v":{"$error":"#N/A"}},{"$f":"IF(ISBLANK(D4),0,VLOOKUP(D4,LUTs!$A$6:$B$8,2))","v":{"$error":"#N/A"}},{"$f":"IF(ISBLANK(E4),0,VLOOKUP(E4,LUTs!$A$6:$B$8,2))","v":{"$error":"#N/A"}}]
[{"$f":"IF(ISBLANK(Responses!A5), \"\", Responses!A5)","v":""},{"$f":"IF(ISBLANK(Responses!B5), \"\", Responses!B5)","v":""},{"$f":"IF(ISBLANK(Responses!BF5), \"\", Responses!BF5)","v":""},{"$f":"IF(ISBLANK(Responses!BG5), \"\", Responses!BG5)","v":""},{"$f":"IF(ISBLANK(Responses!BH5), \"\", Responses!BH5)","v":""},{"$error":"#N/A"},{"$error":"#N/A"},{"$f":"IF(ISBLANK(C5),0,VLOOKUP(C5,LUTs!$A$6:$B$8,2))","v":{"$error":"#N/A"}},{"$f":"IF(ISBLANK(D5),0,VLOOKUP(D5,LUTs!$A$6:$B$8,2))","v":{"$error":"#N/A"}},{"$f":"IF(ISBLANK(E5),0,VLOOKUP(E5,LUTs!$A$6:$B$8,2))","v":{"$error":"#N/A"}}]
[{"$f":"IF(ISBLANK(Responses!A6), \"\", Responses!A6)","v":""},{"$f":"IF(ISBLANK(Responses!B6), \"\", Responses!B6)","v":""},{"$f":"IF(ISBLANK(Responses!BF6), \"\", Responses!BF6)","v":""},{"$f":"IF(ISBLANK(Responses!BG6), \"\", Responses!BG6)","v":""},{"$f":"IF(ISBLANK(Responses!BH6), \"\", Responses!BH6)","v":""},{"$error":"#N/A"},{"$error":"#N/A"},{"$f":"IF(ISBLANK(C6),0,VLOOKUP(C6,LUTs!$A$6:$B$8,2))","v":{"$error":"#N/A"}},{"$f":"IF(ISBLANK(D6),0,VLOOKUP(D6,LUTs!$A$6:$B$8,2))","v":{"$error":"#N/A"}},{"$f":"IF(ISBLANK(E6),0,VLOOKUP(E6,LUTs!$A$6:$B$8,2))","v":{"$error":"#N/A"}}]
[{"$f":"IF(ISBLANK(Responses!A7), \"\", Responses!A7)","v":""},{"$f":"IF(ISBLANK(Responses!B7), \"\", Responses!B7)","v":""},{"$f":"IF(ISBLANK(Responses!BF7), \"\", Responses!BF7)","v":""},{"$f":"IF(ISBLANK(Responses!BG7), \"\", Responses!BG7)","v":""},{"$f":"IF(ISBLANK(Responses!BH7), \"\", Responses!BH7)","v":""},{"$error":"#N/A"},{"$error":"#N/A"},{"$f":"IF(ISBLANK(C7),0,VLOOKUP(C7,LUTs!$A$6:$B$8,2))","v":{"$error":"#N/A"}},{"$f":"IF(ISBLANK(D7),0,VLOOKUP(D7,LUTs!$A$6:$B$8,2))","v":{"$error":"#N/A"}},{"$f":"IF(ISBLANK(E7),0,VLOOKUP(E7,LUTs!$A$6:$B$8,2))","v":{"$error":"#N/A"}}]
[{"$f":"IF(ISBLANK(Responses!A8), \"\", Responses!A8)","v":""},{"$f":"IF(ISBLANK(Responses!B8), \"\", Responses!B8)","v":""},{"$f":"IF(ISBLANK(Responses!BF8), \"\", Responses!BF8)","v":""},{"$f":"IF(ISBLANK(Responses!BG8), \"\", Responses!BG8)","v":""},{"$f":"IF(ISBLANK(Responses!BH8), \"\", Responses!BH8)","v":""},{"$error":"#N/A"},{"$error":"#N/A"},{"$f":"IF(ISBLANK(C8),0,VLOOKUP(C8,LUTs!$A$6:$B$8,2))","v":{"$error":"#N/A"}},{"$f":"IF(ISBLANK(D8),0,VLOOKUP(D8,LUTs!$A$6:$B$8,2))","v":{"$error":"#N/A"}},{"$f":"IF(ISBLANK(E8),0,VLOOKUP(E8,LUTs!$A$6:$B$8,2))","v":{"$error":"#N/A"}}]
[{"$f":"IF(ISBLANK(Responses!A9), \"\", Responses!A9)","v":""},{"$f":"IF(ISBLANK(Responses!B9), \"\", Responses!B9)","v":""},{"$f":"IF(ISBLANK(Responses!BF9), \"\", Responses!BF9)","v":""},{"$f":"IF(ISBLANK(Responses!BG9), \"\", Responses!BG9)","v":""},{"$f":"IF(ISBLANK(Responses!BH9), \"\", Responses!BH9)","v":""},{"$error":"#N/A"},{"$error":"#N/A"},{"$f":"IF(ISBLANK(C9),0,VLOOKUP(C9,LUTs!$A$6:$B$8,2))","v":{"$error":"#N/A"}},{"$f":"IF(ISBLANK(D9),0,VLOOKUP(D9,LUTs!$A$6:$B$8,2))","v":{"$error":"#N/A"}},{"$f":"IF(ISBLANK(E9),0,VLOOKUP(E9,LUTs!$A$6:$B$8,2))","v":{"$error":"#N/A"}}]
[{"$f":"IF(ISBLANK(Responses!A10), \"\", Responses!A10)","v":""},{"$f":"IF(ISBLANK(Responses!B10), \"\", Responses!B10)","v":""},{"$f":"IF(ISBLANK(Responses!BF10), \"\", Responses!BF10)","v":""},{"$f":"IF(ISBLANK(Responses!BG10), \"\", Responses!BG10)","v":""},{"$f":"IF(ISBLANK(Responses!BH10), \"\", Responses!BH10)","v":""},{"$error":"#N/A"},{"$error":"#N/A"},{"$f":"IF(ISBLANK(C10),0,VLOOKUP(C10,LUTs!$A$6:$B$8,2))","v":{"$error":"#N/A"}},{"$f":"IF(ISBLANK(D10),0,VLOOKUP(D10,LUTs!$A$6:$B$8,2))","v":{"$error":"#N/A"}},{"$f":"IF(ISBLANK(E10),0,VLOOKUP(E10,LUTs!$A$6:$B$8,2))","v":{"$error":"#N/A"}}]
[{"$f":"IF(ISBLANK(Responses!A11), \"\", Responses!A11)","v":""},{"$f":"IF(ISBLANK(Responses!B11), \"\", Responses!B11)","v":""},{"$f":"IF(ISBLANK(Responses!BF11), \"\", Responses!BF11)","v":""},{"$f":"IF(ISBLANK(Responses!BG11), \"\", Responses!BG11)","v":""},{"$f":"IF(ISBLANK(Responses!BH11), \"\", Responses!BH11)","v":""},{"$error":"#N/A"},{"$error":"#N/A"},{"$f":"IF(ISBLANK(C11),0,VLOOKUP(C11,LUTs!$A$6:$B$8,2))","v":{"$error":"#N/A"}},{"$f":"IF(ISBLANK(D11),0,VLOOKUP(D11,LUTs!$A$6:$B$8,2))","v":{"$error":"#N/A"}},{"$f":"IF(ISBLANK(E11),0,VLOOKUP(E11,LUTs!$A$6:$B$8,2))","v":{"$error":"#N/A"}}]
[{"$f":"IF(ISBLANK(Responses!A12), \"\", Responses!A12)","v":""},{"$f":"IF(ISBLANK(Responses!B12), \"\", Responses!B12)","v":""},{"$f":"IF(ISBLANK(Responses!BF12), \"\", Responses!BF12)","v":""},{"$f":"IF(ISBLANK(Responses!BG12), \"\", Responses!BG12)","v":""},{"$f":"IF(ISBLANK(Responses!BH12), \"\", Responses!BH12)","v":""},{"$error":"#N/A"},{"$error":"#N/A"},{"$f":"IF(ISBLANK(C12),0,VLOOKUP(C12,LUTs!$A$6:$B$8,2))","v":{"$error":"#N/A"}},{"$f":"IF(ISBLANK(D12),0,VLOOKUP(D12,LUTs!$A$6:$B$8,2))","v":{"$error":"#N/A"}},{"$f":"IF(ISBLANK(E12),0,VLOOKUP(E12,LUTs!$A$6:$B$8,2))","v":{"$error":"#N/A"}}]
[{"$f":"IF(ISBLANK(Responses!A13), \"\", Responses!A13)","v":""},{"$f":"IF(ISBLANK(Responses!B13), \"\", Responses!B13)","v":""},{"$f":"IF(ISBLANK(Responses!BF13), \"\", Responses!BF13)","v":""},{"$f":"IF(ISBLANK(Responses!BG13), \"\", Responses!BG13)","v":""},{"$f":"IF(ISBLANK(Responses!BH13), \"\", Responses!BH13)","v":""},{"$error":"#N/A"},{"$error":"#N/A"},{"$f":"IF(ISBLANK(C13),0,VLOOKUP(C13,LUTs!$A$6:$B$8,2))","v":{"$error":"#N/A"}},{"$f":"IF(ISBLANK(D13),0,VLOOKUP(D13,LUTs!$A$6:$B$8,2))","v":{"$error":"#N/A"}},{"$f":"IF(ISBLANK(E13),0,VLOOKUP(E13,LUTs!$A$6:$B$8,2))","v":{"$error":"#N/A"}}]
[{"$f":"IF(ISBLANK(Responses!A14), \"\", Responses!A14)","v":""},{"$f":"IF(ISBLANK(Responses!B14), \"\", Responses!B14)","v":""},{"$f":"IF(ISBLANK(Responses!BF14), \"\", Responses!BF14)","v":""},{"$f":"IF(ISBLANK(Responses!BG14), \"\", Responses!BG14)","v":""},{"$f":"IF(ISBLANK(Responses!BH14), \"\", Responses!BH14)","v":""},{"$error":"#N/A"},{"$error":"#N/A"},{"$f":"IF(ISBLANK(C14),0,VLOOKUP(C14,LUTs!$A$6:$B$8,2))","v":{"$error":"#N/A"}},{"$f":"IF(ISBLANK(D14),0,VLOOKUP(D14,LUTs!$A$6:$B$8,2))","v":{"$error":"#N/A"}},{"$f":"IF(ISBLANK(E14),0,VLOOKUP(E14,LUTs!$A$6:$B$8,2))","v":{"$error":"#N/A"}}]
[{"$f":"IF(ISBLANK(Responses!A15), \"\", Responses!A15)","v":""},{"$f":"IF(ISBLANK(Responses!B15), \"\", Responses!B15)","v":""},{"$f":"IF(ISBLANK(Responses!BF15), \"\", Responses!BF15)","v":""},{"$f":"IF(ISBLANK(Responses!BG15), \"\", Responses!BG15)","v":""},{"$f":"IF(ISBLANK(Responses!BH15), \"\", Responses!BH15)","v":""},{"$error":"#N/A"},{"$error":"#N/A"},{"$f":"IF(ISBLANK(C15),0,VLOOKUP(C15,LUTs!$A$6:$B$8,2))","v":{"$error":"#N/A"}},{"$f":"IF(ISBLANK(D15),0,VLOOKUP(D15,LUTs!$A$6:$B$8,2))","v":{"$error":"#N/A"}},{"$f":"IF(ISBLANK(E15),0,VLOOKUP(E15,LUTs!$A$6:$B$8,2))","v":{"$error":"#N/A"}}]
[{"$f":"IF(ISBLANK(Responses!A16), \"\", Responses!A16)","v":""},{"$f":"IF(ISBLANK(Responses!B16), \"\", Responses!B16)","v":""},{"$f":"IF(ISBLANK(Responses!BF16), \"\", Responses!BF16)","v":""},{"$f":"IF(ISBLANK(Responses!BG16), \"\", Responses!BG16)","v":""},{"$f":"IF(ISBLANK(Responses!BH16), \"\", Responses!BH16)","v":""},{"$error":"#N/A"},{"$error":"#N/A"},{"$f":"IF(ISBLANK(C16),0,VLOOKUP(C16,LUTs!$A$6:$B$8,2))","v":{"$error":"#N/A"}},{"$f":"IF(ISBLANK(D16),0,VLOOKUP(D16,LUTs!$A$6:$B$8,2))","v":{"$error":"#N/A"}},{"$f":"IF(ISBLANK(E16),0,VLOOKUP(E16,LUTs!$A$6:$B$8,2))","v":{"$error":"#N/A"}}]
[{"$f":"IF(ISBLANK(Responses!A17), \"\", Responses!A17)","v":""},{"$f":"IF(ISBLANK(Responses!B17), \"\", Responses!B17)","v":""},{"$f":"IF(ISBLANK(Responses!BF17), \"\", Responses!BF17)","v":""},{"$f":"IF(ISBLANK(Responses!BG17), \"\", Responses!BG17)","v":""},{"$f":"IF(ISBLANK(Responses!BH17), \"\", Responses!BH17)","v":""},{"$error":"#N/A"},{"$error":"#N/A"},{"$f":"IF(ISBLANK(C17),0,VLOOKUP(C17,LUTs!$A$6:$B$8,2))","v":{"$error":"#N/A"}},{"$f":"IF(ISBLANK(D17),0,VLOOKUP(D17,LUTs!$A$6:$B$8,2))","v":{"$error":"#N/A"}},{"$f":"IF(ISBLANK(E17),0,VLOOKUP(E17,LUTs!$A$6:$B$8,2))","v":{"$error":"#N/A"}}]
[{"$f":"IF(ISBLANK(Responses!A18), \"\", Responses!A18)","v":""},{"$f":"IF(ISBLANK(Responses!B18), \"\", Responses!B18)","v":""},{"$f":"IF(ISBLANK(Responses!BF18), \"\", Responses!BF18)","v":""},{"$f":"IF(ISBLANK(Responses!BG18), \"\", Responses!BG18)","v":""},{"$f":"IF(ISBLANK(Responses!BH18), \"\", Responses!BH18)","v":""},{"$error":"#N/A"},{"$error":"#N/A"},{"$f":"IF(ISBLANK(C18),0,VLOOKUP(C18,LUTs!$A$6:$B$8,2))","v":{"$error":"#N/A"}},{"$f":"IF(ISBLANK(D18),0,VLOOKUP(D18,LUTs!$A$6:$B$8,2))","v":{"$error":"#N/A"}},{"$f":"IF(ISBLANK(E18),0,VLOOKUP(E18,LUTs!$A$6:$B$8,2))","v":{"$error":"#N/A"}}]
[{"$f":"IF(ISBLANK(Responses!A19), \"\", Responses!A19)","v":""},{"$f":"IF(ISBLANK(Responses!B19), \"\", Responses!B19)","v":""},{"$f":"IF(ISBLANK(Responses!BF19), \"\", Responses!BF19)","v":""},{"$f":"IF(ISBLANK(Responses!BG19), \"\", Responses!BG19)","v":""},{"$f":"IF(ISBLANK(Responses!BH19), \"\", Responses!BH19)","v":""},{"$error":"#N/A"},{"$error":"#N/A"},{"$f":"IF(ISBLANK(C19),0,VLOOKUP(C19,LUTs!$A$6:$B$8,2))","v":{"$error":"#N/A"}},{"$f":"IF(ISBLANK(D19),0,VLOOKUP(D19,LUTs!$A$6:$B$8,2))","v":{"$error":"#N/A"}},{"$f":"IF(ISBLANK(E19),0,VLOOKUP(E19,LUTs!$A$6:$B$8,2))","v":{"$error":"#N/A"}}]
[{"$f":"IF(ISBLANK(Responses!A20), \"\", Responses!A20)","v":""},{"$f":"IF(ISBLANK(Responses!B20), \"\", Responses!B20)","v":""},{"$f":"IF(ISBLANK(Responses!BF20), \"\", Responses!BF20)","v":""},{"$f":"IF(ISBLANK(Responses!BG20), \"\", Responses!BG20)","v":""},{"$f":"IF(ISBLANK(Responses!BH20), \"\", Responses!BH20)","v":""},{"$error":"#N/A"},{"$error":"#N/A"},{"$f":"IF(ISBLANK(C20),0,VLOOKUP(C20,LUTs!$A$6:$B$8,2))","v":{"$error":"#N/A"}},{"$f":"IF(ISBLANK(D20),0,VLOOKUP(D20,LUTs!$A$6:$B$8,2))","v":{"$error":"#N/A"}},{"$f":"IF(ISBLANK(E20),0,VLOOKUP(E20,LUTs!$A$6:$B$8,2))","v":{"$error":"#N/A"}}]
[{"$f":"IF(ISBLANK(Responses!A21), \"\", Responses!A21)","v":""},{"$f":"IF(ISBLANK(Responses!B21), \"\", Responses!B21)","v":""},{"$f":"IF(ISBLANK(Responses!BF21), \"\", Responses!BF21)","v":""},{"$f":"IF(ISBLANK(Responses!BG21), \"\", Responses!BG21)","v":""},{"$f":"IF(ISBLANK(Responses!BH21), \"\", Responses!BH21)","v":""},{"$error":"#N/A"},{"$error":"#N/A"},{"$f":"IF(ISBLANK(C21),0,VLOOKUP(C21,LUTs!$A$6:$B$8,2))","v":{"$error":"#N/A"}},{"$f":"IF(ISBLANK(D21),0,VLOOKUP(D21,LUTs!$A$6:$B$8,2))","v":{"$error":"#N/A"}},{"$f":"IF(ISBLANK(E21),0,VLOOKUP(E21,LUTs!$A$6:$B$8,2))","v":{"$error":"#N/A"}}]
[{"$f":"IF(ISBLANK(Responses!A22), \"\", Responses!A22)","v":""},{"$f":"IF(ISBLANK(Responses!B22), \"\", Responses!B22)","v":""},{"$f":"IF(ISBLANK(Responses!BF22), \"\", Responses!BF22)","v":""},{"$f":"IF(ISBLANK(Responses!BG22), \"\", Responses!BG22)","v":""},{"$f":"IF(ISBLANK(Responses!BH22), \"\", Responses!BH22)","v":""},{"$error":"#N/A"},{"$error":"#N/A"},{"$f":"IF(ISBLANK(C22),0,VLOOKUP(C22,LUTs!$A$6:$B$8,2))","v":{"$error":"#N/A"}},{"$f":"IF(ISBLANK(D22),0,VLOOKUP(D22,LUTs!$A$6:$B$8,2))","v":{"$error":"#N/A"}},{"$f":"IF(ISBLANK(E22),0,VLOOKUP(E22,LUTs!$A$6:$B$8,2))","v":{"$error":"#N/A"}}]
[{"$f":"IF(ISBLANK(Responses!A23), \"\", Responses!A23)","v":""},{"$f":"IF(ISBLANK(Responses!B23), \"\", Responses!B23)","v":""},{"$f":"IF(ISBLANK(Responses!BF23), \"\", Responses!BF23)","v":""},{"$f":"IF(ISBLANK(Responses!BG23), \"\", Responses!BG23)","v":""},{"$f":"IF(ISBLANK(Responses!BH23), \"\", Responses!BH23)","v":""},{"$error":"#N/A"},{"$error":"#N/A"},{"$f":"IF(ISBLANK(C23),0,VLOOKUP(C23,LUTs!$A$6:$B$8,2))","v":{"$error":"#N/A"}},{"$f":"IF(ISBLANK(D23),0,VLOOKUP(D23,LUTs!$A$6:$B$8,2))","v":{"$error":"#N/A"}},{"$f":"IF(ISBLANK(E23),0,VLOOKUP(E23,LUTs!$A$6:$B$8,2))","v":{"$error":"#N/A"}}]
[{"$f":"IF(ISBLANK(Responses!A24), \"\", Responses!A24)","v":""},{"$f":"IF(ISBLANK(Responses!B24), \"\", Responses!B24)","v":""},{"$f":"IF(ISBLANK(Responses!BF24), \"\", Responses!BF24)","v":""},{"$f":"IF(ISBLANK(Responses!BG24), \"\", Responses!BG24)","v":""},{"$f":"IF(ISBLANK(Responses!BH24), \"\", Responses!BH24)","v":""},{"$error":"#N/A"},{"$error":"#N/A"},{"$f":"IF(ISBLANK(C24),0,VLOOKUP(C24,LUTs!$A$6:$B$8,2))","v":{"$error":"#N/A"}},{"$f":"IF(ISBLANK(D24),0,VLOOKUP(D24,LUTs!$A$6:$B$8,2))","v":{"$error":"#N/A"}},{"$f":"IF(ISBLANK(E24),0,VLOOKUP(E24,LUTs!$A$6:$B$8,2))","v":{"$error":"#N/A"}}]
[{"$f":"IF(ISBLANK(Responses!A25), \"\", Responses!A25)","v":""},{"$f":"IF(ISBLANK(Responses!B25), \"\", Responses!B25)","v":""},{"$f":"IF(ISBLANK(Responses!BF25), \"\", Responses!BF25)","v":""},{"$f":"IF(ISBLANK(Responses!BG25), \"\", Responses!BG25)","v":""},{"$f":"IF(ISBLANK(Responses!BH25), \"\", Responses!BH25)","v":""},{"$error":"#N/A"},{"$error":"#N/A"},{"$f":"IF(ISBLANK(C25),0,VLOOKUP(C25,LUTs!$A$6:$B$8,2))","v":{"$error":"#N/A"}},{"$f":"IF(ISBLANK(D25),0,VLOOKUP(D25,LUTs!$A$6:$B$8,2))","v":{"$error":"#N/A"}},{"$f":"IF(ISBLANK(E25),0,VLOOKUP(E25,LUTs!$A$6:$B$8,2))","v":{"$error":"#N/A"}}]
[{"$f":"IF(ISBLANK(Responses!A26), \"\", Responses!A26)","v":""},{"$f":"IF(ISBLANK(Responses!B26), \"\", Responses!B26)","v":""},{"$f":"IF(ISBLANK(Responses!BF26), \"\", Responses!BF26)","v":""},{"$f":"IF(ISBLANK(Responses!BG26), \"\", Responses!BG26)","v":""},{"$f":"IF(ISBLANK(Responses!BH26), \"\", Responses!BH26)","v":""},{"$error":"#N/A"},{"$error":"#N/A"},{"$f":"IF(ISBLANK(C26),0,VLOOKUP(C26,LUTs!$A$6:$B$8,2))","v":{"$error":"#N/A"}},{"$f":"IF(ISBLANK(D26),0,VLOOKUP(D26,LUTs!$A$6:$B$8,2))","v":{"$error":"#N/A"}},{"$f":"IF(ISBLANK(E26),0,VLOOKUP(E26,LUTs!$A$6:$B$8,2))","v":{"$error":"#N/A"}}]
[{"$f":"IF(ISBLANK(Responses!A27), \"\", Responses!A27)","v":""},{"$f":"IF(ISBLANK(Responses!B27), \"\", Responses!B27)","v":""},{"$f":"IF(ISBLANK(Responses!BF27), \"\", Responses!BF27)","v":""},{"$f":"IF(ISBLANK(Responses!BG27), \"\", Responses!BG27)","v":""},{"$f":"IF(ISBLANK(Responses!BH27), \"\", Responses!BH27)","v":""},{"$error":"#N/A"},{"$error":"#N/A"},{"$f":"IF(ISBLANK(C27),0,VLOOKUP(C27,LUTs!$A$6:$B$8,2))","v":{"$error":"#N/A"}},{"$f":"IF(ISBLANK(D27),0,VLOOKUP(D27,LUTs!$A$6:$B$8,2))","v":{"$error":"#N/A"}},{"$f":"IF(ISBLANK(E27),0,VLOOKUP(E27,LUTs!$A$6:$B$8,2))","v":{"$error":"#N/A"}}]
[{"$f":"IF(ISBLANK(Responses!A28), \"\", Responses!A28)","v":""},{"$f":"IF(ISBLANK(Responses!B28), \"\", Responses!B28)","v":""},{"$f":"IF(ISBLANK(Responses!BF28), \"\", Responses!BF28)","v":""},{"$f":"IF(ISBLANK(Responses!BG28), \"\", Responses!BG28)","v":""},{"$f":"IF(ISBLANK(Responses!BH28), \"\", Responses!BH28)","v":""},{"$error":"#N/A"},{"$error":"#N/A"},{"$f":"IF(ISBLANK(C28),0,VLOOKUP(C28,LUTs!$A$6:$B$8,2))","v":{"$error":"#N/A"}},{"$f":"IF(ISBLANK(D28),0,VLOOKUP(D28,LUTs!$A$6:$B$8,2))","v":{"$error":"#N/A"}},{"$f":"IF(ISBLANK(E28),0,VLOOKUP(E28,LUTs!$A$6:$B$8,2))","v":{"$error":"#N/A"}}]
[{"$f":"IF(ISBLANK(Responses!A29), \"\", Responses!A29)","v":""},{"$f":"IF(ISBLANK(Responses!B29), \"\", Responses!B29)","v":""},{"$f":"IF(ISBLANK(Responses!BF29), \"\", Responses!BF29)","v":""},{"$f":"IF(ISBLANK(Responses!BG29), \"\", Responses!BG29)","v":""},{"$f":"IF(ISBLANK(Responses!BH29), \"\", Responses!BH29)","v":""},{"$error":"#N/A"},{"$error":"#N/A"},{"$f":"IF(ISBLANK(C29),0,VLOOKUP(C29,LUTs!$A$6:$B$8,2))","v":{"$error":"#N/A"}},{"$f":"IF(ISBLANK(D29),0,VLOOKUP(D29,LUTs!$A$6:$B$8,2))","v":{"$error":"#N/A"}},{"$f":"IF(ISBLANK(E29),0,VLOOKUP(E29,LUTs!$A$6:$B$8,2))","v":{"$error":"#N/A"}}]
[{"$f":"IF(ISBLANK(Responses!A30), \"\", Responses!A30)","v":""},{"$f":"IF(ISBLANK(Responses!B30), \"\", Responses!B30)","v":""},{"$f":"IF(ISBLANK(Responses!BF30), \"\", Responses!BF30)","v":""},{"$f":"IF(ISBLANK(Responses!BG30), \"\", Responses!BG30)","v":""},{"$f":"IF(ISBLANK(Responses!BH30), \"\", Responses!BH30)","v":""},{"$error":"#N/A"},{"$error":"#N/A"},{"$f":"IF(ISBLANK(C30),0,VLOOKUP(C30,LUTs!$A$6:$B$8,2))","v":{"$error":"#N/A"}},{"$f":"IF(ISBLANK(D30),0,VLOOKUP(D30,LUTs!$A$6:$B$8,2))","v":{"$error":"#N/A"}},{"$f":"IF(ISBLANK(E30),0,VLOOKUP(E30,LUTs!$A$6:$B$8,2))","v":{"$error":"#N/A"}}]
[{"$f":"IF(ISBLANK(Responses!A31), \"\", Responses!A31)","v":""},{"$f":"IF(ISBLANK(Responses!B31), \"\", Responses!B31)","v":""},{"$f":"IF(ISBLANK(Responses!BF31), \"\", Responses!BF31)","v":""},{"$f":"IF(ISBLANK(Responses!BG31), \"\", Responses!BG31)","v":""},{"$f":"IF(ISBLANK(Responses!BH31), \"\", Responses!BH31)","v":""},{"$error":"#N/A"},{"$error":"#N/A"},{"$f":"IF(ISBLANK(C31),0,VLOOKUP(C31,LUTs!$A$6:$B$8,2))","v":{"$error":"#N/A"}},{"$f":"IF(ISBLANK(D31),0,VLOOKUP(D31,LUTs!$A$6:$B$8,2))","v":{"$error":"#N/A"}},{"$f":"IF(ISBLANK(E31),0,VLOOKUP(E31,LUTs!$A$6:$B$8,2))","v":{"$error":"#N/A"}}]
[{"$f":"IF(ISBLANK(Responses!A32), \"\", Responses!A32)","v":""},{"$f":"IF(ISBLANK(Responses!B32), \"\", Responses!B32)","v":""},{"$f":"IF(ISBLANK(Responses!BF32), \"\", Responses!BF32)","v":""},{"$f":"IF(ISBLANK(Responses!BG32), \"\", Responses!BG32)","v":""},{"$f":"IF(ISBLANK(Responses!BH32), \"\", Responses!BH32)","v":""},{"$error":"#N/A"},{"$error":"#N/A"},{"$f":"IF(ISBLANK(C32),0,VLOOKUP(C32,LUTs!$A$6:$B$8,2))","v":{"$error":"#N/A"}},{"$f":"IF(ISBLANK(D32),0,VLOOKUP(D32,LUTs!$A$6:$B$8,2))","v":{"$error":"#N/A"}},{"$f":"IF(ISBLANK(E32),0,VLOOKUP(E32,LUTs!$A$6:$B$8,2))","v":{"$error":"#N/A"}}]
[{"$f":"IF(ISBLANK(Responses!A33), \"\", Responses!A33)","v":""},{"$f":"IF(ISBLANK(Responses!B33), \"\", Responses!B33)","v":""},{"$f":"IF(ISBLANK(Responses!BF33), \"\", Responses!BF33)","v":""},{"$f":"IF(ISBLANK(Responses!BG33), \"\", Responses!BG33)","v":""},{"$f":"IF(ISBLANK(Responses!BH33), \"\", Responses!BH33)","v":""},{"$error":"#N/A"},{"$error":"#N/A"},{"$f":"IF(ISBLANK(C33),0,VLOOKUP(C33,LUTs!$A$6:$B$8,2))","v":{"$error":"#N/A"}},{"$f":"IF(ISBLANK(D33),0,VLOOKUP(D33,LUTs!$A$6:$B$8,2))","v":{"$error":"#N/A"}},{"$f":"IF(ISBLANK(E33),0,VLOOKUP(E33,LUTs!$A$6:$B$8,2))","v":{"$error":"#N/A"}}]
[{"$f":"IF(ISBLANK(Responses!A34), \"\", Responses!A34)","v":""},{"$f":"IF(ISBLANK(Responses!B34), \"\", Responses!B34)","v":""},{"$f":"IF(ISBLANK(Responses!BF34), \"\", Responses!BF34)","v":""},{"$f":"IF(ISBLANK(Responses!BG34), \"\", Responses!BG34)","v":""},{"$f":"IF(ISBLANK(Responses!BH34), \"\", Responses!BH34)","v":""},{"$error":"#N/A"},{"$error":"#N/A"},{"$f":"IF(ISBLANK(C34),0,VLOOKUP(C34,LUTs!$A$6:$B$8,2))","v":{"$error":"#N/A"}},{"$f":"IF(ISBLANK(D34),0,VLOOKUP(D34,LUTs!$A$6:$B$8,2))","v":{"$error":"#N/A"}},{"$f":"IF(ISBLANK(E34),0,VLOOKUP(E34,LUTs!$A$6:$B$8,2))","v":{"$error":"#N/A"}}]
[{"$f":"IF(ISBLANK(Responses!A35), \"\", Responses!A35)","v":""},{"$f":"IF(ISBLANK(Responses!B35), \"\", Responses!B35)","v":""},{"$f":"IF(ISBLANK(Responses!BF35), \"\", Responses!BF35)","v":""},{"$f":"IF(ISBLANK(Responses!BG35), \"\", Responses!BG35)","v":""},{"$f":"IF(ISBLANK(Responses!BH35), \"\", Responses!BH35)","v":""},{"$error":"#N/A"},{"$error":"#N/A"},{"$f":"IF(ISBLANK(C35),0,VLOOKUP(C35,LUTs!$A$6:$B$8,2))","v":{"$error":"#N/A"}},{"$f":"IF(ISBLANK(D35),0,VLOOKUP(D35,LUTs!$A$6:$B$8,2))","v":{"$error":"#N/A"}},{"$f":"IF(ISBLANK(E35),0,VLOOKUP(E35,LUTs!$A$6:$B$8,2))","v":{"$error":"#N/A"}}]
[{"$f":"IF(ISBLANK(Responses!A36), \"\", Responses!A36)","v":""},{"$f":"IF(ISBLANK(Responses!B36), \"\", Responses!B36)","v":""},{"$f":"IF(ISBLANK(Responses!BF36), \"\", Responses!BF36)","v":""},{"$f":"IF(ISBLANK(Responses!BG36), \"\", Responses!BG36)","v":""},{"$f":"IF(ISBLANK(Responses!BH36), \"\", Responses!BH36)","v":""},{"$error":"#N/A"},{"$error":"#N/A"},{"$f":"IF(ISBLANK(C36),0,VLOOKUP(C36,LUTs!$A$6:$B$8,2))","v":{"$error":"#N/A"}},{"$f":"IF(ISBLANK(D36),0,VLOOKUP(D36,LUTs!$A$6:$B$8,2))","v":{"$error":"#N/A"}},{"$f":"IF(ISBLANK(E36),0,VLOOKUP(E36,LUTs!$A$6:$B$8,2))","v":{"$error":"#N/A"}}]
[{"$f":"IF(ISBLANK(Responses!A37), \"\", Responses!A37)","v":""},{"$f":"IF(ISBLANK(Responses!B37), \"\", Responses!B37)","v":""},{"$f":"IF(ISBLANK(Responses!BF37), \"\", Responses!BF37)","v":""},{"$f":"IF(ISBLANK(Responses!BG37), \"\", Responses!BG37)","v":""},{"$f":"IF(ISBLANK(Responses!BH37), \"\", Responses!BH37)","v":""},{"$error":"#N/A"},{"$error":"#N/A"},{"$f":"IF(ISBLANK(C37),0,VLOOKUP(C37,LUTs!$A$6:$B$8,2))","v":{"$error":"#N/A"}},{"$f":"IF(ISBLANK(D37),0,VLOOKUP(D37,LUTs!$A$6:$B$8,2))","v":{"$error":"#N/A"}},{"$f":"IF(ISBLANK(E37),0,VLOOKUP(E37,LUTs!$A$6:$B$8,2))","v":{"$error":"#N/A"}}]
[{"$f":"IF(ISBLANK(Responses!A38), \"\", Responses!A38)","v":""},{"$f":"IF(ISBLANK(Responses!B38), \"\", Responses!B38)","v":""},{"$f":"IF(ISBLANK(Responses!BF38), \"\", Responses!BF38)","v":""},{"$f":"IF(ISBLANK(Responses!BG38), \"\", Responses!BG38)","v":""},{"$f":"IF(ISBLANK(Responses!BH38), \"\", Responses!BH38)","v":""},{"$error":"#N/A"},{"$error":"#N/A"},{"$f":"IF(ISBLANK(C38),0,VLOOKUP(C38,LUTs!$A$6:$B$8,2))","v":{"$error":"#N/A"}},{"$f":"IF(ISBLANK(D38),0,VLOOKUP(D38,LUTs!$A$6:$B$8,2))","v":{"$error":"#N/A"}},{"$f":"IF(ISBLANK(E38),0,VLOOKUP(E38,LUTs!$A$6:$B$8,2))","v":{"$error":"#N/A"}}]
[{"$f":"IF(ISBLANK(Responses!A39), \"\", Responses!A39)","v":""},{"$f":"IF(ISBLANK(Responses!B39), \"\", Responses!B39)","v":""},{"$f":"IF(ISBLANK(Responses!BF39), \"\", Responses!BF39)","v":""},{"$f":"IF(ISBLANK(Responses!BG39), \"\", Responses!BG39)","v":""},{"$f":"IF(ISBLANK(Responses!BH39), \"\", Responses!BH39)","v":""},{"$error":"#N/A"},{"$error":"#N/A"},{"$f":"IF(ISBLANK(C39),0,VLOOKUP(C39,LUTs!$A$6:$B$8,2))","v":{"$error":"#N/A"}},{"$f":"IF(ISBLANK(D39),0,VLOOKUP(D39,LUTs!$A$6:$B$8,2))","v":{"$error":"#N/A"}},{"$f":"IF(ISBLANK(E39),0,VLOOKUP(E39,LUTs!$A$6:$B$8,2))","v":{"$error":"#N/A"}}]
[{"$f":"IF(ISBLANK(Responses!A40), \"\", Responses!A40)","v":""},{"$f":"IF(ISBLANK(Responses!B40), \"\", Responses!B40)","v":""},{"$f":"IF(ISBLANK(Responses!BF40), \"\", Responses!BF40)","v":""},{"$f":"IF(ISBLANK(Responses!BG40), \"\", Responses!BG40)","v":""},{"$f":"IF(ISBLANK(Responses!BH40), \"\", Responses!BH40)","v":""},{"$error":"#N/A"},{"$error":"#N/A"},{"$f":"IF(ISBLANK(C40),0,VLOOKUP(C40,LUTs!$A$6:$B$8,2))","v":{"$error":"#N/A"}},{"$f":"IF(ISBLANK(D40),0,VLOOKUP(D40,LUTs!$A$6:$B$8,2))","v":{"$error":"#N/A"}},{"$f":"IF(ISBLANK(E40),0,VLOOKUP(E40,LUTs!$A$6:$B$8,2))","v":{"$error":"#N/A"}}]
[{"$f":"IF(ISBLANK(Responses!A41), \"\", Responses!A41)","v":""},{"$f":"IF(ISBLANK(Responses!B41), \"\", Responses!B41)","v":""},{"$f":"IF(ISBLANK(Responses!BF41), \"\", Responses!BF41)","v":""},{"$f":"IF(ISBLANK(Responses!BG41), \"\", Responses!BG41)","v":""},{"$f":"IF(ISBLANK(Responses!BH41), \"\", Responses!BH41)","v":""},{"$error":"#N/A"},{"$error":"#N/A"},{"$f":"IF(ISBLANK(C41),0,VLOOKUP(C41,LUTs!$A$6:$B$8,2))","v":{"$error":"#N/A"}},{"$f":"IF(ISBLANK(D41),0,VLOOKUP(D41,LUTs!$A$6:$B$8,2))","v":{"$error":"#N/A"}},{"$f":"IF(ISBLANK(E41),0,VLOOKUP(E41,LUTs!$A$6:$B$8,2))","v":{"$error":"#N/A"}}]
[{"$f":"IF(ISBLANK(Responses!A42), \"\", Responses!A42)","v":""},{"$f":"IF(ISBLANK(Responses!B42), \"\", Responses!B42)","v":""},{"$f":"IF(ISBLANK(Responses!BF42), \"\", Responses!BF42)","v":""},{"$f":"IF(ISBLANK(Responses!BG42), \"\", Responses!BG42)","v":""},{"$f":"IF(ISBLANK(Responses!BH42), \"\", Responses!BH42)","v":""},{"$error":"#N/A"},{"$error":"#N/A"},{"$f":"IF(ISBLANK(C42),0,VLOOKUP(C42,LUTs!$A$6:$B$8,2))","v":{"$error":"#N/A"}},{"$f":"IF(ISBLANK(D42),0,VLOOKUP(D42,LUTs!$A$6:$B$8,2))","v":{"$error":"#N/A"}},{"$f":"IF(ISBLANK(E42),0,VLOOKUP(E42,LUTs!$A$6:$B$8,2))","v":{"$error":"#N/A"}}]
[{"$f":"IF(ISBLANK(Responses!A43), \"\", Responses!A43)","v":""},{"$f":"IF(ISBLANK(Responses!B43), \"\", Responses!B43)","v":""},{"$f":"IF(ISBLANK(Responses!BF43), \"\", Responses!BF43)","v":""},{"$f":"IF(ISBLANK(Responses!BG43), \"\", Responses!BG43)","v":""},{"$f":"IF(ISBLANK(Responses!BH43), \"\", Responses!BH43)","v":""},{"$error":"#N/A"},{"$error":"#N/A"},{"$f":"IF(ISBLANK(C43),0,VLOOKUP(C43,LUTs!$A$6:$B$8,2))","v":{"$error":"#N/A"}},{"$f":"IF(ISBLANK(D43),0,VLOOKUP(D43,LUTs!$A$6:$B$8,2))","v":{"$error":"#N/A"}},{"$f":"IF(ISBLANK(E43),0,VLOOKUP(E43,LUTs!$A$6:$B$8,2))","v":{"$error":"#N/A"}}]
[{"$f":"IF(ISBLANK(Responses!A44), \"\", Responses!A44)","v":""},{"$f":"IF(ISBLANK(Responses!B44), \"\", Responses!B44)","v":""},{"$f":"IF(ISBLANK(Responses!BF44), \"\", Responses!BF44)","v":""},{"$f":"IF(ISBLANK(Responses!BG44), \"\", Responses!BG44)","v":""},{"$f":"IF(ISBLANK(Responses!BH44), \"\", Responses!BH44)","v":""},{"$error":"#N/A"},{"$error":"#N/A"},{"$f":"IF(ISBLANK(C44),0,VLOOKUP(C44,LUTs!$A$6:$B$8,2))","v":{"$error":"#N/A"}},{"$f":"IF(ISBLANK(D44),0,VLOOKUP(D44,LUTs!$A$6:$B$8,2))","v":{"$error":"#N/A"}},{"$f":"IF(ISBLANK(E44),0,VLOOKUP(E44,LUTs!$A$6:$B$8,2))","v":{"$error":"#N/A"}}]
[{"$f":"IF(ISBLANK(Responses!A45), \"\", Responses!A45)","v":""},{"$f":"IF(ISBLANK(Responses!B45), \"\", Responses!B45)","v":""},{"$f":"IF(ISBLANK(Responses!BF45), \"\", Responses!BF45)","v":""},{"$f":"IF(ISBLANK(Responses!BG45), \"\", Responses!BG45)","v":""},{"$f":"IF(ISBLANK(Responses!BH45), \"\", Responses!BH45)","v":""},{"$error":"#N/A"},{"$error":"#N/A"},{"$f":"IF(ISBLANK(C45),0,VLOOKUP(C45,LUTs!$A$6:$B$8,2))","v":{"$error":"#N/A"}},{"$f":"IF(ISBLANK(D45),0,VLOOKUP(D45,LUTs!$A$6:$B$8,2))","v":{"$error":"#N/A"}},{"$f":"IF(ISBLANK(E45),0,VLOOKUP(E45,LUTs!$A$6:$B$8,2))","v":{"$error":"#N/A"}}]
[{"$f":"IF(ISBLANK(Responses!A46), \"\", Responses!A46)","v":""},{"$f":"IF(ISBLANK(Responses!B46), \"\", Responses!B46)","v":""},{"$f":"IF(ISBLANK(Responses!BF46), \"\", Responses!BF46)","v":""},{"$f":"IF(ISBLANK(Responses!BG46), \"\", Responses!BG46)","v":""},{"$f":"IF(ISBLANK(Responses!BH46), \"\", Responses!BH46)","v":""},{"$error":"#N/A"},{"$error":"#N/A"},{"$f":"IF(ISBLANK(C46),0,VLOOKUP(C46,LUTs!$A$6:$B$8,2))","v":{"$error":"#N/A"}},{"$f":"IF(ISBLANK(D46),0,VLOOKUP(D46,LUTs!$A$6:$B$8,2))","v":{"$error":"#N/A"}},{"$f":"IF(ISBLANK(E46),0,VLOOKUP(E46,LUTs!$A$6:$B$8,2))","v":{"$error":"#N/A"}}]
[{"$f":"IF(ISBLANK(Responses!A47), \"\", Responses!A47)","v":""},{"$f":"IF(ISBLANK(Responses!B47), \"\", Responses!B47)","v":""},{"$f":"IF(ISBLANK(Responses!BF47), \"\", Responses!BF47)","v":""},{"$f":"IF(ISBLANK(Responses!BG47), \"\", Responses!BG47)","v":""},{"$f":"IF(ISBLANK(Responses!BH47), \"\", Responses!BH47)","v":""},{"$error":"#N/A"},{"$error":"#N/A"},{"$f":"IF(ISBLANK(C47),0,VLOOKUP(C47,LUTs!$A$6:$B$8,2))","v":{"$error":"#N/A"}},{"$f":"IF(ISBLANK(D47),0,VLOOKUP(D47,LUTs!$A$6:$B$8,2))","v":{"$error":"#N/A"}},{"$f":"IF(ISBLANK(E47),0,VLOOKUP(E47,LUTs!$A$6:$B$8,2))","v":{"$error":"#N/A"}}]
[{"$f":"IF(ISBLANK(Responses!A48), \"\", Responses!A48)","v":""},{"$f":"IF(ISBLANK(Responses!B48), \"\", Responses!B48)","v":""},{"$f":"IF(ISBLANK(Responses!BF48), \"\", Responses!BF48)","v":""},{"$f":"IF(ISBLANK(Responses!BG48), \"\", Responses!BG48)","v":""},{"$f":"IF(ISBLANK(Responses!BH48), \"\", Responses!BH48)","v":""},{"$error":"#N/A"},{"$error":"#N/A"},{"$f":"IF(ISBLANK(C48),0,VLOOKUP(C48,LUTs!$A$6:$B$8,2))","v":{"$error":"#N/A"}},{"$f":"IF(ISBLANK(D48),0,VLOOKUP(D48,LUTs!$A$6:$B$8,2))","v":{"$error":"#N/A"}},{"$f":"IF(ISBLANK(E48),0,VLOOKUP(E48,LUTs!$A$6:$B$8,2))","v":{"$error":"#N/A"}}]
[{"$f":"IF(ISBLANK(Responses!A49), \"\", Responses!A49)","v":""},{"$f":"IF(ISBLANK(Responses!B49), \"\", Responses!B49)","v":""},{"$f":"IF(ISBLANK(Responses!BF49), \"\", Responses!BF49)","v":""},{"$f":"IF(ISBLANK(Responses!BG49), \"\", Responses!BG49)","v":""},{"$f":"IF(ISBLANK(Responses!BH49), \"\", Responses!BH49)","v":""},{"$error":"#N/A"},{"$error":"#N/A"},{"$f":"IF(ISBLANK(C49),0,VLOOKUP(C49,LUTs!$A$6:$B$8,2))","v":{"$error":"#N/A"}},{"$f":"IF(ISBLANK(D49),0,VLOOKUP(D49,LUTs!$A$6:$B$8,2))","v":{"$error":"#N/A"}},{"$f":"IF(ISBLANK(E49),0,VLOOKUP(E49,LUTs!$A$6:$B$8,2))","v":{"$error":"#N/A"}}]
[{"$f":"IF(ISBLANK(Responses!A50), \"\", Responses!A50)","v":""},{"$f":"IF(ISBLANK(Responses!B50), \"\", Responses!B50)","v":""},{"$f":"IF(ISBLANK(Responses!BF50), \"\", Responses!BF50)","v":""},{"$f":"IF(ISBLANK(Responses!BG50), \"\", Responses!BG50)","v":""},{"$f":"IF(ISBLANK(Responses!BH50), \"\", Responses!BH50)","v":""},{"$error":"#N/A"},{"$error":"#N/A"},{"$f":"IF(ISBLANK(C50),0,VLOOKUP(C50,LUTs!$A$6:$B$8,2))","v":{"$error":"#N/A"}},{"$f":"IF(ISBLANK(D50),0,VLOOKUP(D50,LUTs!$A$6:$B$8,2))","v":{"$error":"#N/A"}},{"$f":"IF(ISBLANK(E50),0,VLOOKUP(E50,LUTs!$A$6:$B$8,2))","v":{"$error":"#N/A"}}]
[{"$f":"IF(ISBLANK(Responses!A51), \"\", Responses!A51)","v":""},{"$f":"IF(ISBLANK(Responses!B51), \"\", Responses!B51)","v":""},{"$f":"IF(ISBLANK(Responses!BF51), \"\", Responses!BF51)","v":""},{"$f":"IF(ISBLANK(Responses!BG51), \"\", Responses!BG51)","v":""},{"$f":"IF(ISBLANK(Responses!BH51), \"\", Responses!BH51)","v":""},{"$error":"#N/A"},{"$error":"#N/A"},{"$f":"IF(ISBLANK(C51),0,VLOOKUP(C51,LUTs!$A$6:$B$8,2))","v":{"$error":"#N/A"}},{"$f":"IF(ISBLANK(D51),0,VLOOKUP(D51,LUTs!$A$6:$B$8,2))","v":{"$error":"#N/A"}},{"$f":"IF(ISBLANK(E51),0,VLOOKUP(E51,LUTs!$A$6:$B$8,2))","v":{"$error":"#N/A"}}]
[{"$f":"IF(ISBLANK(Responses!A52), \"\", Responses!A52)","v":""},{"$f":"IF(ISBLANK(Responses!B52), \"\", Responses!B52)","v":""},{"$f":"IF(ISBLANK(Responses!BF52), \"\", Responses!BF52)","v":""},{"$f":"IF(ISBLANK(Responses!BG52), \"\", Responses!BG52)","v":""},{"$f":"IF(ISBLANK(Responses!BH52), \"\", Responses!BH52)","v":""},{"$error":"#N/A"},{"$error":"#N/A"},{"$f":"IF(ISBLANK(C52),0,VLOOKUP(C52,LUTs!$A$6:$B$8,2))","v":{"$error":"#N/A"}},{"$f":"IF(ISBLANK(D52),0,VLOOKUP(D52,LUTs!$A$6:$B$8,2))","v":{"$error":"#N/A"}},{"$f":"IF(ISBLANK(E52),0,VLOOKUP(E52,LUTs!$A$6:$B$8,2))","v":{"$error":"#N/A"}}]
[{"$f":"IF(ISBLANK(Responses!A53), \"\", Responses!A53)","v":""},{"$f":"IF(ISBLANK(Responses!B53), \"\", Responses!B53)","v":""},{"$f":"IF(ISBLANK(Responses!BF53), \"\", Responses!BF53)","v":""},{"$f":"IF(ISBLANK(Responses!BG53), \"\", Responses!BG53)","v":""},{"$f":"IF(ISBLANK(Responses!BH53), \"\", Responses!BH53)","v":""},{"$error":"#N/A"},{"$error":"#N/A"},{"$f":"IF(ISBLANK(C53),0,VLOOKUP(C53,LUTs!$A$6:$B$8,2))","v":{"$error":"#N/A"}},{"$f":"IF(ISBLANK(D53),0,VLOOKUP(D53,LUTs!$A$6:$B$8,2))","v":{"$error":"#N/A"}},{"$f":"IF(ISBLANK(E53),0,VLOOKUP(E53,LUTs!$A$6:$B$8,2))","v":{"$error":"#N/A"}}]
[{"$f":"IF(ISBLANK(Responses!A54), \"\", Responses!A54)","v":""},{"$f":"IF(ISBLANK(Responses!B54), \"\", Responses!B54)","v":""},{"$f":"IF(ISBLANK(Responses!BF54), \"\", Responses!BF54)","v":""},{"$f":"IF(ISBLANK(Responses!BG54), \"\", Responses!BG54)","v":""},{"$f":"IF(ISBLANK(Responses!BH54), \"\", Responses!BH54)","v":""},{"$error":"#N/A"},{"$error":"#N/A"},{"$f":"IF(ISBLANK(C54),0,VLOOKUP(C54,LUTs!$A$6:$B$8,2))","v":{"$error":"#N/A"}},{"$f":"IF(ISBLANK(D54),0,VLOOKUP(D54,LUTs!$A$6:$B$8,2))","v":{"$error":"#N/A"}},{"$f":"IF(ISBLANK(E54),0,VLOOKUP(E54,LUTs!$A$6:$B$8,2))","v":{"$error":"#N/A"}}]
[{"$f":"IF(ISBLANK(Responses!A55), \"\", Responses!A55)","v":""},{"$f":"IF(ISBLANK(Responses!B55), \"\", Responses!B55)","v":""},{"$f":"IF(ISBLANK(Responses!BF55), \"\", Responses!BF55)","v":""},{"$f":"IF(ISBLANK(Responses!BG55), \"\", Responses!BG55)","v":""},{"$f":"IF(ISBLANK(Responses!BH55), \"\", Responses!BH55)","v":""},{"$error":"#N/A"},{"$error":"#N/A"},{"$f":"IF(ISBLANK(C55),0,VLOOKUP(C55,LUTs!$A$6:$B$8,2))","v":{"$error":"#N/A"}},{"$f":"IF(ISBLANK(D55),0,VLOOKUP(D55,LUTs!$A$6:$B$8,2))","v":{"$error":"#N/A"}},{"$f":"IF(ISBLANK(E55),0,VLOOKUP(E55,LUTs!$A$6:$B$8,2))","v":{"$error":"#N/A"}}]
[{"$f":"IF(ISBLANK(Responses!A56), \"\", Responses!A56)","v":""},{"$f":"IF(ISBLANK(Responses!B56), \"\", Responses!B56)","v":""},{"$f":"IF(ISBLANK(Responses!BF56), \"\", Responses!BF56)","v":""},{"$f":"IF(ISBLANK(Responses!BG56), \"\", Responses!BG56)","v":""},{"$f":"IF(ISBLANK(Responses!BH56), \"\", Responses!BH56)","v":""},{"$error":"#N/A"},{"$error":"#N/A"},{"$f":"IF(ISBLANK(C56),0,VLOOKUP(C56,LUTs!$A$6:$B$8,2))","v":{"$error":"#N/A"}},{"$f":"IF(ISBLANK(D56),0,VLOOKUP(D56,LUTs!$A$6:$B$8,2))","v":{"$error":"#N/A"}},{"$f":"IF(ISBLANK(E56),0,VLOOKUP(E56,LUTs!$A$6:$B$8,2))","v":{"$error":"#N/A"}}]
[{"$f":"IF(ISBLANK(Responses!A57), \"\", Responses!A57)","v":""},{"$f":"IF(ISBLANK(Responses!B57), \"\", Responses!B57)","v":""},{"$f":"IF(ISBLANK(Responses!BF57), \"\", Responses!BF57)","v":""},{"$f":"IF(ISBLANK(Responses!BG57), \"\", Responses!BG57)","v":""},{"$f":"IF(ISBLANK(Responses!BH57), \"\", Responses!BH57)","v":""},{"$error":"#N/A"},{"$error":"#N/A"},{"$f":"IF(ISBLANK(C57),0,VLOOKUP(C57,LUTs!$A$6:$B$8,2))","v":{"$error":"#N/A"}},{"$f":"IF(ISBLANK(D57),0,VLOOKUP(D57,LUTs!$A$6:$B$8,2))","v":{"$error":"#N/A"}},{"$f":"IF(ISBLANK(E57),0,VLOOKUP(E57,LUTs!$A$6:$B$8,2))","v":{"$error":"#N/A"}}]
[{"$f":"IF(ISBLANK(Responses!A58), \"\", Responses!A58)","v":""},{"$f":"IF(ISBLANK(Responses!B58), \"\", Responses!B58)","v":""},{"$f":"IF(ISBLANK(Responses!BF58), \"\", Responses!BF58)","v":""},{"$f":"IF(ISBLANK(Responses!BG58), \"\", Responses!BG58)","v":""},{"$f":"IF(ISBLANK(Responses!BH58), \"\", Responses!BH58)","v":""},{"$error":"#N/A"},{"$error":"#N/A"},{"$f":"IF(ISBLANK(C58),0,VLOOKUP(C58,LUTs!$A$6:$B$8,2))","v":{"$error":"#N/A"}},{"$f":"IF(ISBLANK(D58),0,VLOOKUP(D58,LUTs!$A$6:$B$8,2))","v":{"$error":"#N/A"}},{"$f":"IF(ISBLANK(E58),0,VLOOKUP(E58,LUTs!$A$6:$B$8,2))","v":{"$error":"#N/A"}}]
[{"$f":"IF(ISBLANK(Responses!A59), \"\", Responses!A59)","v":""},{"$f":"IF(ISBLANK(Responses!B59), \"\", Responses!B59)","v":""},{"$f":"IF(ISBLANK(Responses!BF59), \"\", Responses!BF59)","v":""},{"$f":"IF(ISBLANK(Responses!BG59), \"\", Responses!BG59)","v":""},{"$f":"IF(ISBLANK(Responses!BH59), \"\", Responses!BH59)","v":""},{"$error":"#N/A"},{"$error":"#N/A"},{"$f":"IF(ISBLANK(C59),0,VLOOKUP(C59,LUTs!$A$6:$B$8,2))","v":{"$error":"#N/A"}},{"$f":"IF(ISBLANK(D59),0,VLOOKUP(D59,LUTs!$A$6:$B$8,2))","v":{"$error":"#N/A"}},{"$f":"IF(ISBLANK(E59),0,VLOOKUP(E59,LUTs!$A$6:$B$8,2))","v":{"$error":"#N/A"}}]
[{"$f":"IF(ISBLANK(Responses!A60), \"\", Responses!A60)","v":""},{"$f":"IF(ISBLANK(Responses!B60), \"\", Responses!B60)","v":""},{"$f":"IF(ISBLANK(Responses!BF60), \"\", Responses!BF60)","v":""},{"$f":"IF(ISBLANK(Responses!BG60), \"\", Responses!BG60)","v":""},{"$f":"IF(ISBLANK(Responses!BH60), \"\", Responses!BH60)","v":""},{"$error":"#N/A"},{"$error":"#N/A"},{"$f":"IF(ISBLANK(C60),0,VLOOKUP(C60,LUTs!$A$6:$B$8,2))","v":{"$error":"#N/A"}},{"$f":"IF(ISBLANK(D60),0,VLOOKUP(D60,LUTs!$A$6:$B$8,2))","v":{"$error":"#N/A"}},{"$f":"IF(ISBLANK(E60),0,VLOOKUP(E60,LUTs!$A$6:$B$8,2))","v":{"$error":"#N/A"}}]
[{"$f":"IF(ISBLANK(Responses!A61), \"\", Responses!A61)","v":""},{"$f":"IF(ISBLANK(Responses!B61), \"\", Responses!B61)","v":""},{"$f":"IF(ISBLANK(Responses!BF61), \"\", Responses!BF61)","v":""},{"$f":"IF(ISBLANK(Responses!BG61), \"\", Responses!BG61)","v":""},{"$f":"IF(ISBLANK(Responses!BH61), \"\", Responses!BH61)","v":""},{"$error":"#N/A"},{"$error":"#N/A"},{"$f":"IF(ISBLANK(C61),0,VLOOKUP(C61,LUTs!$A$6:$B$8,2))","v":{"$error":"#N/A"}},{"$f":"IF(ISBLANK(D61),0,VLOOKUP(D61,LUTs!$A$6:$B$8,2))","v":{"$error":"#N/A"}},{"$f":"IF(ISBLANK(E61),0,VLOOKUP(E61,LUTs!$A$6:$B$8,2))","v":{"$error":"#N/A"}}]
[{"$f":"IF(ISBLANK(Responses!A62), \"\", Responses!A62)","v":""},{"$f":"IF(ISBLANK(Responses!B62), \"\", Responses!B62)","v":""},{"$f":"IF(ISBLANK(Responses!BF62), \"\", Responses!BF62)","v":""},{"$f":"IF(ISBLANK(Responses!BG62), \"\", Responses!BG62)","v":""},{"$f":"IF(ISBLANK(Responses!BH62), \"\", Responses!BH62)","v":""},{"$error":"#N/A"},{"$error":"#N/A"},{"$f":"IF(ISBLANK(C62),0,VLOOKUP(C62,LUTs!$A$6:$B$8,2))","v":{"$error":"#N/A"}},{"$f":"IF(ISBLANK(D62),0,VLOOKUP(D62,LUTs!$A$6:$B$8,2))","v":{"$error":"#N/A"}},{"$f":"IF(ISBLANK(E62),0,VLOOKUP(E62,LUTs!$A$6:$B$8,2))","v":{"$error":"#N/A"}}]
[{"$f":"IF(ISBLANK(Responses!A63), \"\", Responses!A63)","v":""},{"$f":"IF(ISBLANK(Responses!B63), \"\", Responses!B63)","v":""},{"$f":"IF(ISBLANK(Responses!BF63), \"\", Responses!BF63)","v":""},{"$f":"IF(ISBLANK(Responses!BG63), \"\", Responses!BG63)","v":""},{"$f":"IF(ISBLANK(Responses!BH63), \"\", Responses!BH63)","v":""},{"$error":"#N/A"},{"$error":"#N/A"},{"$f":"IF(ISBLANK(C63),0,VLOOKUP(C63,LUTs!$A$6:$B$8,2))","v":{"$error":"#N/A"}},{"$f":"IF(ISBLANK(D63),0,VLOOKUP(D63,LUTs!$A$6:$B$8,2))","v":{"$error":"#N/A"}},{"$f":"IF(ISBLANK(E63),0,VLOOKUP(E63,LUTs!$A$6:$B$8,2))","v":{"$error":"#N/A"}}]
[{"$f":"IF(ISBLANK(Responses!A64), \"\", Responses!A64)","v":""},{"$f":"IF(ISBLANK(Responses!B64), \"\", Responses!B64)","v":""},{"$f":"IF(ISBLANK(Responses!BF64), \"\", Responses!BF64)","v":""},{"$f":"IF(ISBLANK(Responses!BG64), \"\", Responses!BG64)","v":""},{"$f":"IF(ISBLANK(Responses!BH64), \"\", Responses!BH64)","v":""},{"$error":"#N/A"},{"$error":"#N/A"},{"$f":"IF(ISBLANK(C64),0,VLOOKUP(C64,LUTs!$A$6:$B$8,2))","v":{"$error":"#N/A"}},{"$f":"IF(ISBLANK(D64),0,VLOOKUP(D64,LUTs!$A$6:$B$8,2))","v":{"$error":"#N/A"}},{"$f":"IF(ISBLANK(E64),0,VLOOKUP(E64,LUTs!$A$6:$B$8,2))","v":{"$error":"#N/A"}}]
[{"$f":"IF(ISBLANK(Responses!A65), \"\", Responses!A65)","v":""},{"$f":"IF(ISBLANK(Responses!B65), \"\", Responses!B65)","v":""},{"$f":"IF(ISBLANK(Responses!BF65), \"\", Responses!BF65)","v":""},{"$f":"IF(ISBLANK(Responses!BG65), \"\", Responses!BG65)","v":""},{"$f":"IF(ISBLANK(Responses!BH65), \"\", Responses!BH65)","v":""},{"$error":"#N/A"},{"$error":"#N/A"},{"$f":"IF(ISBLANK(C65),0,VLOOKUP(C65,LUTs!$A$6:$B$8,2))","v":{"$error":"#N/A"}},{"$f":"IF(ISBLANK(D65),0,VLOOKUP(D65,LUTs!$A$6:$B$8,2))","v":{"$error":"#N/A"}},{"$f":"IF(ISBLANK(E65),0,VLOOKUP(E65,LUTs!$A$6:$B$8,2))","v":{"$error":"#N/A"}}]
[{"$f":"IF(ISBLANK(Responses!A66), \"\", Responses!A66)","v":""},{"$f":"IF(ISBLANK(Responses!B66), \"\", Responses!B66)","v":""},{"$f":"IF(ISBLANK(Responses!BF66), \"\", Responses!BF66)","v":""},{"$f":"IF(ISBLANK(Responses!BG66), \"\", Responses!BG66)","v":""},{"$f":"IF(ISBLANK(Responses!BH66), \"\", Responses!BH66)","v":""},{"$error":"#N/A"},{"$error":"#N/A"},{"$f":"IF(ISBLANK(C66),0,VLOOKUP(C66,LUTs!$A$6:$B$8,2))","v":{"$error":"#N/A"}},{"$f":"IF(ISBLANK(D66),0,VLOOKUP(D66,LUTs!$A$6:$B$8,2))","v":{"$error":"#N/A"}},{"$f":"IF(ISBLANK(E66),0,VLOOKUP(E66,LUTs!$A$6:$B$8,2))","v":{"$error":"#N/A"}}]
[{"$f":"IF(ISBLANK(Responses!A67), \"\", Responses!A67)","v":""},{"$f":"IF(ISBLANK(Responses!B67), \"\", Responses!B67)","v":""},{"$f":"IF(ISBLANK(Responses!BF67), \"\", Responses!BF67)","v":""},{"$f":"IF(ISBLANK(Responses!BG67), \"\", Responses!BG67)","v":""},{"$f":"IF(ISBLANK(Responses!BH67), \"\", Responses!BH67)","v":""},{"$error":"#N/A"},{"$error":"#N/A"},{"$f":"IF(ISBLANK(C67),0,VLOOKUP(C67,LUTs!$A$6:$B$8,2))","v":{"$error":"#N/A"}},{"$f":"IF(ISBLANK(D67),0,VLOOKUP(D67,LUTs!$A$6:$B$8,2))","v":{"$error":"#N/A"}},{"$f":"IF(ISBLANK(E67),0,VLOOKUP(E67,LUTs!$A$6:$B$8,2))","v":{"$error":"#N/A"}}]
[{"$f":"IF(ISBLANK(Responses!A68), \"\", Responses!A68)","v":""},{"$f":"IF(ISBLANK(Responses!B68), \"\", Responses!B68)","v":""},{"$f":"IF(ISBLANK(Responses!BF68), \"\", Responses!BF68)","v":""},{"$f":"IF(ISBLANK(Responses!BG68), \"\", Responses!BG68)","v":""},{"$f":"IF(ISBLANK(Responses!BH68), \"\", Responses!BH68)","v":""},{"$error":"#N/A"},{"$error":"#N/A"},{"$f":"IF(ISBLANK(C68),0,VLOOKUP(C68,LUTs!$A$6:$B$8,2))","v":{"$error":"#N/A"}},{"$f":"IF(ISBLANK(D68),0,VLOOKUP(D68,LUTs!$A$6:$B$8,2))","v":{"$error":"#N/A"}},{"$f":"IF(ISBLANK(E68),0,VLOOKUP(E68,LUTs!$A$6:$B$8,2))","v":{"$error":"#N/A"}}]
[{"$f":"IF(ISBLANK(Responses!A69), \"\", Responses!A69)","v":""},{"$f":"IF(ISBLANK(Responses!B69), \"\", Responses!B69)","v":""},{"$f":"IF(ISBLANK(Responses!BF69), \"\", Responses!BF69)","v":""},{"$f":"IF(ISBLANK(Responses!BG69), \"\", Responses!BG69)","v":""},{"$f":"IF(ISBLANK(Responses!BH69), \"\", Responses!BH69)","v":""},{"$error":"#N/A"},{"$error":"#N/A"},{"$f":"IF(ISBLANK(C69),0,VLOOKUP(C69,LUTs!$A$6:$B$8,2))","v":{"$error":"#N/A"}},{"$f":"IF(ISBLANK(D69),0,VLOOKUP(D69,LUTs!$A$6:$B$8,2))","v":{"$error":"#N/A"}},{"$f":"IF(ISBLANK(E69),0,VLOOKUP(E69,LUTs!$A$6:$B$8,2))","v":{"$error":"#N/A"}}]
[{"$f":"IF(ISBLANK(Responses!A70), \"\", Responses!A70)","v":""},{"$f":"IF(ISBLANK(Responses!B70), \"\", Responses!B70)","v":""},{"$f":"IF(ISBLANK(Responses!BF70), \"\", Responses!BF70)","v":""},{"$f":"IF(ISBLANK(Responses!BG70), \"\", Responses!BG70)","v":""},{"$f":"IF(ISBLANK(Responses!BH70), \"\", Responses!BH70)","v":""},{"$error":"#N/A"},{"$error":"#N/A"},{"$f":"IF(ISBLANK(C70),0,VLOOKUP(C70,LUTs!$A$6:$B$8,2))","v":{"$error":"#N/A"}},{"$f":"IF(ISBLANK(D70),0,VLOOKUP(D70,LUTs!$A$6:$B$8,2))","v":{"$error":"#N/A"}},{"$f":"IF(ISBLANK(E70),0,VLOOKUP(E70,LUTs!$A$6:$B$8,2))","v":{"$error":"#N/A"}}]
[{"$f":"IF(ISBLANK(Responses!A71), \"\", Responses!A71)","v":""},{"$f":"IF(ISBLANK(Responses!B71), \"\", Responses!B71)","v":""},{"$f":"IF(ISBLANK(Responses!BF71), \"\", Responses!BF71)","v":""},{"$f":"IF(ISBLANK(Responses!BG71), \"\", Responses!BG71)","v":""},{"$f":"IF(ISBLANK(Responses!BH71), \"\", Responses!BH71)","v":""},{"$error":"#N/A"},{"$error":"#N/A"},{"$f":"IF(ISBLANK(C71),0,VLOOKUP(C71,LUTs!$A$6:$B$8,2))","v":{"$error":"#N/A"}},{"$f":"IF(ISBLANK(D71),0,VLOOKUP(D71,LUTs!$A$6:$B$8,2))","v":{"$error":"#N/A"}},{"$f":"IF(ISBLANK(E71),0,VLOOKUP(E71,LUTs!$A$6:$B$8,2))","v":{"$error":"#N/A"}}]
[{"$f":"IF(ISBLANK(Responses!A72), \"\", Responses!A72)","v":""},{"$f":"IF(ISBLANK(Responses!B72), \"\", Responses!B72)","v":""},{"$f":"IF(ISBLANK(Responses!BF72), \"\", Responses!BF72)","v":""},{"$f":"IF(ISBLANK(Responses!BG72), \"\", Responses!BG72)","v":""},{"$f":"IF(ISBLANK(Responses!BH72), \"\", Responses!BH72)","v":""},{"$error":"#N/A"},{"$error":"#N/A"},{"$f":"IF(ISBLANK(C72),0,VLOOKUP(C72,LUTs!$A$6:$B$8,2))","v":{"$error":"#N/A"}},{"$f":"IF(ISBLANK(D72),0,VLOOKUP(D72,LUTs!$A$6:$B$8,2))","v":{"$error":"#N/A"}},{"$f":"IF(ISBLANK(E72),0,VLOOKUP(E72,LUTs!$A$6:$B$8,2))","v":{"$error":"#N/A"}}]
[{"$f":"IF(ISBLANK(Responses!A73), \"\", Responses!A73)","v":""},{"$f":"IF(ISBLANK(Responses!B73), \"\", Responses!B73)","v":""},{"$f":"IF(ISBLANK(Responses!BF73), \"\", Responses!BF73)","v":""},{"$f":"IF(ISBLANK(Responses!BG73), \"\", Responses!BG73)","v":""},{"$f":"IF(ISBLANK(Responses!BH73), \"\", Responses!BH73)","v":""},{"$error":"#N/A"},{"$error":"#N/A"},{"$f":"IF(ISBLANK(C73),0,VLOOKUP(C73,LUTs!$A$6:$B$8,2))","v":{"$error":"#N/A"}},{"$f":"IF(ISBLANK(D73),0,VLOOKUP(D73,LUTs!$A$6:$B$8,2))","v":{"$error":"#N/A"}},{"$f":"IF(ISBLANK(E73),0,VLOOKUP(E73,LUTs!$A$6:$B$8,2))","v":{"$error":"#N/A"}}]
[{"$f":"IF(ISBLANK(Responses!A74), \"\", Responses!A74)","v":""},{"$f":"IF(ISBLANK(Responses!B74), \"\", Responses!B74)","v":""},{"$f":"IF(ISBLANK(Responses!BF74), \"\", Responses!BF74)","v":""},{"$f":"IF(ISBLANK(Responses!BG74), \"\", Responses!BG74)","v":""},{"$f":"IF(ISBLANK(Responses!BH74), \"\", Responses!BH74)","v":""},{"$error":"#N/A"},{"$error":"#N/A"},{"$f":"IF(ISBLANK(C74),0,VLOOKUP(C74,LUTs!$A$6:$B$8,2))","v":{"$error":"#N/A"}},{"$f":"IF(ISBLANK(D74),0,VLOOKUP(D74,LUTs!$A$6:$B$8,2))","v":{"$error":"#N/A"}},{"$f":"IF(ISBLANK(E74),0,VLOOKUP(E74,LUTs!$A$6:$B$8,2))","v":{"$error":"#N/A"}}]
[{"$f":"IF(ISBLANK(Responses!A75), \"\", Responses!A75)","v":""},{"$f":"IF(ISBLANK(Responses!B75), \"\", Responses!B75)","v":""},{"$f":"IF(ISBLANK(Responses!BF75), \"\", Responses!BF75)","v":""},{"$f":"IF(ISBLANK(Responses!BG75), \"\", Responses!BG75)","v":""},{"$f":"IF(ISBLANK(Responses!BH75), \"\", Responses!BH75)","v":""},{"$error":"#N/A"},{"$error":"#N/A"},{"$f":"IF(ISBLANK(C75),0,VLOOKUP(C75,LUTs!$A$6:$B$8,2))","v":{"$error":"#N/A"}},{"$f":"IF(ISBLANK(D75),0,VLOOKUP(D75,LUTs!$A$6:$B$8,2))","v":{"$error":"#N/A"}},{"$f":"IF(ISBLANK(E75),0,VLOOKUP(E75,LUTs!$A$6:$B$8,2))","v":{"$error":"#N/A"}}]
[{"$f":"IF(ISBLANK(Responses!A76), \"\", Responses!A76)","v":""},{"$f":"IF(ISBLANK(Responses!B76), \"\", Responses!B76)","v":""},{"$f":"IF(ISBLANK(Responses!BF76), \"\", Responses!BF76)","v":""},{"$f":"IF(ISBLANK(Responses!BG76), \"\", Responses!BG76)","v":""},{"$f":"IF(ISBLANK(Responses!BH76), \"\", Responses!BH76)","v":""},{"$error":"#N/A"},{"$error":"#N/A"},{"$f":"IF(ISBLANK(C76),0,VLOOKUP(C76,LUTs!$A$6:$B$8,2))","v":{"$error":"#N/A"}},{"$f":"IF(ISBLANK(D76),0,VLOOKUP(D76,LUTs!$A$6:$B$8,2))","v":{"$error":"#N/A"}},{"$f":"IF(ISBLANK(E76),0,VLOOKUP(E76,LUTs!$A$6:$B$8,2))","v":{"$error":"#N/A"}}]
[{"$f":"IF(ISBLANK(Responses!A77), \"\", Responses!A77)","v":""},{"$f":"IF(ISBLANK(Responses!B77), \"\", Responses!B77)","v":""},{"$f":"IF(ISBLANK(Responses!BF77), \"\", Responses!BF77)","v":""},{"$f":"IF(ISBLANK(Responses!BG77), \"\", Responses!BG77)","v":""},{"$f":"IF(ISBLANK(Responses!BH77), \"\", Responses!BH77)","v":""},{"$error":"#N/A"},{"$error":"#N/A"},{"$f":"IF(ISBLANK(C77),0,VLOOKUP(C77,LUTs!$A$6:$B$8,2))","v":{"$error":"#N/A"}},{"$f":"IF(ISBLANK(D77),0,VLOOKUP(D77,LUTs!$A$6:$B$8,2))","v":{"$error":"#N/A"}},{"$f":"IF(ISBLANK(E77),0,VLOOKUP(E77,LUTs!$A$6:$B$8,2))","v":{"$error":"#N/A"}}]
[{"$f":"IF(ISBLANK(Responses!A78), \"\", Responses!A78)","v":""},{"$f":"IF(ISBLANK(Responses!B78), \"\", Responses!B78)","v":""},{"$f":"IF(ISBLANK(Responses!BF78), \"\", Responses!BF78)","v":""},{"$f":"IF(ISBLANK(Responses!BG78), \"\", Responses!BG78)","v":""},{"$f":"IF(ISBLANK(Responses!BH78), \"\", Responses!BH78)","v":""},{"$error":"#N/A"},{"$error":"#N/A"},{"$f":"IF(ISBLANK(C78),0,VLOOKUP(C78,LUTs!$A$6:$B$8,2))","v":{"$error":"#N/A"}},{"$f":"IF(ISBLANK(D78),0,VLOOKUP(D78,LUTs!$A$6:$B$8,2))","v":{"$error":"#N/A"}},{"$f":"IF(ISBLANK(E78),0,VLOOKUP(E78,LUTs!$A$6:$B$8,2))","v":{"$error":"#N/A"}}]
[{"$f":"IF(ISBLANK(Responses!A79), \"\", Responses!A79)","v":""},{"$f":"IF(ISBLANK(Responses!B79), \"\", Responses!B79)","v":""},{"$f":"IF(ISBLANK(Responses!BF79), \"\", Responses!BF79)","v":""},{"$f":"IF(ISBLANK(Responses!BG79), \"\", Responses!BG79)","v":""},{"$f":"IF(ISBLANK(Responses!BH79), \"\", Responses!BH79)","v":""},{"$error":"#N/A"},{"$error":"#N/A"},{"$f":"IF(ISBLANK(C79),0,VLOOKUP(C79,LUTs!$A$6:$B$8,2))","v":{"$error":"#N/A"}},{"$f":"IF(ISBLANK(D79),0,VLOOKUP(D79,LUTs!$A$6:$B$8,2))","v":{"$error":"#N/A"}},{"$f":"IF(ISBLANK(E79),0,VLOOKUP(E79,LUTs!$A$6:$B$8,2))","v":{"$error":"#N/A"}}]
[{"$f":"IF(ISBLANK(Responses!A80), \"\", Responses!A80)","v":""},{"$f":"IF(ISBLANK(Responses!B80), \"\", Responses!B80)","v":""},{"$f":"IF(ISBLANK(Responses!BF80), \"\", Responses!BF80)","v":""},{"$f":"IF(ISBLANK(Responses!BG80), \"\", Responses!BG80)","v":""},{"$f":"IF(ISBLANK(Responses!BH80), \"\", Responses!BH80)","v":""},{"$error":"#N/A"},{"$error":"#N/A"},{"$f":"IF(ISBLANK(C80),0,VLOOKUP(C80,LUTs!$A$6:$B$8,2))","v":{"$error":"#N/A"}},{"$f":"IF(ISBLANK(D80),0,VLOOKUP(D80,LUTs!$A$6:$B$8,2))","v":{"$error":"#N/A"}},{"$f":"IF(ISBLANK(E80),0,VLOOKUP(E80,LUTs!$A$6:$B$8,2))","v":{"$error":"#N/A"}}]
[{"$f":"IF(ISBLANK(Responses!A81), \"\", Responses!A81)","v":""},{"$f":"IF(ISBLANK(Responses!B81), \"\", Responses!B81)","v":""},{"$f":"IF(ISBLANK(Responses!BF81), \"\", Responses!BF81)","v":""},{"$f":"IF(ISBLANK(Responses!BG81), \"\", Responses!BG81)","v":""},{"$f":"IF(ISBLANK(Responses!BH81), \"\", Responses!BH81)","v":""},{"$error":"#N/A"},{"$error":"#N/A"},{"$f":"IF(ISBLANK(C81),0,VLOOKUP(C81,LUTs!$A$6:$B$8,2))","v":{"$error":"#N/A"}},{"$f":"IF(ISBLANK(D81),0,VLOOKUP(D81,LUTs!$A$6:$B$8,2))","v":{"$error":"#N/A"}},{"$f":"IF(ISBLANK(E81),0,VLOOKUP(E81,LUTs!$A$6:$B$8,2))","v":{"$error":"#N/A"}}]
[{"$f":"IF(ISBLANK(Responses!A82), \"\", Responses!A82)","v":""},{"$f":"IF(ISBLANK(Responses!B82), \"\", Responses!B82)","v":""},{"$f":"IF(ISBLANK(Responses!BF82), \"\", Responses!BF82)","v":""},{"$f":"IF(ISBLANK(Responses!BG82), \"\", Responses!BG82)","v":""},{"$f":"IF(ISBLANK(Responses!BH82), \"\", Responses!BH82)","v":""},{"$error":"#N/A"},{"$error":"#N/A"},{"$f":"IF(ISBLANK(C82),0,VLOOKUP(C82,LUTs!$A$6:$B$8,2))","v":{"$error":"#N/A"}},{"$f":"IF(ISBLANK(D82),0,VLOOKUP(D82,LUTs!$A$6:$B$8,2))","v":{"$error":"#N/A"}},{"$f":"IF(ISBLANK(E82),0,VLOOKUP(E82,LUTs!$A$6:$B$8,2))","v":{"$error":"#N/A"}}]
[{"$f":"IF(ISBLANK(Responses!A83), \"\", Responses!A83)","v":""},{"$f":"IF(ISBLANK(Responses!B83), \"\", Responses!B83)","v":""},{"$f":"IF(ISBLANK(Responses!BF83), \"\", Responses!BF83)","v":""},{"$f":"IF(ISBLANK(Responses!BG83), \"\", Responses!BG83)","v":""},{"$f":"IF(ISBLANK(Responses!BH83), \"\", Responses!BH83)","v":""},{"$error":"#N/A"},{"$error":"#N/A"},{"$f":"IF(ISBLANK(C83),0,VLOOKUP(C83,LUTs!$A$6:$B$8,2))","v":{"$error":"#N/A"}},{"$f":"IF(ISBLANK(D83),0,VLOOKUP(D83,LUTs!$A$6:$B$8,2))","v":{"$error":"#N/A"}},{"$f":"IF(ISBLANK(E83),0,VLOOKUP(E83,LUTs!$A$6:$B$8,2))","v":{"$error":"#N/A"}}]
[{"$f":"IF(ISBLANK(Responses!A84), \"\", Responses!A84)","v":""},{"$f":"IF(ISBLANK(Responses!B84), \"\", Responses!B84)","v":""},{"$f":"IF(ISBLANK(Responses!BF84), \"\", Responses!BF84)","v":""},{"$f":"IF(ISBLANK(Responses!BG84), \"\", Responses!BG84)","v":""},{"$f":"IF(ISBLANK(Responses!BH84), \"\", Responses!BH84)","v":""},{"$error":"#N/A"},{"$error":"#N/A"},{"$f":"IF(ISBLANK(C84),0,VLOOKUP(C84,LUTs!$A$6:$B$8,2))","v":{"$error":"#N/A"}},{"$f":"IF(ISBLANK(D84),0,VLOOKUP(D84,LUTs!$A$6:$B$8,2))","v":{"$error":"#N/A"}},{"$f":"IF(ISBLANK(E84),0,VLOOKUP(E84,LUTs!$A$6:$B$8,2))","v":{"$error":"#N/A"}}]
[{"$f":"IF(ISBLANK(Responses!A85), \"\", Responses!A85)","v":""},{"$f":"IF(ISBLANK(Responses!B85), \"\", Responses!B85)","v":""},{"$f":"IF(ISBLANK(Responses!BF85), \"\", Responses!BF85)","v":""},{"$f":"IF(ISBLANK(Responses!BG85), \"\", Responses!BG85)","v":""},{"$f":"IF(ISBLANK(Responses!BH85), \"\", Responses!BH85)","v":""},{"$error":"#N/A"},{"$error":"#N/A"},{"$f":"IF(ISBLANK(C85),0,VLOOKUP(C85,LUTs!$A$6:$B$8,2))","v":{"$error":"#N/A"}},{"$f":"IF(ISBLANK(D85),0,VLOOKUP(D85,LUTs!$A$6:$B$8,2))","v":{"$error":"#N/A"}},{"$f":"IF(ISBLANK(E85),0,VLOOKUP(E85,LUTs!$A$6:$B$8,2))","v":{"$error":"#N/A"}}]
[{"$f":"IF(ISBLANK(Responses!A86), \"\", Responses!A86)","v":""},{"$f":"IF(ISBLANK(Responses!B86), \"\", Responses!B86)","v":""},{"$f":"IF(ISBLANK(Responses!BF86), \"\", Responses!BF86)","v":""},{"$f":"IF(ISBLANK(Responses!BG86), \"\", Responses!BG86)","v":""},{"$f":"IF(ISBLANK(Responses!BH86), \"\", Responses!BH86)","v":""},{"$error":"#N/A"},{"$error":"#N/A"},{"$f":"IF(ISBLANK(C86),0,VLOOKUP(C86,LUTs!$A$6:$B$8,2))","v":{"$error":"#N/A"}},{"$f":"IF(ISBLANK(D86),0,VLOOKUP(D86,LUTs!$A$6:$B$8,2))","v":{"$error":"#N/A"}},{"$f":"IF(ISBLANK(E86),0,VLOOKUP(E86,LUTs!$A$6:$B$8,2))","v":{"$error":"#N/A"}}]
[{"$f":"IF(ISBLANK(Responses!A87), \"\", Responses!A87)","v":""},{"$f":"IF(ISBLANK(Responses!B87), \"\", Responses!B87)","v":""},{"$f":"IF(ISBLANK(Responses!BF87), \"\", Responses!BF87)","v":""},{"$f":"IF(ISBLANK(Responses!BG87), \"\", Responses!BG87)","v":""},{"$f":"IF(ISBLANK(Responses!BH87), \"\", Responses!BH87)","v":""},{"$error":"#N/A"},{"$error":"#N/A"},{"$f":"IF(ISBLANK(C87),0,VLOOKUP(C87,LUTs!$A$6:$B$8,2))","v":{"$error":"#N/A"}},{"$f":"IF(ISBLANK(D87),0,VLOOKUP(D87,LUTs!$A$6:$B$8,2))","v":{"$error":"#N/A"}},{"$f":"IF(ISBLANK(E87),0,VLOOKUP(E87,LUTs!$A$6:$B$8,2))","v":{"$error":"#N/A"}}]
[{"$f":"IF(ISBLANK(Responses!A88), \"\", Responses!A88)","v":""},{"$f":"IF(ISBLANK(Responses!B88), \"\", Responses!B88)","v":""},{"$f":"IF(ISBLANK(Responses!BF88), \"\", Responses!BF88)","v":""},{"$f":"IF(ISBLANK(Responses!BG88), \"\", Responses!BG88)","v":""},{"$f":"IF(ISBLANK(Responses!BH88), \"\", Responses!BH88)","v":""},{"$error":"#N/A"},{"$error":"#N/A"},{"$f":"IF(ISBLANK(C88),0,VLOOKUP(C88,LUTs!$A$6:$B$8,2))","v":{"$error":"#N/A"}},{"$f":"IF(ISBLANK(D88),0,VLOOKUP(D88,LUTs!$A$6:$B$8,2))","v":{"$error":"#N/A"}},{"$f":"IF(ISBLANK(E88),0,VLOOKUP(E88,LUTs!$A$6:$B$8,2))","v":{"$error":"#N/A"}}]
[{"$f":"IF(ISBLANK(Responses!A89), \"\", Responses!A89)","v":""},{"$f":"IF(ISBLANK(Responses!B89), \"\", Responses!B89)","v":""},{"$f":"IF(ISBLANK(Responses!BF89), \"\", Responses!BF89)","v":""},{"$f":"IF(ISBLANK(Responses!BG89), \"\", Responses!BG89)","v":""},{"$f":"IF(ISBLANK(Responses!BH89), \"\", Responses!BH89)","v":""},{"$error":"#N/A"},{"$error":"#N/A"},{"$f":"IF(ISBLANK(C89),0,VLOOKUP(C89,LUTs!$A$6:$B$8,2))","v":{"$error":"#N/A"}},{"$f":"IF(ISBLANK(D89),0,VLOOKUP(D89,LUTs!$A$6:$B$8,2))","v":{"$error":"#N/A"}},{"$f":"IF(ISBLANK(E89),0,VLOOKUP(E89,LUTs!$A$6:$B$8,2))","v":{"$error":"#N/A"}}]
[{"$f":"IF(ISBLANK(Responses!A90), \"\", Responses!A90)","v":""},{"$f":"IF(ISBLANK(Responses!B90), \"\", Responses!B90)","v":""},{"$f":"IF(ISBLANK(Responses!BF90), \"\", Responses!BF90)","v":""},{"$f":"IF(ISBLANK(Responses!BG90), \"\", Responses!BG90)","v":""},{"$f":"IF(ISBLANK(Responses!BH90), \"\", Responses!BH90)","v":""},{"$error":"#N/A"},{"$error":"#N/A"},{"$f":"IF(ISBLANK(C90),0,VLOOKUP(C90,LUTs!$A$6:$B$8,2))","v":{"$error":"#N/A"}},{"$f":"IF(ISBLANK(D90),0,VLOOKUP(D90,LUTs!$A$6:$B$8,2))","v":{"$error":"#N/A"}},{"$f":"IF(ISBLANK(E90),0,VLOOKUP(E90,LUTs!$A$6:$B$8,2))","v":{"$error":"#N/A"}}]
[{"$f":"IF(ISBLANK(Responses!A91), \"\", Responses!A91)","v":""},{"$f":"IF(ISBLANK(Responses!B91), \"\", Responses!B91)","v":""},{"$f":"IF(ISBLANK(Responses!BF91), \"\", Responses!BF91)","v":""},{"$f":"IF(ISBLANK(Responses!BG91), \"\", Responses!BG91)","v":""},{"$f":"IF(ISBLANK(Responses!BH91), \"\", Responses!BH91)","v":""},{"$error":"#N/A"},{"$error":"#N/A"},{"$f":"IF(ISBLANK(C91),0,VLOOKUP(C91,LUTs!$A$6:$B$8,2))","v":{"$error":"#N/A"}},{"$f":"IF(ISBLANK(D91),0,VLOOKUP(D91,LUTs!$A$6:$B$8,2))","v":{"$error":"#N/A"}},{"$f":"IF(ISBLANK(E91),0,VLOOKUP(E91,LUTs!$A$6:$B$8,2))","v":{"$error":"#N/A"}}]
[{"$f":"IF(ISBLANK(Responses!A92), \"\", Responses!A92)","v":""},{"$f":"IF(ISBLANK(Responses!B92), \"\", Responses!B92)","v":""},{"$f":"IF(ISBLANK(Responses!BF92), \"\", Responses!BF92)","v":""},{"$f":"IF(ISBLANK(Responses!BG92), \"\", Responses!BG92)","v":""},{"$f":"IF(ISBLANK(Responses!BH92), \"\", Responses!BH92)","v":""},{"$error":"#N/A"},{"$error":"#N/A"},{"$f":"IF(ISBLANK(C92),0,VLOOKUP(C92,LUTs!$A$6:$B$8,2))","v":{"$error":"#N/A"}},{"$f":"IF(ISBLANK(D92),0,VLOOKUP(D92,LUTs!$A$6:$B$8,2))","v":{"$error":"#N/A"}},{"$f":"IF(ISBLANK(E92),0,VLOOKUP(E92,LUTs!$A$6:$B$8,2))","v":{"$error":"#N/A"}}]
[{"$f":"IF(ISBLANK(Responses!A93), \"\", Responses!A93)","v":""},{"$f":"IF(ISBLANK(Responses!B93), \"\", Responses!B93)","v":""},{"$f":"IF(ISBLANK(Responses!BF93), \"\", Responses!BF93)","v":""},{"$f":"IF(ISBLANK(Responses!BG93), \"\", Responses!BG93)","v":""},{"$f":"IF(ISBLANK(Responses!BH93), \"\", Responses!BH93)","v":""},{"$error":"#N/A"},{"$error":"#N/A"},{"$f":"IF(ISBLANK(C93),0,VLOOKUP(C93,LUTs!$A$6:$B$8,2))","v":{"$error":"#N/A"}},{"$f":"IF(ISBLANK(D93),0,VLOOKUP(D93,LUTs!$A$6:$B$8,2))","v":{"$error":"#N/A"}},{"$f":"IF(ISBLANK(E93),0,VLOOKUP(E93,LUTs!$A$6:$B$8,2))","v":{"$error":"#N/A"}}]
[{"$f":"IF(ISBLANK(Responses!A94), \"\", Responses!A94)","v":""},{"$f":"IF(ISBLANK(Responses!B94), \"\", Responses!B94)","v":""},{"$f":"IF(ISBLANK(Responses!BF94), \"\", Responses!BF94)","v":""},{"$f":"IF(ISBLANK(Responses!BG94), \"\", Responses!BG94)","v":""},{"$f":"IF(ISBLANK(Responses!BH94), \"\", Responses!BH94)","v":""},{"$error":"#N/A"},{"$error":"#N/A"},{"$f":"IF(ISBLANK(C94),0,VLOOKUP(C94,LUTs!$A$6:$B$8,2))","v":{"$error":"#N/A"}},{"$f":"IF(ISBLANK(D94),0,VLOOKUP(D94,LUTs!$A$6:$B$8,2))","v":{"$error":"#N/A"}},{"$f":"IF(ISBLANK(E94),0,VLOOKUP(E94,LUTs!$A$6:$B$8,2))","v":{"$error":"#N/A"}}]
[{"$f":"IF(ISBLANK(Responses!A95), \"\", Responses!A95)","v":""},{"$f":"IF(ISBLANK(Responses!B95), \"\", Responses!B95)","v":""},{"$f":"IF(ISBLANK(Responses!BF95), \"\", Responses!BF95)","v":""},{"$f":"IF(ISBLANK(Responses!BG95), \"\", Responses!BG95)","v":""},{"$f":"IF(ISBLANK(Responses!BH95), \"\", Responses!BH95)","v":""},{"$error":"#N/A"},{"$error":"#N/A"},{"$f":"IF(ISBLANK(C95),0,VLOOKUP(C95,LUTs!$A$6:$B$8,2))","v":{"$error":"#N/A"}},{"$f":"IF(ISBLANK(D95),0,VLOOKUP(D95,LUTs!$A$6:$B$8,2))","v":{"$error":"#N/A"}},{"$f":"IF(ISBLANK(E95),0,VLOOKUP(E95,LUTs!$A$6:$B$8,2))","v":{"$error":"#N/A"}}]
[{"$f":"IF(ISBLANK(Responses!A96), \"\", Responses!A96)","v":""},{"$f":"IF(ISBLANK(Responses!B96), \"\", Responses!B96)","v":""},{"$f":"IF(ISBLANK(Responses!BF96), \"\", Responses!BF96)","v":""},{"$f":"IF(ISBLANK(Responses!BG96), \"\", Responses!BG96)","v":""},{"$f":"IF(ISBLANK(Responses!BH96), \"\", Responses!BH96)","v":""},{"$error":"#N/A"},{"$error":"#N/A"},{"$f":"IF(ISBLANK(C96),0,VLOOKUP(C96,LUTs!$A$6:$B$8,2))","v":{"$error":"#N/A"}},{"$f":"IF(ISBLANK(D96),0,VLOOKUP(D96,LUTs!$A$6:$B$8,2))","v":{"$error":"#N/A"}},{"$f":"IF(ISBLANK(E96),0,VLOOKUP(E96,LUTs!$A$6:$B$8,2))","v":{"$error":"#N/A"}}]
[{"$f":"IF(ISBLANK(Responses!A97), \"\", Responses!A97)","v":""},{"$f":"IF(ISBLANK(Responses!B97), \"\", Responses!B97)","v":""},{"$f":"IF(ISBLANK(Responses!BF97), \"\", Responses!BF97)","v":""},{"$f":"IF(ISBLANK(Responses!BG97), \"\", Responses!BG97)","v":""},{"$f":"IF(ISBLANK(Responses!BH97), \"\", Responses!BH97)","v":""},{"$error":"#N/A"},{"$error":"#N/A"},{"$f":"IF(ISBLANK(C97),0,VLOOKUP(C97,LUTs!$A$6:$B$8,2))","v":{"$error":"#N/A"}},{"$f":"IF(ISBLANK(D97),0,VLOOKUP(D97,LUTs!$A$6:$B$8,2))","v":{"$error":"#N/A"}},{"$f":"IF(ISBLANK(E97),0,VLOOKUP(E97,LUTs!$A$6:$B$8,2))","v":{"$error":"#N/A"}}]
[{"$f":"IF(ISBLANK(Responses!A98), \"\", Responses!A98)","v":""},{"$f":"IF(ISBLANK(Responses!B98), \"\", Responses!B98)","v":""},{"$f":"IF(ISBLANK(Responses!BF98), \"\", Responses!BF98)","v":""},{"$f":"IF(ISBLANK(Responses!BG98), \"\", Responses!BG98)","v":""},{"$f":"IF(ISBLANK(Responses!BH98), \"\", Responses!BH98)","v":""},{"$error":"#N/A"},{"$error":"#N/A"},{"$f":"IF(ISBLANK(C98),0,VLOOKUP(C98,LUTs!$A$6:$B$8,2))","v":{"$error":"#N/A"}},{"$f":"IF(ISBLANK(D98),0,VLOOKUP(D98,LUTs!$A$6:$B$8,2))","v":{"$error":"#N/A"}},{"$f":"IF(ISBLANK(E98),0,VLOOKUP(E98,LUTs!$A$6:$B$8,2))","v":{"$error":"#N/A"}}]
[{"$f":"IF(ISBLANK(Responses!A99), \"\", Responses!A99)","v":""},{"$f":"IF(ISBLANK(Responses!B99), \"\", Responses!B99)","v":""},{"$f":"IF(ISBLANK(Responses!BF99), \"\", Responses!BF99)","v":""},{"$f":"IF(ISBLANK(Responses!BG99), \"\", Responses!BG99)","v":""},{"$f":"IF(ISBLANK(Responses!BH99), \"\", Responses!BH99)","v":""},{"$error":"#N/A"},{"$error":"#N/A"},{"$f":"IF(ISBLANK(C99),0,VLOOKUP(C99,LUTs!$A$6:$B$8,2))","v":{"$error":"#N/A"}},{"$f":"IF(ISBLANK(D99),0,VLOOKUP(D99,LUTs!$A$6:$B$8,2))","v":{"$error":"#N/A"}},{"$f":"IF(ISBLANK(E99),0,VLOOKUP(E99,LUTs!$A$6:$B$8,2))","v":{"$error":"#N/A"}}]
[{"$f":"IF(ISBLANK(Responses!A100), \"\", Responses!A100)","v":""},{"$f":"IF(ISBLANK(Responses!B100), \"\", Responses!B100)","v":""},{"$f":"IF(ISBLANK(Responses!BF100), \"\", Responses!BF100)","v":""},{"$f":"IF(ISBLANK(Responses!BG100), \"\", Responses!BG100)","v":""},{"$f":"IF(ISBLANK(Responses!BH100), \"\", Responses!BH100)","v":""},{"$error":"#N/A"},{"$error":"#N/A"},{"$f":"IF(ISBLANK(C100),0,VLOOKUP(C100,LUTs!$A$6:$B$8,2))","v":{"$error":"#N/A"}},{"$f":"IF(ISBLANK(D100),0,VLOOKUP(D100,LUTs!$A$6:$B$8,2))","v":{"$error":"#N/A"}},{"$f":"IF(ISBLANK(E100),0,VLOOKUP(E100,LUTs!$A$6:$B$8,2))","v":{"$error":"#N/A"}}]
[{"$f":"IF(ISBLANK(Responses!A101), \"\", Responses!A101)","v":""},{"$f":"IF(ISBLANK(Responses!B101), \"\", Responses!B101)","v":""},{"$f":"IF(ISBLANK(Responses!BF101), \"\", Responses!BF101)","v":""},{"$f":"IF(ISBLANK(Responses!BG101), \"\", Responses!BG101)","v":""},{"$f":"IF(ISBLANK(Responses!BH101), \"\", Responses!BH101)","v":""},{"$error":"#N/A"},{"$error":"#N/A"},{"$f":"IF(ISBLANK(C101),0,VLOOKUP(C101,LUTs!$A$6:$B$8,2))","v":{"$error":"#N/A"}},{"$f":"IF(ISBLANK(D101),0,VLOOKUP(D101,LUTs!$A$6:$B$8,2))","v":{"$error":"#N/A"}},{"$f":"IF(ISBLANK(E101),0,VLOOKUP(E101,LUTs!$A$6:$B$8,2))","v":{"$error":"#N/A"}}]
[{"$f":"IF(ISBLANK(Responses!A102), \"\", Responses!A102)","v":""},{"$f":"IF(ISBLANK(Responses!B102), \"\", Responses!B102)","v":""},{"$f":"IF(ISBLANK(Responses!BF102), \"\", Responses!BF102)","v":""},{"$f":"IF(ISBLANK(Responses!BG102), \"\", Responses!BG102)","v":""},{"$f":"IF(ISBLANK(Responses!BH102), \"\", Responses!BH102)","v":""},{"$error":"#N/A"},{"$error":"#N/A"},{"$f":"IF(ISBLANK(C102),0,VLOOKUP(C102,LUTs!$A$6:$B$8,2))","v":{"$error":"#N/A"}},{"$f":"IF(ISBLANK(D102),0,VLOOKUP(D102,LUTs!$A$6:$B$8,2))","v":{"$error":"#N/A"}},{"$f":"IF(ISBLANK(E102),0,VLOOKUP(E102,LUTs!$A$6:$B$8,2))","v":{"$error":"#N/A"}}]
[{"$f":"IF(ISBLANK(Responses!A103), \"\", Responses!A103)","v":""},{"$f":"IF(ISBLANK(Responses!B103), \"\", Responses!B103)","v":""},{"$f":"IF(ISBLANK(Responses!BF103), \"\", Responses!BF103)","v":""},{"$f":"IF(ISBLANK(Responses!BG103), \"\", Responses!BG103)","v":""},{"$f":"IF(ISBLANK(Responses!BH103), \"\", Responses!BH103)","v":""},{"$error":"#N/A"},{"$error":"#N/A"},{"$f":"IF(ISBLANK(C103),0,VLOOKUP(C103,LUTs!$A$6:$B$8,2))","v":{"$error":"#N/A"}},{"$f":"IF(ISBLANK(D103),0,VLOOKUP(D103,LUTs!$A$6:$B$8,2))","v":{"$error":"#N/A"}},{"$f":"IF(ISBLANK(E103),0,VLOOKUP(E103,LUTs!$A$6:$B$8,2))","v":{"$error":"#N/A"}}]
[{"$f":"IF(ISBLANK(Responses!A104), \"\", Responses!A104)","v":""},{"$f":"IF(ISBLANK(Responses!B104), \"\", Responses!B104)","v":""},{"$f":"IF(ISBLANK(Responses!BF104), \"\", Responses!BF104)","v":""},{"$f":"IF(ISBLANK(Responses!BG104), \"\", Responses!BG104)","v":""},{"$f":"IF(ISBLANK(Responses!BH104), \"\", Responses!BH104)","v":""},{"$error":"#N/A"},{"$error":"#N/A"},{"$f":"IF(ISBLANK(C104),0,VLOOKUP(C104,LUTs!$A$6:$B$8,2))","v":{"$error":"#N/A"}},{"$f":"IF(ISBLANK(D104),0,VLOOKUP(D104,LUTs!$A$6:$B$8,2))","v":{"$error":"#N/A"}},{"$f":"IF(ISBLANK(E104),0,VLOOKUP(E104,LUTs!$A$6:$B$8,2))","v":{"$error":"#N/A"}}]
[{"$f":"IF(ISBLANK(Responses!A105), \"\", Responses!A105)","v":""},{"$f":"IF(ISBLANK(Responses!B105), \"\", Responses!B105)","v":""},{"$f":"IF(ISBLANK(Responses!BF105), \"\", Responses!BF105)","v":""},{"$f":"IF(ISBLANK(Responses!BG105), \"\", Responses!BG105)","v":""},{"$f":"IF(ISBLANK(Responses!BH105), \"\", Responses!BH105)","v":""},{"$error":"#N/A"},{"$error":"#N/A"},{"$f":"IF(ISBLANK(C105),0,VLOOKUP(C105,LUTs!$A$6:$B$8,2))","v":{"$error":"#N/A"}},{"$f":"IF(ISBLANK(D105),0,VLOOKUP(D105,LUTs!$A$6:$B$8,2))","v":{"$error":"#N/A"}},{"$f":"IF(ISBLANK(E105),0,VLOOKUP(E105,LUTs!$A$6:$B$8,2))","v":{"$error":"#N/A"}}]
[{"$f":"IF(ISBLANK(Responses!A106), \"\", Responses!A106)","v":""},{"$f":"IF(ISBLANK(Responses!B106), \"\", Responses!B106)","v":""},{"$f":"IF(ISBLANK(Responses!BF106), \"\", Responses!BF106)","v":""},{"$f":"IF(ISBLANK(Responses!BG106), \"\", Responses!BG106)","v":""},{"$f":"IF(ISBLANK(Responses!BH106), \"\", Responses!BH106)","v":""},{"$error":"#N/A"},{"$error":"#N/A"},{"$f":"IF(ISBLANK(C106),0,VLOOKUP(C106,LUTs!$A$6:$B$8,2))","v":{"$error":"#N/A"}},{"$f":"IF(ISBLANK(D106),0,VLOOKUP(D106,LUTs!$A$6:$B$8,2))","v":{"$error":"#N/A"}},{"$f":"IF(ISBLANK(E106),0,VLOOKUP(E106,LUTs!$A$6:$B$8,2))","v":{"$error":"#N/A"}}]
[{"$f":"IF(ISBLANK(Responses!A107), \"\", Responses!A107)","v":""},{"$f":"IF(ISBLANK(Responses!B107), \"\", Responses!B107)","v":""},{"$f":"IF(ISBLANK(Responses!BF107), \"\", Responses!BF107)","v":""},{"$f":"IF(ISBLANK(Responses!BG107), \"\", Responses!BG107)","v":""},{"$f":"IF(ISBLANK(Responses!BH107), \"\", Responses!BH107)","v":""},{"$error":"#N/A"},{"$error":"#N/A"},{"$f":"IF(ISBLANK(C107),0,VLOOKUP(C107,LUTs!$A$6:$B$8,2))","v":{"$error":"#N/A"}},{"$f":"IF(ISBLANK(D107),0,VLOOKUP(D107,LUTs!$A$6:$B$8,2))","v":{"$error":"#N/A"}},{"$f":"IF(ISBLANK(E107),0,VLOOKUP(E107,LUTs!$A$6:$B$8,2))","v":{"$error":"#N/A"}}]
[{"$f":"IF(ISBLANK(Responses!A108), \"\", Responses!A108)","v":""},{"$f":"IF(ISBLANK(Responses!B108), \"\", Responses!B108)","v":""},{"$f":"IF(ISBLANK(Responses!BF108), \"\", Responses!BF108)","v":""},{"$f":"IF(ISBLANK(Responses!BG108), \"\", Responses!BG108)","v":""},{"$f":"IF(ISBLANK(Responses!BH108), \"\", Responses!BH108)","v":""},{"$error":"#N/A"},{"$error":"#N/A"},{"$f":"IF(ISBLANK(C108),0,VLOOKUP(C108,LUTs!$A$6:$B$8,2))","v":{"$error":"#N/A"}},{"$f":"IF(ISBLANK(D108),0,VLOOKUP(D108,LUTs!$A$6:$B$8,2))","v":{"$error":"#N/A"}},{"$f":"IF(ISBLANK(E108),0,VLOOKUP(E108,LUTs!$A$6:$B$8,2))","v":{"$error":"#N/A"}}]
[{"$f":"IF(ISBLANK(Responses!A109), \"\", Responses!A109)","v":""},{"$f":"IF(ISBLANK(Responses!B109), \"\", Responses!B109)","v":""},{"$f":"IF(ISBLANK(Responses!BF109), \"\", Responses!BF109)","v":""},{"$f":"IF(ISBLANK(Responses!BG109), \"\", Responses!BG109)","v":""},{"$f":"IF(ISBLANK(Responses!BH109), \"\", Responses!BH109)","v":""},{"$error":"#N/A"},{"$error":"#N/A"},{"$f":"IF(ISBLANK(C109),0,VLOOKUP(C109,LUTs!$A$6:$B$8,2))","v":{"$error":"#N/A"}},{"$f":"IF(ISBLANK(D109),0,VLOOKUP(D109,LUTs!$A$6:$B$8,2))","v":{"$error":"#N/A"}},{"$f":"IF(ISBLANK(E109),0,VLOOKUP(E109,LUTs!$A$6:$B$8,2))","v":{"$error":"#N/A"}}]
[{"$f":"IF(ISBLANK(Responses!A110), \"\", Responses!A110)","v":""},{"$f":"IF(ISBLANK(Responses!B110), \"\", Responses!B110)","v":""},{"$f":"IF(ISBLANK(Responses!BF110), \"\", Responses!BF110)","v":""},{"$f":"IF(ISBLANK(Responses!BG110), \"\", Responses!BG110)","v":""},{"$f":"IF(ISBLANK(Responses!BH110), \"\", Responses!BH110)","v":""}]
[{"$f":"IF(ISBLANK(Responses!A111), \"\", Responses!A111)","v":""},{"$f":"IF(ISBLANK(Responses!B111), \"\", Responses!B111)","v":""},{"$f":"IF(ISBLANK(Responses!BF111), \"\", Responses!BF111)","v":""},{"$f":"IF(ISBLANK(Responses!BG111), \"\", Responses!BG111)","v":""},{"$f":"IF(ISBLANK(Responses!BH111), \"\", Responses!BH111)","v":""}]
[{"$f":"IF(ISBLANK(Responses!A112), \"\", Responses!A112)","v":""},{"$f":"IF(ISBLANK(Responses!B112), \"\", Responses!B112)","v":""},{"$f":"IF(ISBLANK(Responses!BF112), \"\", Responses!BF112)","v":""},{"$f":"IF(ISBLANK(Responses!BG112), \"\", Responses!BG112)","v":""},{"$f":"IF(ISBLANK(Responses!BH112), \"\", Responses!BH112)","v":""}]
[{"$f":"IF(ISBLANK(Responses!A113), \"\", Responses!A113)","v":""},{"$f":"IF(ISBLANK(Responses!B113), \"\", Responses!B113)","v":""},{"$f":"IF(ISBLANK(Responses!BF113), \"\", Responses!BF113)","v":""},{"$f":"IF(ISBLANK(Responses!BG113), \"\", Responses!BG113)","v":""},{"$f":"IF(ISBLANK(Responses!BH113), \"\", Responses!BH113)","v":""}]
[{"$f":"IF(ISBLANK(Responses!A114), \"\", Responses!A114)","v":""},{"$f":"IF(ISBLANK(Responses!B114), \"\", Responses!B114)","v":""},{"$f":"IF(ISBLANK(Responses!BF114), \"\", Responses!BF114)","v":""},{"$f":"IF(ISBLANK(Responses!BG114), \"\", Responses!BG114)","v":""},{"$f":"IF(ISBLANK(Responses!BH114), \"\", Responses!BH114)","v":""}]
[{"$f":"IF(ISBLANK(Responses!A115), \"\", Responses!A115)","v":""},{"$f":"IF(ISBLANK(Responses!B115), \"\", Responses!B115)","v":""},{"$f":"IF(ISBLANK(Responses!BF115), \"\", Responses!BF115)","v":""},{"$f":"IF(ISBLANK(Responses!BG115), \"\", Responses!BG115)","v":""},{"$f":"IF(ISBLANK(Responses!BH115), \"\", Responses!BH115)","v":""}]
[{"$f":"IF(ISBLANK(Responses!A116), \"\", Responses!A116)","v":""},{"$f":"IF(ISBLANK(Responses!B116), \"\", Responses!B116)","v":""},{"$f":"IF(ISBLANK(Responses!BF116), \"\", Responses!BF116)","v":""},{"$f":"IF(ISBLANK(Responses!BG116), \"\", Responses!BG116)","v":""},{"$f":"IF(ISBLANK(Responses!BH116), \"\", Responses!BH116)","v":""}]
[{"$f":"IF(ISBLANK(Responses!A117), \"\", Responses!A117)","v":""},{"$f":"IF(ISBLANK(Responses!B117), \"\", Responses!B117)","v":""},{"$f":"IF(ISBLANK(Responses!BF117), \"\", Responses!BF117)","v":""},{"$f":"IF(ISBLANK(Responses!BG117), \"\", Responses!BG117)","v":""},{"$f":"IF(ISBLANK(Responses!BH117), \"\", Responses!BH117)","v":""}]
[{"$f":"IF(ISBLANK(Responses!A118), \"\", Responses!A118)","v":""},{"$f":"IF(ISBLANK(Responses!B118), \"\", Responses!B118)","v":""},{"$f":"IF(ISBLANK(Responses!BF118), \"\", Responses!BF118)","v":""},{"$f":"IF(ISBLANK(Responses!BG118), \"\", Responses!BG118)","v":""},{"$f":"IF(ISBLANK(Responses!BH118), \"\", Responses!BH118)","v":""}]

{"sheet":"LUTs","index":12,"n_rows":34,"n_cols":3,"rows_kept":34,"cut":false,"hidden":true,"merged":[[12,1,12,3],[13,1,13,3],[14,1,14,3],[15,1,15,3],[16,1,16,3]]}
["Total Points Available",{"$f":"'Staff Knowledge'!L2+'Specific Measures'!T2+'Emergency Readiness'!AX2+'Isolation Capacity'!P2+'Stakeholder Coordination'!J2+'Logistics Coordination'!L2+'Risk Communication'!P2+'Public Health'!L2","v":234}]
[]
[]
[]
["Maybe Questions"]
["Maybe / In Progress",1]
["No / Not Considered",0]
["Yes / Completed",2]
[]
[]
[]
["Risk Descriptors"]
["HIGH","Overall risk of transmission and further spread of COVID-19 in relation to the resumption of group training is considered high. Recommend significant efforts to improve both mitigation measures and reduce risk of transmission (decrease risk assessment score)."]
["LOW","Overall risk of transmission and further spread of COVID-19 in relation to the resumption of group training is considered low. Recommend checking whether mitigation measures can be strengthened."]
["MODERATE","Overall risk of transmission and further spread of COVID-19 in relation to the resumption of group training is considered moderate. Recommend significant efforts to improve mitigation measures or reduce risk of transmission (decrease risk assessment score)."]
["VERY HIGH","Overall risk of transmission and further spread of COVID-19 in relation to the resumption of group training is considered very high."]
["VERY LOW","Overall risk of transmission and further spread of COVID-19 in relation to gathering for training is considered very low."]
[]
[]
[]
["MSO Affiliation","CMO","e-mail"]
["Canadian Olympic Committee","Dr. Mike Wilkinson","mwilkinson@olympic.ca"]
["Canadian Paralympic Committee","Dr. Andy Marshall","amarshall@paralympic.ca"]
[]
[]
[]
["CSI/CSC Affiliations","CMO","e-mail"]
["CSC-Atlantic"]
["CSC-Manitoba"]
["CSC-Saskatchewan"]
["CSI-Calgary","Dr. Brian Benson","bbenson@csicalgary.ca"]
["CSI-Ontario","Dr. Doug Richards","drichards@csiontario.ca"]
["CSI-Pacific","Dr. Paddy McCluskey","pmccluskey@csipacific.ca"]
["INS-Quebec","Dr. Suzanne Leclerc","sleclerc@insquebec.org"]